{"text_format":"1","workbook":"xlsx","n_sheets":20,"sheets":["Úvod","Start","Kontakt","4x100m","4x100m - P","PJ - S","PJ - T","PJ-T","PJ-V","PJ - P","PJ-P","PJ-C","PÚ","PÚ - P","Výsledky3","Tisk-v1","Tisk-v3","Pozn.","J","POM"],"not_rendered":{"charts":0,"images":0,"macros":1,"external_links":0,"defined_names":35,"comments":2,"pivot_tables":0},"unopened":[],"bounds":{"document_bytes":16777216,"sheet_cells":100000,"rows_first":2000,"rows_last":500,"rows_between":2000,"halvings":0,"cell_chars":16384,"cell_head_chars":4096},"cells_cut":0,"cells_raw":0,"read":"whole","date_system":"1900"}

{"sheet":"Úvod","index":0,"n_rows":25,"n_cols":4,"rows_kept":25,"cut":false,"hidden":false,"merged":[[0,1,0,9],[1,1,1,9]]}
[null,"Program pro zpracování výsledků "]
[null,"POŽÁRNÍ SPORT - Muži/Ženy, Dorost"]
[]
[]
[]
[]
[]
[]
[]
[]
[]
[]
[]
[]
[]
[]
[]
[]
[]
[]
[]
[]
[null,"Autor programu:",null,"Ing. Milan Hoffmann"]
[null,"Oprávněný uživatel:",null,"SH ČMS"]
[null,"Verze programu:",null,"2023/2 (03.05.2023)"]

{"sheet":"Start","index":1,"n_rows":31,"n_cols":8,"rows_kept":31,"cut":false,"hidden":false,"merged":[[0,1,0,7],[1,1,1,7],[2,1,2,7],[4,5,4,7]]}
[null,"Startovní listina soutěže"]
[null,"Kraj "]
[null,"Chrast 16.6.2024"]
[]
[null,"Kat.:",{"$f":"IF(D5=1,\"Dorci\", IF(D5=2,\"Dorky\",IF(D5=3,\"Muži\",IF(D5=4,\"Ženy\",\"\"))))","v":"Dorky"},2,{"$f":"COUNTA(C7:C31,G7:G31)","v":4},{"$f":"\"Pozn.: Přihlášených družstev: \"&E5","v":"Pozn.: Přihlášených družstev: 4"}]
[null,"st.č.","SDH","Okres",null,"st.č.","SDH",{"$f":"D6","v":"Okres"}]
[null,1,"Stéblová","PA",null,26]
[null,2,"Lukavice","UO",null,27]
[null,3,"Skuteč","CR",null,28]
[null,4,"Desná","SY",null,29]
[null,5,null,null,null,30]
[null,6,null,null,null,31]
[null,7,null,null,null,32]
[null,8,null,null,null,33]
[null,9,null,null,null,34]
[null,10,null,null,null,35]
[null,11,null,null,null,36]
[null,12,null,null,null,37]
[null,13,null,null,null,38]
[null,14,null,null,null,39]
[null,15,null,null,null,40]
[null,16,null,null,null,41]
[null,17,null,null,null,42]
[null,18,null,null,null,43]
[null,19,null,null,null,44]
[null,20,null,null,null,45]
[null,21,null,null,null,46]
[null,22,null,null,null,47]
[null,23,null,null,null,48]
[null,24,null,null,null,49]
[null,25,null,null,null,50]

{"sheet":"Kontakt","index":2,"n_rows":13,"n_cols":3,"rows_kept":13,"cut":false,"hidden":false,"merged":[[0,1,0,14]]}
[null,"Kontakt"]
[]
[null,"Program na zpracování výsledků (PS-M/Ž a Dorost) pro SH ČMS vytvořil:"]
[]
[null,"Ing. Milan HOFFMANN"]
[null,"Želčany 34"]
[null,"332 04 NEZVĚSTICE"]
[]
[null,"mobil:","+420 606 916 333"]
[]
[null,"mail:","milan.hoffmann@seznam.cz"]
[]
[null,"www:","www.dh.cz"]

{"sheet":"4x100m","index":3,"n_rows":54,"n_cols":23,"rows_kept":54,"cut":false,"hidden":false,"merged":[[0,1,0,13],[2,3,2,6],[2,7,2,10],[1,3,1,11]]}
[null,"Štafeta 4 x 100 m s překážkami:",null,null,null,null,null,null,null,null,null,null,null,null,null,{"$f":"IF(U2=\"OK\",\"\",\"Stiskni\")","v":""}]
[null,null,null,"Upozornění: Pořadí je platné pouze při vstupu na stránku či kliknutí na zelené tlačítko",null,null,null,null,null,null,null,null,null,null,null,null,null,null,null,null,"OK",null,{"$f":"IF(MAX(W5:W54)>1,\"POZOR\",\"OK\")","v":"OK"}]
[null,null,{"$f":"Start!$C$5","v":"Dorky"},"I.p.",null,null,null,"II.p."]
[null,"st.č.","SDH",1,2,3,"čas",1,2,3,"čas","C.čas",null,"Poř.",null,"Poř.","I.p.","II.p.","P.čas"]
[null,{"$f":"Start!B7","v":1},{"$f":"IF(Start!C7=\"\",\"\",Start!C7)","v":"Stéblová"},70.819999999999993,"NP",null,{"$f":"IF($C5=\"\",\"\",IF(OR($D5=\"DNS\",$E5=\"DNS\",$F5=\"DNS\",AND($D5=\"\",$E5=\"\",$F5=\"\")),\"DNS\",IF(OR($D5=\"NP\",$E5=\"NP\",$F5=\"NP\"),\"NP\",IF(ISERROR(MEDIAN($D5:$F5)),\"DNS\",IF(OR($D5=\"X\",$E5=\"X\",$F5=\"X\",$D5=\"\",$E5=\"\",$F5=\"\",$D5=\"x\",$E5=\"x\",$F5=\"x\"),MAX($D5:$F5),MEDIAN($D5:$F5))))))","v":"NP"},71.88,null,null,{"$f":"IF($C5=\"\",\"\",IF(OR($H5=\"DNS\",$I5=\"DNS\",$J5=\"DNS\",AND($H5=\"\",$I5=\"\",$J5=\"\")),\"DNS\",IF(OR($H5=\"NP\",$I5=\"NP\",$J5=\"NP\"),\"NP\",IF(ISERROR(MEDIAN($H5:$J5)),\"DNS\",IF(OR($H5=\"X\",$I5=\"X\",$J5=\"X\",$H5=\"\",$I5=\"\",$J5=\"\",$H5=\"x\",$I5=\"x\",$J5=\"x\"),MAX($H5:$J5),MEDIAN($H5:$J5))))))","v":71.88},{"$f":"IF(C5=\"\",\"\",IF(OR(AND(G5=\"NP\",K5=\"NP\"),AND(G5=\"DNS\",K5=\"DNS\")),G5,IF(AND(G5=\"NP\",K5=\"DNS\"),G5,IF(AND(G5=\"DNS\",K5=\"NP\"),K5,MIN(G5,K5)))))","v":71.88},null,1,null,{"$f":"IF(C5=\"\",\"\",IF(OR(L5=\"NP\",L5=\"DNS\"),Start!$E$5,RANK(L5,L$5:L$54,1)))","v":1},{"$f":"IF($C5=\"\",\"\",IF(OR($G5=\"NP\",$G5=\"DNS\"),9000,$G5))","v":9000},{"$f":"IF($C5=\"\",\"\",IF(OR($K5=\"NP\",$K5=\"DNS\"),9000,$K5))","v":71.88},{"$f":"IF($C5=\"\",\"\",SUM($Q5:$R5))","v":9071.8799999999992},null,{"$f":"IF(C5=\"\",\"\",IF(OR(N5=\"DNS\",N5=\"NP\"),\"X\",COUNTIF($N$5:$N$54,N5)))","v":1},null,{"$f":"IF(C5=\"\",\"\",IF(OR(N5=\"DNS\",N5=\"NP\"),\"X\",COUNTIF($L$5:$L$54,L5)))","v":1}]
[null,{"$f":"Start!B8","v":2},{"$f":"IF(Start!C8=\"\",\"\",Start!C8)","v":"Lukavice"},76.09,null,null,76.09,75.930000000000007,null,null,75.930000000000007,75.930000000000007,null,4,null,{"$f":"IF(C6=\"\",\"\",IF(OR(L6=\"NP\",L6=\"DNS\"),Start!$E$5,RANK(L6,L$5:L$54,1)))","v":4},76.09,75.930000000000007,152.02000000000001,null,1,null,1]
[null,{"$f":"Start!B9","v":3},{"$f":"IF(Start!C9=\"\",\"\",Start!C9)","v":"Skuteč"},71.87,"NP",null,"NP",72.06,null,null,72.06,72.06,null,2,null,{"$f":"IF(C7=\"\",\"\",IF(OR(L7=\"NP\",L7=\"DNS\"),Start!$E$5,RANK(L7,L$5:L$54,1)))","v":2},9000,72.06,9072.06,null,1,null,1]
[null,{"$f":"Start!B10","v":4},{"$f":"IF(Start!C10=\"\",\"\",Start!C10)","v":"Desná"},75.040000000000006,null,null,75.040000000000006,81.53,null,null,81.53,75.040000000000006,null,3,null,{"$f":"IF(C8=\"\",\"\",IF(OR(L8=\"NP\",L8=\"DNS\"),Start!$E$5,RANK(L8,L$5:L$54,1)))","v":3},75.040000000000006,81.53,156.57,null,1,null,1]
[null,{"$f":"Start!B11","v":5},{"$f":"IF(Start!C11=\"\",\"\",Start!C11)","v":""},null,null,null,"",null,null,null,"","",null,null,null,{"$f":"IF(C9=\"\",\"\",IF(OR(L9=\"NP\",L9=\"DNS\"),Start!$E$5,RANK(L9,L$5:L$54,1)))","v":""},"","","",null,"",null,""]
[null,{"$f":"Start!B12","v":6},{"$f":"IF(Start!C12=\"\",\"\",Start!C12)","v":""},null,null,null,"",null,null,null,"","",null,null,null,{"$f":"IF(C10=\"\",\"\",IF(OR(L10=\"NP\",L10=\"DNS\"),Start!$E$5,RANK(L10,L$5:L$54,1)))","v":""},"","","",null,"",null,""]
[null,{"$f":"Start!B13","v":7},{"$f":"IF(Start!C13=\"\",\"\",Start!C13)","v":""},null,null,null,"",null,null,null,"","",null,null,null,{"$f":"IF(C11=\"\",\"\",IF(OR(L11=\"NP\",L11=\"DNS\"),Start!$E$5,RANK(L11,L$5:L$54,1)))","v":""},"","","",null,"",null,""]
[null,{"$f":"Start!B14","v":8},{"$f":"IF(Start!C14=\"\",\"\",Start!C14)","v":""},null,null,null,"",null,null,null,"","",null,null,null,{"$f":"IF(C12=\"\",\"\",IF(OR(L12=\"NP\",L12=\"DNS\"),Start!$E$5,RANK(L12,L$5:L$54,1)))","v":""},"","","",null,"",null,""]
[null,{"$f":"Start!B15","v":9},{"$f":"IF(Start!C15=\"\",\"\",Start!C15)","v":""},null,null,null,"",null,null,null,"","",null,null,null,{"$f":"IF(C13=\"\",\"\",IF(OR(L13=\"NP\",L13=\"DNS\"),Start!$E$5,RANK(L13,L$5:L$54,1)))","v":""},"","","",null,"",null,""]
[null,{"$f":"Start!B16","v":10},{"$f":"IF(Start!C16=\"\",\"\",Start!C16)","v":""},null,null,null,"",null,null,null,"","",null,null,null,{"$f":"IF(C14=\"\",\"\",IF(OR(L14=\"NP\",L14=\"DNS\"),Start!$E$5,RANK(L14,L$5:L$54,1)))","v":""},"","","",null,"",null,""]
[null,{"$f":"Start!B17","v":11},{"$f":"IF(Start!C17=\"\",\"\",Start!C17)","v":""},null,null,null,"",null,null,null,"","",null,null,null,{"$f":"IF(C15=\"\",\"\",IF(OR(L15=\"NP\",L15=\"DNS\"),Start!$E$5,RANK(L15,L$5:L$54,1)))","v":""},"","","",null,"",null,""]
[null,{"$f":"Start!B18","v":12},{"$f":"IF(Start!C18=\"\",\"\",Start!C18)","v":""},null,null,null,"",null,null,null,"","",null,null,null,{"$f":"IF(C16=\"\",\"\",IF(OR(L16=\"NP\",L16=\"DNS\"),Start!$E$5,RANK(L16,L$5:L$54,1)))","v":""},"","","",null,"",null,""]
[null,{"$f":"Start!B19","v":13},{"$f":"IF(Start!C19=\"\",\"\",Start!C19)","v":""},null,null,null,"",null,null,null,"","",null,null,null,{"$f":"IF(C17=\"\",\"\",IF(OR(L17=\"NP\",L17=\"DNS\"),Start!$E$5,RANK(L17,L$5:L$54,1)))","v":""},"","","",null,"",null,""]
[null,{"$f":"Start!B20","v":14},{"$f":"IF(Start!C20=\"\",\"\",Start!C20)","v":""},null,null,null,"",null,null,null,"","",null,null,null,{"$f":"IF(C18=\"\",\"\",IF(OR(L18=\"NP\",L18=\"DNS\"),Start!$E$5,RANK(L18,L$5:L$54,1)))","v":""},"","","",null,"",null,""]
[null,{"$f":"Start!B21","v":15},{"$f":"IF(Start!C21=\"\",\"\",Start!C21)","v":""},null,null,null,"",null,null,null,"","",null,null,null,{"$f":"IF(C19=\"\",\"\",IF(OR(L19=\"NP\",L19=\"DNS\"),Start!$E$5,RANK(L19,L$5:L$54,1)))","v":""},"","","",null,"",null,""]
[null,{"$f":"Start!B22","v":16},{"$f":"IF(Start!C22=\"\",\"\",Start!C22)","v":""},null,null,null,"",null,null,null,"","",null,null,null,{"$f":"IF(C20=\"\",\"\",IF(OR(L20=\"NP\",L20=\"DNS\"),Start!$E$5,RANK(L20,L$5:L$54,1)))","v":""},"","","",null,"",null,""]
[null,{"$f":"Start!B23","v":17},{"$f":"IF(Start!C23=\"\",\"\",Start!C23)","v":""},null,null,null,"",null,null,null,"","",null,null,null,{"$f":"IF(C21=\"\",\"\",IF(OR(L21=\"NP\",L21=\"DNS\"),Start!$E$5,RANK(L21,L$5:L$54,1)))","v":""},"","","",null,"",null,""]
[null,{"$f":"Start!B24","v":18},{"$f":"IF(Start!C24=\"\",\"\",Start!C24)","v":""},null,null,null,"",null,null,null,"","",null,null,null,{"$f":"IF(C22=\"\",\"\",IF(OR(L22=\"NP\",L22=\"DNS\"),Start!$E$5,RANK(L22,L$5:L$54,1)))","v":""},"","","",null,"",null,""]
[null,{"$f":"Start!B25","v":19},{"$f":"IF(Start!C25=\"\",\"\",Start!C25)","v":""},null,null,null,"",null,null,null,"","",null,null,null,{"$f":"IF(C23=\"\",\"\",IF(OR(L23=\"NP\",L23=\"DNS\"),Start!$E$5,RANK(L23,L$5:L$54,1)))","v":""},"","","",null,"",null,""]
[null,{"$f":"Start!B26","v":20},{"$f":"IF(Start!C26=\"\",\"\",Start!C26)","v":""},null,null,null,"",null,null,null,"","",null,null,null,{"$f":"IF(C24=\"\",\"\",IF(OR(L24=\"NP\",L24=\"DNS\"),Start!$E$5,RANK(L24,L$5:L$54,1)))","v":""},"","","",null,"",null,""]
[null,{"$f":"Start!B27","v":21},{"$f":"IF(Start!C27=\"\",\"\",Start!C27)","v":""},null,null,null,"",null,null,null,"","",null,null,null,{"$f":"IF(C25=\"\",\"\",IF(OR(L25=\"NP\",L25=\"DNS\"),Start!$E$5,RANK(L25,L$5:L$54,1)))","v":""},"","","",null,"",null,""]
[null,{"$f":"Start!B28","v":22},{"$f":"IF(Start!C28=\"\",\"\",Start!C28)","v":""},null,null,null,"",null,null,null,"","",null,null,null,{"$f":"IF(C26=\"\",\"\",IF(OR(L26=\"NP\",L26=\"DNS\"),Start!$E$5,RANK(L26,L$5:L$54,1)))","v":""},"","","",null,"",null,""]
[null,{"$f":"Start!B29","v":23},{"$f":"IF(Start!C29=\"\",\"\",Start!C29)","v":""},null,null,null,"",null,null,null,"","",null,null,null,{"$f":"IF(C27=\"\",\"\",IF(OR(L27=\"NP\",L27=\"DNS\"),Start!$E$5,RANK(L27,L$5:L$54,1)))","v":""},"","","",null,"",null,""]
[null,{"$f":"Start!B30","v":24},{"$f":"IF(Start!C30=\"\",\"\",Start!C30)","v":""},null,null,null,"",null,null,null,"","",null,null,null,{"$f":"IF(C28=\"\",\"\",IF(OR(L28=\"NP\",L28=\"DNS\"),Start!$E$5,RANK(L28,L$5:L$54,1)))","v":""},"","","",null,"",null,""]
[null,{"$f":"Start!B31","v":25},{"$f":"IF(Start!C31=\"\",\"\",Start!C31)","v":""},null,null,null,"",null,null,null,"","",null,null,null,{"$f":"IF(C29=\"\",\"\",IF(OR(L29=\"NP\",L29=\"DNS\"),Start!$E$5,RANK(L29,L$5:L$54,1)))","v":""},"","","",null,"",null,""]
[null,{"$f":"Start!F7","v":26},{"$f":"IF(Start!G7=\"\",\"\",Start!G7)","v":""},null,null,null,"",null,null,null,"","",null,null,null,{"$f":"IF(C30=\"\",\"\",IF(OR(L30=\"NP\",L30=\"DNS\"),Start!$E$5,RANK(L30,L$5:L$54,1)))","v":""},"","","",null,"",null,""]
[null,{"$f":"Start!F8","v":27},{"$f":"IF(Start!G8=\"\",\"\",Start!G8)","v":""},null,null,null,"",null,null,null,"","",null,null,null,{"$f":"IF(C31=\"\",\"\",IF(OR(L31=\"NP\",L31=\"DNS\"),Start!$E$5,RANK(L31,L$5:L$54,1)))","v":""},"","","",null,"",null,""]
[null,{"$f":"Start!F9","v":28},{"$f":"IF(Start!G9=\"\",\"\",Start!G9)","v":""},null,null,null,"",null,null,null,"","",null,null,null,{"$f":"IF(C32=\"\",\"\",IF(OR(L32=\"NP\",L32=\"DNS\"),Start!$E$5,RANK(L32,L$5:L$54,1)))","v":""},"","","",null,"",null,""]
[null,{"$f":"Start!F10","v":29},{"$f":"IF(Start!G10=\"\",\"\",Start!G10)","v":""},null,null,null,"",null,null,null,"","",null,null,null,{"$f":"IF(C33=\"\",\"\",IF(OR(L33=\"NP\",L33=\"DNS\"),Start!$E$5,RANK(L33,L$5:L$54,1)))","v":""},"","","",null,"",null,""]
[null,{"$f":"Start!F11","v":30},{"$f":"IF(Start!G11=\"\",\"\",Start!G11)","v":""},null,null,null,"",null,null,null,"","",null,null,null,{"$f":"IF(C34=\"\",\"\",IF(OR(L34=\"NP\",L34=\"DNS\"),Start!$E$5,RANK(L34,L$5:L$54,1)))","v":""},"","","",null,"",null,""]
[null,{"$f":"Start!F12","v":31},{"$f":"IF(Start!G12=\"\",\"\",Start!G12)","v":""},null,null,null,"",null,null,null,"","",null,null,null,{"$f":"IF(C35=\"\",\"\",IF(OR(L35=\"NP\",L35=\"DNS\"),Start!$E$5,RANK(L35,L$5:L$54,1)))","v":""},"","","",null,"",null,""]
[null,{"$f":"Start!F13","v":32},{"$f":"IF(Start!G13=\"\",\"\",Start!G13)","v":""},null,null,null,"",null,null,null,"","",null,null,null,{"$f":"IF(C36=\"\",\"\",IF(OR(L36=\"NP\",L36=\"DNS\"),Start!$E$5,RANK(L36,L$5:L$54,1)))","v":""},"","","",null,"",null,""]
[null,{"$f":"Start!F14","v":33},{"$f":"IF(Start!G14=\"\",\"\",Start!G14)","v":""},null,null,null,{"$f":"IF($C37=\"\",\"\",IF(OR($D37=\"DNS\",$E37=\"DNS\",$F37=\"DNS\",AND($D37=\"\",$E37=\"\",$F37=\"\")),\"DNS\",IF(OR($D37=\"NP\",$E37=\"NP\",$F37=\"NP\"),\"NP\",IF(ISERROR(MEDIAN($D37:$F37)),\"DNS\",IF(OR($D37=\"X\",$E37=\"X\",$F37=\"X\",$D37=\"\",$E37=\"\",$F37=\"\",$D37=\"x\",$E37=\"x\",$F37=\"x\"),MAX($D37:$F37),MEDIAN($D37:$F37))))))","v":""},null,null,null,{"$f":"IF($C37=\"\",\"\",IF(OR($H37=\"DNS\",$I37=\"DNS\",$J37=\"DNS\",AND($H37=\"\",$I37=\"\",$J37=\"\")),\"DNS\",IF(OR($H37=\"NP\",$I37=\"NP\",$J37=\"NP\"),\"NP\",IF(ISERROR(MEDIAN($H37:$J37)),\"DNS\",IF(OR($H37=\"X\",$I37=\"X\",$J37=\"X\",$H37=\"\",$I37=\"\",$J37=\"\",$H37=\"x\",$I37=\"x\",$J37=\"x\"),MAX($H37:$J37),MEDIAN($H37:$J37))))))","v":""},{"$f":"IF(C37=\"\",\"\",IF(OR(AND(G37=\"NP\",K37=\"NP\"),AND(G37=\"DNS\",K37=\"DNS\")),G37,IF(AND(G37=\"NP\",K37=\"DNS\"),G37,IF(AND(G37=\"DNS\",K37=\"NP\"),K37,MIN(G37,K37)))))","v":""},null,null,null,{"$f":"IF(C37=\"\",\"\",IF(OR(L37=\"NP\",L37=\"DNS\"),Start!$E$5,RANK(L37,L$5:L$54,1)))","v":""},{"$f":"IF($C37=\"\",\"\",IF(OR($G37=\"NP\",$G37=\"DNS\"),9000,$G37))","v":""},{"$f":"IF($C37=\"\",\"\",IF(OR($K37=\"NP\",$K37=\"DNS\"),9000,$K37))","v":""},{"$f":"IF($C37=\"\",\"\",SUM($Q37:$R37))","v":""},null,{"$f":"IF(C37=\"\",\"\",IF(OR(N37=\"DNS\",N37=\"NP\"),\"X\",COUNTIF($N$5:$N$54,N37)))","v":""},null,{"$f":"IF(C37=\"\",\"\",IF(OR(N37=\"DNS\",N37=\"NP\"),\"X\",COUNTIF($L$5:$L$54,L37)))","v":""}]
[null,{"$f":"Start!F15","v":34},{"$f":"IF(Start!G15=\"\",\"\",Start!G15)","v":""},null,null,null,"",null,null,null,"","",null,null,null,{"$f":"IF(C38=\"\",\"\",IF(OR(L38=\"NP\",L38=\"DNS\"),Start!$E$5,RANK(L38,L$5:L$54,1)))","v":""},"","","",null,"",null,""]
[null,{"$f":"Start!F16","v":35},{"$f":"IF(Start!G16=\"\",\"\",Start!G16)","v":""},null,null,null,"",null,null,null,"","",null,null,null,{"$f":"IF(C39=\"\",\"\",IF(OR(L39=\"NP\",L39=\"DNS\"),Start!$E$5,RANK(L39,L$5:L$54,1)))","v":""},"","","",null,"",null,""]
[null,{"$f":"Start!F17","v":36},{"$f":"IF(Start!G17=\"\",\"\",Start!G17)","v":""},null,null,null,"",null,null,null,"","",null,null,null,{"$f":"IF(C40=\"\",\"\",IF(OR(L40=\"NP\",L40=\"DNS\"),Start!$E$5,RANK(L40,L$5:L$54,1)))","v":""},"","","",null,"",null,""]
[null,{"$f":"Start!F18","v":37},{"$f":"IF(Start!G18=\"\",\"\",Start!G18)","v":""},null,null,null,"",null,null,null,"","",null,null,null,{"$f":"IF(C41=\"\",\"\",IF(OR(L41=\"NP\",L41=\"DNS\"),Start!$E$5,RANK(L41,L$5:L$54,1)))","v":""},"","","",null,"",null,""]
[null,{"$f":"Start!F19","v":38},{"$f":"IF(Start!G19=\"\",\"\",Start!G19)","v":""},null,null,null,"",null,null,null,"","",null,null,null,{"$f":"IF(C42=\"\",\"\",IF(OR(L42=\"NP\",L42=\"DNS\"),Start!$E$5,RANK(L42,L$5:L$54,1)))","v":""},"","","",null,"",null,""]
[null,{"$f":"Start!F20","v":39},{"$f":"IF(Start!G20=\"\",\"\",Start!G20)","v":""},null,null,null,"",null,null,null,"","",null,null,null,{"$f":"IF(C43=\"\",\"\",IF(OR(L43=\"NP\",L43=\"DNS\"),Start!$E$5,RANK(L43,L$5:L$54,1)))","v":""},"","","",null,"",null,""]
[null,{"$f":"Start!F21","v":40},{"$f":"IF(Start!G21=\"\",\"\",Start!G21)","v":""},null,null,null,"",null,null,null,"","",null,null,null,{"$f":"IF(C44=\"\",\"\",IF(OR(L44=\"NP\",L44=\"DNS\"),Start!$E$5,RANK(L44,L$5:L$54,1)))","v":""},"","","",null,"",null,""]
[null,{"$f":"Start!F22","v":41},{"$f":"IF(Start!G22=\"\",\"\",Start!G22)","v":""},null,null,null,"",null,null,null,"","",null,null,null,{"$f":"IF(C45=\"\",\"\",IF(OR(L45=\"NP\",L45=\"DNS\"),Start!$E$5,RANK(L45,L$5:L$54,1)))","v":""},"","","",null,"",null,""]
[null,{"$f":"Start!F23","v":42},{"$f":"IF(Start!G23=\"\",\"\",Start!G23)","v":""},null,null,null,"",null,null,null,"","",null,null,null,{"$f":"IF(C46=\"\",\"\",IF(OR(L46=\"NP\",L46=\"DNS\"),Start!$E$5,RANK(L46,L$5:L$54,1)))","v":""},"","","",null,"",null,""]
[null,{"$f":"Start!F24","v":43},{"$f":"IF(Start!G24=\"\",\"\",Start!G24)","v":""},null,null,null,"",null,null,null,"","",null,null,null,{"$f":"IF(C47=\"\",\"\",IF(OR(L47=\"NP\",L47=\"DNS\"),Start!$E$5,RANK(L47,L$5:L$54,1)))","v":""},"","","",null,"",null,""]
[null,{"$f":"Start!F25","v":44},{"$f":"IF(Start!G25=\"\",\"\",Start!G25)","v":""},null,null,null,"",null,null,null,"","",null,null,null,{"$f":"IF(C48=\"\",\"\",IF(OR(L48=\"NP\",L48=\"DNS\"),Start!$E$5,RANK(L48,L$5:L$54,1)))","v":""},"","","",null,"",null,""]
[null,{"$f":"Start!F26","v":45},{"$f":"IF(Start!G26=\"\",\"\",Start!G26)","v":""},null,null,null,"",null,null,null,"","",null,null,null,{"$f":"IF(C49=\"\",\"\",IF(OR(L49=\"NP\",L49=\"DNS\"),Start!$E$5,RANK(L49,L$5:L$54,1)))","v":""},"","","",null,"",null,""]
[null,{"$f":"Start!F27","v":46},{"$f":"IF(Start!G27=\"\",\"\",Start!G27)","v":""},null,null,null,"",null,null,null,"","",null,null,null,{"$f":"IF(C50=\"\",\"\",IF(OR(L50=\"NP\",L50=\"DNS\"),Start!$E$5,RANK(L50,L$5:L$54,1)))","v":""},"","","",null,"",null,""]
[null,{"$f":"Start!F28","v":47},{"$f":"IF(Start!G28=\"\",\"\",Start!G28)","v":""},null,null,null,"",null,null,null,"","",null,null,null,{"$f":"IF(C51=\"\",\"\",IF(OR(L51=\"NP\",L51=\"DNS\"),Start!$E$5,RANK(L51,L$5:L$54,1)))","v":""},"","","",null,"",null,""]
[null,{"$f":"Start!F29","v":48},{"$f":"IF(Start!G29=\"\",\"\",Start!G29)","v":""},null,null,null,"",null,null,null,"","",null,null,null,{"$f":"IF(C52=\"\",\"\",IF(OR(L52=\"NP\",L52=\"DNS\"),Start!$E$5,RANK(L52,L$5:L$54,1)))","v":""},"","","",null,"",null,""]
[null,{"$f":"Start!F30","v":49},{"$f":"IF(Start!G30=\"\",\"\",Start!G30)","v":""},null,null,null,"",null,null,null,"","",null,null,null,{"$f":"IF(C53=\"\",\"\",IF(OR(L53=\"NP\",L53=\"DNS\"),Start!$E$5,RANK(L53,L$5:L$54,1)))","v":""},"","","",null,"",null,""]
[null,{"$f":"Start!F31","v":50},{"$f":"IF(Start!G31=\"\",\"\",Start!G31)","v":""},null,null,null,"",null,null,null,"","",null,null,null,{"$f":"IF(C54=\"\",\"\",IF(OR(L54=\"NP\",L54=\"DNS\"),Start!$E$5,RANK(L54,L$5:L$54,1)))","v":""},"","","",null,"",null,""]

{"sheet":"4x100m - P","index":4,"n_rows":54,"n_cols":19,"rows_kept":54,"cut":false,"hidden":false,"merged":[[0,1,0,13],[2,3,2,6],[2,7,2,10],[1,3,1,11]]}
[null,"Štafeta 4 x 100 m s překážkami:"]
[null,null,null,"Upozornění: Pořadí je platné pouze při vstupu na stránku či kliknutí na zelené tlačítko"]
[null,null,{"$f":"Start!$C$5","v":"Dorky"},"I.p.",null,null,null,"II.p."]
[null,"st.č.","SDH",1,2,3,"čas",1,2,3,"čas","C.čas",null,"Poř.",null,"Poř.","I.p.","II.p.","P.čas"]
[null,{"$f":"Start!B7","v":1},"Stéblová",70.819999999999993,"NP",null,"NP",71.88,null,null,71.88,71.88,null,1,null,1,9000,71.88,9071.8799999999992]
[null,{"$f":"Start!B8","v":2},"Lukavice",76.09,null,null,76.09,75.930000000000007,null,null,75.930000000000007,75.930000000000007,null,4,null,4,76.09,75.930000000000007,152.02000000000001]
[null,{"$f":"Start!B9","v":3},"Skuteč",71.87,"NP",null,"NP",72.06,null,null,72.06,72.06,null,2,null,2,9000,72.06,9072.06]
[null,{"$f":"Start!B10","v":4},"Desná",75.040000000000006,null,null,75.040000000000006,81.53,null,null,81.53,75.040000000000006,null,3,null,3,75.040000000000006,81.53,156.57]
[null,{"$f":"Start!B11","v":5},"",null,null,null,"",null,null,null,"","",null,null,null,"","","",""]
[null,{"$f":"Start!B12","v":6},"",null,null,null,"",null,null,null,"","",null,null,null,"","","",""]
[null,{"$f":"Start!B13","v":7},"",null,null,null,"",null,null,null,"","",null,null,null,"","","",""]
[null,{"$f":"Start!B14","v":8},"",null,null,null,"",null,null,null,"","",null,null,null,"","","",""]
[null,{"$f":"Start!B15","v":9},"",null,null,null,"",null,null,null,"","",null,null,null,"","","",""]
[null,{"$f":"Start!B16","v":10},"",null,null,null,"",null,null,null,"","",null,null,null,"","","",""]
[null,{"$f":"Start!B17","v":11},"",null,null,null,"",null,null,null,"","",null,null,null,"","","",""]
[null,{"$f":"Start!B18","v":12},"",null,null,null,"",null,null,null,"","",null,null,null,"","","",""]
[null,{"$f":"Start!B19","v":13},"",null,null,null,"",null,null,null,"","",null,null,null,"","","",""]
[null,{"$f":"Start!B20","v":14},"",null,null,null,"",null,null,null,"","",null,null,null,"","","",""]
[null,{"$f":"Start!B21","v":15},"",null,null,null,"",null,null,null,"","",null,null,null,"","","",""]
[null,{"$f":"Start!B22","v":16},"",null,null,null,"",null,null,null,"","",null,null,null,"","","",""]
[null,{"$f":"Start!B23","v":17},"",null,null,null,"",null,null,null,"","",null,null,null,"","","",""]
[null,{"$f":"Start!B24","v":18},"",null,null,null,"",null,null,null,"","",null,null,null,"","","",""]
[null,{"$f":"Start!B25","v":19},"",null,null,null,"",null,null,null,"","",null,null,null,"","","",""]
[null,{"$f":"Start!B26","v":20},"",null,null,null,"",null,null,null,"","",null,null,null,"","","",""]
[null,{"$f":"Start!B27","v":21},"",null,null,null,"",null,null,null,"","",null,null,null,"","","",""]
[null,{"$f":"Start!B28","v":22},"",null,null,null,"",null,null,null,"","",null,null,null,"","","",""]
[null,{"$f":"Start!B29","v":23},"",null,null,null,"",null,null,null,"","",null,null,null,"","","",""]
[null,{"$f":"Start!B30","v":24},"",null,null,null,"",null,null,null,"","",null,null,null,"","","",""]
[null,{"$f":"Start!B31","v":25},"",null,null,null,"",null,null,null,"","",null,null,null,"","","",""]
[null,{"$f":"Start!F7","v":26},"",null,null,null,"",null,null,null,"","",null,null,null,"","","",""]
[null,{"$f":"Start!F8","v":27},"",null,null,null,"",null,null,null,"","",null,null,null,"","","",""]
[null,{"$f":"Start!F9","v":28},"",null,null,null,"",null,null,null,"","",null,null,null,"","","",""]
[null,{"$f":"Start!F10","v":29},"",null,null,null,"",null,null,null,"","",null,null,null,"","","",""]
[null,{"$f":"Start!F11","v":30},"",null,null,null,"",null,null,null,"","",null,null,null,"","","",""]
[null,{"$f":"Start!F12","v":31},"",null,null,null,"",null,null,null,"","",null,null,null,"","","",""]
[null,{"$f":"Start!F13","v":32},"",null,null,null,"",null,null,null,"","",null,null,null,"","","",""]
[null,{"$f":"Start!F14","v":33},"",null,null,null,"",null,null,null,"","",null,null,null,"","","",""]
[null,{"$f":"Start!F15","v":34},"",null,null,null,"",null,null,null,"","",null,null,null,"","","",""]
[null,{"$f":"Start!F16","v":35},"",null,null,null,"",null,null,null,"","",null,null,null,"","","",""]
[null,{"$f":"Start!F17","v":36},"",null,null,null,"",null,null,null,"","",null,null,null,"","","",""]
[null,{"$f":"Start!F18","v":37},"",null,null,null,"",null,null,null,"","",null,null,null,"","","",""]
[null,{"$f":"Start!F19","v":38},"",null,null,null,"",null,null,null,"","",null,null,null,"","","",""]
[null,{"$f":"Start!F20","v":39},"",null,null,null,"",null,null,null,"","",null,null,null,"","","",""]
[null,{"$f":"Start!F21","v":40},"",null,null,null,"",null,null,null,"","",null,null,null,"","","",""]
[null,{"$f":"Start!F22","v":41},"",null,null,null,"",null,null,null,"","",null,null,null,"","","",""]
[null,{"$f":"Start!F23","v":42},"",null,null,null,"",null,null,null,"","",null,null,null,"","","",""]
[null,{"$f":"Start!F24","v":43},"",null,null,null,"",null,null,null,"","",null,null,null,"","","",""]
[null,{"$f":"Start!F25","v":44},"",null,null,null,"",null,null,null,"","",null,null,null,"","","",""]
[null,{"$f":"Start!F26","v":45},"",null,null,null,"",null,null,null,"","",null,null,null,"","","",""]
[null,{"$f":"Start!F27","v":46},"",null,null,null,"",null,null,null,"","",null,null,null,"","","",""]
[null,{"$f":"Start!F28","v":47},"",null,null,null,"",null,null,null,"","",null,null,null,"","","",""]
[null,{"$f":"Start!F29","v":48},"",null,null,null,"",null,null,null,"","",null,null,null,"","","",""]
[null,{"$f":"Start!F30","v":49},"",null,null,null,"",null,null,null,"","",null,null,null,"","","",""]
[null,{"$f":"Start!F31","v":50},"",null,null,null,"",null,null,null,"","",null,null,null,"","","",""]

{"sheet":"PJ - S","index":5,"n_rows":54,"n_cols":11,"rows_kept":54,"cut":false,"hidden":false,"merged":[[2,3,2,8],[0,1,0,9]]}
[null,"Běh na 100m s překážkami -  Seznam soutěžících"]
[]
[null,null,{"$f":"Start!$C$5","v":"Dorky"},"Soutěžící"]
[null,"st.č.","Družstvo",1,2,3,4,5,6,7,8]
[null,{"$f":"Start!$B7","v":1},{"$f":"IF(Start!$C7=\"\",\"\",Start!$C7)","v":"Stéblová"},"Bandžuchová Simona","Janáčková Michaela","Nemcová Denisa Ella","Bandžuchová Zuzana","Baťová Adéla","Černohubá Tereza","Zelingerová Aneta"]
[null,{"$f":"Start!$B8","v":2},{"$f":"IF(Start!$C8=\"\",\"\",Start!$C8)","v":"Lukavice"},"Simona Škopová","Veronika Macháčková","Nela Hrušová","Adéla Hrušová","Kamila Halbrštátová","Denisa Boháčová","Lucie Hotmarová"]
[null,{"$f":"Start!$B9","v":3},{"$f":"IF(Start!$C9=\"\",\"\",Start!$C9)","v":"Skuteč"},"Bubeníčková Denisa","Pohnerová Nikol","Slezáková Nela","Nováková Denisa","Zavoralová Aneta","Valíková Veronika","Marboe Anita"]
[null,{"$f":"Start!$B10","v":4},{"$f":"IF(Start!$C10=\"\",\"\",Start!$C10)","v":"Desná"},"Faltysová Tereza","Mičíková Nikola","Ševčíková Veronika","Doležalová Klára","Prokopová Magdaléna","Jůzová Nela","Andrlová Eliška"]
[null,{"$f":"Start!$B11","v":5},{"$f":"IF(Start!$C11=\"\",\"\",Start!$C11)","v":""}]
[null,{"$f":"Start!$B12","v":6},{"$f":"IF(Start!$C12=\"\",\"\",Start!$C12)","v":""}]
[null,{"$f":"Start!$B13","v":7},{"$f":"IF(Start!$C13=\"\",\"\",Start!$C13)","v":""}]
[null,{"$f":"Start!$B14","v":8},{"$f":"IF(Start!$C14=\"\",\"\",Start!$C14)","v":""}]
[null,{"$f":"Start!$B15","v":9},{"$f":"IF(Start!$C15=\"\",\"\",Start!$C15)","v":""}]
[null,{"$f":"Start!$B16","v":10},{"$f":"IF(Start!$C16=\"\",\"\",Start!$C16)","v":""}]
[null,{"$f":"Start!$B17","v":11},{"$f":"IF(Start!$C17=\"\",\"\",Start!$C17)","v":""}]
[null,{"$f":"Start!$B18","v":12},{"$f":"IF(Start!$C18=\"\",\"\",Start!$C18)","v":""}]
[null,{"$f":"Start!$B19","v":13},{"$f":"IF(Start!$C19=\"\",\"\",Start!$C19)","v":""}]
[null,{"$f":"Start!$B20","v":14},{"$f":"IF(Start!$C20=\"\",\"\",Start!$C20)","v":""}]
[null,{"$f":"Start!$B21","v":15},{"$f":"IF(Start!$C21=\"\",\"\",Start!$C21)","v":""}]
[null,{"$f":"Start!$B22","v":16},{"$f":"IF(Start!$C22=\"\",\"\",Start!$C22)","v":""}]
[null,{"$f":"Start!$B23","v":17},{"$f":"IF(Start!$C23=\"\",\"\",Start!$C23)","v":""}]
[null,{"$f":"Start!$B24","v":18},{"$f":"IF(Start!$C24=\"\",\"\",Start!$C24)","v":""}]
[null,{"$f":"Start!$B25","v":19},{"$f":"IF(Start!$C25=\"\",\"\",Start!$C25)","v":""}]
[null,{"$f":"Start!$B26","v":20},{"$f":"IF(Start!$C26=\"\",\"\",Start!$C26)","v":""}]
[null,{"$f":"Start!$B27","v":21},{"$f":"IF(Start!$C27=\"\",\"\",Start!$C27)","v":""}]
[null,{"$f":"Start!$B28","v":22},{"$f":"IF(Start!$C28=\"\",\"\",Start!$C28)","v":""}]
[null,{"$f":"Start!$B29","v":23},{"$f":"IF(Start!$C29=\"\",\"\",Start!$C29)","v":""}]
[null,{"$f":"Start!$B30","v":24},{"$f":"IF(Start!$C30=\"\",\"\",Start!$C30)","v":""}]
[null,{"$f":"Start!$B31","v":25},{"$f":"IF(Start!$C31=\"\",\"\",Start!$C31)","v":""}]
[null,{"$f":"Start!$F7","v":26},{"$f":"IF(Start!$G7=\"\",\"\",Start!$G7)","v":""}]
[null,{"$f":"Start!$F8","v":27},{"$f":"IF(Start!$G8=\"\",\"\",Start!$G8)","v":""}]
[null,{"$f":"Start!$F9","v":28},{"$f":"IF(Start!$G9=\"\",\"\",Start!$G9)","v":""}]
[null,{"$f":"Start!$F10","v":29},{"$f":"IF(Start!$G10=\"\",\"\",Start!$G10)","v":""}]
[null,{"$f":"Start!$F11","v":30},{"$f":"IF(Start!$G11=\"\",\"\",Start!$G11)","v":""}]
[null,{"$f":"Start!$F12","v":31},{"$f":"IF(Start!$G12=\"\",\"\",Start!$G12)","v":""}]
[null,{"$f":"Start!$F13","v":32},{"$f":"IF(Start!$G13=\"\",\"\",Start!$G13)","v":""}]
[null,{"$f":"Start!$F14","v":33},{"$f":"IF(Start!$G14=\"\",\"\",Start!$G14)","v":""}]
[null,{"$f":"Start!$F15","v":34},{"$f":"IF(Start!$G15=\"\",\"\",Start!$G15)","v":""}]
[null,{"$f":"Start!$F16","v":35},{"$f":"IF(Start!$G16=\"\",\"\",Start!$G16)","v":""}]
[null,{"$f":"Start!$F17","v":36},{"$f":"IF(Start!$G17=\"\",\"\",Start!$G17)","v":""}]
[null,{"$f":"Start!$F18","v":37},{"$f":"IF(Start!$G18=\"\",\"\",Start!$G18)","v":""}]
[null,{"$f":"Start!$F19","v":38},{"$f":"IF(Start!$G19=\"\",\"\",Start!$G19)","v":""}]
[null,{"$f":"Start!$F20","v":39},{"$f":"IF(Start!$G20=\"\",\"\",Start!$G20)","v":""}]
[null,{"$f":"Start!$F21","v":40},{"$f":"IF(Start!$G21=\"\",\"\",Start!$G21)","v":""}]
[null,{"$f":"Start!$F22","v":41},{"$f":"IF(Start!$G22=\"\",\"\",Start!$G22)","v":""}]
[null,{"$f":"Start!$F23","v":42},{"$f":"IF(Start!$G23=\"\",\"\",Start!$G23)","v":""}]
[null,{"$f":"Start!$F24","v":43},{"$f":"IF(Start!$G24=\"\",\"\",Start!$G24)","v":""}]
[null,{"$f":"Start!$F25","v":44},{"$f":"IF(Start!$G25=\"\",\"\",Start!$G25)","v":""}]
[null,{"$f":"Start!$F26","v":45},{"$f":"IF(Start!$G26=\"\",\"\",Start!$G26)","v":""}]
[null,{"$f":"Start!$F27","v":46},{"$f":"IF(Start!$G27=\"\",\"\",Start!$G27)","v":""}]
[null,{"$f":"Start!$F28","v":47},{"$f":"IF(Start!$G28=\"\",\"\",Start!$G28)","v":""}]
[null,{"$f":"Start!$F29","v":48},{"$f":"IF(Start!$G29=\"\",\"\",Start!$G29)","v":""}]
[null,{"$f":"Start!$F30","v":49},{"$f":"IF(Start!$G30=\"\",\"\",Start!$G30)","v":""}]
[null,{"$f":"Start!$F31","v":50},{"$f":"IF(Start!$G31=\"\",\"\",Start!$G31)","v":""}]

{"sheet":"PJ - T","index":6,"n_rows":507,"n_cols":15,"rows_kept":507,"cut":false,"hidden":false,"merged":[[0,1,0,14],[2,4,2,7],[2,10,2,13]]}
[null,"Běh na 100m s překážkami - Startovní listina"]
[]
[null,null,{"$f":"Start!$C$5","v":"Dorky"},null,"I. pokus",null,null,null,null,null,"II. pokus"]
[null,"st.č.","Jméno","Kolektiv",1,2,3,"Čas","dr.",null,1,2,3,"Čas","dr."]
[null,1,"Bandžuchová Simona","Stéblová",null,null,null,null,"1",null,null,null,null,null,"2"]
[null,2,"Simona Škopová","Lukavice",null,null,null,null,"2",null,null,null,null,null,"3"]
[null,3,"Bubeníčková Denisa","Skuteč",null,null,null,null,"3",null,null,null,null,null,"1"]
[null,4,"Faltysová Tereza","Desná",null,null,null,null,"1",null,null,null,null,null,"2"]
[null,5,"Janáčková Michaela","Stéblová",null,null,null,null,"2",null,null,null,null,null,"3"]
[null,6,"Veronika Macháčková","Lukavice",null,null,null,null,"3",null,null,null,null,null,"1"]
[null,7,"Pohnerová Nikol","Skuteč",null,null,null,null,"1",null,null,null,null,null,"2"]
[null,8,"Mičíková Nikola","Desná",null,null,null,null,"2",null,null,null,null,null,"3"]
[null,9,"Nemcová Denisa Ella","Stéblová",null,null,null,null,"3",null,null,null,null,null,"1"]
[null,10,"Nela Hrušová","Lukavice",null,null,null,null,"1",null,null,null,null,null,"2"]
[null,11,"Slezáková Nela","Skuteč",null,null,null,null,"2",null,null,null,null,null,"3"]
[null,12,"Ševčíková Veronika","Desná",null,null,null,null,"3",null,null,null,null,null,"1"]
[null,13,"Bandžuchová Zuzana","Stéblová",null,null,null,null,"1",null,null,null,null,null,"2"]
[null,14,"Adéla Hrušová","Lukavice",null,null,null,null,"2",null,null,null,null,null,"3"]
[null,15,"Nováková Denisa","Skuteč",null,null,null,null,"3",null,null,null,null,null,"1"]
[null,16,"Doležalová Klára","Desná",null,null,null,null,"1",null,null,null,null,null,"2"]
[null,17,"Baťová Adéla","Stéblová",null,null,null,null,"2",null,null,null,null,null,"3"]
[null,18,"Kamila Halbrštátová","Lukavice",null,null,null,null,"3",null,null,null,null,null,"1"]
[null,19,"Zavoralová Aneta","Skuteč",null,null,null,null,"1",null,null,null,null,null,"2"]
[null,20,"Prokopová Magdaléna","Desná",null,null,null,null,"2",null,null,null,null,null,"3"]
[null,21,"Černohubá Tereza","Stéblová",null,null,null,null,"3",null,null,null,null,null,"1"]
[null,22,"Denisa Boháčová","Lukavice",null,null,null,null,"1",null,null,null,null,null,"2"]
[null,23,"Valíková Veronika","Skuteč",null,null,null,null,"2",null,null,null,null,null,"3"]
[null,24,"Jůzová Nela","Desná",null,null,null,null,"3",null,null,null,null,null,"1"]
[null,25,"Zelingerová Aneta","Stéblová",null,null,null,null,"1",null,null,null,null,null,"2"]
[null,26,"Lucie Hotmarová","Lukavice",null,null,null,null,"2",null,null,null,null,null,"3"]
[null,27,"Marboe Anita","Skuteč",null,null,null,null,"3",null,null,null,null,null,"1"]
[null,28,"Andrlová Eliška","Desná",null,null,null,null,"1",null,null,null,null,null,"2"]
[null,null,null,null,null,null,null,null,"2",null,null,null,null,null,"3"]
[null,null,null,null,null,null,null,null,"3",null,null,null,null,null,"1"]
[null,null,null,null,null,null,null,null,"1",null,null,null,null,null,"2"]
[null,null,null,null,null,null,null,null,"2",null,null,null,null,null,"3"]
[null,null,null,null,null,null,null,null,"3",null,null,null,null,null,"1"]
[null,null,null,null,null,null,null,null,"1",null,null,null,null,null,"2"]
[null,null,null,null,null,null,null,null,"2",null,null,null,null,null,"3"]
[null,null,null,null,null,null,null,null,"3",null,null,null,null,null,"1"]
[null,null,null,null,null,null,null,null,"1",null,null,null,null,null,"2"]
[null,null,null,null,null,null,null,null,"2",null,null,null,null,null,"3"]
[null,null,null,null,null,null,null,null,"3",null,null,null,null,null,"1"]
[null,null,null,null,null,null,null,null,"1",null,null,null,null,null,"2"]
[null,null,null,null,null,null,null,null,"2",null,null,null,null,null,"3"]
[null,null,null,null,null,null,null,null,"3",null,null,null,null,null,"1"]
[null,null,null,null,null,null,null,null,"1",null,null,null,null,null,"2"]
[null,null,null,null,null,null,null,null,"2",null,null,null,null,null,"3"]
[null,null,null,null,null,null,null,null,"3",null,null,null,null,null,"1"]
[null,null,null,null,null,null,null,null,"1",null,null,null,null,null,"2"]
[null,null,null,null,null,null,null,null,"2",null,null,null,null,null,"3"]
[null,null,null,null,null,null,null,null,"3",null,null,null,null,null,"1"]
[null,null,null,null,null,null,null,null,"1",null,null,null,null,null,"2"]
[null,null,null,null,null,null,null,null,"2",null,null,null,null,null,"3"]
[null,null,null,null,null,null,null,null,"3",null,null,null,null,null,"1"]
[null,null,null,null,null,null,null,null,"1",null,null,null,null,null,"2"]
[null,null,null,null,null,null,null,null,"2",null,null,null,null,null,"3"]
[null,null,null,null,null,null,null,null,"3",null,null,null,null,null,"1"]
[null,null,null,null,null,null,null,null,"1",null,null,null,null,null,"2"]
[null,null,null,null,null,null,null,null,"2",null,null,null,null,null,"3"]
[null,null,null,null,null,null,null,null,"3",null,null,null,null,null,"1"]
[null,null,null,null,null,null,null,null,"1",null,null,null,null,null,"2"]
[null,null,null,null,null,null,null,null,"2",null,null,null,null,null,"3"]
[null,null,null,null,null,null,null,null,"3",null,null,null,null,null,"1"]
[null,null,null,null,null,null,null,null,"1",null,null,null,null,null,"2"]
[null,null,null,null,null,null,null,null,"2",null,null,null,null,null,"3"]
[null,null,null,null,null,null,null,null,"3",null,null,null,null,null,"1"]
[null,null,null,null,null,null,null,null,"1",null,null,null,null,null,"2"]
[null,null,null,null,null,null,null,null,"2",null,null,null,null,null,"3"]
[null,null,null,null,null,null,null,null,"3",null,null,null,null,null,"1"]
[null,null,null,null,null,null,null,null,"1",null,null,null,null,null,"2"]
[null,null,null,null,null,null,null,null,"2",null,null,null,null,null,"3"]
[null,null,null,null,null,null,null,null,"3",null,null,null,null,null,"1"]
[null,null,null,null,null,null,null,null,"1",null,null,null,null,null,"2"]
[null,null,null,null,null,null,null,null,"2",null,null,null,null,null,"3"]
[null,null,null,null,null,null,null,null,"3",null,null,null,null,null,"1"]
[null,null,null,null,null,null,null,null,"1",null,null,null,null,null,"2"]
[null,null,null,null,null,null,null,null,"2",null,null,null,null,null,"3"]
[null,null,null,null,null,null,null,null,"3",null,null,null,null,null,"1"]
[null,null,null,null,null,null,null,null,"1",null,null,null,null,null,"2"]
[null,null,null,null,null,null,null,null,"2",null,null,null,null,null,"3"]
[null,null,null,null,null,null,null,null,"3",null,null,null,null,null,"1"]
[null,null,null,null,null,null,null,null,"1",null,null,null,null,null,"2"]
[null,null,null,null,null,null,null,null,"2",null,null,null,null,null,"3"]
[null,null,null,null,null,null,null,null,"3",null,null,null,null,null,"1"]
[null,null,null,null,null,null,null,null,"1",null,null,null,null,null,"2"]
[null,null,null,null,null,null,null,null,"2",null,null,null,null,null,"3"]
[null,null,null,null,null,null,null,null,"3",null,null,null,null,null,"1"]
[null,null,null,null,null,null,null,null,"1",null,null,null,null,null,"2"]
[null,null,null,null,null,null,null,null,"2",null,null,null,null,null,"3"]
[null,null,null,null,null,null,null,null,"3",null,null,null,null,null,"1"]
[null,null,null,null,null,null,null,null,"1",null,null,null,null,null,"2"]
[null,null,null,null,null,null,null,null,"2",null,null,null,null,null,"3"]
[null,null,null,null,null,null,null,null,"3",null,null,null,null,null,"1"]
[null,null,null,null,null,null,null,null,"1",null,null,null,null,null,"2"]
[null,null,null,null,null,null,null,null,"2",null,null,null,null,null,"3"]
[null,null,null,null,null,null,null,null,"3",null,null,null,null,null,"1"]
[null,null,null,null,null,null,null,null,"1",null,null,null,null,null,"2"]
[null,null,null,null,null,null,null,null,"2",null,null,null,null,null,"3"]
[null,null,null,null,null,null,null,null,"3",null,null,null,null,null,"1"]
[null,null,null,null,null,null,null,null,"1",null,null,null,null,null,"2"]
[null,null,null,null,null,null,null,null,"2",null,null,null,null,null,"3"]
[null,null,null,null,null,null,null,null,"3",null,null,null,null,null,"1"]
[null,null,null,null,null,null,null,null,"1",null,null,null,null,null,"2"]
[null,null,null,null,null,null,null,null,"2",null,null,null,null,null,"3"]
[null,null,null,null,null,null,null,null,"3",null,null,null,null,null,"1"]
[null,null,null,null,null,null,null,null,"1",null,null,null,null,null,"2"]
[null,null,null,null,null,null,null,null,"2",null,null,null,null,null,"3"]
[null,null,null,null,null,null,null,null,"3",null,null,null,null,null,"1"]
[null,null,null,null,null,null,null,null,"1",null,null,null,null,null,"2"]
[null,null,null,null,null,null,null,null,"2",null,null,null,null,null,"3"]
[null,null,null,null,null,null,null,null,"3",null,null,null,null,null,"1"]
[null,null,null,null,null,null,null,null,"1",null,null,null,null,null,"2"]
[null,null,null,null,null,null,null,null,"2",null,null,null,null,null,"3"]
[null,null,null,null,null,null,null,null,"3",null,null,null,null,null,"1"]
[null,null,null,null,null,null,null,null,"1",null,null,null,null,null,"2"]
[null,null,null,null,null,null,null,null,"2",null,null,null,null,null,"3"]
[null,null,null,null,null,null,null,null,"3",null,null,null,null,null,"1"]
[null,null,null,null,null,null,null,null,"1",null,null,null,null,null,"2"]
[null,null,null,null,null,null,null,null,"2",null,null,null,null,null,"3"]
[null,null,null,null,null,null,null,null,"3",null,null,null,null,null,"1"]
[null,null,null,null,null,null,null,null,"1",null,null,null,null,null,"2"]
[null,null,null,null,null,null,null,null,"2",null,null,null,null,null,"3"]
[null,null,null,null,null,null,null,null,"3",null,null,null,null,null,"1"]
[null,null,null,null,null,null,null,null,"1",null,null,null,null,null,"2"]
[null,null,null,null,null,null,null,null,"2",null,null,null,null,null,"3"]
[null,null,null,null,null,null,null,null,"3",null,null,null,null,null,"1"]
[null,null,null,null,null,null,null,null,"1",null,null,null,null,null,"2"]
[null,null,null,null,null,null,null,null,"2",null,null,null,null,null,"3"]
[null,null,null,null,null,null,null,null,"3",null,null,null,null,null,"1"]
[null,null,null,null,null,null,null,null,"1",null,null,null,null,null,"2"]
[null,null,null,null,null,null,null,null,"2",null,null,null,null,null,"3"]
[null,null,null,null,null,null,null,null,"3",null,null,null,null,null,"1"]
[null,null,null,null,null,null,null,null,"1",null,null,null,null,null,"2"]
[null,null,null,null,null,null,null,null,"2",null,null,null,null,null,"3"]
[null,null,null,null,null,null,null,null,"3",null,null,null,null,null,"1"]
[null,null,null,null,null,null,null,null,"1",null,null,null,null,null,"2"]
[null,null,null,null,null,null,null,null,"2",null,null,null,null,null,"3"]
[null,null,null,null,null,null,null,null,"3",null,null,null,null,null,"1"]
[null,null,null,null,null,null,null,null,"1",null,null,null,null,null,"2"]
[null,null,null,null,null,null,null,null,"2",null,null,null,null,null,"3"]
[null,null,null,null,null,null,null,null,"3",null,null,null,null,null,"1"]
[null,null,null,null,null,null,null,null,"1",null,null,null,null,null,"2"]
[null,null,null,null,null,null,null,null,"2",null,null,null,null,null,"3"]
[null,null,null,null,null,null,null,null,"3",null,null,null,null,null,"1"]
[null,null,null,null,null,null,null,null,"1",null,null,null,null,null,"2"]
[null,null,null,null,null,null,null,null,"2",null,null,null,null,null,"3"]
[null,null,null,null,null,null,null,null,"3",null,null,null,null,null,"1"]
[null,null,null,null,null,null,null,null,"1",null,null,null,null,null,"2"]
[null,null,null,null,null,null,null,null,"2",null,null,null,null,null,"3"]
[null,null,null,null,null,null,null,null,"3",null,null,null,null,null,"1"]
[null,null,null,null,null,null,null,null,"1",null,null,null,null,null,"2"]
[null,null,null,null,null,null,null,null,"2",null,null,null,null,null,"3"]
[null,null,null,null,null,null,null,null,"3",null,null,null,null,null,"1"]
[null,null,null,null,null,null,null,null,"1",null,null,null,null,null,"2"]
[null,null,null,null,null,null,null,null,"2",null,null,null,null,null,"3"]
[null,null,null,null,null,null,null,null,"3",null,null,null,null,null,"1"]
[null,null,null,null,null,null,null,null,"1",null,null,null,null,null,"2"]
[null,null,null,null,null,null,null,null,"2",null,null,null,null,null,"3"]
[null,null,null,null,null,null,null,null,"3",null,null,null,null,null,"1"]
[null,null,null,null,null,null,null,null,"1",null,null,null,null,null,"2"]
[null,null,null,null,null,null,null,null,"2",null,null,null,null,null,"3"]
[null,null,null,null,null,null,null,null,"3",null,null,null,null,null,"1"]
[null,null,null,null,null,null,null,null,"1",null,null,null,null,null,"2"]
[null,null,null,null,null,null,null,null,"2",null,null,null,null,null,"3"]
[null,null,null,null,null,null,null,null,"3",null,null,null,null,null,"1"]
[null,null,null,null,null,null,null,null,"1",null,null,null,null,null,"2"]
[null,null,null,null,null,null,null,null,"2",null,null,null,null,null,"3"]
[null,null,null,null,null,null,null,null,"3",null,null,null,null,null,"1"]
[null,null,null,null,null,null,null,null,"1",null,null,null,null,null,"2"]
[null,null,null,null,null,null,null,null,"2",null,null,null,null,null,"3"]
[null,null,null,null,null,null,null,null,"3",null,null,null,null,null,"1"]
[null,null,null,null,null,null,null,null,"1",null,null,null,null,null,"2"]
[null,null,null,null,null,null,null,null,"2",null,null,null,null,null,"3"]
[null,null,null,null,null,null,null,null,"3",null,null,null,null,null,"1"]
[null,null,null,null,null,null,null,null,"1",null,null,null,null,null,"2"]
[null,null,null,null,null,null,null,null,"2",null,null,null,null,null,"3"]
[null,null,null,null,null,null,null,null,"3",null,null,null,null,null,"1"]
[null,null,null,null,null,null,null,null,"1",null,null,null,null,null,"2"]
[null,null,null,null,null,null,null,null,"2",null,null,null,null,null,"3"]
[null,null,null,null,null,null,null,null,"3",null,null,null,null,null,"1"]
[null,null,null,null,null,null,null,null,"1",null,null,null,null,null,"2"]
[null,null,null,null,null,null,null,null,"2",null,null,null,null,null,"3"]
[null,null,null,null,null,null,null,null,"3",null,null,null,null,null,"1"]
[null,null,null,null,null,null,null,null,"1",null,null,null,null,null,"2"]
[null,null,null,null,null,null,null,null,"2",null,null,null,null,null,"3"]
[null,null,null,null,null,null,null,null,"3",null,null,null,null,null,"1"]
[null,null,null,null,null,null,null,null,"1",null,null,null,null,null,"2"]
[null,null,null,null,null,null,null,null,"2",null,null,null,null,null,"3"]
[null,null,null,null,null,null,null,null,"3",null,null,null,null,null,"1"]
[null,null,null,null,null,null,null,null,"1",null,null,null,null,null,"2"]
[null,null,null,null,null,null,null,null,"2",null,null,null,null,null,"3"]
[null,null,null,null,null,null,null,null,"3",null,null,null,null,null,"1"]
[null,null,null,null,null,null,null,null,"1",null,null,null,null,null,"2"]
[null,null,null,null,null,null,null,null,"2",null,null,null,null,null,"3"]
[null,null,null,null,null,null,null,null,"3",null,null,null,null,null,"1"]
[null,null,null,null,null,null,null,null,"1",null,null,null,null,null,"2"]
[null,null,null,null,null,null,null,null,"2",null,null,null,null,null,"3"]
[null,null,null,null,null,null,null,null,"3",null,null,null,null,null,"1"]
[null,null,null,null,null,null,null,null,"1",null,null,null,null,null,"2"]
[null,null,null,null,null,null,null,null,"2",null,null,null,null,null,"3"]
[null,null,null,null,null,null,null,null,"3",null,null,null,null,null,"1"]
[null,null,null,null,null,null,null,null,"1",null,null,null,null,null,"2"]
[null,null,null,null,null,null,null,null,"2",null,null,null,null,null,"3"]
[null,null,null,null,null,null,null,null,"3",null,null,null,null,null,"1"]
[null,null,null,null,null,null,null,null,"1",null,null,null,null,null,"2"]
[null,null,null,null,null,null,null,null,"2",null,null,null,null,null,"3"]
[null,null,null,null,null,null,null,null,"3",null,null,null,null,null,"1"]
[null,null,null,null,null,null,null,null,"1",null,null,null,null,null,"2"]
[null,null,null,null,null,null,null,null,"2",null,null,null,null,null,"3"]
[null,null,null,null,null,null,null,null,"3",null,null,null,null,null,"1"]
[null,null,null,null,null,null,null,null,"1",null,null,null,null,null,"2"]
[null,null,null,null,null,null,null,null,"2",null,null,null,null,null,"3"]
[null,null,null,null,null,null,null,null,"3",null,null,null,null,null,"1"]
[null,null,null,null,null,null,null,null,"1",null,null,null,null,null,"2"]
[null,null,null,null,null,null,null,null,"2",null,null,null,null,null,"3"]
[null,null,null,null,null,null,null,null,"3",null,null,null,null,null,"1"]
[null,null,null,null,null,null,null,null,"1",null,null,null,null,null,"2"]
[null,null,null,null,null,null,null,null,"2",null,null,null,null,null,"3"]
[null,null,null,null,null,null,null,null,"3",null,null,null,null,null,"1"]
[null,null,null,null,null,null,null,null,"1",null,null,null,null,null,"2"]
[null,null,null,null,null,null,null,null,"2",null,null,null,null,null,"3"]
[null,null,null,null,null,null,null,null,"3",null,null,null,null,null,"1"]
[null,null,null,null,null,null,null,null,"1",null,null,null,null,null,"2"]
[null,null,null,null,null,null,null,null,"2",null,null,null,null,null,"3"]
[null,null,null,null,null,null,null,null,"3",null,null,null,null,null,"1"]
[null,null,null,null,null,null,null,null,"1",null,null,null,null,null,"2"]
[null,null,null,null,null,null,null,null,"2",null,null,null,null,null,"3"]
[null,null,null,null,null,null,null,null,"3",null,null,null,null,null,"1"]
[null,null,null,null,null,null,null,null,"1",null,null,null,null,null,"2"]
[null,null,null,null,null,null,null,null,"2",null,null,null,null,null,"3"]
[null,null,null,null,null,null,null,null,"3",null,null,null,null,null,"1"]
[null,null,null,null,null,null,null,null,"1",null,null,null,null,null,"2"]
[null,null,null,null,null,null,null,null,"2",null,null,null,null,null,"3"]
[null,null,null,null,null,null,null,null,"3",null,null,null,null,null,"1"]
[null,null,null,null,null,null,null,null,"1",null,null,null,null,null,"2"]
[null,null,null,null,null,null,null,null,"2",null,null,null,null,null,"3"]
[null,null,null,null,null,null,null,null,"3",null,null,null,null,null,"1"]
[null,null,null,null,null,null,null,null,"1",null,null,null,null,null,"2"]
[null,null,null,null,null,null,null,null,"2",null,null,null,null,null,"3"]
[null,null,null,null,null,null,null,null,"3",null,null,null,null,null,"1"]
[null,null,null,null,null,null,null,null,"1",null,null,null,null,null,"2"]
[null,null,null,null,null,null,null,null,"2",null,null,null,null,null,"3"]
[null,null,null,null,null,null,null,null,"3",null,null,null,null,null,"1"]
[null,null,null,null,null,null,null,null,"1",null,null,null,null,null,"2"]
[null,null,null,null,null,null,null,null,"2",null,null,null,null,null,"3"]
[null,null,null,null,null,null,null,null,"3",null,null,null,null,null,"1"]
[null,null,null,null,null,null,null,null,"1",null,null,null,null,null,"2"]
[null,null,null,null,null,null,null,null,"2",null,null,null,null,null,"3"]
[null,null,null,null,null,null,null,null,"3",null,null,null,null,null,"1"]
[null,null,null,null,null,null,null,null,"1",null,null,null,null,null,"2"]
[null,null,null,null,null,null,null,null,"2",null,null,null,null,null,"3"]
[null,null,null,null,null,null,null,null,"3",null,null,null,null,null,"1"]
[null,null,null,null,null,null,null,null,"1",null,null,null,null,null,"2"]
[null,null,null,null,null,null,null,null,"2",null,null,null,null,null,"3"]
[null,null,null,null,null,null,null,null,"3",null,null,null,null,null,"1"]
[null,null,null,null,null,null,null,null,"1",null,null,null,null,null,"2"]
[null,null,null,null,null,null,null,null,"2",null,null,null,null,null,"3"]
[null,null,null,null,null,null,null,null,"3",null,null,null,null,null,"1"]
[null,null,null,null,null,null,null,null,"1",null,null,null,null,null,"2"]
[null,null,null,null,null,null,null,null,"2",null,null,null,null,null,"3"]
[null,null,null,null,null,null,null,null,"3",null,null,null,null,null,"1"]
[null,null,null,null,null,null,null,null,"1",null,null,null,null,null,"2"]
[null,null,null,null,null,null,null,null,"2",null,null,null,null,null,"3"]
[null,null,null,null,null,null,null,null,"3",null,null,null,null,null,"1"]
[null,null,null,null,null,null,null,null,"1",null,null,null,null,null,"2"]
[null,null,null,null,null,null,null,null,"2",null,null,null,null,null,"3"]
[null,null,null,null,null,null,null,null,"3",null,null,null,null,null,"1"]
[null,null,null,null,null,null,null,null,"1",null,null,null,null,null,"2"]
[null,null,null,null,null,null,null,null,"2",null,null,null,null,null,"3"]
[null,null,null,null,null,null,null,null,"3",null,null,null,null,null,"1"]
[null,null,null,null,null,null,null,null,"1",null,null,null,null,null,"2"]
[null,null,null,null,null,null,null,null,"2",null,null,null,null,null,"3"]
[null,null,null,null,null,null,null,null,"3",null,null,null,null,null,"1"]
[null,null,null,null,null,null,null,null,"1",null,null,null,null,null,"2"]
[null,null,null,null,null,null,null,null,"2",null,null,null,null,null,"3"]
[null,null,null,null,null,null,null,null,"3",null,null,null,null,null,"1"]
[null,null,null,null,null,null,null,null,"1",null,null,null,null,null,"2"]
[null,null,null,null,null,null,null,null,"2",null,null,null,null,null,"3"]
[null,null,null,null,null,null,null,null,"3",null,null,null,null,null,"1"]
[null,null,null,null,null,null,null,null,"1",null,null,null,null,null,"2"]
[null,null,null,null,null,null,null,null,"2",null,null,null,null,null,"3"]
[null,null,null,null,null,null,null,null,"3",null,null,null,null,null,"1"]
[null,null,null,null,null,null,null,null,"1",null,null,null,null,null,"2"]
[null,null,null,null,null,null,null,null,"2",null,null,null,null,null,"3"]
[null,null,null,null,null,null,null,null,"3",null,null,null,null,null,"1"]
[null,null,null,null,null,null,null,null,"1",null,null,null,null,null,"2"]
[null,null,null,null,null,null,null,null,"2",null,null,null,null,null,"3"]
[null,null,null,null,null,null,null,null,"3",null,null,null,null,null,"1"]
[null,null,null,null,null,null,null,null,"1",null,null,null,null,null,"2"]
[null,null,null,null,null,null,null,null,"2",null,null,null,null,null,"3"]
[null,null,null,null,null,null,null,null,"3",null,null,null,null,null,"1"]
[null,null,null,null,null,null,null,null,"1",null,null,null,null,null,"2"]
[null,null,null,null,null,null,null,null,"2",null,null,null,null,null,"3"]
[null,null,null,null,null,null,null,null,"3",null,null,null,null,null,"1"]
[null,null,null,null,null,null,null,null,"1",null,null,null,null,null,"2"]
[null,null,null,null,null,null,null,null,"2",null,null,null,null,null,"3"]
[null,null,null,null,null,null,null,null,"3",null,null,null,null,null,"1"]
[null,null,null,null,null,null,null,null,"1",null,null,null,null,null,"2"]
[null,null,null,null,null,null,null,null,"2",null,null,null,null,null,"3"]
[null,null,null,null,null,null,null,null,"3",null,null,null,null,null,"1"]
[null,null,null,null,null,null,null,null,"1",null,null,null,null,null,"2"]
[null,null,null,null,null,null,null,null,"2",null,null,null,null,null,"3"]
[null,null,null,null,null,null,null,null,"3",null,null,null,null,null,"1"]
[null,null,null,null,null,null,null,null,"1",null,null,null,null,null,"2"]
[null,null,null,null,null,null,null,null,"2",null,null,null,null,null,"3"]
[null,null,null,null,null,null,null,null,"3",null,null,null,null,null,"1"]
[null,null,null,null,null,null,null,null,"1",null,null,null,null,null,"2"]
[null,null,null,null,null,null,null,null,"2",null,null,null,null,null,"3"]
[null,null,null,null,null,null,null,null,"3",null,null,null,null,null,"1"]
[null,null,null,null,null,null,null,null,"1",null,null,null,null,null,"2"]
[null,null,null,null,null,null,null,null,"2",null,null,null,null,null,"3"]
[null,null,null,null,null,null,null,null,"3",null,null,null,null,null,"1"]
[null,null,null,null,null,null,null,null,"1",null,null,null,null,null,"2"]
[null,null,null,null,null,null,null,null,"2",null,null,null,null,null,"3"]
[null,null,null,null,null,null,null,null,"3",null,null,null,null,null,"1"]
[null,null,null,null,null,null,null,null,"1",null,null,null,null,null,"2"]
[null,null,null,null,null,null,null,null,"2",null,null,null,null,null,"3"]
[null,null,null,null,null,null,null,null,"3",null,null,null,null,null,"1"]
[null,null,null,null,null,null,null,null,"1",null,null,null,null,null,"2"]
[null,null,null,null,null,null,null,null,"2",null,null,null,null,null,"3"]
[null,null,null,null,null,null,null,null,"3",null,null,null,null,null,"1"]
[null,null,null,null,null,null,null,null,"1",null,null,null,null,null,"2"]
[null,null,null,null,null,null,null,null,"2",null,null,null,null,null,"3"]
[null,null,null,null,null,null,null,null,"3",null,null,null,null,null,"1"]
[null,null,null,null,null,null,null,null,"1",null,null,null,null,null,"2"]
[null,null,null,null,null,null,null,null,"2",null,null,null,null,null,"3"]
[null,null,null,null,null,null,null,null,"3",null,null,null,null,null,"1"]
[null,null,null,null,null,null,null,null,"1",null,null,null,null,null,"2"]
[null,null,null,null,null,null,null,null,"2",null,null,null,null,null,"3"]
[null,null,null,null,null,null,null,null,"3",null,null,null,null,null,"1"]
[null,null,null,null,null,null,null,null,"1",null,null,null,null,null,"2"]
[null,null,null,null,null,null,null,null,"2",null,null,null,null,null,"3"]
[null,null,null,null,null,null,null,null,"3",null,null,null,null,null,"1"]
[null,null,null,null,null,null,null,null,"1",null,null,null,null,null,"2"]
[null,null,null,null,null,null,null,null,"2",null,null,null,null,null,"3"]
[null,null,null,null,null,null,null,null,"3",null,null,null,null,null,"1"]
[null,null,null,null,null,null,null,null,"1",null,null,null,null,null,"2"]
[null,null,null,null,null,null,null,null,"2",null,null,null,null,null,"3"]
[null,null,null,null,null,null,null,null,"3",null,null,null,null,null,"1"]
[null,null,null,null,null,null,null,null,"1",null,null,null,null,null,"2"]
[null,null,null,null,null,null,null,null,"2",null,null,null,null,null,"3"]
[null,null,null,null,null,null,null,null,"3",null,null,null,null,null,"1"]
[null,null,null,null,null,null,null,null,"1",null,null,null,null,null,"2"]
[null,null,null,null,null,null,null,null,"2",null,null,null,null,null,"3"]
[null,null,null,null,null,null,null,null,"3",null,null,null,null,null,"1"]
[null,null,null,null,null,null,null,null,"1",null,null,null,null,null,"2"]
[null,null,null,null,null,null,null,null,"2",null,null,null,null,null,"3"]
[null,null,null,null,null,null,null,null,"3",null,null,null,null,null,"1"]
[null,null,null,null,null,null,null,null,"1",null,null,null,null,null,"2"]
[null,null,null,null,null,null,null,null,"2",null,null,null,null,null,"3"]
[null,null,null,null,null,null,null,null,"3",null,null,null,null,null,"1"]
[null,null,null,null,null,null,null,null,"1",null,null,null,null,null,"2"]
[null,null,null,null,null,null,null,null,"2",null,null,null,null,null,"3"]
[null,null,null,null,null,null,null,null,"3",null,null,null,null,null,"1"]
[null,null,null,null,null,null,null,null,"1",null,null,null,null,null,"2"]
[null,null,null,null,null,null,null,null,"2",null,null,null,null,null,"3"]
[null,null,null,null,null,null,null,null,"3",null,null,null,null,null,"1"]
[null,null,null,null,null,null,null,null,"1",null,null,null,null,null,"2"]
[null,null,null,null,null,null,null,null,"2",null,null,null,null,null,"3"]
[null,null,null,null,null,null,null,null,"3",null,null,null,null,null,"1"]
[null,null,null,null,null,null,null,null,"1",null,null,null,null,null,"2"]
[null,null,null,null,null,null,null,null,"2",null,null,null,null,null,"3"]
[null,null,null,null,null,null,null,null,"3",null,null,null,null,null,"1"]
[null,null,null,null,null,null,null,null,"1",null,null,null,null,null,"2"]
[null,null,null,null,null,null,null,null,"2",null,null,null,null,null,"3"]
[null,null,null,null,null,null,null,null,"3",null,null,null,null,null,"1"]
[null,null,null,null,null,null,null,null,"1",null,null,null,null,null,"2"]
[null,null,null,null,null,null,null,null,"2",null,null,null,null,null,"3"]
[null,null,null,null,null,null,null,null,"3",null,null,null,null,null,"1"]
[null,null,null,null,null,null,null,null,"1",null,null,null,null,null,"2"]
[null,null,null,null,null,null,null,null,"2",null,null,null,null,null,"3"]
[null,null,null,null,null,null,null,null,"3",null,null,null,null,null,"1"]
[null,null,null,null,null,null,null,null,"1",null,null,null,null,null,"2"]
[null,null,null,null,null,null,null,null,"2",null,null,null,null,null,"3"]
[null,null,null,null,null,null,null,null,"3",null,null,null,null,null,"1"]
[null,null,null,null,null,null,null,null,"1",null,null,null,null,null,"2"]
[null,null,null,null,null,null,null,null,"2",null,null,null,null,null,"3"]
[null,null,null,null,null,null,null,null,"3",null,null,null,null,null,"1"]
[null,null,null,null,null,null,null,null,"1",null,null,null,null,null,"2"]
[null,null,null,null,null,null,null,null,"2",null,null,null,null,null,"3"]
[null,null,null,null,null,null,null,null,"3",null,null,null,null,null,"1"]
[null,null,null,null,null,null,null,null,"1",null,null,null,null,null,"2"]
[null,null,null,null,null,null,null,null,"2",null,null,null,null,null,"3"]
[null,null,null,null,null,null,null,null,"3",null,null,null,null,null,"1"]
[null,null,null,null,null,null,null,null,"1",null,null,null,null,null,"2"]
[null,null,null,null,null,null,null,null,"2",null,null,null,null,null,"3"]
[null,null,null,null,null,null,null,null,"3",null,null,null,null,null,"1"]
[null,null,null,null,null,null,null,null,"1",null,null,null,null,null,"2"]
[null,null,null,null,null,null,null,null,"2",null,null,null,null,null,"3"]
[null,null,null,null,null,null,null,null,"3",null,null,null,null,null,"1"]
[null,null,null,null,null,null,null,null,"1",null,null,null,null,null,"2"]
[null,null,null,null,null,null,null,null,"2",null,null,null,null,null,"3"]
[null,null,null,null,null,null,null,null,"3",null,null,null,null,null,"1"]
[null,null,null,null,null,null,null,null,"1",null,null,null,null,null,"2"]
[null,null,null,null,null,null,null,null,"2",null,null,null,null,null,"3"]
[null,null,null,null,null,null,null,null,"3",null,null,null,null,null,"1"]
[null,null,null,null,null,null,null,null,"1",null,null,null,null,null,"2"]
[null,null,null,null,null,null,null,null,"2",null,null,null,null,null,"3"]
[null,null,null,null,null,null,null,null,"3",null,null,null,null,null,"1"]
[null,null,null,null,null,null,null,null,"1",null,null,null,null,null,"2"]
[null,null,null,null,null,null,null,null,"2",null,null,null,null,null,"3"]
[null,null,null,null,null,null,null,null,"3",null,null,null,null,null,"1"]
[null,null,null,null,null,null,null,null,"1",null,null,null,null,null,"2"]
[null,null,null,null,null,null,null,null,"2",null,null,null,null,null,"3"]
[null,null,null,null,null,null,null,null,"3",null,null,null,null,null,"1"]
[null,null,null,null,null,null,null,null,"1",null,null,null,null,null,"2"]
[null,null,null,null,null,null,null,null,"2",null,null,null,null,null,"3"]
[null,null,null,null,null,null,null,null,"3",null,null,null,null,null,"1"]
[null,null,null,null,null,null,null,null,"1",null,null,null,null,null,"2"]
[null,null,null,null,null,null,null,null,"2",null,null,null,null,null,"3"]
[null,null,null,null,null,null,null,null,"3",null,null,null,null,null,"1"]
[null,null,null,null,null,null,null,null,"1",null,null,null,null,null,"2"]
[null,null,null,null,null,null,null,null,"2",null,null,null,null,null,"3"]
[null,null,null,null,null,null,null,null,"3",null,null,null,null,null,"1"]
[null,null,null,null,null,null,null,null,"1",null,null,null,null,null,"2"]
[null,null,null,null,null,null,null,null,"2",null,null,null,null,null,"3"]
[null,null,null,null,null,null,null,null,"3",null,null,null,null,null,"1"]
[null,null,null,null,null,null,null,null,"1",null,null,null,null,null,"2"]
[null,null,null,null,null,null,null,null,"2",null,null,null,null,null,"3"]
[null,null,null,null,null,null,null,null,"3",null,null,null,null,null,"1"]
[null,null,null,null,null,null,null,null,"1",null,null,null,null,null,"2"]
[null,null,null,null,null,null,null,null,"2",null,null,null,null,null,"3"]
[null,null,null,null,null,null,null,null,"3",null,null,null,null,null,"1"]
[null,null,null,null,null,null,null,null,"1",null,null,null,null,null,"2"]
[null,null,null,null,null,null,null,null,"2",null,null,null,null,null,"3"]
[null,null,null,null,null,null,null,null,"3",null,null,null,null,null,"1"]
[null,null,null,null,null,null,null,null,"1",null,null,null,null,null,"2"]
[null,null,null,null,null,null,null,null,"2",null,null,null,null,null,"3"]
[null,null,null,null,null,null,null,null,"3",null,null,null,null,null,"1"]
[null,null,null,null,null,null,null,null,"1",null,null,null,null,null,"2"]
[null,null,null,null,null,null,null,null,"2",null,null,null,null,null,"3"]
[null,null,null,null,null,null,null,null,"3",null,null,null,null,null,"1"]
[null,null,null,null,null,null,null,null,"1",null,null,null,null,null,"2"]
[null,null,null,null,null,null,null,null,"2",null,null,null,null,null,"3"]
[null,null,null,null,null,null,null,null,"3",null,null,null,null,null,"1"]
[null,null,null,null,null,null,null,null,"1",null,null,null,null,null,"2"]
[null,null,null,null,null,null,null,null,"2",null,null,null,null,null,"3"]
[null,null,null,null,null,null,null,null,"3",null,null,null,null,null,"1"]
[null,null,null,null,null,null,null,null,"1",null,null,null,null,null,"2"]
[null,null,null,null,null,null,null,null,"2",null,null,null,null,null,"3"]
[null,null,null,null,null,null,null,null,"3",null,null,null,null,null,"1"]
[null,null,null,null,null,null,null,null,"1",null,null,null,null,null,"2"]
[null,null,null,null,null,null,null,null,"2",null,null,null,null,null,"3"]
[null,null,null,null,null,null,null,null,"3",null,null,null,null,null,"1"]
[null,null,null,null,null,null,null,null,"1",null,null,null,null,null,"2"]
[null,null,null,null,null,null,null,null,"2",null,null,null,null,null,"3"]
[null,null,null,null,null,null,null,null,"3",null,null,null,null,null,"1"]
[null,null,null,null,null,null,null,null,"1",null,null,null,null,null,"2"]
[null,null,null,null,null,null,null,null,"2",null,null,null,null,null,"3"]
[null,null,null,null,null,null,null,null,"3",null,null,null,null,null,"1"]
[null,null,null,null,null,null,null,null,"1",null,null,null,null,null,"2"]
[null,null,null,null,null,null,null,null,"2",null,null,null,null,null,"3"]
[null,null,null,null,null,null,null,null,"3",null,null,null,null,null,"1"]
[null,null,null,null,null,null,null,null,"",null,null,null,null,null,""]
[null,null,null,null,null,null,null,null,"",null,null,null,null,null,""]
[]
[]
[]
[]
[]
[]
[]
[]
[]
[]
[]
[]
[]
[]
[]
[]
[]
[]
[]
[]
[]
[]
[]
[]
[]
[]
[]
[]
[]
[]
[]
[]
[]
[]
[]
[]
[]
[]
[]
[]
[]
[]
[]
[]
[]
[]
[]
[]
[]
[null,null,null,null,null,null,null,null,"",null,null,null,null,null,""]
[null,null,null,null,null,null,null,null,"",null,null,null,null,null,""]

{"sheet":"PJ-T","index":7,"n_rows":530,"n_cols":15,"rows_kept":530,"cut":false,"hidden":false,"merged":[[508,4,508,7],[508,10,508,13],[462,1,462,14],[464,2,464,5],[464,6,464,13],[466,4,466,7],[466,10,466,13],[424,4,424,7],[424,10,424,13],[504,1,504,14],[506,2,506,5],[506,6,506,13],[130,4,130,7],[130,10,130,13],[420,1,420,14],[422,2,422,5],[422,6,422,13],[168,1,168,14],[170,2,170,5],[170,6,170,13],[172,4,172,7],[172,10,172,13],[210,1,210,14],[212,2,212,5],[212,6,212,13],[214,4,214,7],[214,10,214,13],[252,1,252,14],[88,4,88,7],[88,10,88,13],[126,1,126,14],[128,2,128,5],[128,6,128,13],[44,2,44,5],[44,6,44,13],[46,4,46,7],[46,10,46,13],[86,6,86,13],[84,1,84,14],[86,2,86,5],[0,1,0,14],[4,4,4,7],[4,10,4,13],[42,1,42,14],[2,2,2,5],[2,6,2,13],[254,2,254,5],[254,6,254,13],[256,4,256,7],[256,10,256,13],[294,1,294,14],[296,2,296,5],[296,6,296,13],[298,4,298,7],[298,10,298,13],[336,1,336,14],[380,2,380,5],[380,6,380,13],[382,4,382,7],[382,10,382,13],[338,2,338,5],[338,6,338,13],[340,4,340,7],[340,10,340,13],[378,1,378,14]]}
[null,"Běh na 100m s překážkami - Startovní listina"]
[]
[null,null,{"$f":"Start!B2","v":"Kraj "},null,null,null,{"$f":"Start!B3","v":"Chrast 16.6.2024"}]
[]
[null,null,{"$f":"Start!$C$5","v":"Dorky"},null,"I. pokus",null,null,null,null,null,"II. pokus"]
[null,"st.č.","Jméno","Kolektiv",1,2,3,"Čas","dr.",null,1,2,3,"Čas","dr."]
[null,1,"Bandžuchová Simona","Stéblová",null,null,null,null,"1",null,null,null,null,null,"2"]
[null,2,"Simona Škopová","Lukavice",null,null,null,null,"2",null,null,null,null,null,"3"]
[null,3,"Bubeníčková Denisa","Skuteč",null,null,null,null,"3",null,null,null,null,null,"1"]
[null,4,"Faltysová Tereza","Desná",null,null,null,null,"1",null,null,null,null,null,"2"]
[null,5,"Janáčková Michaela","Stéblová",null,null,null,null,"2",null,null,null,null,null,"3"]
[null,6,"Veronika Macháčková","Lukavice",null,null,null,null,"3",null,null,null,null,null,"1"]
[null,7,"Pohnerová Nikol","Skuteč",null,null,null,null,"1",null,null,null,null,null,"2"]
[null,8,"Mičíková Nikola","Desná",null,null,null,null,"2",null,null,null,null,null,"3"]
[null,9,"Nemcová Denisa Ella","Stéblová",null,null,null,null,"3",null,null,null,null,null,"1"]
[null,10,"Nela Hrušová","Lukavice",null,null,null,null,"1",null,null,null,null,null,"2"]
[null,11,"Slezáková Nela","Skuteč",null,null,null,null,"2",null,null,null,null,null,"3"]
[null,12,"Ševčíková Veronika","Desná",null,null,null,null,"3",null,null,null,null,null,"1"]
[null,13,"Bandžuchová Zuzana","Stéblová",null,null,null,null,"1",null,null,null,null,null,"2"]
[null,14,"Adéla Hrušová","Lukavice",null,null,null,null,"2",null,null,null,null,null,"3"]
[null,15,"Nováková Denisa","Skuteč",null,null,null,null,"3",null,null,null,null,null,"1"]
[null,16,"Doležalová Klára","Desná",null,null,null,null,"1",null,null,null,null,null,"2"]
[null,17,"Baťová Adéla","Stéblová",null,null,null,null,"2",null,null,null,null,null,"3"]
[null,18,"Kamila Halbrštátová","Lukavice",null,null,null,null,"3",null,null,null,null,null,"1"]
[null,19,"Zavoralová Aneta","Skuteč",null,null,null,null,"1",null,null,null,null,null,"2"]
[null,20,"Prokopová Magdaléna","Desná",null,null,null,null,"2",null,null,null,null,null,"3"]
[null,21,"Černohubá Tereza","Stéblová",null,null,null,null,"3",null,null,null,null,null,"1"]
[null,22,"Denisa Boháčová","Lukavice",null,null,null,null,"1",null,null,null,null,null,"2"]
[null,23,"Valíková Veronika","Skuteč",null,null,null,null,"2",null,null,null,null,null,"3"]
[null,24,"Jůzová Nela","Desná",null,null,null,null,"3",null,null,null,null,null,"1"]
[null,25,"Zelingerová Aneta","Stéblová",null,null,null,null,"1",null,null,null,null,null,"2"]
[null,26,"Lucie Hotmarová","Lukavice",null,null,null,null,"2",null,null,null,null,null,"3"]
[null,27,"Marboe Anita","Skuteč",null,null,null,null,"3",null,null,null,null,null,"1"]
[null,28,"Andrlová Eliška","Desná",null,null,null,null,"1",null,null,null,null,null,"2"]
[null,null,null,null,null,null,null,null,"2",null,null,null,null,null,"3"]
[null,null,null,null,null,null,null,null,"3",null,null,null,null,null,"1"]
[null,null,null,null,null,null,null,null,"1",null,null,null,null,null,"2"]
[null,null,null,null,null,null,null,null,"2",null,null,null,null,null,"3"]
[null,null,null,null,null,null,null,null,"3",null,null,null,null,null,"1"]
[null,null,null,null,null,null,null,null,"1",null,null,null,null,null,"2"]
[null,null,null,null,null,null,null,null,"2",null,null,null,null,null,"3"]
[null,null,null,null,null,null,null,null,"3",null,null,null,null,null,"1"]
[null,{"$f":"$B$1","v":"Běh na 100m s překážkami - Startovní listina"}]
[]
[null,null,{"$f":"$C$3","v":"Kraj "},null,null,null,{"$f":"$G$3","v":"Chrast 16.6.2024"}]
[]
[null,null,{"$f":"Start!$C$5","v":"Dorky"},null,"I. pokus",null,null,null,null,null,"II. pokus"]
[null,"st.č.","Jméno","Kolektiv",1,2,3,"Čas","dr.",null,1,2,3,"Čas","dr."]
[null,null,null,null,null,null,null,null,"1",null,null,null,null,null,"2"]
[null,null,null,null,null,null,null,null,"2",null,null,null,null,null,"3"]
[null,null,null,null,null,null,null,null,"3",null,null,null,null,null,"1"]
[null,null,null,null,null,null,null,null,"1",null,null,null,null,null,"2"]
[null,null,null,null,null,null,null,null,"2",null,null,null,null,null,"3"]
[null,null,null,null,null,null,null,null,"3",null,null,null,null,null,"1"]
[null,null,null,null,null,null,null,null,"1",null,null,null,null,null,"2"]
[null,null,null,null,null,null,null,null,"2",null,null,null,null,null,"3"]
[null,null,null,null,null,null,null,null,"3",null,null,null,null,null,"1"]
[null,null,null,null,null,null,null,null,"1",null,null,null,null,null,"2"]
[null,null,null,null,null,null,null,null,"2",null,null,null,null,null,"3"]
[null,null,null,null,null,null,null,null,"3",null,null,null,null,null,"1"]
[null,null,null,null,null,null,null,null,"1",null,null,null,null,null,"2"]
[null,null,null,null,null,null,null,null,"2",null,null,null,null,null,"3"]
[null,null,null,null,null,null,null,null,"3",null,null,null,null,null,"1"]
[null,null,null,null,null,null,null,null,"1",null,null,null,null,null,"2"]
[null,null,null,null,null,null,null,null,"2",null,null,null,null,null,"3"]
[null,null,null,null,null,null,null,null,"3",null,null,null,null,null,"1"]
[null,null,null,null,null,null,null,null,"1",null,null,null,null,null,"2"]
[null,null,null,null,null,null,null,null,"2",null,null,null,null,null,"3"]
[null,null,null,null,null,null,null,null,"3",null,null,null,null,null,"1"]
[null,null,null,null,null,null,null,null,"1",null,null,null,null,null,"2"]
[null,null,null,null,null,null,null,null,"2",null,null,null,null,null,"3"]
[null,null,null,null,null,null,null,null,"3",null,null,null,null,null,"1"]
[null,null,null,null,null,null,null,null,"1",null,null,null,null,null,"2"]
[null,null,null,null,null,null,null,null,"2",null,null,null,null,null,"3"]
[null,null,null,null,null,null,null,null,"3",null,null,null,null,null,"1"]
[null,null,null,null,null,null,null,null,"1",null,null,null,null,null,"2"]
[null,null,null,null,null,null,null,null,"2",null,null,null,null,null,"3"]
[null,null,null,null,null,null,null,null,"3",null,null,null,null,null,"1"]
[null,null,null,null,null,null,null,null,"1",null,null,null,null,null,"2"]
[null,null,null,null,null,null,null,null,"2",null,null,null,null,null,"3"]
[null,null,null,null,null,null,null,null,"3",null,null,null,null,null,"1"]
[null,null,null,null,null,null,null,null,"1",null,null,null,null,null,"2"]
[null,null,null,null,null,null,null,null,"2",null,null,null,null,null,"3"]
[null,null,null,null,null,null,null,null,"3",null,null,null,null,null,"1"]
[null,{"$f":"$B$1","v":"Běh na 100m s překážkami - Startovní listina"}]
[]
[null,null,{"$f":"$C$3","v":"Kraj "},null,null,null,{"$f":"$G$3","v":"Chrast 16.6.2024"}]
[]
[null,null,{"$f":"Start!$C$5","v":"Dorky"},null,"I. pokus",null,null,null,null,null,"II. pokus"]
[null,"st.č.","Jméno","Kolektiv",1,2,3,"Čas","dr.",null,1,2,3,"Čas","dr."]
[null,null,null,null,null,null,null,null,"1",null,null,null,null,null,"2"]
[null,null,null,null,null,null,null,null,"2",null,null,null,null,null,"3"]
[null,null,null,null,null,null,null,null,"3",null,null,null,null,null,"1"]
[null,null,null,null,null,null,null,null,"1",null,null,null,null,null,"2"]
[null,null,null,null,null,null,null,null,"2",null,null,null,null,null,"3"]
[null,null,null,null,null,null,null,null,"3",null,null,null,null,null,"1"]
[null,null,null,null,null,null,null,null,"1",null,null,null,null,null,"2"]
[null,null,null,null,null,null,null,null,"2",null,null,null,null,null,"3"]
[null,null,null,null,null,null,null,null,"3",null,null,null,null,null,"1"]
[null,null,null,null,null,null,null,null,"1",null,null,null,null,null,"2"]
[null,null,null,null,null,null,null,null,"2",null,null,null,null,null,"3"]
[null,null,null,null,null,null,null,null,"3",null,null,null,null,null,"1"]
[null,null,null,null,null,null,null,null,"1",null,null,null,null,null,"2"]
[null,null,null,null,null,null,null,null,"2",null,null,null,null,null,"3"]
[null,null,null,null,null,null,null,null,"3",null,null,null,null,null,"1"]
[null,null,null,null,null,null,null,null,"1",null,null,null,null,null,"2"]
[null,null,null,null,null,null,null,null,"2",null,null,null,null,null,"3"]
[null,null,null,null,null,null,null,null,"3",null,null,null,null,null,"1"]
[null,null,null,null,null,null,null,null,"1",null,null,null,null,null,"2"]
[null,null,null,null,null,null,null,null,"2",null,null,null,null,null,"3"]
[null,null,null,null,null,null,null,null,"3",null,null,null,null,null,"1"]
[null,null,null,null,null,null,null,null,"1",null,null,null,null,null,"2"]
[null,null,null,null,null,null,null,null,"2",null,null,null,null,null,"3"]
[null,null,null,null,null,null,null,null,"3",null,null,null,null,null,"1"]
[null,null,null,null,null,null,null,null,"1",null,null,null,null,null,"2"]
[null,null,null,null,null,null,null,null,"2",null,null,null,null,null,"3"]
[null,null,null,null,null,null,null,null,"3",null,null,null,null,null,"1"]
[null,null,null,null,null,null,null,null,"1",null,null,null,null,null,"2"]
[null,null,null,null,null,null,null,null,"2",null,null,null,null,null,"3"]
[null,null,null,null,null,null,null,null,"3",null,null,null,null,null,"1"]
[null,null,null,null,null,null,null,null,"1",null,null,null,null,null,"2"]
[null,null,null,null,null,null,null,null,"2",null,null,null,null,null,"3"]
[null,null,null,null,null,null,null,null,"3",null,null,null,null,null,"1"]
[null,null,null,null,null,null,null,null,"1",null,null,null,null,null,"2"]
[null,null,null,null,null,null,null,null,"2",null,null,null,null,null,"3"]
[null,null,null,null,null,null,null,null,"3",null,null,null,null,null,"1"]
[null,{"$f":"$B$1","v":"Běh na 100m s překážkami - Startovní listina"}]
[]
[null,null,{"$f":"$C$3","v":"Kraj "},null,null,null,{"$f":"$G$3","v":"Chrast 16.6.2024"}]
[]
[null,null,{"$f":"Start!$C$5","v":"Dorky"},null,"I. pokus",null,null,null,null,null,"II. pokus"]
[null,"st.č.","Jméno","Kolektiv",1,2,3,"Čas","dr.",null,1,2,3,"Čas","dr."]
[null,null,null,null,null,null,null,null,"1",null,null,null,null,null,"2"]
[null,null,null,null,null,null,null,null,"2",null,null,null,null,null,"3"]
[null,null,null,null,null,null,null,null,"3",null,null,null,null,null,"1"]
[null,null,null,null,null,null,null,null,"1",null,null,null,null,null,"2"]
[null,null,null,null,null,null,null,null,"2",null,null,null,null,null,"3"]
[null,null,null,null,null,null,null,null,"3",null,null,null,null,null,"1"]
[null,null,null,null,null,null,null,null,"1",null,null,null,null,null,"2"]
[null,null,null,null,null,null,null,null,"2",null,null,null,null,null,"3"]
[null,null,null,null,null,null,null,null,"3",null,null,null,null,null,"1"]
[null,null,null,null,null,null,null,null,"1",null,null,null,null,null,"2"]
[null,null,null,null,null,null,null,null,"2",null,null,null,null,null,"3"]
[null,null,null,null,null,null,null,null,"3",null,null,null,null,null,"1"]
[null,null,null,null,null,null,null,null,"1",null,null,null,null,null,"2"]
[null,null,null,null,null,null,null,null,"2",null,null,null,null,null,"3"]
[null,null,null,null,null,null,null,null,"3",null,null,null,null,null,"1"]
[null,null,null,null,null,null,null,null,"1",null,null,null,null,null,"2"]
[null,null,null,null,null,null,null,null,"2",null,null,null,null,null,"3"]
[null,null,null,null,null,null,null,null,"3",null,null,null,null,null,"1"]
[null,null,null,null,null,null,null,null,"1",null,null,null,null,null,"2"]
[null,null,null,null,null,null,null,null,"2",null,null,null,null,null,"3"]
[null,null,null,null,null,null,null,null,"3",null,null,null,null,null,"1"]
[null,null,null,null,null,null,null,null,"1",null,null,null,null,null,"2"]
[null,null,null,null,null,null,null,null,"2",null,null,null,null,null,"3"]
[null,null,null,null,null,null,null,null,"3",null,null,null,null,null,"1"]
[null,null,null,null,null,null,null,null,"1",null,null,null,null,null,"2"]
[null,null,null,null,null,null,null,null,"2",null,null,null,null,null,"3"]
[null,null,null,null,null,null,null,null,"3",null,null,null,null,null,"1"]
[null,null,null,null,null,null,null,null,"1",null,null,null,null,null,"2"]
[null,null,null,null,null,null,null,null,"2",null,null,null,null,null,"3"]
[null,null,null,null,null,null,null,null,"3",null,null,null,null,null,"1"]
[null,null,null,null,null,null,null,null,"1",null,null,null,null,null,"2"]
[null,null,null,null,null,null,null,null,"2",null,null,null,null,null,"3"]
[null,null,null,null,null,null,null,null,"3",null,null,null,null,null,"1"]
[null,null,null,null,null,null,null,null,"1",null,null,null,null,null,"2"]
[null,null,null,null,null,null,null,null,"2",null,null,null,null,null,"3"]
[null,null,null,null,null,null,null,null,"3",null,null,null,null,null,"1"]
[null,{"$f":"$B$1","v":"Běh na 100m s překážkami - Startovní listina"}]
[]
[null,null,{"$f":"$C$3","v":"Kraj "},null,null,null,{"$f":"$G$3","v":"Chrast 16.6.2024"}]
[]
[null,null,{"$f":"Start!$C$5","v":"Dorky"},null,"I. pokus",null,null,null,null,null,"II. pokus"]
[null,"st.č.","Jméno","Kolektiv",1,2,3,"Čas","dr.",null,1,2,3,"Čas","dr."]
[null,null,null,null,null,null,null,null,"1",null,null,null,null,null,"2"]
[null,null,null,null,null,null,null,null,"2",null,null,null,null,null,"3"]
[null,null,null,null,null,null,null,null,"3",null,null,null,null,null,"1"]
[null,null,null,null,null,null,null,null,"1",null,null,null,null,null,"2"]
[null,null,null,null,null,null,null,null,"2",null,null,null,null,null,"3"]
[null,null,null,null,null,null,null,null,"3",null,null,null,null,null,"1"]
[null,null,null,null,null,null,null,null,"1",null,null,null,null,null,"2"]
[null,null,null,null,null,null,null,null,"2",null,null,null,null,null,"3"]
[null,null,null,null,null,null,null,null,"3",null,null,null,null,null,"1"]
[null,null,null,null,null,null,null,null,"1",null,null,null,null,null,"2"]
[null,null,null,null,null,null,null,null,"2",null,null,null,null,null,"3"]
[null,null,null,null,null,null,null,null,"3",null,null,null,null,null,"1"]
[null,null,null,null,null,null,null,null,"1",null,null,null,null,null,"2"]
[null,null,null,null,null,null,null,null,"2",null,null,null,null,null,"3"]
[null,null,null,null,null,null,null,null,"3",null,null,null,null,null,"1"]
[null,null,null,null,null,null,null,null,"1",null,null,null,null,null,"2"]
[null,null,null,null,null,null,null,null,"2",null,null,null,null,null,"3"]
[null,null,null,null,null,null,null,null,"3",null,null,null,null,null,"1"]
[null,null,null,null,null,null,null,null,"1",null,null,null,null,null,"2"]
[null,null,null,null,null,null,null,null,"2",null,null,null,null,null,"3"]
[null,null,null,null,null,null,null,null,"3",null,null,null,null,null,"1"]
[null,null,null,null,null,null,null,null,"1",null,null,null,null,null,"2"]
[null,null,null,null,null,null,null,null,"2",null,null,null,null,null,"3"]
[null,null,null,null,null,null,null,null,"3",null,null,null,null,null,"1"]
[null,null,null,null,null,null,null,null,"1",null,null,null,null,null,"2"]
[null,null,null,null,null,null,null,null,"2",null,null,null,null,null,"3"]
[null,null,null,null,null,null,null,null,"3",null,null,null,null,null,"1"]
[null,null,null,null,null,null,null,null,"1",null,null,null,null,null,"2"]
[null,null,null,null,null,null,null,null,"2",null,null,null,null,null,"3"]
[null,null,null,null,null,null,null,null,"3",null,null,null,null,null,"1"]
[null,null,null,null,null,null,null,null,"1",null,null,null,null,null,"2"]
[null,null,null,null,null,null,null,null,"2",null,null,null,null,null,"3"]
[null,null,null,null,null,null,null,null,"3",null,null,null,null,null,"1"]
[null,null,null,null,null,null,null,null,"1",null,null,null,null,null,"2"]
[null,null,null,null,null,null,null,null,"2",null,null,null,null,null,"3"]
[null,null,null,null,null,null,null,null,"3",null,null,null,null,null,"1"]
[null,{"$f":"$B$1","v":"Běh na 100m s překážkami - Startovní listina"}]
[]
[null,null,{"$f":"$C$3","v":"Kraj "},null,null,null,{"$f":"$G$3","v":"Chrast 16.6.2024"}]
[]
[null,null,{"$f":"Start!$C$5","v":"Dorky"},null,"I. pokus",null,null,null,null,null,"II. pokus"]
[null,"st.č.","Jméno","Kolektiv",1,2,3,"Čas","dr.",null,1,2,3,"Čas","dr."]
[null,null,null,null,null,null,null,null,"1",null,null,null,null,null,"2"]
[null,null,null,null,null,null,null,null,"2",null,null,null,null,null,"3"]
[null,null,null,null,null,null,null,null,"3",null,null,null,null,null,"1"]
[null,null,null,null,null,null,null,null,"1",null,null,null,null,null,"2"]
[null,null,null,null,null,null,null,null,"2",null,null,null,null,null,"3"]
[null,null,null,null,null,null,null,null,"3",null,null,null,null,null,"1"]
[null,null,null,null,null,null,null,null,"1",null,null,null,null,null,"2"]
[null,null,null,null,null,null,null,null,"2",null,null,null,null,null,"3"]
[null,null,null,null,null,null,null,null,"3",null,null,null,null,null,"1"]
[null,null,null,null,null,null,null,null,"1",null,null,null,null,null,"2"]
[null,null,null,null,null,null,null,null,"2",null,null,null,null,null,"3"]
[null,null,null,null,null,null,null,null,"3",null,null,null,null,null,"1"]
[null,null,null,null,null,null,null,null,"1",null,null,null,null,null,"2"]
[null,null,null,null,null,null,null,null,"2",null,null,null,null,null,"3"]
[null,null,null,null,null,null,null,null,"3",null,null,null,null,null,"1"]
[null,null,null,null,null,null,null,null,"1",null,null,null,null,null,"2"]
[null,null,null,null,null,null,null,null,"2",null,null,null,null,null,"3"]
[null,null,null,null,null,null,null,null,"3",null,null,null,null,null,"1"]
[null,null,null,null,null,null,null,null,"1",null,null,null,null,null,"2"]
[null,null,null,null,null,null,null,null,"2",null,null,null,null,null,"3"]
[null,null,null,null,null,null,null,null,"3",null,null,null,null,null,"1"]
[null,null,null,null,null,null,null,null,"1",null,null,null,null,null,"2"]
[null,null,null,null,null,null,null,null,"2",null,null,null,null,null,"3"]
[null,null,null,null,null,null,null,null,"3",null,null,null,null,null,"1"]
[null,null,null,null,null,null,null,null,"1",null,null,null,null,null,"2"]
[null,null,null,null,null,null,null,null,"2",null,null,null,null,null,"3"]
[null,null,null,null,null,null,null,null,"3",null,null,null,null,null,"1"]
[null,null,null,null,null,null,null,null,"1",null,null,null,null,null,"2"]
[null,null,null,null,null,null,null,null,"2",null,null,null,null,null,"3"]
[null,null,null,null,null,null,null,null,"3",null,null,null,null,null,"1"]
[null,null,null,null,null,null,null,null,"1",null,null,null,null,null,"2"]
[null,null,null,null,null,null,null,null,"2",null,null,null,null,null,"3"]
[null,null,null,null,null,null,null,null,"3",null,null,null,null,null,"1"]
[null,null,null,null,null,null,null,null,"1",null,null,null,null,null,"2"]
[null,null,null,null,null,null,null,null,"2",null,null,null,null,null,"3"]
[null,null,null,null,null,null,null,null,"3",null,null,null,null,null,"1"]
[null,{"$f":"$B$1","v":"Běh na 100m s překážkami - Startovní listina"}]
[]
[null,null,{"$f":"$C$3","v":"Kraj "},null,null,null,{"$f":"$G$3","v":"Chrast 16.6.2024"}]
[]
[null,null,{"$f":"Start!$C$5","v":"Dorky"},null,"I. pokus",null,null,null,null,null,"II. pokus"]
[null,"st.č.","Jméno","Kolektiv",1,2,3,"Čas","dr.",null,1,2,3,"Čas","dr."]
[null,null,null,null,null,null,null,null,"1",null,null,null,null,null,"2"]
[null,null,null,null,null,null,null,null,"2",null,null,null,null,null,"3"]
[null,null,null,null,null,null,null,null,"3",null,null,null,null,null,"1"]
[null,null,null,null,null,null,null,null,"1",null,null,null,null,null,"2"]
[null,null,null,null,null,null,null,null,"2",null,null,null,null,null,"3"]
[null,null,null,null,null,null,null,null,"3",null,null,null,null,null,"1"]
[null,null,null,null,null,null,null,null,"1",null,null,null,null,null,"2"]
[null,null,null,null,null,null,null,null,"2",null,null,null,null,null,"3"]
[null,null,null,null,null,null,null,null,"3",null,null,null,null,null,"1"]
[null,null,null,null,null,null,null,null,"1",null,null,null,null,null,"2"]
[null,null,null,null,null,null,null,null,"2",null,null,null,null,null,"3"]
[null,null,null,null,null,null,null,null,"3",null,null,null,null,null,"1"]
[null,null,null,null,null,null,null,null,"1",null,null,null,null,null,"2"]
[null,null,null,null,null,null,null,null,"2",null,null,null,null,null,"3"]
[null,null,null,null,null,null,null,null,"3",null,null,null,null,null,"1"]
[null,null,null,null,null,null,null,null,"1",null,null,null,null,null,"2"]
[null,null,null,null,null,null,null,null,"2",null,null,null,null,null,"3"]
[null,null,null,null,null,null,null,null,"3",null,null,null,null,null,"1"]
[null,null,null,null,null,null,null,null,"1",null,null,null,null,null,"2"]
[null,null,null,null,null,null,null,null,"2",null,null,null,null,null,"3"]
[null,null,null,null,null,null,null,null,"3",null,null,null,null,null,"1"]
[null,null,null,null,null,null,null,null,"1",null,null,null,null,null,"2"]
[null,null,null,null,null,null,null,null,"2",null,null,null,null,null,"3"]
[null,null,null,null,null,null,null,null,"3",null,null,null,null,null,"1"]
[null,null,null,null,null,null,null,null,"1",null,null,null,null,null,"2"]
[null,null,null,null,null,null,null,null,"2",null,null,null,null,null,"3"]
[null,null,null,null,null,null,null,null,"3",null,null,null,null,null,"1"]
[null,null,null,null,null,null,null,null,"1",null,null,null,null,null,"2"]
[null,null,null,null,null,null,null,null,"2",null,null,null,null,null,"3"]
[null,null,null,null,null,null,null,null,"3",null,null,null,null,null,"1"]
[null,null,null,null,null,null,null,null,"1",null,null,null,null,null,"2"]
[null,null,null,null,null,null,null,null,"2",null,null,null,null,null,"3"]
[null,null,null,null,null,null,null,null,"3",null,null,null,null,null,"1"]
[null,null,null,null,null,null,null,null,"1",null,null,null,null,null,"2"]
[null,null,null,null,null,null,null,null,"2",null,null,null,null,null,"3"]
[null,null,null,null,null,null,null,null,"3",null,null,null,null,null,"1"]
[null,{"$f":"$B$1","v":"Běh na 100m s překážkami - Startovní listina"}]
[]
[null,null,{"$f":"$C$3","v":"Kraj "},null,null,null,{"$f":"$G$3","v":"Chrast 16.6.2024"}]
[]
[null,null,{"$f":"Start!$C$5","v":"Dorky"},null,"I. pokus",null,null,null,null,null,"II. pokus"]
[null,"st.č.","Jméno","Kolektiv",1,2,3,"Čas","dr.",null,1,2,3,"Čas","dr."]
[null,null,null,null,null,null,null,null,"1",null,null,null,null,null,"2"]
[null,null,null,null,null,null,null,null,"2",null,null,null,null,null,"3"]
[null,null,null,null,null,null,null,null,"3",null,null,null,null,null,"1"]
[null,null,null,null,null,null,null,null,"1",null,null,null,null,null,"2"]
[null,null,null,null,null,null,null,null,"2",null,null,null,null,null,"3"]
[null,null,null,null,null,null,null,null,"3",null,null,null,null,null,"1"]
[null,null,null,null,null,null,null,null,"1",null,null,null,null,null,"2"]
[null,null,null,null,null,null,null,null,"2",null,null,null,null,null,"3"]
[null,null,null,null,null,null,null,null,"3",null,null,null,null,null,"1"]
[null,null,null,null,null,null,null,null,"1",null,null,null,null,null,"2"]
[null,null,null,null,null,null,null,null,"2",null,null,null,null,null,"3"]
[null,null,null,null,null,null,null,null,"3",null,null,null,null,null,"1"]
[null,null,null,null,null,null,null,null,"1",null,null,null,null,null,"2"]
[null,null,null,null,null,null,null,null,"2",null,null,null,null,null,"3"]
[null,null,null,null,null,null,null,null,"3",null,null,null,null,null,"1"]
[null,null,null,null,null,null,null,null,"1",null,null,null,null,null,"2"]
[null,null,null,null,null,null,null,null,"2",null,null,null,null,null,"3"]
[null,null,null,null,null,null,null,null,"3",null,null,null,null,null,"1"]
[null,null,null,null,null,null,null,null,"1",null,null,null,null,null,"2"]
[null,null,null,null,null,null,null,null,"2",null,null,null,null,null,"3"]
[null,null,null,null,null,null,null,null,"3",null,null,null,null,null,"1"]
[null,null,null,null,null,null,null,null,"1",null,null,null,null,null,"2"]
[null,null,null,null,null,null,null,null,"2",null,null,null,null,null,"3"]
[null,null,null,null,null,null,null,null,"3",null,null,null,null,null,"1"]
[null,null,null,null,null,null,null,null,"1",null,null,null,null,null,"2"]
[null,null,null,null,null,null,null,null,"2",null,null,null,null,null,"3"]
[null,null,null,null,null,null,null,null,"3",null,null,null,null,null,"1"]
[null,null,null,null,null,null,null,null,"1",null,null,null,null,null,"2"]
[null,null,null,null,null,null,null,null,"2",null,null,null,null,null,"3"]
[null,null,null,null,null,null,null,null,"3",null,null,null,null,null,"1"]
[null,null,null,null,null,null,null,null,"1",null,null,null,null,null,"2"]
[null,null,null,null,null,null,null,null,"2",null,null,null,null,null,"3"]
[null,null,null,null,null,null,null,null,"3",null,null,null,null,null,"1"]
[null,null,null,null,null,null,null,null,"1",null,null,null,null,null,"2"]
[null,null,null,null,null,null,null,null,"2",null,null,null,null,null,"3"]
[null,null,null,null,null,null,null,null,"3",null,null,null,null,null,"1"]
[null,{"$f":"$B$1","v":"Běh na 100m s překážkami - Startovní listina"}]
[]
[null,null,{"$f":"$C$3","v":"Kraj "},null,null,null,{"$f":"$G$3","v":"Chrast 16.6.2024"}]
[]
[null,null,{"$f":"Start!$C$5","v":"Dorky"},null,"I. pokus",null,null,null,null,null,"II. pokus"]
[null,"st.č.","Jméno","Kolektiv",1,2,3,"Čas","dr.",null,1,2,3,"Čas","dr."]
[null,null,null,null,null,null,null,null,"1",null,null,null,null,null,"2"]
[null,null,null,null,null,null,null,null,"2",null,null,null,null,null,"3"]
[null,null,null,null,null,null,null,null,"3",null,null,null,null,null,"1"]
[null,null,null,null,null,null,null,null,"1",null,null,null,null,null,"2"]
[null,null,null,null,null,null,null,null,"2",null,null,null,null,null,"3"]
[null,null,null,null,null,null,null,null,"3",null,null,null,null,null,"1"]
[null,null,null,null,null,null,null,null,"1",null,null,null,null,null,"2"]
[null,null,null,null,null,null,null,null,"2",null,null,null,null,null,"3"]
[null,null,null,null,null,null,null,null,"3",null,null,null,null,null,"1"]
[null,null,null,null,null,null,null,null,"1",null,null,null,null,null,"2"]
[null,null,null,null,null,null,null,null,"2",null,null,null,null,null,"3"]
[null,null,null,null,null,null,null,null,"3",null,null,null,null,null,"1"]
[null,null,null,null,null,null,null,null,"1",null,null,null,null,null,"2"]
[null,null,null,null,null,null,null,null,"2",null,null,null,null,null,"3"]
[null,null,null,null,null,null,null,null,"3",null,null,null,null,null,"1"]
[null,null,null,null,null,null,null,null,"1",null,null,null,null,null,"2"]
[null,null,null,null,null,null,null,null,"2",null,null,null,null,null,"3"]
[null,null,null,null,null,null,null,null,"3",null,null,null,null,null,"1"]
[null,null,null,null,null,null,null,null,"1",null,null,null,null,null,"2"]
[null,null,null,null,null,null,null,null,"2",null,null,null,null,null,"3"]
[null,null,null,null,null,null,null,null,"3",null,null,null,null,null,"1"]
[null,null,null,null,null,null,null,null,"1",null,null,null,null,null,"2"]
[null,null,null,null,null,null,null,null,"2",null,null,null,null,null,"3"]
[null,null,null,null,null,null,null,null,"3",null,null,null,null,null,"1"]
[null,null,null,null,null,null,null,null,"1",null,null,null,null,null,"2"]
[null,null,null,null,null,null,null,null,"2",null,null,null,null,null,"3"]
[null,null,null,null,null,null,null,null,"3",null,null,null,null,null,"1"]
[null,null,null,null,null,null,null,null,"1",null,null,null,null,null,"2"]
[null,null,null,null,null,null,null,null,"2",null,null,null,null,null,"3"]
[null,null,null,null,null,null,null,null,"3",null,null,null,null,null,"1"]
[null,null,null,null,null,null,null,null,"1",null,null,null,null,null,"2"]
[null,null,null,null,null,null,null,null,"2",null,null,null,null,null,"3"]
[null,null,null,null,null,null,null,null,"3",null,null,null,null,null,"1"]
[null,null,null,null,null,null,null,null,"1",null,null,null,null,null,"2"]
[null,null,null,null,null,null,null,null,"2",null,null,null,null,null,"3"]
[null,null,null,null,null,null,null,null,"3",null,null,null,null,null,"1"]
[null,{"$f":"$B$1","v":"Běh na 100m s překážkami - Startovní listina"}]
[]
[null,null,{"$f":"$C$3","v":"Kraj "},null,null,null,{"$f":"$G$3","v":"Chrast 16.6.2024"}]
[]
[null,null,{"$f":"Start!$C$5","v":"Dorky"},null,"I. pokus",null,null,null,null,null,"II. pokus"]
[null,"st.č.","Jméno","Kolektiv",1,2,3,"Čas","dr.",null,1,2,3,"Čas","dr."]
[null,null,null,null,null,null,null,null,"1",null,null,null,null,null,"2"]
[null,null,null,null,null,null,null,null,"2",null,null,null,null,null,"3"]
[null,null,null,null,null,null,null,null,"3",null,null,null,null,null,"1"]
[null,null,null,null,null,null,null,null,"1",null,null,null,null,null,"2"]
[null,null,null,null,null,null,null,null,"2",null,null,null,null,null,"3"]
[null,null,null,null,null,null,null,null,"3",null,null,null,null,null,"1"]
[null,null,null,null,null,null,null,null,"1",null,null,null,null,null,"2"]
[null,null,null,null,null,null,null,null,"2",null,null,null,null,null,"3"]
[null,null,null,null,null,null,null,null,"3",null,null,null,null,null,"1"]
[null,null,null,null,null,null,null,null,"1",null,null,null,null,null,"2"]
[null,null,null,null,null,null,null,null,"2",null,null,null,null,null,"3"]
[null,null,null,null,null,null,null,null,"3",null,null,null,null,null,"1"]
[null,null,null,null,null,null,null,null,"1",null,null,null,null,null,"2"]
[null,null,null,null,null,null,null,null,"2",null,null,null,null,null,"3"]
[null,null,null,null,null,null,null,null,"3",null,null,null,null,null,"1"]
[null,null,null,null,null,null,null,null,"1",null,null,null,null,null,"2"]
[null,null,null,null,null,null,null,null,"2",null,null,null,null,null,"3"]
[null,null,null,null,null,null,null,null,"3",null,null,null,null,null,"1"]
[null,null,null,null,null,null,null,null,"1",null,null,null,null,null,"2"]
[null,null,null,null,null,null,null,null,"2",null,null,null,null,null,"3"]
[null,null,null,null,null,null,null,null,"3",null,null,null,null,null,"1"]
[null,null,null,null,null,null,null,null,"1",null,null,null,null,null,"2"]
[null,null,null,null,null,null,null,null,"2",null,null,null,null,null,"3"]
[null,null,null,null,null,null,null,null,"3",null,null,null,null,null,"1"]
[null,null,null,null,null,null,null,null,"1",null,null,null,null,null,"2"]
[null,null,null,null,null,null,null,null,"2",null,null,null,null,null,"3"]
[null,null,null,null,null,null,null,null,"3",null,null,null,null,null,"1"]
[null,null,null,null,null,null,null,null,"1",null,null,null,null,null,"2"]
[null,null,null,null,null,null,null,null,"2",null,null,null,null,null,"3"]
[null,null,null,null,null,null,null,null,"3",null,null,null,null,null,"1"]
[null,null,null,null,null,null,null,null,"1",null,null,null,null,null,"2"]
[null,null,null,null,null,null,null,null,"2",null,null,null,null,null,"3"]
[null,null,null,null,null,null,null,null,"3",null,null,null,null,null,"1"]
[null,null,null,null,null,null,null,null,"1",null,null,null,null,null,"2"]
[null,null,null,null,null,null,null,null,"2",null,null,null,null,null,"3"]
[null,null,null,null,null,null,null,null,"3",null,null,null,null,null,"1"]
[null,{"$f":"$B$1","v":"Běh na 100m s překážkami - Startovní listina"}]
[]
[null,null,{"$f":"$C$3","v":"Kraj "},null,null,null,{"$f":"$G$3","v":"Chrast 16.6.2024"}]
[]
[null,null,{"$f":"Start!$C$5","v":"Dorky"},null,"I. pokus",null,null,null,null,null,"II. pokus"]
[null,"st.č.","Jméno","Kolektiv",1,2,3,"Čas","dr.",null,1,2,3,"Čas","dr."]
[null,null,null,null,null,null,null,null,"1",null,null,null,null,null,"2"]
[null,null,null,null,null,null,null,null,"2",null,null,null,null,null,"3"]
[null,null,null,null,null,null,null,null,"3",null,null,null,null,null,"1"]
[null,null,null,null,null,null,null,null,"1",null,null,null,null,null,"2"]
[null,null,null,null,null,null,null,null,"2",null,null,null,null,null,"3"]
[null,null,null,null,null,null,null,null,"3",null,null,null,null,null,"1"]
[null,null,null,null,null,null,null,null,"1",null,null,null,null,null,"2"]
[null,null,null,null,null,null,null,null,"2",null,null,null,null,null,"3"]
[null,null,null,null,null,null,null,null,"3",null,null,null,null,null,"1"]
[null,null,null,null,null,null,null,null,"1",null,null,null,null,null,"2"]
[null,null,null,null,null,null,null,null,"2",null,null,null,null,null,"3"]
[null,null,null,null,null,null,null,null,"3",null,null,null,null,null,"1"]
[null,null,null,null,null,null,null,null,"1",null,null,null,null,null,"2"]
[null,null,null,null,null,null,null,null,"2",null,null,null,null,null,"3"]
[null,null,null,null,null,null,null,null,"3",null,null,null,null,null,"1"]
[null,null,null,null,null,null,null,null,"1",null,null,null,null,null,"2"]
[null,null,null,null,null,null,null,null,"2",null,null,null,null,null,"3"]
[null,null,null,null,null,null,null,null,"3",null,null,null,null,null,"1"]
[null,null,null,null,null,null,null,null,"1",null,null,null,null,null,"2"]
[null,null,null,null,null,null,null,null,"2",null,null,null,null,null,"3"]
[null,null,null,null,null,null,null,null,"3",null,null,null,null,null,"1"]
[null,null,null,null,null,null,null,null,"1",null,null,null,null,null,"2"]
[null,null,null,null,null,null,null,null,"2",null,null,null,null,null,"3"]
[null,null,null,null,null,null,null,null,"3",null,null,null,null,null,"1"]
[null,null,null,null,null,null,null,null,"1",null,null,null,null,null,"2"]
[null,null,null,null,null,null,null,null,"2",null,null,null,null,null,"3"]
[null,null,null,null,null,null,null,null,"3",null,null,null,null,null,"1"]
[null,null,null,null,null,null,null,null,"1",null,null,null,null,null,"2"]
[null,null,null,null,null,null,null,null,"2",null,null,null,null,null,"3"]
[null,null,null,null,null,null,null,null,"3",null,null,null,null,null,"1"]
[null,null,null,null,null,null,null,null,"1",null,null,null,null,null,"2"]
[null,null,null,null,null,null,null,null,"2",null,null,null,null,null,"3"]
[null,null,null,null,null,null,null,null,"3",null,null,null,null,null,"1"]
[null,null,null,null,null,null,null,null,"1",null,null,null,null,null,"2"]
[null,null,null,null,null,null,null,null,"2",null,null,null,null,null,"3"]
[null,null,null,null,null,null,null,null,"3",null,null,null,null,null,"1"]
[null,{"$f":"$B$1","v":"Běh na 100m s překážkami - Startovní listina"}]
[]
[null,null,{"$f":"$C$3","v":"Kraj "},null,null,null,{"$f":"$G$3","v":"Chrast 16.6.2024"}]
[]
[null,null,{"$f":"Start!$C$5","v":"Dorky"},null,"I. pokus",null,null,null,null,null,"II. pokus"]
[null,"st.č.","Jméno","Kolektiv",1,2,3,"Čas","dr.",null,1,2,3,"Čas","dr."]
[null,null,null,null,null,null,null,null,"1",null,null,null,null,null,"2"]
[null,null,null,null,null,null,null,null,"2",null,null,null,null,null,"3"]
[null,null,null,null,null,null,null,null,"3",null,null,null,null,null,"1"]
[null,null,null,null,null,null,null,null,"1",null,null,null,null,null,"2"]
[null,null,null,null,null,null,null,null,"2",null,null,null,null,null,"3"]
[null,null,null,null,null,null,null,null,"3",null,null,null,null,null,"1"]
[null,null,null,null,null,null,null,null,"1",null,null,null,null,null,"2"]
[null,null,null,null,null,null,null,null,"2",null,null,null,null,null,"3"]
[null,null,null,null,null,null,null,null,"3",null,null,null,null,null,"1"]
[null,null,null,null,null,null,null,null,"1",null,null,null,null,null,"2"]
[null,null,null,null,null,null,null,null,"2",null,null,null,null,null,"3"]
[null,null,null,null,null,null,null,null,"3",null,null,null,null,null,"1"]
[null,null,null,null,null,null,null,null,"1",null,null,null,null,null,"2"]
[null,null,null,null,null,null,null,null,"2",null,null,null,null,null,"3"]
[null,null,null,null,null,null,null,null,"3",null,null,null,null,null,"1"]
[null,null,null,null,null,null,null,null,"1",null,null,null,null,null,"2"]
[null,null,null,null,null,null,null,null,"2",null,null,null,null,null,"3"]
[null,null,null,null,null,null,null,null,"3",null,null,null,null,null,"1"]
[null,null,null,null,null,null,null,null,"1",null,null,null,null,null,"2"]
[null,null,null,null,null,null,null,null,"2",null,null,null,null,null,"3"]
[null,null,null,null,null,null,null,null,"3",null,null,null,null,null,"1"]
[null,null,null,null,null,null,null,null,"1",null,null,null,null,null,"2"]
[null,null,null,null,null,null,null,null,"2",null,null,null,null,null,"3"]
[null,null,null,null,null,null,null,null,"3",null,null,null,null,null,"1"]
[null,null,null,null,null,null,null,null,"1",null,null,null,null,null,"2"]
[null,null,null,null,null,null,null,null,"2",null,null,null,null,null,"3"]
[null,null,null,null,null,null,null,null,"3",null,null,null,null,null,"1"]
[null,null,null,null,null,null,null,null,"1",null,null,null,null,null,"2"]
[null,null,null,null,null,null,null,null,"2",null,null,null,null,null,"3"]
[null,null,null,null,null,null,null,null,"3",null,null,null,null,null,"1"]
[null,null,null,null,null,null,null,null,"1",null,null,null,null,null,"2"]
[null,null,null,null,null,null,null,null,"2",null,null,null,null,null,"3"]
[null,null,null,null,null,null,null,null,"3",null,null,null,null,null,"1"]
[null,null,null,null,null,null,null,null,"1",null,null,null,null,null,"2"]
[null,null,null,null,null,null,null,null,"2",null,null,null,null,null,"3"]
[null,null,null,null,null,null,null,null,"3",null,null,null,null,null,"1"]
[null,{"$f":"$B$1","v":"Běh na 100m s překážkami - Startovní listina"}]
[]
[null,null,{"$f":"$C$3","v":"Kraj "},null,null,null,{"$f":"$G$3","v":"Chrast 16.6.2024"}]
[]
[null,null,{"$f":"Start!$C$5","v":"Dorky"},null,"I. pokus",null,null,null,null,null,"II. pokus"]
[null,"st.č.","Jméno","Kolektiv",1,2,3,"Čas","dr.",null,1,2,3,"Čas","dr."]
[null,null,null,null,null,null,null,null,"1",null,null,null,null,null,"2"]
[null,null,null,null,null,null,null,null,"2",null,null,null,null,null,"3"]
[null,null,null,null,null,null,null,null,"3",null,null,null,null,null,"1"]
[null,null,null,null,null,null,null,null,"1",null,null,null,null,null,"2"]
[null,null,null,null,null,null,null,null,"2",null,null,null,null,null,"3"]
[null,null,null,null,null,null,null,null,"3",null,null,null,null,null,"1"]
[null,null,null,null,null,null,null,null,"1",null,null,null,null,null,"2"]
[null,null,null,null,null,null,null,null,"2",null,null,null,null,null,"3"]
[null,null,null,null,null,null,null,null,"3",null,null,null,null,null,"1"]
[null,null,null,null,null,null,null,null,"1",null,null,null,null,null,"2"]
[null,null,null,null,null,null,null,null,"2",null,null,null,null,null,"3"]
[null,null,null,null,null,null,null,null,"3",null,null,null,null,null,"1"]
[null,null,null,null,null,null,null,null,"1",null,null,null,null,null,"2"]
[null,null,null,null,null,null,null,null,"2",null,null,null,null,null,"3"]
[null,null,null,null,null,null,null,null,"3",null,null,null,null,null,"1"]
[null,null,null,null,null,null,null,null,"1",null,null,null,null,null,"2"]
[null,null,null,null,null,null,null,null,"2",null,null,null,null,null,"3"]
[null,null,null,null,null,null,null,null,"3",null,null,null,null,null,"1"]
[null,null,null,null,null,null,null,null,"",null,null,null,null,null,""]
[null,null,null,null,null,null,null,null,"",null,null,null,null,null,""]

{"sheet":"PJ-V","index":8,"n_rows":454,"n_cols":21,"rows_kept":454,"cut":false,"hidden":false,"merged":[[2,4,2,7],[2,9,2,12],[0,1,0,14]]}
[null,"Běh na 100m s překážkami - Zadání výsledků"]
[]
[null,null,{"$f":"Start!$C$5","v":"Dorky"},null,"I.",null,null,null,null,"II."]
[null,"St.č.","Jméno","kolektiv",1,2,3,"Čas",null,1,2,3,"Čas",null,"C.",null,"P.",null,"B.",null,"X."]
[null,{"$f":"J!E1","v":1},{"$f":"IF(AND(J!A1=\"\",J!B1<>\"\"),\"NESTARTOVALO\",IF(AND(J!A1=\"\",J!B1=\"\"),\"\",J!A1))","v":"Bandžuchová Simona"},{"$f":"IF(AND(J!A1=\"\",J!B1=\"\"),\"\",J!B1)","v":"Stéblová"},19.88,null,null,{"$f":"IF($C5=\"\",\"\",IF(OR($E5=\"DNS\",$F5=\"DNS\",$G5=\"DNS\",AND($E5=\"\",$F5=\"\",$G5=\"\")),\"DNS\",IF(OR($E5=\"NP\",$F5=\"NP\",$G5=\"NP\"),\"NP\",IF(ISERROR(MEDIAN($E5:$G5)),\"DNS\",IF(OR($E5=\"X\",$F5=\"X\",$G5=\"X\",$E5=\"\",$F5=\"\",$G5=\"\",$E5=\"x\",$F5=\"x\",$G5=\"x\"),MAX($E5:$G5),MEDIAN($E5:$G5))))))","v":19.88},null,19.46,null,null,{"$f":"IF($C5=\"\",\"\",IF(OR($J5=\"DNS\",$K5=\"DNS\",$L5=\"DNS\",AND($J5=\"\",$K5=\"\",$L5=\"\")),\"DNS\",IF(OR($J5=\"NP\",$K5=\"NP\",$L5=\"NP\"),\"NP\",IF(ISERROR(MEDIAN($J5:$L5)),\"DNS\",IF(OR($J5=\"X\",$K5=\"X\",$L5=\"X\",$J5=\"\",$K5=\"\",$L5=\"\",$J5=\"x\",$K5=\"x\",$L5=\"x\"),MAX($J5:$L5),MEDIAN($J5:$L5))))))","v":19.46},null,{"$f":"IF(C5=\"\",\"\",IF(OR(AND(H5=\"NP\",M5=\"NP\"),AND(H5=\"DNS\",M5=\"DNS\")),H5,IF(AND(H5=\"NP\",M5=\"DNS\"),H5,IF(AND(H5=\"DNS\",M5=\"NP\"),M5,MIN(H5,M5)))))","v":19.46},null,{"$f":"IF(C5=\"\",\"\",IF(OR(O5=\"NP\",O5=\"DNS\"),O5,RANK(O5,O$5:O$179,1)))","v":4},null,{"$f":"IF(C5=\"\",\"\",IF(O5=\"NP\",MAX(Q$5:Q$179)+1,IF(O5=\"DNS\",MAX(Q$5:Q$179)+COUNTIF(Q$5:Q$179,\"NP\")+1,RANK(O5,O$5:O$179,1))))","v":4},null,{"$f":"IF($C5=\"\",9000,MAX(H5,M5)+(COUNTIF($H5:$H5,\"NP\")*600)+(COUNTIF($M5:$M5,\"NP\")*600)+(COUNTIF($H5:$H5,\"DNS\")*3600)+(COUNTIF($M5:$M5,\"DNS\")*3600))","v":19.88}]
[null,{"$f":"J!E2","v":2},{"$f":"IF(AND(J!A2=\"\",J!B2<>\"\"),\"NESTARTOVALO\",IF(AND(J!A2=\"\",J!B2=\"\"),\"\",J!A2))","v":"Simona Škopová"},{"$f":"IF(AND(J!A2=\"\",J!B2=\"\"),\"\",J!B2)","v":"Lukavice"},21.1,null,null,21.1,null,23.21,null,null,23.21,null,21.1,null,17,null,17,null,23.21]
[null,{"$f":"J!E3","v":3},{"$f":"IF(AND(J!A3=\"\",J!B3<>\"\"),\"NESTARTOVALO\",IF(AND(J!A3=\"\",J!B3=\"\"),\"\",J!A3))","v":"Bubeníčková Denisa"},{"$f":"IF(AND(J!A3=\"\",J!B3=\"\"),\"\",J!B3)","v":"Skuteč"},26.03,null,null,26.03,null,19.899999999999999,null,null,19.899999999999999,null,19.899999999999999,null,8,null,8,null,26.03]
[null,{"$f":"J!E4","v":4},{"$f":"IF(AND(J!A4=\"\",J!B4<>\"\"),\"NESTARTOVALO\",IF(AND(J!A4=\"\",J!B4=\"\"),\"\",J!A4))","v":"Faltysová Tereza"},{"$f":"IF(AND(J!A4=\"\",J!B4=\"\"),\"\",J!B4)","v":"Desná"},19.54,null,null,19.54,null,19.37,null,null,19.37,null,19.37,null,3,null,3,null,19.54]
[null,{"$f":"J!E5","v":5},{"$f":"IF(AND(J!A5=\"\",J!B5<>\"\"),\"NESTARTOVALO\",IF(AND(J!A5=\"\",J!B5=\"\"),\"\",J!A5))","v":"Janáčková Michaela"},{"$f":"IF(AND(J!A5=\"\",J!B5=\"\"),\"\",J!B5)","v":"Stéblová"},19.809999999999999,null,null,19.809999999999999,null,19.47,"NP",null,"NP",null,19.809999999999999,null,7,null,7,null,619.80999999999995]
[null,{"$f":"J!E6","v":6},{"$f":"IF(AND(J!A6=\"\",J!B6<>\"\"),\"NESTARTOVALO\",IF(AND(J!A6=\"\",J!B6=\"\"),\"\",J!A6))","v":"Veronika Macháčková"},{"$f":"IF(AND(J!A6=\"\",J!B6=\"\"),\"\",J!B6)","v":"Lukavice"},22.97,null,null,22.97,null,"NP",null,null,"NP",null,22.97,null,25,null,25,null,622.97]
[null,{"$f":"J!E7","v":7},{"$f":"IF(AND(J!A7=\"\",J!B7<>\"\"),\"NESTARTOVALO\",IF(AND(J!A7=\"\",J!B7=\"\"),\"\",J!A7))","v":"Pohnerová Nikol"},{"$f":"IF(AND(J!A7=\"\",J!B7=\"\"),\"\",J!B7)","v":"Skuteč"},19.579999999999998,null,null,19.579999999999998,null,19.71,null,null,19.71,null,19.579999999999998,null,6,null,6,null,19.71]
[null,{"$f":"J!E8","v":8},{"$f":"IF(AND(J!A8=\"\",J!B8<>\"\"),\"NESTARTOVALO\",IF(AND(J!A8=\"\",J!B8=\"\"),\"\",J!A8))","v":"Mičíková Nikola"},{"$f":"IF(AND(J!A8=\"\",J!B8=\"\"),\"\",J!B8)","v":"Desná"},22.76,null,null,22.76,null,23.4,null,null,23.4,null,22.76,null,24,null,24,null,23.4]
[null,{"$f":"J!E9","v":9},{"$f":"IF(AND(J!A9=\"\",J!B9<>\"\"),\"NESTARTOVALO\",IF(AND(J!A9=\"\",J!B9=\"\"),\"\",J!A9))","v":"Nemcová Denisa Ella"},{"$f":"IF(AND(J!A9=\"\",J!B9=\"\"),\"\",J!B9)","v":"Stéblová"},19.55,null,null,19.55,null,20.59,null,null,20.59,null,19.55,null,5,null,5,null,20.59]
[null,{"$f":"J!E10","v":10},{"$f":"IF(AND(J!A10=\"\",J!B10<>\"\"),\"NESTARTOVALO\",IF(AND(J!A10=\"\",J!B10=\"\"),\"\",J!A10))","v":"Nela Hrušová"},{"$f":"IF(AND(J!A10=\"\",J!B10=\"\"),\"\",J!B10)","v":"Lukavice"},20.62,null,null,20.62,null,20.83,"Np",null,"NP",null,20.62,null,13,null,13,null,620.62]
[null,{"$f":"J!E11","v":11},{"$f":"IF(AND(J!A11=\"\",J!B11<>\"\"),\"NESTARTOVALO\",IF(AND(J!A11=\"\",J!B11=\"\"),\"\",J!A11))","v":"Slezáková Nela"},{"$f":"IF(AND(J!A11=\"\",J!B11=\"\"),\"\",J!B11)","v":"Skuteč"},19.02,null,null,19.02,null,19.14,null,null,19.14,null,19.02,null,1,null,1,null,19.14]
[null,{"$f":"J!E12","v":12},{"$f":"IF(AND(J!A12=\"\",J!B12<>\"\"),\"NESTARTOVALO\",IF(AND(J!A12=\"\",J!B12=\"\"),\"\",J!A12))","v":"Ševčíková Veronika"},{"$f":"IF(AND(J!A12=\"\",J!B12=\"\"),\"\",J!B12)","v":"Desná"},26.73,null,null,26.73,null,25.05,null,null,25.05,null,25.05,null,26,null,26,null,26.73]
[null,{"$f":"J!E13","v":13},{"$f":"IF(AND(J!A13=\"\",J!B13<>\"\"),\"NESTARTOVALO\",IF(AND(J!A13=\"\",J!B13=\"\"),\"\",J!A13))","v":"Bandžuchová Zuzana"},{"$f":"IF(AND(J!A13=\"\",J!B13=\"\"),\"\",J!B13)","v":"Stéblová"},20.5,null,null,20.5,null,24.95,null,null,24.95,null,20.5,null,12,null,12,null,24.95]
[null,{"$f":"J!E14","v":14},{"$f":"IF(AND(J!A14=\"\",J!B14<>\"\"),\"NESTARTOVALO\",IF(AND(J!A14=\"\",J!B14=\"\"),\"\",J!A14))","v":"Adéla Hrušová"},{"$f":"IF(AND(J!A14=\"\",J!B14=\"\"),\"\",J!B14)","v":"Lukavice"},20.329999999999998,null,null,20.329999999999998,null,20.23,null,null,20.23,null,20.23,null,10,null,10,null,20.329999999999998]
[null,{"$f":"J!E15","v":15},{"$f":"IF(AND(J!A15=\"\",J!B15<>\"\"),\"NESTARTOVALO\",IF(AND(J!A15=\"\",J!B15=\"\"),\"\",J!A15))","v":"Nováková Denisa"},{"$f":"IF(AND(J!A15=\"\",J!B15=\"\"),\"\",J!B15)","v":"Skuteč"},19.34,null,null,19.34,null,23.27,null,null,23.27,null,19.34,null,2,null,2,null,23.27]
[null,{"$f":"J!E16","v":16},{"$f":"IF(AND(J!A16=\"\",J!B16<>\"\"),\"NESTARTOVALO\",IF(AND(J!A16=\"\",J!B16=\"\"),\"\",J!A16))","v":"Doležalová Klára"},{"$f":"IF(AND(J!A16=\"\",J!B16=\"\"),\"\",J!B16)","v":"Desná"},"NP",null,null,"NP",null,25.42,null,null,25.42,null,25.42,null,27,null,27,null,625.41999999999996]
[null,{"$f":"J!E17","v":17},{"$f":"IF(AND(J!A17=\"\",J!B17<>\"\"),\"NESTARTOVALO\",IF(AND(J!A17=\"\",J!B17=\"\"),\"\",J!A17))","v":"Baťová Adéla"},{"$f":"IF(AND(J!A17=\"\",J!B17=\"\"),\"\",J!B17)","v":"Stéblová"},21.71,null,null,21.71,null,21.58,null,null,21.58,null,21.58,null,21,null,21,null,21.71]
[null,{"$f":"J!E18","v":18},{"$f":"IF(AND(J!A18=\"\",J!B18<>\"\"),\"NESTARTOVALO\",IF(AND(J!A18=\"\",J!B18=\"\"),\"\",J!A18))","v":"Kamila Halbrštátová"},{"$f":"IF(AND(J!A18=\"\",J!B18=\"\"),\"\",J!B18)","v":"Lukavice"},21.29,null,null,21.29,null,20.78,null,null,20.78,null,20.78,null,14,null,14,null,21.29]
[null,{"$f":"J!E19","v":19},{"$f":"IF(AND(J!A19=\"\",J!B19<>\"\"),\"NESTARTOVALO\",IF(AND(J!A19=\"\",J!B19=\"\"),\"\",J!A19))","v":"Zavoralová Aneta"},{"$f":"IF(AND(J!A19=\"\",J!B19=\"\"),\"\",J!B19)","v":"Skuteč"},20.43,null,null,20.43,null,20.100000000000001,null,null,20.100000000000001,null,20.100000000000001,null,9,null,9,null,20.43]
[null,{"$f":"J!E20","v":20},{"$f":"IF(AND(J!A20=\"\",J!B20<>\"\"),\"NESTARTOVALO\",IF(AND(J!A20=\"\",J!B20=\"\"),\"\",J!A20))","v":"Prokopová Magdaléna"},{"$f":"IF(AND(J!A20=\"\",J!B20=\"\"),\"\",J!B20)","v":"Desná"},21.68,null,null,21.68,null,21.21,null,null,21.21,null,21.21,null,19,null,19,null,21.68]
[null,{"$f":"J!E21","v":21},{"$f":"IF(AND(J!A21=\"\",J!B21<>\"\"),\"NESTARTOVALO\",IF(AND(J!A21=\"\",J!B21=\"\"),\"\",J!A21))","v":"Černohubá Tereza"},{"$f":"IF(AND(J!A21=\"\",J!B21=\"\"),\"\",J!B21)","v":"Stéblová"},22.2,null,null,22.2,null,23.25,null,null,23.25,null,22.2,null,22,null,22,null,23.25]
[null,{"$f":"J!E22","v":22},{"$f":"IF(AND(J!A22=\"\",J!B22<>\"\"),\"NESTARTOVALO\",IF(AND(J!A22=\"\",J!B22=\"\"),\"\",J!A22))","v":"Denisa Boháčová"},{"$f":"IF(AND(J!A22=\"\",J!B22=\"\"),\"\",J!B22)","v":"Lukavice"},21.37,null,null,21.37,null,21.24,null,null,21.24,null,21.24,null,20,null,20,null,21.37]
[null,{"$f":"J!E23","v":23},{"$f":"IF(AND(J!A23=\"\",J!B23<>\"\"),\"NESTARTOVALO\",IF(AND(J!A23=\"\",J!B23=\"\"),\"\",J!A23))","v":"Valíková Veronika"},{"$f":"IF(AND(J!A23=\"\",J!B23=\"\"),\"\",J!B23)","v":"Skuteč"},20.38,null,null,20.38,null,"NP",null,null,"NP",null,20.38,null,11,null,11,null,620.38]
[null,{"$f":"J!E24","v":24},{"$f":"IF(AND(J!A24=\"\",J!B24<>\"\"),\"NESTARTOVALO\",IF(AND(J!A24=\"\",J!B24=\"\"),\"\",J!A24))","v":"Jůzová Nela"},{"$f":"IF(AND(J!A24=\"\",J!B24=\"\"),\"\",J!B24)","v":"Desná"},21.14,null,null,21.14,null,25.6,null,null,25.6,null,21.14,null,18,null,18,null,25.6]
[null,{"$f":"J!E25","v":25},{"$f":"IF(AND(J!A25=\"\",J!B25<>\"\"),\"NESTARTOVALO\",IF(AND(J!A25=\"\",J!B25=\"\"),\"\",J!A25))","v":"Zelingerová Aneta"},{"$f":"IF(AND(J!A25=\"\",J!B25=\"\"),\"\",J!B25)","v":"Stéblová"},22.55,null,null,22.55,null,"NP",null,null,"NP",null,22.55,null,23,null,23,null,622.54999999999995]
[null,{"$f":"J!E26","v":26},{"$f":"IF(AND(J!A26=\"\",J!B26<>\"\"),\"NESTARTOVALO\",IF(AND(J!A26=\"\",J!B26=\"\"),\"\",J!A26))","v":"Lucie Hotmarová"},{"$f":"IF(AND(J!A26=\"\",J!B26=\"\"),\"\",J!B26)","v":"Lukavice"},28.43,null,null,28.43,null,27.63,null,null,27.63,null,27.63,null,28,null,28,null,28.43]
[null,{"$f":"J!E27","v":27},{"$f":"IF(AND(J!A27=\"\",J!B27<>\"\"),\"NESTARTOVALO\",IF(AND(J!A27=\"\",J!B27=\"\"),\"\",J!A27))","v":"Marboe Anita"},{"$f":"IF(AND(J!A27=\"\",J!B27=\"\"),\"\",J!B27)","v":"Skuteč"},21.5,null,null,21.5,null,21.05,null,null,21.05,null,21.05,null,16,null,16,null,21.5]
[null,{"$f":"J!E28","v":28},{"$f":"IF(AND(J!A28=\"\",J!B28<>\"\"),\"NESTARTOVALO\",IF(AND(J!A28=\"\",J!B28=\"\"),\"\",J!A28))","v":"Andrlová Eliška"},{"$f":"IF(AND(J!A28=\"\",J!B28=\"\"),\"\",J!B28)","v":"Desná"},21.14,null,null,21.14,null,20.89,null,null,20.89,null,20.89,null,15,null,15,null,21.14]
[null,{"$f":"J!E29","v":29},{"$f":"IF(AND(J!A29=\"\",J!B29<>\"\"),\"NESTARTOVALO\",IF(AND(J!A29=\"\",J!B29=\"\"),\"\",J!A29))","v":""},{"$f":"IF(AND(J!A29=\"\",J!B29=\"\"),\"\",J!B29)","v":""},null,null,null,"",null,null,null,null,"",null,"",null,"",null,"",null,9000]
[null,{"$f":"J!E30","v":30},{"$f":"IF(AND(J!A30=\"\",J!B30<>\"\"),\"NESTARTOVALO\",IF(AND(J!A30=\"\",J!B30=\"\"),\"\",J!A30))","v":""},{"$f":"IF(AND(J!A30=\"\",J!B30=\"\"),\"\",J!B30)","v":""},null,null,null,"",null,null,null,null,"",null,"",null,"",null,"",null,9000]
[null,{"$f":"J!E31","v":31},{"$f":"IF(AND(J!A31=\"\",J!B31<>\"\"),\"NESTARTOVALO\",IF(AND(J!A31=\"\",J!B31=\"\"),\"\",J!A31))","v":""},{"$f":"IF(AND(J!A31=\"\",J!B31=\"\"),\"\",J!B31)","v":""},null,null,null,"",null,null,null,null,"",null,"",null,"",null,"",null,9000]
[null,{"$f":"J!E32","v":32},{"$f":"IF(AND(J!A32=\"\",J!B32<>\"\"),\"NESTARTOVALO\",IF(AND(J!A32=\"\",J!B32=\"\"),\"\",J!A32))","v":""},{"$f":"IF(AND(J!A32=\"\",J!B32=\"\"),\"\",J!B32)","v":""},null,null,null,"",null,null,null,null,"",null,"",null,"",null,"",null,9000]
[null,{"$f":"J!E33","v":33},{"$f":"IF(AND(J!A33=\"\",J!B33<>\"\"),\"NESTARTOVALO\",IF(AND(J!A33=\"\",J!B33=\"\"),\"\",J!A33))","v":""},{"$f":"IF(AND(J!A33=\"\",J!B33=\"\"),\"\",J!B33)","v":""},null,null,null,"",null,null,null,null,"",null,"",null,"",null,"",null,9000]
[null,{"$f":"J!E34","v":34},{"$f":"IF(AND(J!A34=\"\",J!B34<>\"\"),\"NESTARTOVALO\",IF(AND(J!A34=\"\",J!B34=\"\"),\"\",J!A34))","v":""},{"$f":"IF(AND(J!A34=\"\",J!B34=\"\"),\"\",J!B34)","v":""},null,null,null,"",null,null,null,null,"",null,"",null,"",null,"",null,9000]
[null,{"$f":"J!E35","v":35},{"$f":"IF(AND(J!A35=\"\",J!B35<>\"\"),\"NESTARTOVALO\",IF(AND(J!A35=\"\",J!B35=\"\"),\"\",J!A35))","v":""},{"$f":"IF(AND(J!A35=\"\",J!B35=\"\"),\"\",J!B35)","v":""},null,null,null,"",null,null,null,null,"",null,"",null,"",null,"",null,9000]
[null,{"$f":"J!E36","v":36},{"$f":"IF(AND(J!A36=\"\",J!B36<>\"\"),\"NESTARTOVALO\",IF(AND(J!A36=\"\",J!B36=\"\"),\"\",J!A36))","v":""},{"$f":"IF(AND(J!A36=\"\",J!B36=\"\"),\"\",J!B36)","v":""},null,null,null,"",null,null,null,null,"",null,"",null,"",null,"",null,9000]
[null,{"$f":"J!E37","v":37},{"$f":"IF(AND(J!A37=\"\",J!B37<>\"\"),\"NESTARTOVALO\",IF(AND(J!A37=\"\",J!B37=\"\"),\"\",J!A37))","v":""},{"$f":"IF(AND(J!A37=\"\",J!B37=\"\"),\"\",J!B37)","v":""},null,null,null,"",null,null,null,null,"",null,"",null,"",null,"",null,9000]
[null,{"$f":"J!E38","v":38},{"$f":"IF(AND(J!A38=\"\",J!B38<>\"\"),\"NESTARTOVALO\",IF(AND(J!A38=\"\",J!B38=\"\"),\"\",J!A38))","v":""},{"$f":"IF(AND(J!A38=\"\",J!B38=\"\"),\"\",J!B38)","v":""},null,null,null,"",null,null,null,null,"",null,"",null,"",null,"",null,9000]
[null,{"$f":"J!E39","v":39},{"$f":"IF(AND(J!A39=\"\",J!B39<>\"\"),\"NESTARTOVALO\",IF(AND(J!A39=\"\",J!B39=\"\"),\"\",J!A39))","v":""},{"$f":"IF(AND(J!A39=\"\",J!B39=\"\"),\"\",J!B39)","v":""},null,null,null,"",null,null,null,null,"",null,"",null,"",null,"",null,9000]
[null,{"$f":"J!E40","v":40},{"$f":"IF(AND(J!A40=\"\",J!B40<>\"\"),\"NESTARTOVALO\",IF(AND(J!A40=\"\",J!B40=\"\"),\"\",J!A40))","v":""},{"$f":"IF(AND(J!A40=\"\",J!B40=\"\"),\"\",J!B40)","v":""},null,null,null,"",null,null,null,null,"",null,"",null,"",null,"",null,9000]
[null,{"$f":"J!E41","v":41},{"$f":"IF(AND(J!A41=\"\",J!B41<>\"\"),\"NESTARTOVALO\",IF(AND(J!A41=\"\",J!B41=\"\"),\"\",J!A41))","v":""},{"$f":"IF(AND(J!A41=\"\",J!B41=\"\"),\"\",J!B41)","v":""},null,null,null,"",null,null,null,null,"",null,"",null,"",null,"",null,9000]
[null,{"$f":"J!E42","v":42},{"$f":"IF(AND(J!A42=\"\",J!B42<>\"\"),\"NESTARTOVALO\",IF(AND(J!A42=\"\",J!B42=\"\"),\"\",J!A42))","v":""},{"$f":"IF(AND(J!A42=\"\",J!B42=\"\"),\"\",J!B42)","v":""},null,null,null,"",null,null,null,null,"",null,"",null,"",null,"",null,9000]
[null,{"$f":"J!E43","v":43},{"$f":"IF(AND(J!A43=\"\",J!B43<>\"\"),\"NESTARTOVALO\",IF(AND(J!A43=\"\",J!B43=\"\"),\"\",J!A43))","v":""},{"$f":"IF(AND(J!A43=\"\",J!B43=\"\"),\"\",J!B43)","v":""},null,null,null,"",null,null,null,null,"",null,"",null,"",null,"",null,9000]
[null,{"$f":"J!E44","v":44},{"$f":"IF(AND(J!A44=\"\",J!B44<>\"\"),\"NESTARTOVALO\",IF(AND(J!A44=\"\",J!B44=\"\"),\"\",J!A44))","v":""},{"$f":"IF(AND(J!A44=\"\",J!B44=\"\"),\"\",J!B44)","v":""},null,null,null,"",null,null,null,null,"",null,"",null,"",null,"",null,9000]
[null,{"$f":"J!E45","v":45},{"$f":"IF(AND(J!A45=\"\",J!B45<>\"\"),\"NESTARTOVALO\",IF(AND(J!A45=\"\",J!B45=\"\"),\"\",J!A45))","v":""},{"$f":"IF(AND(J!A45=\"\",J!B45=\"\"),\"\",J!B45)","v":""},null,null,null,"",null,null,null,null,"",null,"",null,"",null,"",null,9000]
[null,{"$f":"J!E46","v":46},{"$f":"IF(AND(J!A46=\"\",J!B46<>\"\"),\"NESTARTOVALO\",IF(AND(J!A46=\"\",J!B46=\"\"),\"\",J!A46))","v":""},{"$f":"IF(AND(J!A46=\"\",J!B46=\"\"),\"\",J!B46)","v":""},null,null,null,"",null,null,null,null,"",null,"",null,"",null,"",null,9000]
[null,{"$f":"J!E47","v":47},{"$f":"IF(AND(J!A47=\"\",J!B47<>\"\"),\"NESTARTOVALO\",IF(AND(J!A47=\"\",J!B47=\"\"),\"\",J!A47))","v":""},{"$f":"IF(AND(J!A47=\"\",J!B47=\"\"),\"\",J!B47)","v":""},null,null,null,"",null,null,null,null,"",null,"",null,"",null,"",null,9000]
[null,{"$f":"J!E48","v":48},{"$f":"IF(AND(J!A48=\"\",J!B48<>\"\"),\"NESTARTOVALO\",IF(AND(J!A48=\"\",J!B48=\"\"),\"\",J!A48))","v":""},{"$f":"IF(AND(J!A48=\"\",J!B48=\"\"),\"\",J!B48)","v":""},null,null,null,"",null,null,null,null,"",null,"",null,"",null,"",null,9000]
[null,{"$f":"J!E49","v":49},{"$f":"IF(AND(J!A49=\"\",J!B49<>\"\"),\"NESTARTOVALO\",IF(AND(J!A49=\"\",J!B49=\"\"),\"\",J!A49))","v":""},{"$f":"IF(AND(J!A49=\"\",J!B49=\"\"),\"\",J!B49)","v":""},null,null,null,"",null,null,null,null,"",null,"",null,"",null,"",null,9000]
[null,{"$f":"J!E50","v":50},{"$f":"IF(AND(J!A50=\"\",J!B50<>\"\"),\"NESTARTOVALO\",IF(AND(J!A50=\"\",J!B50=\"\"),\"\",J!A50))","v":""},{"$f":"IF(AND(J!A50=\"\",J!B50=\"\"),\"\",J!B50)","v":""},null,null,null,"",null,null,null,null,"",null,"",null,"",null,"",null,9000]
[null,{"$f":"J!E51","v":51},{"$f":"IF(AND(J!A51=\"\",J!B51<>\"\"),\"NESTARTOVALO\",IF(AND(J!A51=\"\",J!B51=\"\"),\"\",J!A51))","v":""},{"$f":"IF(AND(J!A51=\"\",J!B51=\"\"),\"\",J!B51)","v":""},null,null,null,"",null,null,null,null,"",null,"",null,"",null,"",null,9000]
[null,{"$f":"J!E52","v":52},{"$f":"IF(AND(J!A52=\"\",J!B52<>\"\"),\"NESTARTOVALO\",IF(AND(J!A52=\"\",J!B52=\"\"),\"\",J!A52))","v":""},{"$f":"IF(AND(J!A52=\"\",J!B52=\"\"),\"\",J!B52)","v":""},null,null,null,"",null,null,null,null,"",null,"",null,"",null,"",null,9000]
[null,{"$f":"J!E53","v":53},{"$f":"IF(AND(J!A53=\"\",J!B53<>\"\"),\"NESTARTOVALO\",IF(AND(J!A53=\"\",J!B53=\"\"),\"\",J!A53))","v":""},{"$f":"IF(AND(J!A53=\"\",J!B53=\"\"),\"\",J!B53)","v":""},null,null,null,"",null,null,null,null,"",null,"",null,"",null,"",null,9000]
[null,{"$f":"J!E54","v":54},{"$f":"IF(AND(J!A54=\"\",J!B54<>\"\"),\"NESTARTOVALO\",IF(AND(J!A54=\"\",J!B54=\"\"),\"\",J!A54))","v":""},{"$f":"IF(AND(J!A54=\"\",J!B54=\"\"),\"\",J!B54)","v":""},null,null,null,"",null,null,null,null,"",null,"",null,"",null,"",null,9000]
[null,{"$f":"J!E55","v":55},{"$f":"IF(AND(J!A55=\"\",J!B55<>\"\"),\"NESTARTOVALO\",IF(AND(J!A55=\"\",J!B55=\"\"),\"\",J!A55))","v":""},{"$f":"IF(AND(J!A55=\"\",J!B55=\"\"),\"\",J!B55)","v":""},null,null,null,"",null,null,null,null,"",null,"",null,"",null,"",null,9000]
[null,{"$f":"J!E56","v":56},{"$f":"IF(AND(J!A56=\"\",J!B56<>\"\"),\"NESTARTOVALO\",IF(AND(J!A56=\"\",J!B56=\"\"),\"\",J!A56))","v":""},{"$f":"IF(AND(J!A56=\"\",J!B56=\"\"),\"\",J!B56)","v":""},null,null,null,"",null,null,null,null,"",null,"",null,"",null,"",null,9000]
[null,{"$f":"J!E57","v":57},{"$f":"IF(AND(J!A57=\"\",J!B57<>\"\"),\"NESTARTOVALO\",IF(AND(J!A57=\"\",J!B57=\"\"),\"\",J!A57))","v":""},{"$f":"IF(AND(J!A57=\"\",J!B57=\"\"),\"\",J!B57)","v":""},null,null,null,"",null,null,null,null,"",null,"",null,"",null,"",null,9000]
[null,{"$f":"J!E58","v":58},{"$f":"IF(AND(J!A58=\"\",J!B58<>\"\"),\"NESTARTOVALO\",IF(AND(J!A58=\"\",J!B58=\"\"),\"\",J!A58))","v":""},{"$f":"IF(AND(J!A58=\"\",J!B58=\"\"),\"\",J!B58)","v":""},null,null,null,"",null,null,null,null,"",null,"",null,"",null,"",null,9000]
[null,{"$f":"J!E59","v":59},{"$f":"IF(AND(J!A59=\"\",J!B59<>\"\"),\"NESTARTOVALO\",IF(AND(J!A59=\"\",J!B59=\"\"),\"\",J!A59))","v":""},{"$f":"IF(AND(J!A59=\"\",J!B59=\"\"),\"\",J!B59)","v":""},null,null,null,"",null,null,null,null,"",null,"",null,"",null,"",null,9000]
[null,{"$f":"J!E60","v":60},{"$f":"IF(AND(J!A60=\"\",J!B60<>\"\"),\"NESTARTOVALO\",IF(AND(J!A60=\"\",J!B60=\"\"),\"\",J!A60))","v":""},{"$f":"IF(AND(J!A60=\"\",J!B60=\"\"),\"\",J!B60)","v":""},null,null,null,"",null,null,null,null,"",null,"",null,"",null,"",null,9000]
[null,{"$f":"J!E61","v":61},{"$f":"IF(AND(J!A61=\"\",J!B61<>\"\"),\"NESTARTOVALO\",IF(AND(J!A61=\"\",J!B61=\"\"),\"\",J!A61))","v":""},{"$f":"IF(AND(J!A61=\"\",J!B61=\"\"),\"\",J!B61)","v":""},null,null,null,"",null,null,null,null,"",null,"",null,"",null,"",null,9000]
[null,{"$f":"J!E62","v":62},{"$f":"IF(AND(J!A62=\"\",J!B62<>\"\"),\"NESTARTOVALO\",IF(AND(J!A62=\"\",J!B62=\"\"),\"\",J!A62))","v":""},{"$f":"IF(AND(J!A62=\"\",J!B62=\"\"),\"\",J!B62)","v":""},null,null,null,"",null,null,null,null,"",null,"",null,"",null,"",null,9000]
[null,{"$f":"J!E63","v":63},{"$f":"IF(AND(J!A63=\"\",J!B63<>\"\"),\"NESTARTOVALO\",IF(AND(J!A63=\"\",J!B63=\"\"),\"\",J!A63))","v":""},{"$f":"IF(AND(J!A63=\"\",J!B63=\"\"),\"\",J!B63)","v":""},null,null,null,"",null,null,null,null,"",null,"",null,"",null,"",null,9000]
[null,{"$f":"J!E64","v":64},{"$f":"IF(AND(J!A64=\"\",J!B64<>\"\"),\"NESTARTOVALO\",IF(AND(J!A64=\"\",J!B64=\"\"),\"\",J!A64))","v":""},{"$f":"IF(AND(J!A64=\"\",J!B64=\"\"),\"\",J!B64)","v":""},null,null,null,"",null,null,null,null,"",null,"",null,"",null,"",null,9000]
[null,{"$f":"J!E65","v":65},{"$f":"IF(AND(J!A65=\"\",J!B65<>\"\"),\"NESTARTOVALO\",IF(AND(J!A65=\"\",J!B65=\"\"),\"\",J!A65))","v":""},{"$f":"IF(AND(J!A65=\"\",J!B65=\"\"),\"\",J!B65)","v":""},null,null,null,{"$f":"IF($C69=\"\",\"\",IF(OR($E69=\"DNS\",$F69=\"DNS\",$G69=\"DNS\",AND($E69=\"\",$F69=\"\",$G69=\"\")),\"DNS\",IF(OR($E69=\"NP\",$F69=\"NP\",$G69=\"NP\"),\"NP\",IF(ISERROR(MEDIAN($E69:$G69)),\"DNS\",IF(OR($E69=\"X\",$F69=\"X\",$G69=\"X\",$E69=\"\",$F69=\"\",$G69=\"\",$E69=\"x\",$F69=\"x\",$G69=\"x\"),MAX($E69:$G69),MEDIAN($E69:$G69))))))","v":""},null,null,null,null,{"$f":"IF($C69=\"\",\"\",IF(OR($J69=\"DNS\",$K69=\"DNS\",$L69=\"DNS\",AND($J69=\"\",$K69=\"\",$L69=\"\")),\"DNS\",IF(OR($J69=\"NP\",$K69=\"NP\",$L69=\"NP\"),\"NP\",IF(ISERROR(MEDIAN($J69:$L69)),\"DNS\",IF(OR($J69=\"X\",$K69=\"X\",$L69=\"X\",$J69=\"\",$K69=\"\",$L69=\"\",$J69=\"x\",$K69=\"x\",$L69=\"x\"),MAX($J69:$L69),MEDIAN($J69:$L69))))))","v":""},null,{"$f":"IF(C69=\"\",\"\",IF(OR(AND(H69=\"NP\",M69=\"NP\"),AND(H69=\"DNS\",M69=\"DNS\")),H69,IF(AND(H69=\"NP\",M69=\"DNS\"),H69,IF(AND(H69=\"DNS\",M69=\"NP\"),M69,MIN(H69,M69)))))","v":""},null,{"$f":"IF(C69=\"\",\"\",IF(OR(O69=\"NP\",O69=\"DNS\"),O69,RANK(O69,O$5:O$179,1)))","v":""},null,{"$f":"IF(C69=\"\",\"\",IF(O69=\"NP\",MAX(Q$5:Q$179)+1,IF(O69=\"DNS\",MAX(Q$5:Q$179)+COUNTIF(Q$5:Q$179,\"NP\")+1,RANK(O69,O$5:O$179,1))))","v":""},null,{"$f":"IF($C69=\"\",9000,MAX(H69,M69)+(COUNTIF($H69:$H69,\"NP\")*600)+(COUNTIF($M69:$M69,\"NP\")*600)+(COUNTIF($H69:$H69,\"DNS\")*3600)+(COUNTIF($M69:$M69,\"DNS\")*3600))","v":9000}]
[null,{"$f":"J!E66","v":66},{"$f":"IF(AND(J!A66=\"\",J!B66<>\"\"),\"NESTARTOVALO\",IF(AND(J!A66=\"\",J!B66=\"\"),\"\",J!A66))","v":""},{"$f":"IF(AND(J!A66=\"\",J!B66=\"\"),\"\",J!B66)","v":""},null,null,null,"",null,null,null,null,"",null,"",null,"",null,"",null,9000]
[null,{"$f":"J!E67","v":67},{"$f":"IF(AND(J!A67=\"\",J!B67<>\"\"),\"NESTARTOVALO\",IF(AND(J!A67=\"\",J!B67=\"\"),\"\",J!A67))","v":""},{"$f":"IF(AND(J!A67=\"\",J!B67=\"\"),\"\",J!B67)","v":""},null,null,null,"",null,null,null,null,"",null,"",null,"",null,"",null,9000]
[null,{"$f":"J!E68","v":68},{"$f":"IF(AND(J!A68=\"\",J!B68<>\"\"),\"NESTARTOVALO\",IF(AND(J!A68=\"\",J!B68=\"\"),\"\",J!A68))","v":""},{"$f":"IF(AND(J!A68=\"\",J!B68=\"\"),\"\",J!B68)","v":""},null,null,null,"",null,null,null,null,"",null,"",null,"",null,"",null,9000]
[null,{"$f":"J!E69","v":69},{"$f":"IF(AND(J!A69=\"\",J!B69<>\"\"),\"NESTARTOVALO\",IF(AND(J!A69=\"\",J!B69=\"\"),\"\",J!A69))","v":""},{"$f":"IF(AND(J!A69=\"\",J!B69=\"\"),\"\",J!B69)","v":""},null,null,null,"",null,null,null,null,"",null,"",null,"",null,"",null,9000]
[null,{"$f":"J!E70","v":70},{"$f":"IF(AND(J!A70=\"\",J!B70<>\"\"),\"NESTARTOVALO\",IF(AND(J!A70=\"\",J!B70=\"\"),\"\",J!A70))","v":""},{"$f":"IF(AND(J!A70=\"\",J!B70=\"\"),\"\",J!B70)","v":""},null,null,null,"",null,null,null,null,"",null,"",null,"",null,"",null,9000]
[null,{"$f":"J!E71","v":71},{"$f":"IF(AND(J!A71=\"\",J!B71<>\"\"),\"NESTARTOVALO\",IF(AND(J!A71=\"\",J!B71=\"\"),\"\",J!A71))","v":""},{"$f":"IF(AND(J!A71=\"\",J!B71=\"\"),\"\",J!B71)","v":""},null,null,null,"",null,null,null,null,"",null,"",null,"",null,"",null,9000]
[null,{"$f":"J!E72","v":72},{"$f":"IF(AND(J!A72=\"\",J!B72<>\"\"),\"NESTARTOVALO\",IF(AND(J!A72=\"\",J!B72=\"\"),\"\",J!A72))","v":""},{"$f":"IF(AND(J!A72=\"\",J!B72=\"\"),\"\",J!B72)","v":""},null,null,null,"",null,null,null,null,"",null,"",null,"",null,"",null,9000]
[null,{"$f":"J!E73","v":73},{"$f":"IF(AND(J!A73=\"\",J!B73<>\"\"),\"NESTARTOVALO\",IF(AND(J!A73=\"\",J!B73=\"\"),\"\",J!A73))","v":""},{"$f":"IF(AND(J!A73=\"\",J!B73=\"\"),\"\",J!B73)","v":""},null,null,null,"",null,null,null,null,"",null,"",null,"",null,"",null,9000]
[null,{"$f":"J!E74","v":74},{"$f":"IF(AND(J!A74=\"\",J!B74<>\"\"),\"NESTARTOVALO\",IF(AND(J!A74=\"\",J!B74=\"\"),\"\",J!A74))","v":""},{"$f":"IF(AND(J!A74=\"\",J!B74=\"\"),\"\",J!B74)","v":""},null,null,null,"",null,null,null,null,"",null,"",null,"",null,"",null,9000]
[null,{"$f":"J!E75","v":75},{"$f":"IF(AND(J!A75=\"\",J!B75<>\"\"),\"NESTARTOVALO\",IF(AND(J!A75=\"\",J!B75=\"\"),\"\",J!A75))","v":""},{"$f":"IF(AND(J!A75=\"\",J!B75=\"\"),\"\",J!B75)","v":""},null,null,null,"",null,null,null,null,"",null,"",null,"",null,"",null,9000]
[null,{"$f":"J!E76","v":76},{"$f":"IF(AND(J!A76=\"\",J!B76<>\"\"),\"NESTARTOVALO\",IF(AND(J!A76=\"\",J!B76=\"\"),\"\",J!A76))","v":""},{"$f":"IF(AND(J!A76=\"\",J!B76=\"\"),\"\",J!B76)","v":""},null,null,null,"",null,null,null,null,"",null,"",null,"",null,"",null,9000]
[null,{"$f":"J!E77","v":77},{"$f":"IF(AND(J!A77=\"\",J!B77<>\"\"),\"NESTARTOVALO\",IF(AND(J!A77=\"\",J!B77=\"\"),\"\",J!A77))","v":""},{"$f":"IF(AND(J!A77=\"\",J!B77=\"\"),\"\",J!B77)","v":""},null,null,null,"",null,null,null,null,"",null,"",null,"",null,"",null,9000]
[null,{"$f":"J!E78","v":78},{"$f":"IF(AND(J!A78=\"\",J!B78<>\"\"),\"NESTARTOVALO\",IF(AND(J!A78=\"\",J!B78=\"\"),\"\",J!A78))","v":""},{"$f":"IF(AND(J!A78=\"\",J!B78=\"\"),\"\",J!B78)","v":""},null,null,null,"",null,null,null,null,"",null,"",null,"",null,"",null,9000]
[null,{"$f":"J!E79","v":79},{"$f":"IF(AND(J!A79=\"\",J!B79<>\"\"),\"NESTARTOVALO\",IF(AND(J!A79=\"\",J!B79=\"\"),\"\",J!A79))","v":""},{"$f":"IF(AND(J!A79=\"\",J!B79=\"\"),\"\",J!B79)","v":""},null,null,null,"",null,null,null,null,"",null,"",null,"",null,"",null,9000]
[null,{"$f":"J!E80","v":80},{"$f":"IF(AND(J!A80=\"\",J!B80<>\"\"),\"NESTARTOVALO\",IF(AND(J!A80=\"\",J!B80=\"\"),\"\",J!A80))","v":""},{"$f":"IF(AND(J!A80=\"\",J!B80=\"\"),\"\",J!B80)","v":""},null,null,null,"",null,null,null,null,"",null,"",null,"",null,"",null,9000]
[null,{"$f":"J!E81","v":81},{"$f":"IF(AND(J!A81=\"\",J!B81<>\"\"),\"NESTARTOVALO\",IF(AND(J!A81=\"\",J!B81=\"\"),\"\",J!A81))","v":""},{"$f":"IF(AND(J!A81=\"\",J!B81=\"\"),\"\",J!B81)","v":""},null,null,null,"",null,null,null,null,"",null,"",null,"",null,"",null,9000]
[null,{"$f":"J!E82","v":82},{"$f":"IF(AND(J!A82=\"\",J!B82<>\"\"),\"NESTARTOVALO\",IF(AND(J!A82=\"\",J!B82=\"\"),\"\",J!A82))","v":""},{"$f":"IF(AND(J!A82=\"\",J!B82=\"\"),\"\",J!B82)","v":""},null,null,null,"",null,null,null,null,"",null,"",null,"",null,"",null,9000]
[null,{"$f":"J!E83","v":83},{"$f":"IF(AND(J!A83=\"\",J!B83<>\"\"),\"NESTARTOVALO\",IF(AND(J!A83=\"\",J!B83=\"\"),\"\",J!A83))","v":""},{"$f":"IF(AND(J!A83=\"\",J!B83=\"\"),\"\",J!B83)","v":""},null,null,null,"",null,null,null,null,"",null,"",null,"",null,"",null,9000]
[null,{"$f":"J!E84","v":84},{"$f":"IF(AND(J!A84=\"\",J!B84<>\"\"),\"NESTARTOVALO\",IF(AND(J!A84=\"\",J!B84=\"\"),\"\",J!A84))","v":""},{"$f":"IF(AND(J!A84=\"\",J!B84=\"\"),\"\",J!B84)","v":""},null,null,null,"",null,null,null,null,"",null,"",null,"",null,"",null,9000]
[null,{"$f":"J!E85","v":85},{"$f":"IF(AND(J!A85=\"\",J!B85<>\"\"),\"NESTARTOVALO\",IF(AND(J!A85=\"\",J!B85=\"\"),\"\",J!A85))","v":""},{"$f":"IF(AND(J!A85=\"\",J!B85=\"\"),\"\",J!B85)","v":""},null,null,null,"",null,null,null,null,"",null,"",null,"",null,"",null,9000]
[null,{"$f":"J!E86","v":86},{"$f":"IF(AND(J!A86=\"\",J!B86<>\"\"),\"NESTARTOVALO\",IF(AND(J!A86=\"\",J!B86=\"\"),\"\",J!A86))","v":""},{"$f":"IF(AND(J!A86=\"\",J!B86=\"\"),\"\",J!B86)","v":""},null,null,null,"",null,null,null,null,"",null,"",null,"",null,"",null,9000]
[null,{"$f":"J!E87","v":87},{"$f":"IF(AND(J!A87=\"\",J!B87<>\"\"),\"NESTARTOVALO\",IF(AND(J!A87=\"\",J!B87=\"\"),\"\",J!A87))","v":""},{"$f":"IF(AND(J!A87=\"\",J!B87=\"\"),\"\",J!B87)","v":""},null,null,null,"",null,null,null,null,"",null,"",null,"",null,"",null,9000]
[null,{"$f":"J!E88","v":88},{"$f":"IF(AND(J!A88=\"\",J!B88<>\"\"),\"NESTARTOVALO\",IF(AND(J!A88=\"\",J!B88=\"\"),\"\",J!A88))","v":""},{"$f":"IF(AND(J!A88=\"\",J!B88=\"\"),\"\",J!B88)","v":""},null,null,null,"",null,null,null,null,"",null,"",null,"",null,"",null,9000]
[null,{"$f":"J!E89","v":89},{"$f":"IF(AND(J!A89=\"\",J!B89<>\"\"),\"NESTARTOVALO\",IF(AND(J!A89=\"\",J!B89=\"\"),\"\",J!A89))","v":""},{"$f":"IF(AND(J!A89=\"\",J!B89=\"\"),\"\",J!B89)","v":""},null,null,null,"",null,null,null,null,"",null,"",null,"",null,"",null,9000]
[null,{"$f":"J!E90","v":90},{"$f":"IF(AND(J!A90=\"\",J!B90<>\"\"),\"NESTARTOVALO\",IF(AND(J!A90=\"\",J!B90=\"\"),\"\",J!A90))","v":""},{"$f":"IF(AND(J!A90=\"\",J!B90=\"\"),\"\",J!B90)","v":""},null,null,null,"",null,null,null,null,"",null,"",null,"",null,"",null,9000]
[null,{"$f":"J!E91","v":91},{"$f":"IF(AND(J!A91=\"\",J!B91<>\"\"),\"NESTARTOVALO\",IF(AND(J!A91=\"\",J!B91=\"\"),\"\",J!A91))","v":""},{"$f":"IF(AND(J!A91=\"\",J!B91=\"\"),\"\",J!B91)","v":""},null,null,null,"",null,null,null,null,"",null,"",null,"",null,"",null,9000]
[null,{"$f":"J!E92","v":92},{"$f":"IF(AND(J!A92=\"\",J!B92<>\"\"),\"NESTARTOVALO\",IF(AND(J!A92=\"\",J!B92=\"\"),\"\",J!A92))","v":""},{"$f":"IF(AND(J!A92=\"\",J!B92=\"\"),\"\",J!B92)","v":""},null,null,null,"",null,null,null,null,"",null,"",null,"",null,"",null,9000]
[null,{"$f":"J!E93","v":93},{"$f":"IF(AND(J!A93=\"\",J!B93<>\"\"),\"NESTARTOVALO\",IF(AND(J!A93=\"\",J!B93=\"\"),\"\",J!A93))","v":""},{"$f":"IF(AND(J!A93=\"\",J!B93=\"\"),\"\",J!B93)","v":""},null,null,null,"",null,null,null,null,"",null,"",null,"",null,"",null,9000]
[null,{"$f":"J!E94","v":94},{"$f":"IF(AND(J!A94=\"\",J!B94<>\"\"),\"NESTARTOVALO\",IF(AND(J!A94=\"\",J!B94=\"\"),\"\",J!A94))","v":""},{"$f":"IF(AND(J!A94=\"\",J!B94=\"\"),\"\",J!B94)","v":""},null,null,null,"",null,null,null,null,"",null,"",null,"",null,"",null,9000]
[null,{"$f":"J!E95","v":95},{"$f":"IF(AND(J!A95=\"\",J!B95<>\"\"),\"NESTARTOVALO\",IF(AND(J!A95=\"\",J!B95=\"\"),\"\",J!A95))","v":""},{"$f":"IF(AND(J!A95=\"\",J!B95=\"\"),\"\",J!B95)","v":""},null,null,null,"",null,null,null,null,"",null,"",null,"",null,"",null,9000]
[null,{"$f":"J!E96","v":96},{"$f":"IF(AND(J!A96=\"\",J!B96<>\"\"),\"NESTARTOVALO\",IF(AND(J!A96=\"\",J!B96=\"\"),\"\",J!A96))","v":""},{"$f":"IF(AND(J!A96=\"\",J!B96=\"\"),\"\",J!B96)","v":""},null,null,null,"",null,null,null,null,"",null,"",null,"",null,"",null,9000]
[null,{"$f":"J!E97","v":97},{"$f":"IF(AND(J!A97=\"\",J!B97<>\"\"),\"NESTARTOVALO\",IF(AND(J!A97=\"\",J!B97=\"\"),\"\",J!A97))","v":""},{"$f":"IF(AND(J!A97=\"\",J!B97=\"\"),\"\",J!B97)","v":""},null,null,null,"",null,null,null,null,"",null,"",null,"",null,"",null,9000]
[null,{"$f":"J!E98","v":98},{"$f":"IF(AND(J!A98=\"\",J!B98<>\"\"),\"NESTARTOVALO\",IF(AND(J!A98=\"\",J!B98=\"\"),\"\",J!A98))","v":""},{"$f":"IF(AND(J!A98=\"\",J!B98=\"\"),\"\",J!B98)","v":""},null,null,null,"",null,null,null,null,"",null,"",null,"",null,"",null,9000]
[null,{"$f":"J!E99","v":99},{"$f":"IF(AND(J!A99=\"\",J!B99<>\"\"),\"NESTARTOVALO\",IF(AND(J!A99=\"\",J!B99=\"\"),\"\",J!A99))","v":""},{"$f":"IF(AND(J!A99=\"\",J!B99=\"\"),\"\",J!B99)","v":""},null,null,null,"",null,null,null,null,"",null,"",null,"",null,"",null,9000]
[null,{"$f":"J!E100","v":100},{"$f":"IF(AND(J!A100=\"\",J!B100<>\"\"),\"NESTARTOVALO\",IF(AND(J!A100=\"\",J!B100=\"\"),\"\",J!A100))","v":""},{"$f":"IF(AND(J!A100=\"\",J!B100=\"\"),\"\",J!B100)","v":""},null,null,null,"",null,null,null,null,"",null,"",null,"",null,"",null,9000]
[null,{"$f":"J!E101","v":101},{"$f":"IF(AND(J!A101=\"\",J!B101<>\"\"),\"NESTARTOVALO\",IF(AND(J!A101=\"\",J!B101=\"\"),\"\",J!A101))","v":""},{"$f":"IF(AND(J!A101=\"\",J!B101=\"\"),\"\",J!B101)","v":""},null,null,null,"",null,null,null,null,"",null,"",null,"",null,"",null,9000]
[null,{"$f":"J!E102","v":102},{"$f":"IF(AND(J!A102=\"\",J!B102<>\"\"),\"NESTARTOVALO\",IF(AND(J!A102=\"\",J!B102=\"\"),\"\",J!A102))","v":""},{"$f":"IF(AND(J!A102=\"\",J!B102=\"\"),\"\",J!B102)","v":""},null,null,null,"",null,null,null,null,"",null,"",null,"",null,"",null,9000]
[null,{"$f":"J!E103","v":103},{"$f":"IF(AND(J!A103=\"\",J!B103<>\"\"),\"NESTARTOVALO\",IF(AND(J!A103=\"\",J!B103=\"\"),\"\",J!A103))","v":""},{"$f":"IF(AND(J!A103=\"\",J!B103=\"\"),\"\",J!B103)","v":""},null,null,null,"",null,null,null,null,"",null,"",null,"",null,"",null,9000]
[null,{"$f":"J!E104","v":104},{"$f":"IF(AND(J!A104=\"\",J!B104<>\"\"),\"NESTARTOVALO\",IF(AND(J!A104=\"\",J!B104=\"\"),\"\",J!A104))","v":""},{"$f":"IF(AND(J!A104=\"\",J!B104=\"\"),\"\",J!B104)","v":""},null,null,null,"",null,null,null,null,"",null,"",null,"",null,"",null,9000]
[null,{"$f":"J!E105","v":105},{"$f":"IF(AND(J!A105=\"\",J!B105<>\"\"),\"NESTARTOVALO\",IF(AND(J!A105=\"\",J!B105=\"\"),\"\",J!A105))","v":""},{"$f":"IF(AND(J!A105=\"\",J!B105=\"\"),\"\",J!B105)","v":""},null,null,null,"",null,null,null,null,"",null,"",null,"",null,"",null,9000]
[null,{"$f":"J!E106","v":106},{"$f":"IF(AND(J!A106=\"\",J!B106<>\"\"),\"NESTARTOVALO\",IF(AND(J!A106=\"\",J!B106=\"\"),\"\",J!A106))","v":""},{"$f":"IF(AND(J!A106=\"\",J!B106=\"\"),\"\",J!B106)","v":""},null,null,null,"",null,null,null,null,"",null,"",null,"",null,"",null,9000]
[null,{"$f":"J!E107","v":107},{"$f":"IF(AND(J!A107=\"\",J!B107<>\"\"),\"NESTARTOVALO\",IF(AND(J!A107=\"\",J!B107=\"\"),\"\",J!A107))","v":""},{"$f":"IF(AND(J!A107=\"\",J!B107=\"\"),\"\",J!B107)","v":""},null,null,null,"",null,null,null,null,"",null,"",null,"",null,"",null,9000]
[null,{"$f":"J!E108","v":108},{"$f":"IF(AND(J!A108=\"\",J!B108<>\"\"),\"NESTARTOVALO\",IF(AND(J!A108=\"\",J!B108=\"\"),\"\",J!A108))","v":""},{"$f":"IF(AND(J!A108=\"\",J!B108=\"\"),\"\",J!B108)","v":""},null,null,null,"",null,null,null,null,"",null,"",null,"",null,"",null,9000]
[null,{"$f":"J!E109","v":109},{"$f":"IF(AND(J!A109=\"\",J!B109<>\"\"),\"NESTARTOVALO\",IF(AND(J!A109=\"\",J!B109=\"\"),\"\",J!A109))","v":""},{"$f":"IF(AND(J!A109=\"\",J!B109=\"\"),\"\",J!B109)","v":""},null,null,null,"",null,null,null,null,"",null,"",null,"",null,"",null,9000]
[null,{"$f":"J!E110","v":110},{"$f":"IF(AND(J!A110=\"\",J!B110<>\"\"),\"NESTARTOVALO\",IF(AND(J!A110=\"\",J!B110=\"\"),\"\",J!A110))","v":""},{"$f":"IF(AND(J!A110=\"\",J!B110=\"\"),\"\",J!B110)","v":""},null,null,null,"",null,null,null,null,"",null,"",null,"",null,"",null,9000]
[null,{"$f":"J!E111","v":111},{"$f":"IF(AND(J!A111=\"\",J!B111<>\"\"),\"NESTARTOVALO\",IF(AND(J!A111=\"\",J!B111=\"\"),\"\",J!A111))","v":""},{"$f":"IF(AND(J!A111=\"\",J!B111=\"\"),\"\",J!B111)","v":""},null,null,null,"",null,null,null,null,"",null,"",null,"",null,"",null,9000]
[null,{"$f":"J!E112","v":112},{"$f":"IF(AND(J!A112=\"\",J!B112<>\"\"),\"NESTARTOVALO\",IF(AND(J!A112=\"\",J!B112=\"\"),\"\",J!A112))","v":""},{"$f":"IF(AND(J!A112=\"\",J!B112=\"\"),\"\",J!B112)","v":""},null,null,null,"",null,null,null,null,"",null,"",null,"",null,"",null,9000]
[null,{"$f":"J!E113","v":113},{"$f":"IF(AND(J!A113=\"\",J!B113<>\"\"),\"NESTARTOVALO\",IF(AND(J!A113=\"\",J!B113=\"\"),\"\",J!A113))","v":""},{"$f":"IF(AND(J!A113=\"\",J!B113=\"\"),\"\",J!B113)","v":""},null,null,null,"",null,null,null,null,"",null,"",null,"",null,"",null,9000]
[null,{"$f":"J!E114","v":114},{"$f":"IF(AND(J!A114=\"\",J!B114<>\"\"),\"NESTARTOVALO\",IF(AND(J!A114=\"\",J!B114=\"\"),\"\",J!A114))","v":""},{"$f":"IF(AND(J!A114=\"\",J!B114=\"\"),\"\",J!B114)","v":""},null,null,null,"",null,null,null,null,"",null,"",null,"",null,"",null,9000]
[null,{"$f":"J!E115","v":115},{"$f":"IF(AND(J!A115=\"\",J!B115<>\"\"),\"NESTARTOVALO\",IF(AND(J!A115=\"\",J!B115=\"\"),\"\",J!A115))","v":""},{"$f":"IF(AND(J!A115=\"\",J!B115=\"\"),\"\",J!B115)","v":""},null,null,null,"",null,null,null,null,"",null,"",null,"",null,"",null,9000]
[null,{"$f":"J!E116","v":116},{"$f":"IF(AND(J!A116=\"\",J!B116<>\"\"),\"NESTARTOVALO\",IF(AND(J!A116=\"\",J!B116=\"\"),\"\",J!A116))","v":""},{"$f":"IF(AND(J!A116=\"\",J!B116=\"\"),\"\",J!B116)","v":""},null,null,null,"",null,null,null,null,"",null,"",null,"",null,"",null,9000]
[null,{"$f":"J!E117","v":117},{"$f":"IF(AND(J!A117=\"\",J!B117<>\"\"),\"NESTARTOVALO\",IF(AND(J!A117=\"\",J!B117=\"\"),\"\",J!A117))","v":""},{"$f":"IF(AND(J!A117=\"\",J!B117=\"\"),\"\",J!B117)","v":""},null,null,null,"",null,null,null,null,"",null,"",null,"",null,"",null,9000]
[null,{"$f":"J!E118","v":118},{"$f":"IF(AND(J!A118=\"\",J!B118<>\"\"),\"NESTARTOVALO\",IF(AND(J!A118=\"\",J!B118=\"\"),\"\",J!A118))","v":""},{"$f":"IF(AND(J!A118=\"\",J!B118=\"\"),\"\",J!B118)","v":""},null,null,null,"",null,null,null,null,"",null,"",null,"",null,"",null,9000]
[null,{"$f":"J!E119","v":119},{"$f":"IF(AND(J!A119=\"\",J!B119<>\"\"),\"NESTARTOVALO\",IF(AND(J!A119=\"\",J!B119=\"\"),\"\",J!A119))","v":""},{"$f":"IF(AND(J!A119=\"\",J!B119=\"\"),\"\",J!B119)","v":""},null,null,null,"",null,null,null,null,"",null,"",null,"",null,"",null,9000]
[null,{"$f":"J!E120","v":120},{"$f":"IF(AND(J!A120=\"\",J!B120<>\"\"),\"NESTARTOVALO\",IF(AND(J!A120=\"\",J!B120=\"\"),\"\",J!A120))","v":""},{"$f":"IF(AND(J!A120=\"\",J!B120=\"\"),\"\",J!B120)","v":""},null,null,null,"",null,null,null,null,"",null,"",null,"",null,"",null,9000]
[null,{"$f":"J!E121","v":121},{"$f":"IF(AND(J!A121=\"\",J!B121<>\"\"),\"NESTARTOVALO\",IF(AND(J!A121=\"\",J!B121=\"\"),\"\",J!A121))","v":""},{"$f":"IF(AND(J!A121=\"\",J!B121=\"\"),\"\",J!B121)","v":""},null,null,null,"",null,null,null,null,"",null,"",null,"",null,"",null,9000]
[null,{"$f":"J!E122","v":122},{"$f":"IF(AND(J!A122=\"\",J!B122<>\"\"),\"NESTARTOVALO\",IF(AND(J!A122=\"\",J!B122=\"\"),\"\",J!A122))","v":""},{"$f":"IF(AND(J!A122=\"\",J!B122=\"\"),\"\",J!B122)","v":""},null,null,null,"",null,null,null,null,"",null,"",null,"",null,"",null,9000]
[null,{"$f":"J!E123","v":123},{"$f":"IF(AND(J!A123=\"\",J!B123<>\"\"),\"NESTARTOVALO\",IF(AND(J!A123=\"\",J!B123=\"\"),\"\",J!A123))","v":""},{"$f":"IF(AND(J!A123=\"\",J!B123=\"\"),\"\",J!B123)","v":""},null,null,null,"",null,null,null,null,"",null,"",null,"",null,"",null,9000]
[null,{"$f":"J!E124","v":124},{"$f":"IF(AND(J!A124=\"\",J!B124<>\"\"),\"NESTARTOVALO\",IF(AND(J!A124=\"\",J!B124=\"\"),\"\",J!A124))","v":""},{"$f":"IF(AND(J!A124=\"\",J!B124=\"\"),\"\",J!B124)","v":""},null,null,null,"",null,null,null,null,"",null,"",null,"",null,"",null,9000]
[null,{"$f":"J!E125","v":125},{"$f":"IF(AND(J!A125=\"\",J!B125<>\"\"),\"NESTARTOVALO\",IF(AND(J!A125=\"\",J!B125=\"\"),\"\",J!A125))","v":""},{"$f":"IF(AND(J!A125=\"\",J!B125=\"\"),\"\",J!B125)","v":""},null,null,null,"",null,null,null,null,"",null,"",null,"",null,"",null,9000]
[null,{"$f":"J!E126","v":126},{"$f":"IF(AND(J!A126=\"\",J!B126<>\"\"),\"NESTARTOVALO\",IF(AND(J!A126=\"\",J!B126=\"\"),\"\",J!A126))","v":""},{"$f":"IF(AND(J!A126=\"\",J!B126=\"\"),\"\",J!B126)","v":""},null,null,null,"",null,null,null,null,"",null,"",null,"",null,"",null,9000]
[null,{"$f":"J!E127","v":127},{"$f":"IF(AND(J!A127=\"\",J!B127<>\"\"),\"NESTARTOVALO\",IF(AND(J!A127=\"\",J!B127=\"\"),\"\",J!A127))","v":""},{"$f":"IF(AND(J!A127=\"\",J!B127=\"\"),\"\",J!B127)","v":""},null,null,null,"",null,null,null,null,"",null,"",null,"",null,"",null,9000]
[null,{"$f":"J!E128","v":128},{"$f":"IF(AND(J!A128=\"\",J!B128<>\"\"),\"NESTARTOVALO\",IF(AND(J!A128=\"\",J!B128=\"\"),\"\",J!A128))","v":""},{"$f":"IF(AND(J!A128=\"\",J!B128=\"\"),\"\",J!B128)","v":""},null,null,null,"",null,null,null,null,"",null,"",null,"",null,"",null,9000]
[null,{"$f":"J!E129","v":129},{"$f":"IF(AND(J!A129=\"\",J!B129<>\"\"),\"NESTARTOVALO\",IF(AND(J!A129=\"\",J!B129=\"\"),\"\",J!A129))","v":""},{"$f":"IF(AND(J!A129=\"\",J!B129=\"\"),\"\",J!B129)","v":""},null,null,null,{"$f":"IF($C133=\"\",\"\",IF(OR($E133=\"DNS\",$F133=\"DNS\",$G133=\"DNS\",AND($E133=\"\",$F133=\"\",$G133=\"\")),\"DNS\",IF(OR($E133=\"NP\",$F133=\"NP\",$G133=\"NP\"),\"NP\",IF(ISERROR(MEDIAN($E133:$G133)),\"DNS\",IF(OR($E133=\"X\",$F133=\"X\",$G133=\"X\",$E133=\"\",$F133=\"\",$G133=\"\",$E133=\"x\",$F133=\"x\",$G133=\"x\"),MAX($E133:$G133),MEDIAN($E133:$G133))))))","v":""},null,null,null,null,{"$f":"IF($C133=\"\",\"\",IF(OR($J133=\"DNS\",$K133=\"DNS\",$L133=\"DNS\",AND($J133=\"\",$K133=\"\",$L133=\"\")),\"DNS\",IF(OR($J133=\"NP\",$K133=\"NP\",$L133=\"NP\"),\"NP\",IF(ISERROR(MEDIAN($J133:$L133)),\"DNS\",IF(OR($J133=\"X\",$K133=\"X\",$L133=\"X\",$J133=\"\",$K133=\"\",$L133=\"\",$J133=\"x\",$K133=\"x\",$L133=\"x\"),MAX($J133:$L133),MEDIAN($J133:$L133))))))","v":""},null,{"$f":"IF(C133=\"\",\"\",IF(OR(AND(H133=\"NP\",M133=\"NP\"),AND(H133=\"DNS\",M133=\"DNS\")),H133,IF(AND(H133=\"NP\",M133=\"DNS\"),H133,IF(AND(H133=\"DNS\",M133=\"NP\"),M133,MIN(H133,M133)))))","v":""},null,{"$f":"IF(C133=\"\",\"\",IF(OR(O133=\"NP\",O133=\"DNS\"),O133,RANK(O133,O$5:O$179,1)))","v":""},null,{"$f":"IF(C133=\"\",\"\",IF(O133=\"NP\",MAX(Q$5:Q$179)+1,IF(O133=\"DNS\",MAX(Q$5:Q$179)+COUNTIF(Q$5:Q$179,\"NP\")+1,RANK(O133,O$5:O$179,1))))","v":""},null,{"$f":"IF($C133=\"\",9000,MAX(H133,M133)+(COUNTIF($H133:$H133,\"NP\")*600)+(COUNTIF($M133:$M133,\"NP\")*600)+(COUNTIF($H133:$H133,\"DNS\")*3600)+(COUNTIF($M133:$M133,\"DNS\")*3600))","v":9000}]
[null,{"$f":"J!E130","v":130},{"$f":"IF(AND(J!A130=\"\",J!B130<>\"\"),\"NESTARTOVALO\",IF(AND(J!A130=\"\",J!B130=\"\"),\"\",J!A130))","v":""},{"$f":"IF(AND(J!A130=\"\",J!B130=\"\"),\"\",J!B130)","v":""},null,null,null,"",null,null,null,null,"",null,"",null,"",null,"",null,9000]
[null,{"$f":"J!E131","v":131},{"$f":"IF(AND(J!A131=\"\",J!B131<>\"\"),\"NESTARTOVALO\",IF(AND(J!A131=\"\",J!B131=\"\"),\"\",J!A131))","v":""},{"$f":"IF(AND(J!A131=\"\",J!B131=\"\"),\"\",J!B131)","v":""},null,null,null,"",null,null,null,null,"",null,"",null,"",null,"",null,9000]
[null,{"$f":"J!E132","v":132},{"$f":"IF(AND(J!A132=\"\",J!B132<>\"\"),\"NESTARTOVALO\",IF(AND(J!A132=\"\",J!B132=\"\"),\"\",J!A132))","v":""},{"$f":"IF(AND(J!A132=\"\",J!B132=\"\"),\"\",J!B132)","v":""},null,null,null,"",null,null,null,null,"",null,"",null,"",null,"",null,9000]
[null,{"$f":"J!E133","v":133},{"$f":"IF(AND(J!A133=\"\",J!B133<>\"\"),\"NESTARTOVALO\",IF(AND(J!A133=\"\",J!B133=\"\"),\"\",J!A133))","v":""},{"$f":"IF(AND(J!A133=\"\",J!B133=\"\"),\"\",J!B133)","v":""},null,null,null,"",null,null,null,null,"",null,"",null,"",null,"",null,9000]
[null,{"$f":"J!E134","v":134},{"$f":"IF(AND(J!A134=\"\",J!B134<>\"\"),\"NESTARTOVALO\",IF(AND(J!A134=\"\",J!B134=\"\"),\"\",J!A134))","v":""},{"$f":"IF(AND(J!A134=\"\",J!B134=\"\"),\"\",J!B134)","v":""},null,null,null,"",null,null,null,null,"",null,"",null,"",null,"",null,9000]
[null,{"$f":"J!E135","v":135},{"$f":"IF(AND(J!A135=\"\",J!B135<>\"\"),\"NESTARTOVALO\",IF(AND(J!A135=\"\",J!B135=\"\"),\"\",J!A135))","v":""},{"$f":"IF(AND(J!A135=\"\",J!B135=\"\"),\"\",J!B135)","v":""},null,null,null,"",null,null,null,null,"",null,"",null,"",null,"",null,9000]
[null,{"$f":"J!E136","v":136},{"$f":"IF(AND(J!A136=\"\",J!B136<>\"\"),\"NESTARTOVALO\",IF(AND(J!A136=\"\",J!B136=\"\"),\"\",J!A136))","v":""},{"$f":"IF(AND(J!A136=\"\",J!B136=\"\"),\"\",J!B136)","v":""},null,null,null,"",null,null,null,null,"",null,"",null,"",null,"",null,9000]
[null,{"$f":"J!E137","v":137},{"$f":"IF(AND(J!A137=\"\",J!B137<>\"\"),\"NESTARTOVALO\",IF(AND(J!A137=\"\",J!B137=\"\"),\"\",J!A137))","v":""},{"$f":"IF(AND(J!A137=\"\",J!B137=\"\"),\"\",J!B137)","v":""},null,null,null,"",null,null,null,null,"",null,"",null,"",null,"",null,9000]
[null,{"$f":"J!E138","v":138},{"$f":"IF(AND(J!A138=\"\",J!B138<>\"\"),\"NESTARTOVALO\",IF(AND(J!A138=\"\",J!B138=\"\"),\"\",J!A138))","v":""},{"$f":"IF(AND(J!A138=\"\",J!B138=\"\"),\"\",J!B138)","v":""},null,null,null,"",null,null,null,null,"",null,"",null,"",null,"",null,9000]
[null,{"$f":"J!E139","v":139},{"$f":"IF(AND(J!A139=\"\",J!B139<>\"\"),\"NESTARTOVALO\",IF(AND(J!A139=\"\",J!B139=\"\"),\"\",J!A139))","v":""},{"$f":"IF(AND(J!A139=\"\",J!B139=\"\"),\"\",J!B139)","v":""},null,null,null,"",null,null,null,null,"",null,"",null,"",null,"",null,9000]
[null,{"$f":"J!E140","v":140},{"$f":"IF(AND(J!A140=\"\",J!B140<>\"\"),\"NESTARTOVALO\",IF(AND(J!A140=\"\",J!B140=\"\"),\"\",J!A140))","v":""},{"$f":"IF(AND(J!A140=\"\",J!B140=\"\"),\"\",J!B140)","v":""},null,null,null,"",null,null,null,null,"",null,"",null,"",null,"",null,9000]
[null,{"$f":"J!E141","v":141},{"$f":"IF(AND(J!A141=\"\",J!B141<>\"\"),\"NESTARTOVALO\",IF(AND(J!A141=\"\",J!B141=\"\"),\"\",J!A141))","v":""},{"$f":"IF(AND(J!A141=\"\",J!B141=\"\"),\"\",J!B141)","v":""},null,null,null,"",null,null,null,null,"",null,"",null,"",null,"",null,9000]
[null,{"$f":"J!E142","v":142},{"$f":"IF(AND(J!A142=\"\",J!B142<>\"\"),\"NESTARTOVALO\",IF(AND(J!A142=\"\",J!B142=\"\"),\"\",J!A142))","v":""},{"$f":"IF(AND(J!A142=\"\",J!B142=\"\"),\"\",J!B142)","v":""},null,null,null,"",null,null,null,null,"",null,"",null,"",null,"",null,9000]
[null,{"$f":"J!E143","v":143},{"$f":"IF(AND(J!A143=\"\",J!B143<>\"\"),\"NESTARTOVALO\",IF(AND(J!A143=\"\",J!B143=\"\"),\"\",J!A143))","v":""},{"$f":"IF(AND(J!A143=\"\",J!B143=\"\"),\"\",J!B143)","v":""},null,null,null,"",null,null,null,null,"",null,"",null,"",null,"",null,9000]
[null,{"$f":"J!E144","v":144},{"$f":"IF(AND(J!A144=\"\",J!B144<>\"\"),\"NESTARTOVALO\",IF(AND(J!A144=\"\",J!B144=\"\"),\"\",J!A144))","v":""},{"$f":"IF(AND(J!A144=\"\",J!B144=\"\"),\"\",J!B144)","v":""},null,null,null,"",null,null,null,null,"",null,"",null,"",null,"",null,9000]
[null,{"$f":"J!E145","v":145},{"$f":"IF(AND(J!A145=\"\",J!B145<>\"\"),\"NESTARTOVALO\",IF(AND(J!A145=\"\",J!B145=\"\"),\"\",J!A145))","v":""},{"$f":"IF(AND(J!A145=\"\",J!B145=\"\"),\"\",J!B145)","v":""},null,null,null,"",null,null,null,null,"",null,"",null,"",null,"",null,9000]
[null,{"$f":"J!E146","v":146},{"$f":"IF(AND(J!A146=\"\",J!B146<>\"\"),\"NESTARTOVALO\",IF(AND(J!A146=\"\",J!B146=\"\"),\"\",J!A146))","v":""},{"$f":"IF(AND(J!A146=\"\",J!B146=\"\"),\"\",J!B146)","v":""},null,null,null,"",null,null,null,null,"",null,"",null,"",null,"",null,9000]
[null,{"$f":"J!E147","v":147},{"$f":"IF(AND(J!A147=\"\",J!B147<>\"\"),\"NESTARTOVALO\",IF(AND(J!A147=\"\",J!B147=\"\"),\"\",J!A147))","v":""},{"$f":"IF(AND(J!A147=\"\",J!B147=\"\"),\"\",J!B147)","v":""},null,null,null,"",null,null,null,null,"",null,"",null,"",null,"",null,9000]
[null,{"$f":"J!E148","v":148},{"$f":"IF(AND(J!A148=\"\",J!B148<>\"\"),\"NESTARTOVALO\",IF(AND(J!A148=\"\",J!B148=\"\"),\"\",J!A148))","v":""},{"$f":"IF(AND(J!A148=\"\",J!B148=\"\"),\"\",J!B148)","v":""},null,null,null,"",null,null,null,null,"",null,"",null,"",null,"",null,9000]
[null,{"$f":"J!E149","v":149},{"$f":"IF(AND(J!A149=\"\",J!B149<>\"\"),\"NESTARTOVALO\",IF(AND(J!A149=\"\",J!B149=\"\"),\"\",J!A149))","v":""},{"$f":"IF(AND(J!A149=\"\",J!B149=\"\"),\"\",J!B149)","v":""},null,null,null,"",null,null,null,null,"",null,"",null,"",null,"",null,9000]
[null,{"$f":"J!E150","v":150},{"$f":"IF(AND(J!A150=\"\",J!B150<>\"\"),\"NESTARTOVALO\",IF(AND(J!A150=\"\",J!B150=\"\"),\"\",J!A150))","v":""},{"$f":"IF(AND(J!A150=\"\",J!B150=\"\"),\"\",J!B150)","v":""},null,null,null,"",null,null,null,null,"",null,"",null,"",null,"",null,9000]
[null,{"$f":"J!E151","v":151},{"$f":"IF(AND(J!A151=\"\",J!B151<>\"\"),\"NESTARTOVALO\",IF(AND(J!A151=\"\",J!B151=\"\"),\"\",J!A151))","v":""},{"$f":"IF(AND(J!A151=\"\",J!B151=\"\"),\"\",J!B151)","v":""},null,null,null,"",null,null,null,null,"",null,"",null,"",null,"",null,9000]
[null,{"$f":"J!E152","v":152},{"$f":"IF(AND(J!A152=\"\",J!B152<>\"\"),\"NESTARTOVALO\",IF(AND(J!A152=\"\",J!B152=\"\"),\"\",J!A152))","v":""},{"$f":"IF(AND(J!A152=\"\",J!B152=\"\"),\"\",J!B152)","v":""},null,null,null,"",null,null,null,null,"",null,"",null,"",null,"",null,9000]
[null,{"$f":"J!E153","v":153},{"$f":"IF(AND(J!A153=\"\",J!B153<>\"\"),\"NESTARTOVALO\",IF(AND(J!A153=\"\",J!B153=\"\"),\"\",J!A153))","v":""},{"$f":"IF(AND(J!A153=\"\",J!B153=\"\"),\"\",J!B153)","v":""},null,null,null,"",null,null,null,null,"",null,"",null,"",null,"",null,9000]
[null,{"$f":"J!E154","v":154},{"$f":"IF(AND(J!A154=\"\",J!B154<>\"\"),\"NESTARTOVALO\",IF(AND(J!A154=\"\",J!B154=\"\"),\"\",J!A154))","v":""},{"$f":"IF(AND(J!A154=\"\",J!B154=\"\"),\"\",J!B154)","v":""},null,null,null,"",null,null,null,null,"",null,"",null,"",null,"",null,9000]
[null,{"$f":"J!E155","v":155},{"$f":"IF(AND(J!A155=\"\",J!B155<>\"\"),\"NESTARTOVALO\",IF(AND(J!A155=\"\",J!B155=\"\"),\"\",J!A155))","v":""},{"$f":"IF(AND(J!A155=\"\",J!B155=\"\"),\"\",J!B155)","v":""},null,null,null,"",null,null,null,null,"",null,"",null,"",null,"",null,9000]
[null,{"$f":"J!E156","v":156},{"$f":"IF(AND(J!A156=\"\",J!B156<>\"\"),\"NESTARTOVALO\",IF(AND(J!A156=\"\",J!B156=\"\"),\"\",J!A156))","v":""},{"$f":"IF(AND(J!A156=\"\",J!B156=\"\"),\"\",J!B156)","v":""},null,null,null,"",null,null,null,null,"",null,"",null,"",null,"",null,9000]
[null,{"$f":"J!E157","v":157},{"$f":"IF(AND(J!A157=\"\",J!B157<>\"\"),\"NESTARTOVALO\",IF(AND(J!A157=\"\",J!B157=\"\"),\"\",J!A157))","v":""},{"$f":"IF(AND(J!A157=\"\",J!B157=\"\"),\"\",J!B157)","v":""},null,null,null,"",null,null,null,null,"",null,"",null,"",null,"",null,9000]
[null,{"$f":"J!E158","v":158},{"$f":"IF(AND(J!A158=\"\",J!B158<>\"\"),\"NESTARTOVALO\",IF(AND(J!A158=\"\",J!B158=\"\"),\"\",J!A158))","v":""},{"$f":"IF(AND(J!A158=\"\",J!B158=\"\"),\"\",J!B158)","v":""},null,null,null,"",null,null,null,null,"",null,"",null,"",null,"",null,9000]
[null,{"$f":"J!E159","v":159},{"$f":"IF(AND(J!A159=\"\",J!B159<>\"\"),\"NESTARTOVALO\",IF(AND(J!A159=\"\",J!B159=\"\"),\"\",J!A159))","v":""},{"$f":"IF(AND(J!A159=\"\",J!B159=\"\"),\"\",J!B159)","v":""},null,null,null,"",null,null,null,null,"",null,"",null,"",null,"",null,9000]
[null,{"$f":"J!E160","v":160},{"$f":"IF(AND(J!A160=\"\",J!B160<>\"\"),\"NESTARTOVALO\",IF(AND(J!A160=\"\",J!B160=\"\"),\"\",J!A160))","v":""},{"$f":"IF(AND(J!A160=\"\",J!B160=\"\"),\"\",J!B160)","v":""},null,null,null,"",null,null,null,null,"",null,"",null,"",null,"",null,9000]
[null,{"$f":"J!E161","v":161},{"$f":"IF(AND(J!A161=\"\",J!B161<>\"\"),\"NESTARTOVALO\",IF(AND(J!A161=\"\",J!B161=\"\"),\"\",J!A161))","v":""},{"$f":"IF(AND(J!A161=\"\",J!B161=\"\"),\"\",J!B161)","v":""},null,null,null,"",null,null,null,null,"",null,"",null,"",null,"",null,9000]
[null,{"$f":"J!E162","v":162},{"$f":"IF(AND(J!A162=\"\",J!B162<>\"\"),\"NESTARTOVALO\",IF(AND(J!A162=\"\",J!B162=\"\"),\"\",J!A162))","v":""},{"$f":"IF(AND(J!A162=\"\",J!B162=\"\"),\"\",J!B162)","v":""},null,null,null,"",null,null,null,null,"",null,"",null,"",null,"",null,9000]
[null,{"$f":"J!E163","v":163},{"$f":"IF(AND(J!A163=\"\",J!B163<>\"\"),\"NESTARTOVALO\",IF(AND(J!A163=\"\",J!B163=\"\"),\"\",J!A163))","v":""},{"$f":"IF(AND(J!A163=\"\",J!B163=\"\"),\"\",J!B163)","v":""},null,null,null,"",null,null,null,null,"",null,"",null,"",null,"",null,9000]
[null,{"$f":"J!E164","v":164},{"$f":"IF(AND(J!A164=\"\",J!B164<>\"\"),\"NESTARTOVALO\",IF(AND(J!A164=\"\",J!B164=\"\"),\"\",J!A164))","v":""},{"$f":"IF(AND(J!A164=\"\",J!B164=\"\"),\"\",J!B164)","v":""},null,null,null,"",null,null,null,null,"",null,"",null,"",null,"",null,9000]
[null,{"$f":"J!E165","v":165},{"$f":"IF(AND(J!A165=\"\",J!B165<>\"\"),\"NESTARTOVALO\",IF(AND(J!A165=\"\",J!B165=\"\"),\"\",J!A165))","v":""},{"$f":"IF(AND(J!A165=\"\",J!B165=\"\"),\"\",J!B165)","v":""},null,null,null,"",null,null,null,null,"",null,"",null,"",null,"",null,9000]
[null,{"$f":"J!E166","v":166},{"$f":"IF(AND(J!A166=\"\",J!B166<>\"\"),\"NESTARTOVALO\",IF(AND(J!A166=\"\",J!B166=\"\"),\"\",J!A166))","v":""},{"$f":"IF(AND(J!A166=\"\",J!B166=\"\"),\"\",J!B166)","v":""},null,null,null,"",null,null,null,null,"",null,"",null,"",null,"",null,9000]
[null,{"$f":"J!E167","v":167},{"$f":"IF(AND(J!A167=\"\",J!B167<>\"\"),\"NESTARTOVALO\",IF(AND(J!A167=\"\",J!B167=\"\"),\"\",J!A167))","v":""},{"$f":"IF(AND(J!A167=\"\",J!B167=\"\"),\"\",J!B167)","v":""},null,null,null,"",null,null,null,null,"",null,"",null,"",null,"",null,9000]
[null,{"$f":"J!E168","v":168},{"$f":"IF(AND(J!A168=\"\",J!B168<>\"\"),\"NESTARTOVALO\",IF(AND(J!A168=\"\",J!B168=\"\"),\"\",J!A168))","v":""},{"$f":"IF(AND(J!A168=\"\",J!B168=\"\"),\"\",J!B168)","v":""},null,null,null,"",null,null,null,null,"",null,"",null,"",null,"",null,9000]
[null,{"$f":"J!E169","v":169},{"$f":"IF(AND(J!A169=\"\",J!B169<>\"\"),\"NESTARTOVALO\",IF(AND(J!A169=\"\",J!B169=\"\"),\"\",J!A169))","v":""},{"$f":"IF(AND(J!A169=\"\",J!B169=\"\"),\"\",J!B169)","v":""},null,null,null,"",null,null,null,null,"",null,"",null,"",null,"",null,9000]
[null,{"$f":"J!E170","v":170},{"$f":"IF(AND(J!A170=\"\",J!B170<>\"\"),\"NESTARTOVALO\",IF(AND(J!A170=\"\",J!B170=\"\"),\"\",J!A170))","v":""},{"$f":"IF(AND(J!A170=\"\",J!B170=\"\"),\"\",J!B170)","v":""},null,null,null,"",null,null,null,null,"",null,"",null,"",null,"",null,9000]
[null,{"$f":"J!E171","v":171},{"$f":"IF(AND(J!A171=\"\",J!B171<>\"\"),\"NESTARTOVALO\",IF(AND(J!A171=\"\",J!B171=\"\"),\"\",J!A171))","v":""},{"$f":"IF(AND(J!A171=\"\",J!B171=\"\"),\"\",J!B171)","v":""},null,null,null,"",null,null,null,null,"",null,"",null,"",null,"",null,9000]
[null,{"$f":"J!E172","v":172},{"$f":"IF(AND(J!A172=\"\",J!B172<>\"\"),\"NESTARTOVALO\",IF(AND(J!A172=\"\",J!B172=\"\"),\"\",J!A172))","v":""},{"$f":"IF(AND(J!A172=\"\",J!B172=\"\"),\"\",J!B172)","v":""},null,null,null,"",null,null,null,null,"",null,"",null,"",null,"",null,9000]
[null,{"$f":"J!E173","v":173},{"$f":"IF(AND(J!A173=\"\",J!B173<>\"\"),\"NESTARTOVALO\",IF(AND(J!A173=\"\",J!B173=\"\"),\"\",J!A173))","v":""},{"$f":"IF(AND(J!A173=\"\",J!B173=\"\"),\"\",J!B173)","v":""},null,null,null,"",null,null,null,null,"",null,"",null,"",null,"",null,9000]
[null,{"$f":"J!E174","v":174},{"$f":"IF(AND(J!A174=\"\",J!B174<>\"\"),\"NESTARTOVALO\",IF(AND(J!A174=\"\",J!B174=\"\"),\"\",J!A174))","v":""},{"$f":"IF(AND(J!A174=\"\",J!B174=\"\"),\"\",J!B174)","v":""},null,null,null,"",null,null,null,null,"",null,"",null,"",null,"",null,9000]
[null,{"$f":"J!E175","v":175},{"$f":"IF(AND(J!A175=\"\",J!B175<>\"\"),\"NESTARTOVALO\",IF(AND(J!A175=\"\",J!B175=\"\"),\"\",J!A175))","v":""},{"$f":"IF(AND(J!A175=\"\",J!B175=\"\"),\"\",J!B175)","v":""},null,null,null,"",null,null,null,null,"",null,"",null,"",null,"",null,9000]
[null,{"$f":"J!E176","v":176},{"$f":"IF(AND(J!A176=\"\",J!B176<>\"\"),\"NESTARTOVALO\",IF(AND(J!A176=\"\",J!B176=\"\"),\"\",J!A176))","v":""},{"$f":"IF(AND(J!A176=\"\",J!B176=\"\"),\"\",J!B176)","v":""},null,null,null,"",null,null,null,null,"",null,"",null,"",null,"",null,9000]
[null,{"$f":"J!E177","v":177},{"$f":"IF(AND(J!A177=\"\",J!B177<>\"\"),\"NESTARTOVALO\",IF(AND(J!A177=\"\",J!B177=\"\"),\"\",J!A177))","v":""},{"$f":"IF(AND(J!A177=\"\",J!B177=\"\"),\"\",J!B177)","v":""},null,null,null,"",null,null,null,null,"",null,"",null,"",null,"",null,9000]
[null,{"$f":"J!E178","v":178},{"$f":"IF(AND(J!A178=\"\",J!B178<>\"\"),\"NESTARTOVALO\",IF(AND(J!A178=\"\",J!B178=\"\"),\"\",J!A178))","v":""},{"$f":"IF(AND(J!A178=\"\",J!B178=\"\"),\"\",J!B178)","v":""},null,null,null,"",null,null,null,null,"",null,"",null,"",null,"",null,9000]
[null,{"$f":"J!E179","v":179},{"$f":"IF(AND(J!A179=\"\",J!B179<>\"\"),\"NESTARTOVALO\",IF(AND(J!A179=\"\",J!B179=\"\"),\"\",J!A179))","v":""},{"$f":"IF(AND(J!A179=\"\",J!B179=\"\"),\"\",J!B179)","v":""},null,null,null,"",null,null,null,null,"",null,"",null,"",null,"",null,9000]
[null,{"$f":"J!E180","v":180},{"$f":"IF(AND(J!A180=\"\",J!B180<>\"\"),\"NESTARTOVALO\",IF(AND(J!A180=\"\",J!B180=\"\"),\"\",J!A180))","v":""},{"$f":"IF(AND(J!A180=\"\",J!B180=\"\"),\"\",J!B180)","v":""},null,null,null,"",null,null,null,null,"",null,"",null,"",null,"",null,9000]
[null,{"$f":"J!E181","v":181},{"$f":"IF(AND(J!A181=\"\",J!B181<>\"\"),\"NESTARTOVALO\",IF(AND(J!A181=\"\",J!B181=\"\"),\"\",J!A181))","v":""},{"$f":"IF(AND(J!A181=\"\",J!B181=\"\"),\"\",J!B181)","v":""},null,null,null,"",null,null,null,null,"",null,"",null,"",null,"",null,9000]
[null,{"$f":"J!E182","v":182},{"$f":"IF(AND(J!A182=\"\",J!B182<>\"\"),\"NESTARTOVALO\",IF(AND(J!A182=\"\",J!B182=\"\"),\"\",J!A182))","v":""},{"$f":"IF(AND(J!A182=\"\",J!B182=\"\"),\"\",J!B182)","v":""},null,null,null,"",null,null,null,null,"",null,"",null,"",null,"",null,9000]
[null,{"$f":"J!E183","v":183},{"$f":"IF(AND(J!A183=\"\",J!B183<>\"\"),\"NESTARTOVALO\",IF(AND(J!A183=\"\",J!B183=\"\"),\"\",J!A183))","v":""},{"$f":"IF(AND(J!A183=\"\",J!B183=\"\"),\"\",J!B183)","v":""},null,null,null,"",null,null,null,null,"",null,"",null,"",null,"",null,9000]
[null,{"$f":"J!E184","v":184},{"$f":"IF(AND(J!A184=\"\",J!B184<>\"\"),\"NESTARTOVALO\",IF(AND(J!A184=\"\",J!B184=\"\"),\"\",J!A184))","v":""},{"$f":"IF(AND(J!A184=\"\",J!B184=\"\"),\"\",J!B184)","v":""},null,null,null,"",null,null,null,null,"",null,"",null,"",null,"",null,9000]
[null,{"$f":"J!E185","v":185},{"$f":"IF(AND(J!A185=\"\",J!B185<>\"\"),\"NESTARTOVALO\",IF(AND(J!A185=\"\",J!B185=\"\"),\"\",J!A185))","v":""},{"$f":"IF(AND(J!A185=\"\",J!B185=\"\"),\"\",J!B185)","v":""},null,null,null,"",null,null,null,null,"",null,"",null,"",null,"",null,9000]
[null,{"$f":"J!E186","v":186},{"$f":"IF(AND(J!A186=\"\",J!B186<>\"\"),\"NESTARTOVALO\",IF(AND(J!A186=\"\",J!B186=\"\"),\"\",J!A186))","v":""},{"$f":"IF(AND(J!A186=\"\",J!B186=\"\"),\"\",J!B186)","v":""},null,null,null,"",null,null,null,null,"",null,"",null,"",null,"",null,9000]
[null,{"$f":"J!E187","v":187},{"$f":"IF(AND(J!A187=\"\",J!B187<>\"\"),\"NESTARTOVALO\",IF(AND(J!A187=\"\",J!B187=\"\"),\"\",J!A187))","v":""},{"$f":"IF(AND(J!A187=\"\",J!B187=\"\"),\"\",J!B187)","v":""},null,null,null,"",null,null,null,null,"",null,"",null,"",null,"",null,9000]
[null,{"$f":"J!E188","v":188},{"$f":"IF(AND(J!A188=\"\",J!B188<>\"\"),\"NESTARTOVALO\",IF(AND(J!A188=\"\",J!B188=\"\"),\"\",J!A188))","v":""},{"$f":"IF(AND(J!A188=\"\",J!B188=\"\"),\"\",J!B188)","v":""},null,null,null,"",null,null,null,null,"",null,"",null,"",null,"",null,9000]
[null,{"$f":"J!E189","v":189},{"$f":"IF(AND(J!A189=\"\",J!B189<>\"\"),\"NESTARTOVALO\",IF(AND(J!A189=\"\",J!B189=\"\"),\"\",J!A189))","v":""},{"$f":"IF(AND(J!A189=\"\",J!B189=\"\"),\"\",J!B189)","v":""},null,null,null,"",null,null,null,null,"",null,"",null,"",null,"",null,9000]
[null,{"$f":"J!E190","v":190},{"$f":"IF(AND(J!A190=\"\",J!B190<>\"\"),\"NESTARTOVALO\",IF(AND(J!A190=\"\",J!B190=\"\"),\"\",J!A190))","v":""},{"$f":"IF(AND(J!A190=\"\",J!B190=\"\"),\"\",J!B190)","v":""},null,null,null,"",null,null,null,null,"",null,"",null,"",null,"",null,9000]
[null,{"$f":"J!E191","v":191},{"$f":"IF(AND(J!A191=\"\",J!B191<>\"\"),\"NESTARTOVALO\",IF(AND(J!A191=\"\",J!B191=\"\"),\"\",J!A191))","v":""},{"$f":"IF(AND(J!A191=\"\",J!B191=\"\"),\"\",J!B191)","v":""},null,null,null,"",null,null,null,null,"",null,"",null,"",null,"",null,9000]
[null,{"$f":"J!E192","v":192},{"$f":"IF(AND(J!A192=\"\",J!B192<>\"\"),\"NESTARTOVALO\",IF(AND(J!A192=\"\",J!B192=\"\"),\"\",J!A192))","v":""},{"$f":"IF(AND(J!A192=\"\",J!B192=\"\"),\"\",J!B192)","v":""},null,null,null,"",null,null,null,null,"",null,"",null,"",null,"",null,9000]
[null,{"$f":"J!E193","v":193},{"$f":"IF(AND(J!A193=\"\",J!B193<>\"\"),\"NESTARTOVALO\",IF(AND(J!A193=\"\",J!B193=\"\"),\"\",J!A193))","v":""},{"$f":"IF(AND(J!A193=\"\",J!B193=\"\"),\"\",J!B193)","v":""},null,null,null,{"$f":"IF($C197=\"\",\"\",IF(OR($E197=\"DNS\",$F197=\"DNS\",$G197=\"DNS\",AND($E197=\"\",$F197=\"\",$G197=\"\")),\"DNS\",IF(OR($E197=\"NP\",$F197=\"NP\",$G197=\"NP\"),\"NP\",IF(ISERROR(MEDIAN($E197:$G197)),\"DNS\",IF(OR($E197=\"X\",$F197=\"X\",$G197=\"X\",$E197=\"\",$F197=\"\",$G197=\"\",$E197=\"x\",$F197=\"x\",$G197=\"x\"),MAX($E197:$G197),MEDIAN($E197:$G197))))))","v":""},null,null,null,null,{"$f":"IF($C197=\"\",\"\",IF(OR($J197=\"DNS\",$K197=\"DNS\",$L197=\"DNS\",AND($J197=\"\",$K197=\"\",$L197=\"\")),\"DNS\",IF(OR($J197=\"NP\",$K197=\"NP\",$L197=\"NP\"),\"NP\",IF(ISERROR(MEDIAN($J197:$L197)),\"DNS\",IF(OR($J197=\"X\",$K197=\"X\",$L197=\"X\",$J197=\"\",$K197=\"\",$L197=\"\",$J197=\"x\",$K197=\"x\",$L197=\"x\"),MAX($J197:$L197),MEDIAN($J197:$L197))))))","v":""},null,{"$f":"IF(C197=\"\",\"\",IF(OR(AND(H197=\"NP\",M197=\"NP\"),AND(H197=\"DNS\",M197=\"DNS\")),H197,IF(AND(H197=\"NP\",M197=\"DNS\"),H197,IF(AND(H197=\"DNS\",M197=\"NP\"),M197,MIN(H197,M197)))))","v":""},null,{"$f":"IF(C197=\"\",\"\",IF(OR(O197=\"NP\",O197=\"DNS\"),O197,RANK(O197,O$5:O$179,1)))","v":""},null,{"$f":"IF(C197=\"\",\"\",IF(O197=\"NP\",MAX(Q$5:Q$179)+1,IF(O197=\"DNS\",MAX(Q$5:Q$179)+COUNTIF(Q$5:Q$179,\"NP\")+1,RANK(O197,O$5:O$179,1))))","v":""},null,{"$f":"IF($C197=\"\",9000,MAX(H197,M197)+(COUNTIF($H197:$H197,\"NP\")*600)+(COUNTIF($M197:$M197,\"NP\")*600)+(COUNTIF($H197:$H197,\"DNS\")*3600)+(COUNTIF($M197:$M197,\"DNS\")*3600))","v":9000}]
[null,{"$f":"J!E194","v":194},{"$f":"IF(AND(J!A194=\"\",J!B194<>\"\"),\"NESTARTOVALO\",IF(AND(J!A194=\"\",J!B194=\"\"),\"\",J!A194))","v":""},{"$f":"IF(AND(J!A194=\"\",J!B194=\"\"),\"\",J!B194)","v":""},null,null,null,"",null,null,null,null,"",null,"",null,"",null,"",null,9000]
[null,{"$f":"J!E195","v":195},{"$f":"IF(AND(J!A195=\"\",J!B195<>\"\"),\"NESTARTOVALO\",IF(AND(J!A195=\"\",J!B195=\"\"),\"\",J!A195))","v":""},{"$f":"IF(AND(J!A195=\"\",J!B195=\"\"),\"\",J!B195)","v":""},null,null,null,"",null,null,null,null,"",null,"",null,"",null,"",null,9000]
[null,{"$f":"J!E196","v":196},{"$f":"IF(AND(J!A196=\"\",J!B196<>\"\"),\"NESTARTOVALO\",IF(AND(J!A196=\"\",J!B196=\"\"),\"\",J!A196))","v":""},{"$f":"IF(AND(J!A196=\"\",J!B196=\"\"),\"\",J!B196)","v":""},null,null,null,"",null,null,null,null,"",null,"",null,"",null,"",null,9000]
[null,{"$f":"J!E197","v":197},{"$f":"IF(AND(J!A197=\"\",J!B197<>\"\"),\"NESTARTOVALO\",IF(AND(J!A197=\"\",J!B197=\"\"),\"\",J!A197))","v":""},{"$f":"IF(AND(J!A197=\"\",J!B197=\"\"),\"\",J!B197)","v":""},null,null,null,"",null,null,null,null,"",null,"",null,"",null,"",null,9000]
[null,{"$f":"J!E198","v":198},{"$f":"IF(AND(J!A198=\"\",J!B198<>\"\"),\"NESTARTOVALO\",IF(AND(J!A198=\"\",J!B198=\"\"),\"\",J!A198))","v":""},{"$f":"IF(AND(J!A198=\"\",J!B198=\"\"),\"\",J!B198)","v":""},null,null,null,"",null,null,null,null,"",null,"",null,"",null,"",null,9000]
[null,{"$f":"J!E199","v":199},{"$f":"IF(AND(J!A199=\"\",J!B199<>\"\"),\"NESTARTOVALO\",IF(AND(J!A199=\"\",J!B199=\"\"),\"\",J!A199))","v":""},{"$f":"IF(AND(J!A199=\"\",J!B199=\"\"),\"\",J!B199)","v":""},null,null,null,"",null,null,null,null,"",null,"",null,"",null,"",null,9000]
[null,{"$f":"J!E200","v":200},{"$f":"IF(AND(J!A200=\"\",J!B200<>\"\"),\"NESTARTOVALO\",IF(AND(J!A200=\"\",J!B200=\"\"),\"\",J!A200))","v":""},{"$f":"IF(AND(J!A200=\"\",J!B200=\"\"),\"\",J!B200)","v":""},null,null,null,"",null,null,null,null,"",null,"",null,"",null,"",null,9000]
[null,{"$f":"J!E201","v":201},{"$f":"IF(AND(J!A201=\"\",J!B201<>\"\"),\"NESTARTOVALO\",IF(AND(J!A201=\"\",J!B201=\"\"),\"\",J!A201))","v":""},{"$f":"IF(AND(J!A201=\"\",J!B201=\"\"),\"\",J!B201)","v":""},null,null,null,"",null,null,null,null,"",null,"",null,"",null,"",null,9000]
[null,{"$f":"J!E202","v":202},{"$f":"IF(AND(J!A202=\"\",J!B202<>\"\"),\"NESTARTOVALO\",IF(AND(J!A202=\"\",J!B202=\"\"),\"\",J!A202))","v":""},{"$f":"IF(AND(J!A202=\"\",J!B202=\"\"),\"\",J!B202)","v":""},null,null,null,"",null,null,null,null,"",null,"",null,"",null,"",null,9000]
[null,{"$f":"J!E203","v":203},{"$f":"IF(AND(J!A203=\"\",J!B203<>\"\"),\"NESTARTOVALO\",IF(AND(J!A203=\"\",J!B203=\"\"),\"\",J!A203))","v":""},{"$f":"IF(AND(J!A203=\"\",J!B203=\"\"),\"\",J!B203)","v":""},null,null,null,"",null,null,null,null,"",null,"",null,"",null,"",null,9000]
[null,{"$f":"J!E204","v":204},{"$f":"IF(AND(J!A204=\"\",J!B204<>\"\"),\"NESTARTOVALO\",IF(AND(J!A204=\"\",J!B204=\"\"),\"\",J!A204))","v":""},{"$f":"IF(AND(J!A204=\"\",J!B204=\"\"),\"\",J!B204)","v":""},null,null,null,"",null,null,null,null,"",null,"",null,"",null,"",null,9000]
[null,{"$f":"J!E205","v":205},{"$f":"IF(AND(J!A205=\"\",J!B205<>\"\"),\"NESTARTOVALO\",IF(AND(J!A205=\"\",J!B205=\"\"),\"\",J!A205))","v":""},{"$f":"IF(AND(J!A205=\"\",J!B205=\"\"),\"\",J!B205)","v":""},null,null,null,"",null,null,null,null,"",null,"",null,"",null,"",null,9000]
[null,{"$f":"J!E206","v":206},{"$f":"IF(AND(J!A206=\"\",J!B206<>\"\"),\"NESTARTOVALO\",IF(AND(J!A206=\"\",J!B206=\"\"),\"\",J!A206))","v":""},{"$f":"IF(AND(J!A206=\"\",J!B206=\"\"),\"\",J!B206)","v":""},null,null,null,"",null,null,null,null,"",null,"",null,"",null,"",null,9000]
[null,{"$f":"J!E207","v":207},{"$f":"IF(AND(J!A207=\"\",J!B207<>\"\"),\"NESTARTOVALO\",IF(AND(J!A207=\"\",J!B207=\"\"),\"\",J!A207))","v":""},{"$f":"IF(AND(J!A207=\"\",J!B207=\"\"),\"\",J!B207)","v":""},null,null,null,"",null,null,null,null,"",null,"",null,"",null,"",null,9000]
[null,{"$f":"J!E208","v":208},{"$f":"IF(AND(J!A208=\"\",J!B208<>\"\"),\"NESTARTOVALO\",IF(AND(J!A208=\"\",J!B208=\"\"),\"\",J!A208))","v":""},{"$f":"IF(AND(J!A208=\"\",J!B208=\"\"),\"\",J!B208)","v":""},null,null,null,"",null,null,null,null,"",null,"",null,"",null,"",null,9000]
[null,{"$f":"J!E209","v":209},{"$f":"IF(AND(J!A209=\"\",J!B209<>\"\"),\"NESTARTOVALO\",IF(AND(J!A209=\"\",J!B209=\"\"),\"\",J!A209))","v":""},{"$f":"IF(AND(J!A209=\"\",J!B209=\"\"),\"\",J!B209)","v":""},null,null,null,"",null,null,null,null,"",null,"",null,"",null,"",null,9000]
[null,{"$f":"J!E210","v":210},{"$f":"IF(AND(J!A210=\"\",J!B210<>\"\"),\"NESTARTOVALO\",IF(AND(J!A210=\"\",J!B210=\"\"),\"\",J!A210))","v":""},{"$f":"IF(AND(J!A210=\"\",J!B210=\"\"),\"\",J!B210)","v":""},null,null,null,"",null,null,null,null,"",null,"",null,"",null,"",null,9000]
[null,{"$f":"J!E211","v":211},{"$f":"IF(AND(J!A211=\"\",J!B211<>\"\"),\"NESTARTOVALO\",IF(AND(J!A211=\"\",J!B211=\"\"),\"\",J!A211))","v":""},{"$f":"IF(AND(J!A211=\"\",J!B211=\"\"),\"\",J!B211)","v":""},null,null,null,"",null,null,null,null,"",null,"",null,"",null,"",null,9000]
[null,{"$f":"J!E212","v":212},{"$f":"IF(AND(J!A212=\"\",J!B212<>\"\"),\"NESTARTOVALO\",IF(AND(J!A212=\"\",J!B212=\"\"),\"\",J!A212))","v":""},{"$f":"IF(AND(J!A212=\"\",J!B212=\"\"),\"\",J!B212)","v":""},null,null,null,"",null,null,null,null,"",null,"",null,"",null,"",null,9000]
[null,{"$f":"J!E213","v":213},{"$f":"IF(AND(J!A213=\"\",J!B213<>\"\"),\"NESTARTOVALO\",IF(AND(J!A213=\"\",J!B213=\"\"),\"\",J!A213))","v":""},{"$f":"IF(AND(J!A213=\"\",J!B213=\"\"),\"\",J!B213)","v":""},null,null,null,"",null,null,null,null,"",null,"",null,"",null,"",null,9000]
[null,{"$f":"J!E214","v":214},{"$f":"IF(AND(J!A214=\"\",J!B214<>\"\"),\"NESTARTOVALO\",IF(AND(J!A214=\"\",J!B214=\"\"),\"\",J!A214))","v":""},{"$f":"IF(AND(J!A214=\"\",J!B214=\"\"),\"\",J!B214)","v":""},null,null,null,"",null,null,null,null,"",null,"",null,"",null,"",null,9000]
[null,{"$f":"J!E215","v":215},{"$f":"IF(AND(J!A215=\"\",J!B215<>\"\"),\"NESTARTOVALO\",IF(AND(J!A215=\"\",J!B215=\"\"),\"\",J!A215))","v":""},{"$f":"IF(AND(J!A215=\"\",J!B215=\"\"),\"\",J!B215)","v":""},null,null,null,"",null,null,null,null,"",null,"",null,"",null,"",null,9000]
[null,{"$f":"J!E216","v":216},{"$f":"IF(AND(J!A216=\"\",J!B216<>\"\"),\"NESTARTOVALO\",IF(AND(J!A216=\"\",J!B216=\"\"),\"\",J!A216))","v":""},{"$f":"IF(AND(J!A216=\"\",J!B216=\"\"),\"\",J!B216)","v":""},null,null,null,"",null,null,null,null,"",null,"",null,"",null,"",null,9000]
[null,{"$f":"J!E217","v":217},{"$f":"IF(AND(J!A217=\"\",J!B217<>\"\"),\"NESTARTOVALO\",IF(AND(J!A217=\"\",J!B217=\"\"),\"\",J!A217))","v":""},{"$f":"IF(AND(J!A217=\"\",J!B217=\"\"),\"\",J!B217)","v":""},null,null,null,"",null,null,null,null,"",null,"",null,"",null,"",null,9000]
[null,{"$f":"J!E218","v":218},{"$f":"IF(AND(J!A218=\"\",J!B218<>\"\"),\"NESTARTOVALO\",IF(AND(J!A218=\"\",J!B218=\"\"),\"\",J!A218))","v":""},{"$f":"IF(AND(J!A218=\"\",J!B218=\"\"),\"\",J!B218)","v":""},null,null,null,"",null,null,null,null,"",null,"",null,"",null,"",null,9000]
[null,{"$f":"J!E219","v":219},{"$f":"IF(AND(J!A219=\"\",J!B219<>\"\"),\"NESTARTOVALO\",IF(AND(J!A219=\"\",J!B219=\"\"),\"\",J!A219))","v":""},{"$f":"IF(AND(J!A219=\"\",J!B219=\"\"),\"\",J!B219)","v":""},null,null,null,"",null,null,null,null,"",null,"",null,"",null,"",null,9000]
[null,{"$f":"J!E220","v":220},{"$f":"IF(AND(J!A220=\"\",J!B220<>\"\"),\"NESTARTOVALO\",IF(AND(J!A220=\"\",J!B220=\"\"),\"\",J!A220))","v":""},{"$f":"IF(AND(J!A220=\"\",J!B220=\"\"),\"\",J!B220)","v":""},null,null,null,"",null,null,null,null,"",null,"",null,"",null,"",null,9000]
[null,{"$f":"J!E221","v":221},{"$f":"IF(AND(J!A221=\"\",J!B221<>\"\"),\"NESTARTOVALO\",IF(AND(J!A221=\"\",J!B221=\"\"),\"\",J!A221))","v":""},{"$f":"IF(AND(J!A221=\"\",J!B221=\"\"),\"\",J!B221)","v":""},null,null,null,"",null,null,null,null,"",null,"",null,"",null,"",null,9000]
[null,{"$f":"J!E222","v":222},{"$f":"IF(AND(J!A222=\"\",J!B222<>\"\"),\"NESTARTOVALO\",IF(AND(J!A222=\"\",J!B222=\"\"),\"\",J!A222))","v":""},{"$f":"IF(AND(J!A222=\"\",J!B222=\"\"),\"\",J!B222)","v":""},null,null,null,"",null,null,null,null,"",null,"",null,"",null,"",null,9000]
[null,{"$f":"J!E223","v":223},{"$f":"IF(AND(J!A223=\"\",J!B223<>\"\"),\"NESTARTOVALO\",IF(AND(J!A223=\"\",J!B223=\"\"),\"\",J!A223))","v":""},{"$f":"IF(AND(J!A223=\"\",J!B223=\"\"),\"\",J!B223)","v":""},null,null,null,"",null,null,null,null,"",null,"",null,"",null,"",null,9000]
[null,{"$f":"J!E224","v":224},{"$f":"IF(AND(J!A224=\"\",J!B224<>\"\"),\"NESTARTOVALO\",IF(AND(J!A224=\"\",J!B224=\"\"),\"\",J!A224))","v":""},{"$f":"IF(AND(J!A224=\"\",J!B224=\"\"),\"\",J!B224)","v":""},null,null,null,"",null,null,null,null,"",null,"",null,"",null,"",null,9000]
[null,{"$f":"J!E225","v":225},{"$f":"IF(AND(J!A225=\"\",J!B225<>\"\"),\"NESTARTOVALO\",IF(AND(J!A225=\"\",J!B225=\"\"),\"\",J!A225))","v":""},{"$f":"IF(AND(J!A225=\"\",J!B225=\"\"),\"\",J!B225)","v":""},null,null,null,"",null,null,null,null,"",null,"",null,"",null,"",null,9000]
[null,{"$f":"J!E226","v":226},{"$f":"IF(AND(J!A226=\"\",J!B226<>\"\"),\"NESTARTOVALO\",IF(AND(J!A226=\"\",J!B226=\"\"),\"\",J!A226))","v":""},{"$f":"IF(AND(J!A226=\"\",J!B226=\"\"),\"\",J!B226)","v":""},null,null,null,"",null,null,null,null,"",null,"",null,"",null,"",null,9000]
[null,{"$f":"J!E227","v":227},{"$f":"IF(AND(J!A227=\"\",J!B227<>\"\"),\"NESTARTOVALO\",IF(AND(J!A227=\"\",J!B227=\"\"),\"\",J!A227))","v":""},{"$f":"IF(AND(J!A227=\"\",J!B227=\"\"),\"\",J!B227)","v":""},null,null,null,"",null,null,null,null,"",null,"",null,"",null,"",null,9000]
[null,{"$f":"J!E228","v":228},{"$f":"IF(AND(J!A228=\"\",J!B228<>\"\"),\"NESTARTOVALO\",IF(AND(J!A228=\"\",J!B228=\"\"),\"\",J!A228))","v":""},{"$f":"IF(AND(J!A228=\"\",J!B228=\"\"),\"\",J!B228)","v":""},null,null,null,"",null,null,null,null,"",null,"",null,"",null,"",null,9000]
[null,{"$f":"J!E229","v":229},{"$f":"IF(AND(J!A229=\"\",J!B229<>\"\"),\"NESTARTOVALO\",IF(AND(J!A229=\"\",J!B229=\"\"),\"\",J!A229))","v":""},{"$f":"IF(AND(J!A229=\"\",J!B229=\"\"),\"\",J!B229)","v":""},null,null,null,"",null,null,null,null,"",null,"",null,"",null,"",null,9000]
[null,{"$f":"J!E230","v":230},{"$f":"IF(AND(J!A230=\"\",J!B230<>\"\"),\"NESTARTOVALO\",IF(AND(J!A230=\"\",J!B230=\"\"),\"\",J!A230))","v":""},{"$f":"IF(AND(J!A230=\"\",J!B230=\"\"),\"\",J!B230)","v":""},null,null,null,"",null,null,null,null,"",null,"",null,"",null,"",null,9000]
[null,{"$f":"J!E231","v":231},{"$f":"IF(AND(J!A231=\"\",J!B231<>\"\"),\"NESTARTOVALO\",IF(AND(J!A231=\"\",J!B231=\"\"),\"\",J!A231))","v":""},{"$f":"IF(AND(J!A231=\"\",J!B231=\"\"),\"\",J!B231)","v":""},null,null,null,"",null,null,null,null,"",null,"",null,"",null,"",null,9000]
[null,{"$f":"J!E232","v":232},{"$f":"IF(AND(J!A232=\"\",J!B232<>\"\"),\"NESTARTOVALO\",IF(AND(J!A232=\"\",J!B232=\"\"),\"\",J!A232))","v":""},{"$f":"IF(AND(J!A232=\"\",J!B232=\"\"),\"\",J!B232)","v":""},null,null,null,"",null,null,null,null,"",null,"",null,"",null,"",null,9000]
[null,{"$f":"J!E233","v":233},{"$f":"IF(AND(J!A233=\"\",J!B233<>\"\"),\"NESTARTOVALO\",IF(AND(J!A233=\"\",J!B233=\"\"),\"\",J!A233))","v":""},{"$f":"IF(AND(J!A233=\"\",J!B233=\"\"),\"\",J!B233)","v":""},null,null,null,"",null,null,null,null,"",null,"",null,"",null,"",null,9000]
[null,{"$f":"J!E234","v":234},{"$f":"IF(AND(J!A234=\"\",J!B234<>\"\"),\"NESTARTOVALO\",IF(AND(J!A234=\"\",J!B234=\"\"),\"\",J!A234))","v":""},{"$f":"IF(AND(J!A234=\"\",J!B234=\"\"),\"\",J!B234)","v":""},null,null,null,"",null,null,null,null,"",null,"",null,"",null,"",null,9000]
[null,{"$f":"J!E235","v":235},{"$f":"IF(AND(J!A235=\"\",J!B235<>\"\"),\"NESTARTOVALO\",IF(AND(J!A235=\"\",J!B235=\"\"),\"\",J!A235))","v":""},{"$f":"IF(AND(J!A235=\"\",J!B235=\"\"),\"\",J!B235)","v":""},null,null,null,"",null,null,null,null,"",null,"",null,"",null,"",null,9000]
[null,{"$f":"J!E236","v":236},{"$f":"IF(AND(J!A236=\"\",J!B236<>\"\"),\"NESTARTOVALO\",IF(AND(J!A236=\"\",J!B236=\"\"),\"\",J!A236))","v":""},{"$f":"IF(AND(J!A236=\"\",J!B236=\"\"),\"\",J!B236)","v":""},null,null,null,"",null,null,null,null,"",null,"",null,"",null,"",null,9000]
[null,{"$f":"J!E237","v":237},{"$f":"IF(AND(J!A237=\"\",J!B237<>\"\"),\"NESTARTOVALO\",IF(AND(J!A237=\"\",J!B237=\"\"),\"\",J!A237))","v":""},{"$f":"IF(AND(J!A237=\"\",J!B237=\"\"),\"\",J!B237)","v":""},null,null,null,"",null,null,null,null,"",null,"",null,"",null,"",null,9000]
[null,{"$f":"J!E238","v":238},{"$f":"IF(AND(J!A238=\"\",J!B238<>\"\"),\"NESTARTOVALO\",IF(AND(J!A238=\"\",J!B238=\"\"),\"\",J!A238))","v":""},{"$f":"IF(AND(J!A238=\"\",J!B238=\"\"),\"\",J!B238)","v":""},null,null,null,"",null,null,null,null,"",null,"",null,"",null,"",null,9000]
[null,{"$f":"J!E239","v":239},{"$f":"IF(AND(J!A239=\"\",J!B239<>\"\"),\"NESTARTOVALO\",IF(AND(J!A239=\"\",J!B239=\"\"),\"\",J!A239))","v":""},{"$f":"IF(AND(J!A239=\"\",J!B239=\"\"),\"\",J!B239)","v":""},null,null,null,"",null,null,null,null,"",null,"",null,"",null,"",null,9000]
[null,{"$f":"J!E240","v":240},{"$f":"IF(AND(J!A240=\"\",J!B240<>\"\"),\"NESTARTOVALO\",IF(AND(J!A240=\"\",J!B240=\"\"),\"\",J!A240))","v":""},{"$f":"IF(AND(J!A240=\"\",J!B240=\"\"),\"\",J!B240)","v":""},null,null,null,"",null,null,null,null,"",null,"",null,"",null,"",null,9000]
[null,{"$f":"J!E241","v":241},{"$f":"IF(AND(J!A241=\"\",J!B241<>\"\"),\"NESTARTOVALO\",IF(AND(J!A241=\"\",J!B241=\"\"),\"\",J!A241))","v":""},{"$f":"IF(AND(J!A241=\"\",J!B241=\"\"),\"\",J!B241)","v":""},null,null,null,"",null,null,null,null,"",null,"",null,"",null,"",null,9000]
[null,{"$f":"J!E242","v":242},{"$f":"IF(AND(J!A242=\"\",J!B242<>\"\"),\"NESTARTOVALO\",IF(AND(J!A242=\"\",J!B242=\"\"),\"\",J!A242))","v":""},{"$f":"IF(AND(J!A242=\"\",J!B242=\"\"),\"\",J!B242)","v":""},null,null,null,"",null,null,null,null,"",null,"",null,"",null,"",null,9000]
[null,{"$f":"J!E243","v":243},{"$f":"IF(AND(J!A243=\"\",J!B243<>\"\"),\"NESTARTOVALO\",IF(AND(J!A243=\"\",J!B243=\"\"),\"\",J!A243))","v":""},{"$f":"IF(AND(J!A243=\"\",J!B243=\"\"),\"\",J!B243)","v":""},null,null,null,"",null,null,null,null,"",null,"",null,"",null,"",null,9000]
[null,{"$f":"J!E244","v":244},{"$f":"IF(AND(J!A244=\"\",J!B244<>\"\"),\"NESTARTOVALO\",IF(AND(J!A244=\"\",J!B244=\"\"),\"\",J!A244))","v":""},{"$f":"IF(AND(J!A244=\"\",J!B244=\"\"),\"\",J!B244)","v":""},null,null,null,"",null,null,null,null,"",null,"",null,"",null,"",null,9000]
[null,{"$f":"J!E245","v":245},{"$f":"IF(AND(J!A245=\"\",J!B245<>\"\"),\"NESTARTOVALO\",IF(AND(J!A245=\"\",J!B245=\"\"),\"\",J!A245))","v":""},{"$f":"IF(AND(J!A245=\"\",J!B245=\"\"),\"\",J!B245)","v":""},null,null,null,"",null,null,null,null,"",null,"",null,"",null,"",null,9000]
[null,{"$f":"J!E246","v":246},{"$f":"IF(AND(J!A246=\"\",J!B246<>\"\"),\"NESTARTOVALO\",IF(AND(J!A246=\"\",J!B246=\"\"),\"\",J!A246))","v":""},{"$f":"IF(AND(J!A246=\"\",J!B246=\"\"),\"\",J!B246)","v":""},null,null,null,"",null,null,null,null,"",null,"",null,"",null,"",null,9000]
[null,{"$f":"J!E247","v":247},{"$f":"IF(AND(J!A247=\"\",J!B247<>\"\"),\"NESTARTOVALO\",IF(AND(J!A247=\"\",J!B247=\"\"),\"\",J!A247))","v":""},{"$f":"IF(AND(J!A247=\"\",J!B247=\"\"),\"\",J!B247)","v":""},null,null,null,"",null,null,null,null,"",null,"",null,"",null,"",null,9000]
[null,{"$f":"J!E248","v":248},{"$f":"IF(AND(J!A248=\"\",J!B248<>\"\"),\"NESTARTOVALO\",IF(AND(J!A248=\"\",J!B248=\"\"),\"\",J!A248))","v":""},{"$f":"IF(AND(J!A248=\"\",J!B248=\"\"),\"\",J!B248)","v":""},null,null,null,"",null,null,null,null,"",null,"",null,"",null,"",null,9000]
[null,{"$f":"J!E249","v":249},{"$f":"IF(AND(J!A249=\"\",J!B249<>\"\"),\"NESTARTOVALO\",IF(AND(J!A249=\"\",J!B249=\"\"),\"\",J!A249))","v":""},{"$f":"IF(AND(J!A249=\"\",J!B249=\"\"),\"\",J!B249)","v":""},null,null,null,"",null,null,null,null,"",null,"",null,"",null,"",null,9000]
[null,{"$f":"J!E250","v":250},{"$f":"IF(AND(J!A250=\"\",J!B250<>\"\"),\"NESTARTOVALO\",IF(AND(J!A250=\"\",J!B250=\"\"),\"\",J!A250))","v":""},{"$f":"IF(AND(J!A250=\"\",J!B250=\"\"),\"\",J!B250)","v":""},null,null,null,"",null,null,null,null,"",null,"",null,"",null,"",null,9000]
[null,{"$f":"J!E251","v":251},{"$f":"IF(AND(J!A251=\"\",J!B251<>\"\"),\"NESTARTOVALO\",IF(AND(J!A251=\"\",J!B251=\"\"),\"\",J!A251))","v":""},{"$f":"IF(AND(J!A251=\"\",J!B251=\"\"),\"\",J!B251)","v":""},null,null,null,"",null,null,null,null,"",null,"",null,"",null,"",null,9000]
[null,{"$f":"J!E252","v":252},{"$f":"IF(AND(J!A252=\"\",J!B252<>\"\"),\"NESTARTOVALO\",IF(AND(J!A252=\"\",J!B252=\"\"),\"\",J!A252))","v":""},{"$f":"IF(AND(J!A252=\"\",J!B252=\"\"),\"\",J!B252)","v":""},null,null,null,"",null,null,null,null,"",null,"",null,"",null,"",null,9000]
[null,{"$f":"J!E253","v":253},{"$f":"IF(AND(J!A253=\"\",J!B253<>\"\"),\"NESTARTOVALO\",IF(AND(J!A253=\"\",J!B253=\"\"),\"\",J!A253))","v":""},{"$f":"IF(AND(J!A253=\"\",J!B253=\"\"),\"\",J!B253)","v":""},null,null,null,"",null,null,null,null,"",null,"",null,"",null,"",null,9000]
[null,{"$f":"J!E254","v":254},{"$f":"IF(AND(J!A254=\"\",J!B254<>\"\"),\"NESTARTOVALO\",IF(AND(J!A254=\"\",J!B254=\"\"),\"\",J!A254))","v":""},{"$f":"IF(AND(J!A254=\"\",J!B254=\"\"),\"\",J!B254)","v":""},null,null,null,"",null,null,null,null,"",null,"",null,"",null,"",null,9000]
[null,{"$f":"J!E255","v":255},{"$f":"IF(AND(J!A255=\"\",J!B255<>\"\"),\"NESTARTOVALO\",IF(AND(J!A255=\"\",J!B255=\"\"),\"\",J!A255))","v":""},{"$f":"IF(AND(J!A255=\"\",J!B255=\"\"),\"\",J!B255)","v":""},null,null,null,"",null,null,null,null,"",null,"",null,"",null,"",null,9000]
[null,{"$f":"J!E256","v":256},{"$f":"IF(AND(J!A256=\"\",J!B256<>\"\"),\"NESTARTOVALO\",IF(AND(J!A256=\"\",J!B256=\"\"),\"\",J!A256))","v":""},{"$f":"IF(AND(J!A256=\"\",J!B256=\"\"),\"\",J!B256)","v":""},null,null,null,"",null,null,null,null,"",null,"",null,"",null,"",null,9000]
[null,{"$f":"J!E257","v":257},{"$f":"IF(AND(J!A257=\"\",J!B257<>\"\"),\"NESTARTOVALO\",IF(AND(J!A257=\"\",J!B257=\"\"),\"\",J!A257))","v":""},{"$f":"IF(AND(J!A257=\"\",J!B257=\"\"),\"\",J!B257)","v":""},null,null,null,{"$f":"IF($C261=\"\",\"\",IF(OR($E261=\"DNS\",$F261=\"DNS\",$G261=\"DNS\",AND($E261=\"\",$F261=\"\",$G261=\"\")),\"DNS\",IF(OR($E261=\"NP\",$F261=\"NP\",$G261=\"NP\"),\"NP\",IF(ISERROR(MEDIAN($E261:$G261)),\"DNS\",IF(OR($E261=\"X\",$F261=\"X\",$G261=\"X\",$E261=\"\",$F261=\"\",$G261=\"\",$E261=\"x\",$F261=\"x\",$G261=\"x\"),MAX($E261:$G261),MEDIAN($E261:$G261))))))","v":""},null,null,null,null,{"$f":"IF($C261=\"\",\"\",IF(OR($J261=\"DNS\",$K261=\"DNS\",$L261=\"DNS\",AND($J261=\"\",$K261=\"\",$L261=\"\")),\"DNS\",IF(OR($J261=\"NP\",$K261=\"NP\",$L261=\"NP\"),\"NP\",IF(ISERROR(MEDIAN($J261:$L261)),\"DNS\",IF(OR($J261=\"X\",$K261=\"X\",$L261=\"X\",$J261=\"\",$K261=\"\",$L261=\"\",$J261=\"x\",$K261=\"x\",$L261=\"x\"),MAX($J261:$L261),MEDIAN($J261:$L261))))))","v":""},null,{"$f":"IF(C261=\"\",\"\",IF(OR(AND(H261=\"NP\",M261=\"NP\"),AND(H261=\"DNS\",M261=\"DNS\")),H261,IF(AND(H261=\"NP\",M261=\"DNS\"),H261,IF(AND(H261=\"DNS\",M261=\"NP\"),M261,MIN(H261,M261)))))","v":""},null,{"$f":"IF(C261=\"\",\"\",IF(OR(O261=\"NP\",O261=\"DNS\"),O261,RANK(O261,O$5:O$179,1)))","v":""},null,{"$f":"IF(C261=\"\",\"\",IF(O261=\"NP\",MAX(Q$5:Q$179)+1,IF(O261=\"DNS\",MAX(Q$5:Q$179)+COUNTIF(Q$5:Q$179,\"NP\")+1,RANK(O261,O$5:O$179,1))))","v":""},null,{"$f":"IF($C261=\"\",9000,MAX(H261,M261)+(COUNTIF($H261:$H261,\"NP\")*600)+(COUNTIF($M261:$M261,\"NP\")*600)+(COUNTIF($H261:$H261,\"DNS\")*3600)+(COUNTIF($M261:$M261,\"DNS\")*3600))","v":9000}]
[null,{"$f":"J!E258","v":258},{"$f":"IF(AND(J!A258=\"\",J!B258<>\"\"),\"NESTARTOVALO\",IF(AND(J!A258=\"\",J!B258=\"\"),\"\",J!A258))","v":""},{"$f":"IF(AND(J!A258=\"\",J!B258=\"\"),\"\",J!B258)","v":""},null,null,null,"",null,null,null,null,"",null,"",null,"",null,"",null,9000]
[null,{"$f":"J!E259","v":259},{"$f":"IF(AND(J!A259=\"\",J!B259<>\"\"),\"NESTARTOVALO\",IF(AND(J!A259=\"\",J!B259=\"\"),\"\",J!A259))","v":""},{"$f":"IF(AND(J!A259=\"\",J!B259=\"\"),\"\",J!B259)","v":""},null,null,null,"",null,null,null,null,"",null,"",null,"",null,"",null,9000]
[null,{"$f":"J!E260","v":260},{"$f":"IF(AND(J!A260=\"\",J!B260<>\"\"),\"NESTARTOVALO\",IF(AND(J!A260=\"\",J!B260=\"\"),\"\",J!A260))","v":""},{"$f":"IF(AND(J!A260=\"\",J!B260=\"\"),\"\",J!B260)","v":""},null,null,null,"",null,null,null,null,"",null,"",null,"",null,"",null,9000]
[null,{"$f":"J!E261","v":261},{"$f":"IF(AND(J!A261=\"\",J!B261<>\"\"),\"NESTARTOVALO\",IF(AND(J!A261=\"\",J!B261=\"\"),\"\",J!A261))","v":""},{"$f":"IF(AND(J!A261=\"\",J!B261=\"\"),\"\",J!B261)","v":""},null,null,null,"",null,null,null,null,"",null,"",null,"",null,"",null,9000]
[null,{"$f":"J!E262","v":262},{"$f":"IF(AND(J!A262=\"\",J!B262<>\"\"),\"NESTARTOVALO\",IF(AND(J!A262=\"\",J!B262=\"\"),\"\",J!A262))","v":""},{"$f":"IF(AND(J!A262=\"\",J!B262=\"\"),\"\",J!B262)","v":""},null,null,null,"",null,null,null,null,"",null,"",null,"",null,"",null,9000]
[null,{"$f":"J!E263","v":263},{"$f":"IF(AND(J!A263=\"\",J!B263<>\"\"),\"NESTARTOVALO\",IF(AND(J!A263=\"\",J!B263=\"\"),\"\",J!A263))","v":""},{"$f":"IF(AND(J!A263=\"\",J!B263=\"\"),\"\",J!B263)","v":""},null,null,null,"",null,null,null,null,"",null,"",null,"",null,"",null,9000]
[null,{"$f":"J!E264","v":264},{"$f":"IF(AND(J!A264=\"\",J!B264<>\"\"),\"NESTARTOVALO\",IF(AND(J!A264=\"\",J!B264=\"\"),\"\",J!A264))","v":""},{"$f":"IF(AND(J!A264=\"\",J!B264=\"\"),\"\",J!B264)","v":""},null,null,null,"",null,null,null,null,"",null,"",null,"",null,"",null,9000]
[null,{"$f":"J!E265","v":265},{"$f":"IF(AND(J!A265=\"\",J!B265<>\"\"),\"NESTARTOVALO\",IF(AND(J!A265=\"\",J!B265=\"\"),\"\",J!A265))","v":""},{"$f":"IF(AND(J!A265=\"\",J!B265=\"\"),\"\",J!B265)","v":""},null,null,null,"",null,null,null,null,"",null,"",null,"",null,"",null,9000]
[null,{"$f":"J!E266","v":266},{"$f":"IF(AND(J!A266=\"\",J!B266<>\"\"),\"NESTARTOVALO\",IF(AND(J!A266=\"\",J!B266=\"\"),\"\",J!A266))","v":""},{"$f":"IF(AND(J!A266=\"\",J!B266=\"\"),\"\",J!B266)","v":""},null,null,null,"",null,null,null,null,"",null,"",null,"",null,"",null,9000]
[null,{"$f":"J!E267","v":267},{"$f":"IF(AND(J!A267=\"\",J!B267<>\"\"),\"NESTARTOVALO\",IF(AND(J!A267=\"\",J!B267=\"\"),\"\",J!A267))","v":""},{"$f":"IF(AND(J!A267=\"\",J!B267=\"\"),\"\",J!B267)","v":""},null,null,null,"",null,null,null,null,"",null,"",null,"",null,"",null,9000]
[null,{"$f":"J!E268","v":268},{"$f":"IF(AND(J!A268=\"\",J!B268<>\"\"),\"NESTARTOVALO\",IF(AND(J!A268=\"\",J!B268=\"\"),\"\",J!A268))","v":""},{"$f":"IF(AND(J!A268=\"\",J!B268=\"\"),\"\",J!B268)","v":""},null,null,null,"",null,null,null,null,"",null,"",null,"",null,"",null,9000]
[null,{"$f":"J!E269","v":269},{"$f":"IF(AND(J!A269=\"\",J!B269<>\"\"),\"NESTARTOVALO\",IF(AND(J!A269=\"\",J!B269=\"\"),\"\",J!A269))","v":""},{"$f":"IF(AND(J!A269=\"\",J!B269=\"\"),\"\",J!B269)","v":""},null,null,null,"",null,null,null,null,"",null,"",null,"",null,"",null,9000]
[null,{"$f":"J!E270","v":270},{"$f":"IF(AND(J!A270=\"\",J!B270<>\"\"),\"NESTARTOVALO\",IF(AND(J!A270=\"\",J!B270=\"\"),\"\",J!A270))","v":""},{"$f":"IF(AND(J!A270=\"\",J!B270=\"\"),\"\",J!B270)","v":""},null,null,null,"",null,null,null,null,"",null,"",null,"",null,"",null,9000]
[null,{"$f":"J!E271","v":271},{"$f":"IF(AND(J!A271=\"\",J!B271<>\"\"),\"NESTARTOVALO\",IF(AND(J!A271=\"\",J!B271=\"\"),\"\",J!A271))","v":""},{"$f":"IF(AND(J!A271=\"\",J!B271=\"\"),\"\",J!B271)","v":""},null,null,null,"",null,null,null,null,"",null,"",null,"",null,"",null,9000]
[null,{"$f":"J!E272","v":272},{"$f":"IF(AND(J!A272=\"\",J!B272<>\"\"),\"NESTARTOVALO\",IF(AND(J!A272=\"\",J!B272=\"\"),\"\",J!A272))","v":""},{"$f":"IF(AND(J!A272=\"\",J!B272=\"\"),\"\",J!B272)","v":""},null,null,null,"",null,null,null,null,"",null,"",null,"",null,"",null,9000]
[null,{"$f":"J!E273","v":273},{"$f":"IF(AND(J!A273=\"\",J!B273<>\"\"),\"NESTARTOVALO\",IF(AND(J!A273=\"\",J!B273=\"\"),\"\",J!A273))","v":""},{"$f":"IF(AND(J!A273=\"\",J!B273=\"\"),\"\",J!B273)","v":""},null,null,null,"",null,null,null,null,"",null,"",null,"",null,"",null,9000]
[null,{"$f":"J!E274","v":274},{"$f":"IF(AND(J!A274=\"\",J!B274<>\"\"),\"NESTARTOVALO\",IF(AND(J!A274=\"\",J!B274=\"\"),\"\",J!A274))","v":""},{"$f":"IF(AND(J!A274=\"\",J!B274=\"\"),\"\",J!B274)","v":""},null,null,null,"",null,null,null,null,"",null,"",null,"",null,"",null,9000]
[null,{"$f":"J!E275","v":275},{"$f":"IF(AND(J!A275=\"\",J!B275<>\"\"),\"NESTARTOVALO\",IF(AND(J!A275=\"\",J!B275=\"\"),\"\",J!A275))","v":""},{"$f":"IF(AND(J!A275=\"\",J!B275=\"\"),\"\",J!B275)","v":""},null,null,null,"",null,null,null,null,"",null,"",null,"",null,"",null,9000]
[null,{"$f":"J!E276","v":276},{"$f":"IF(AND(J!A276=\"\",J!B276<>\"\"),\"NESTARTOVALO\",IF(AND(J!A276=\"\",J!B276=\"\"),\"\",J!A276))","v":""},{"$f":"IF(AND(J!A276=\"\",J!B276=\"\"),\"\",J!B276)","v":""},null,null,null,"",null,null,null,null,"",null,"",null,"",null,"",null,9000]
[null,{"$f":"J!E277","v":277},{"$f":"IF(AND(J!A277=\"\",J!B277<>\"\"),\"NESTARTOVALO\",IF(AND(J!A277=\"\",J!B277=\"\"),\"\",J!A277))","v":""},{"$f":"IF(AND(J!A277=\"\",J!B277=\"\"),\"\",J!B277)","v":""},null,null,null,"",null,null,null,null,"",null,"",null,"",null,"",null,9000]
[null,{"$f":"J!E278","v":278},{"$f":"IF(AND(J!A278=\"\",J!B278<>\"\"),\"NESTARTOVALO\",IF(AND(J!A278=\"\",J!B278=\"\"),\"\",J!A278))","v":""},{"$f":"IF(AND(J!A278=\"\",J!B278=\"\"),\"\",J!B278)","v":""},null,null,null,"",null,null,null,null,"",null,"",null,"",null,"",null,9000]
[null,{"$f":"J!E279","v":279},{"$f":"IF(AND(J!A279=\"\",J!B279<>\"\"),\"NESTARTOVALO\",IF(AND(J!A279=\"\",J!B279=\"\"),\"\",J!A279))","v":""},{"$f":"IF(AND(J!A279=\"\",J!B279=\"\"),\"\",J!B279)","v":""},null,null,null,"",null,null,null,null,"",null,"",null,"",null,"",null,9000]
[null,{"$f":"J!E280","v":280},{"$f":"IF(AND(J!A280=\"\",J!B280<>\"\"),\"NESTARTOVALO\",IF(AND(J!A280=\"\",J!B280=\"\"),\"\",J!A280))","v":""},{"$f":"IF(AND(J!A280=\"\",J!B280=\"\"),\"\",J!B280)","v":""},null,null,null,"",null,null,null,null,"",null,"",null,"",null,"",null,9000]
[null,{"$f":"J!E281","v":281},{"$f":"IF(AND(J!A281=\"\",J!B281<>\"\"),\"NESTARTOVALO\",IF(AND(J!A281=\"\",J!B281=\"\"),\"\",J!A281))","v":""},{"$f":"IF(AND(J!A281=\"\",J!B281=\"\"),\"\",J!B281)","v":""},null,null,null,"",null,null,null,null,"",null,"",null,"",null,"",null,9000]
[null,{"$f":"J!E282","v":282},{"$f":"IF(AND(J!A282=\"\",J!B282<>\"\"),\"NESTARTOVALO\",IF(AND(J!A282=\"\",J!B282=\"\"),\"\",J!A282))","v":""},{"$f":"IF(AND(J!A282=\"\",J!B282=\"\"),\"\",J!B282)","v":""},null,null,null,"",null,null,null,null,"",null,"",null,"",null,"",null,9000]
[null,{"$f":"J!E283","v":283},{"$f":"IF(AND(J!A283=\"\",J!B283<>\"\"),\"NESTARTOVALO\",IF(AND(J!A283=\"\",J!B283=\"\"),\"\",J!A283))","v":""},{"$f":"IF(AND(J!A283=\"\",J!B283=\"\"),\"\",J!B283)","v":""},null,null,null,"",null,null,null,null,"",null,"",null,"",null,"",null,9000]
[null,{"$f":"J!E284","v":284},{"$f":"IF(AND(J!A284=\"\",J!B284<>\"\"),\"NESTARTOVALO\",IF(AND(J!A284=\"\",J!B284=\"\"),\"\",J!A284))","v":""},{"$f":"IF(AND(J!A284=\"\",J!B284=\"\"),\"\",J!B284)","v":""},null,null,null,"",null,null,null,null,"",null,"",null,"",null,"",null,9000]
[null,{"$f":"J!E285","v":285},{"$f":"IF(AND(J!A285=\"\",J!B285<>\"\"),\"NESTARTOVALO\",IF(AND(J!A285=\"\",J!B285=\"\"),\"\",J!A285))","v":""},{"$f":"IF(AND(J!A285=\"\",J!B285=\"\"),\"\",J!B285)","v":""},null,null,null,"",null,null,null,null,"",null,"",null,"",null,"",null,9000]
[null,{"$f":"J!E286","v":286},{"$f":"IF(AND(J!A286=\"\",J!B286<>\"\"),\"NESTARTOVALO\",IF(AND(J!A286=\"\",J!B286=\"\"),\"\",J!A286))","v":""},{"$f":"IF(AND(J!A286=\"\",J!B286=\"\"),\"\",J!B286)","v":""},null,null,null,"",null,null,null,null,"",null,"",null,"",null,"",null,9000]
[null,{"$f":"J!E287","v":287},{"$f":"IF(AND(J!A287=\"\",J!B287<>\"\"),\"NESTARTOVALO\",IF(AND(J!A287=\"\",J!B287=\"\"),\"\",J!A287))","v":""},{"$f":"IF(AND(J!A287=\"\",J!B287=\"\"),\"\",J!B287)","v":""},null,null,null,"",null,null,null,null,"",null,"",null,"",null,"",null,9000]
[null,{"$f":"J!E288","v":288},{"$f":"IF(AND(J!A288=\"\",J!B288<>\"\"),\"NESTARTOVALO\",IF(AND(J!A288=\"\",J!B288=\"\"),\"\",J!A288))","v":""},{"$f":"IF(AND(J!A288=\"\",J!B288=\"\"),\"\",J!B288)","v":""},null,null,null,"",null,null,null,null,"",null,"",null,"",null,"",null,9000]
[null,{"$f":"J!E289","v":289},{"$f":"IF(AND(J!A289=\"\",J!B289<>\"\"),\"NESTARTOVALO\",IF(AND(J!A289=\"\",J!B289=\"\"),\"\",J!A289))","v":""},{"$f":"IF(AND(J!A289=\"\",J!B289=\"\"),\"\",J!B289)","v":""},null,null,null,"",null,null,null,null,"",null,"",null,"",null,"",null,9000]
[null,{"$f":"J!E290","v":290},{"$f":"IF(AND(J!A290=\"\",J!B290<>\"\"),\"NESTARTOVALO\",IF(AND(J!A290=\"\",J!B290=\"\"),\"\",J!A290))","v":""},{"$f":"IF(AND(J!A290=\"\",J!B290=\"\"),\"\",J!B290)","v":""},null,null,null,"",null,null,null,null,"",null,"",null,"",null,"",null,9000]
[null,{"$f":"J!E291","v":291},{"$f":"IF(AND(J!A291=\"\",J!B291<>\"\"),\"NESTARTOVALO\",IF(AND(J!A291=\"\",J!B291=\"\"),\"\",J!A291))","v":""},{"$f":"IF(AND(J!A291=\"\",J!B291=\"\"),\"\",J!B291)","v":""},null,null,null,"",null,null,null,null,"",null,"",null,"",null,"",null,9000]
[null,{"$f":"J!E292","v":292},{"$f":"IF(AND(J!A292=\"\",J!B292<>\"\"),\"NESTARTOVALO\",IF(AND(J!A292=\"\",J!B292=\"\"),\"\",J!A292))","v":""},{"$f":"IF(AND(J!A292=\"\",J!B292=\"\"),\"\",J!B292)","v":""},null,null,null,"",null,null,null,null,"",null,"",null,"",null,"",null,9000]
[null,{"$f":"J!E293","v":293},{"$f":"IF(AND(J!A293=\"\",J!B293<>\"\"),\"NESTARTOVALO\",IF(AND(J!A293=\"\",J!B293=\"\"),\"\",J!A293))","v":""},{"$f":"IF(AND(J!A293=\"\",J!B293=\"\"),\"\",J!B293)","v":""},null,null,null,"",null,null,null,null,"",null,"",null,"",null,"",null,9000]
[null,{"$f":"J!E294","v":294},{"$f":"IF(AND(J!A294=\"\",J!B294<>\"\"),\"NESTARTOVALO\",IF(AND(J!A294=\"\",J!B294=\"\"),\"\",J!A294))","v":""},{"$f":"IF(AND(J!A294=\"\",J!B294=\"\"),\"\",J!B294)","v":""},null,null,null,"",null,null,null,null,"",null,"",null,"",null,"",null,9000]
[null,{"$f":"J!E295","v":295},{"$f":"IF(AND(J!A295=\"\",J!B295<>\"\"),\"NESTARTOVALO\",IF(AND(J!A295=\"\",J!B295=\"\"),\"\",J!A295))","v":""},{"$f":"IF(AND(J!A295=\"\",J!B295=\"\"),\"\",J!B295)","v":""},null,null,null,"",null,null,null,null,"",null,"",null,"",null,"",null,9000]
[null,{"$f":"J!E296","v":296},{"$f":"IF(AND(J!A296=\"\",J!B296<>\"\"),\"NESTARTOVALO\",IF(AND(J!A296=\"\",J!B296=\"\"),\"\",J!A296))","v":""},{"$f":"IF(AND(J!A296=\"\",J!B296=\"\"),\"\",J!B296)","v":""},null,null,null,"",null,null,null,null,"",null,"",null,"",null,"",null,9000]
[null,{"$f":"J!E297","v":297},{"$f":"IF(AND(J!A297=\"\",J!B297<>\"\"),\"NESTARTOVALO\",IF(AND(J!A297=\"\",J!B297=\"\"),\"\",J!A297))","v":""},{"$f":"IF(AND(J!A297=\"\",J!B297=\"\"),\"\",J!B297)","v":""},null,null,null,"",null,null,null,null,"",null,"",null,"",null,"",null,9000]
[null,{"$f":"J!E298","v":298},{"$f":"IF(AND(J!A298=\"\",J!B298<>\"\"),\"NESTARTOVALO\",IF(AND(J!A298=\"\",J!B298=\"\"),\"\",J!A298))","v":""},{"$f":"IF(AND(J!A298=\"\",J!B298=\"\"),\"\",J!B298)","v":""},null,null,null,"",null,null,null,null,"",null,"",null,"",null,"",null,9000]
[null,{"$f":"J!E299","v":299},{"$f":"IF(AND(J!A299=\"\",J!B299<>\"\"),\"NESTARTOVALO\",IF(AND(J!A299=\"\",J!B299=\"\"),\"\",J!A299))","v":""},{"$f":"IF(AND(J!A299=\"\",J!B299=\"\"),\"\",J!B299)","v":""},null,null,null,"",null,null,null,null,"",null,"",null,"",null,"",null,9000]
[null,{"$f":"J!E300","v":300},{"$f":"IF(AND(J!A300=\"\",J!B300<>\"\"),\"NESTARTOVALO\",IF(AND(J!A300=\"\",J!B300=\"\"),\"\",J!A300))","v":""},{"$f":"IF(AND(J!A300=\"\",J!B300=\"\"),\"\",J!B300)","v":""},null,null,null,"",null,null,null,null,"",null,"",null,"",null,"",null,9000]
[null,{"$f":"J!E301","v":301},{"$f":"IF(AND(J!A301=\"\",J!B301<>\"\"),\"NESTARTOVALO\",IF(AND(J!A301=\"\",J!B301=\"\"),\"\",J!A301))","v":""},{"$f":"IF(AND(J!A301=\"\",J!B301=\"\"),\"\",J!B301)","v":""},null,null,null,"",null,null,null,null,"",null,"",null,"",null,"",null,9000]
[null,{"$f":"J!E302","v":302},{"$f":"IF(AND(J!A302=\"\",J!B302<>\"\"),\"NESTARTOVALO\",IF(AND(J!A302=\"\",J!B302=\"\"),\"\",J!A302))","v":""},{"$f":"IF(AND(J!A302=\"\",J!B302=\"\"),\"\",J!B302)","v":""},null,null,null,"",null,null,null,null,"",null,"",null,"",null,"",null,9000]
[null,{"$f":"J!E303","v":303},{"$f":"IF(AND(J!A303=\"\",J!B303<>\"\"),\"NESTARTOVALO\",IF(AND(J!A303=\"\",J!B303=\"\"),\"\",J!A303))","v":""},{"$f":"IF(AND(J!A303=\"\",J!B303=\"\"),\"\",J!B303)","v":""},null,null,null,"",null,null,null,null,"",null,"",null,"",null,"",null,9000]
[null,{"$f":"J!E304","v":304},{"$f":"IF(AND(J!A304=\"\",J!B304<>\"\"),\"NESTARTOVALO\",IF(AND(J!A304=\"\",J!B304=\"\"),\"\",J!A304))","v":""},{"$f":"IF(AND(J!A304=\"\",J!B304=\"\"),\"\",J!B304)","v":""},null,null,null,"",null,null,null,null,"",null,"",null,"",null,"",null,9000]
[null,{"$f":"J!E305","v":305},{"$f":"IF(AND(J!A305=\"\",J!B305<>\"\"),\"NESTARTOVALO\",IF(AND(J!A305=\"\",J!B305=\"\"),\"\",J!A305))","v":""},{"$f":"IF(AND(J!A305=\"\",J!B305=\"\"),\"\",J!B305)","v":""},null,null,null,"",null,null,null,null,"",null,"",null,"",null,"",null,9000]
[null,{"$f":"J!E306","v":306},{"$f":"IF(AND(J!A306=\"\",J!B306<>\"\"),\"NESTARTOVALO\",IF(AND(J!A306=\"\",J!B306=\"\"),\"\",J!A306))","v":""},{"$f":"IF(AND(J!A306=\"\",J!B306=\"\"),\"\",J!B306)","v":""},null,null,null,"",null,null,null,null,"",null,"",null,"",null,"",null,9000]
[null,{"$f":"J!E307","v":307},{"$f":"IF(AND(J!A307=\"\",J!B307<>\"\"),\"NESTARTOVALO\",IF(AND(J!A307=\"\",J!B307=\"\"),\"\",J!A307))","v":""},{"$f":"IF(AND(J!A307=\"\",J!B307=\"\"),\"\",J!B307)","v":""},null,null,null,"",null,null,null,null,"",null,"",null,"",null,"",null,9000]
[null,{"$f":"J!E308","v":308},{"$f":"IF(AND(J!A308=\"\",J!B308<>\"\"),\"NESTARTOVALO\",IF(AND(J!A308=\"\",J!B308=\"\"),\"\",J!A308))","v":""},{"$f":"IF(AND(J!A308=\"\",J!B308=\"\"),\"\",J!B308)","v":""},null,null,null,"",null,null,null,null,"",null,"",null,"",null,"",null,9000]
[null,{"$f":"J!E309","v":309},{"$f":"IF(AND(J!A309=\"\",J!B309<>\"\"),\"NESTARTOVALO\",IF(AND(J!A309=\"\",J!B309=\"\"),\"\",J!A309))","v":""},{"$f":"IF(AND(J!A309=\"\",J!B309=\"\"),\"\",J!B309)","v":""},null,null,null,"",null,null,null,null,"",null,"",null,"",null,"",null,9000]
[null,{"$f":"J!E310","v":310},{"$f":"IF(AND(J!A310=\"\",J!B310<>\"\"),\"NESTARTOVALO\",IF(AND(J!A310=\"\",J!B310=\"\"),\"\",J!A310))","v":""},{"$f":"IF(AND(J!A310=\"\",J!B310=\"\"),\"\",J!B310)","v":""},null,null,null,"",null,null,null,null,"",null,"",null,"",null,"",null,9000]
[null,{"$f":"J!E311","v":311},{"$f":"IF(AND(J!A311=\"\",J!B311<>\"\"),\"NESTARTOVALO\",IF(AND(J!A311=\"\",J!B311=\"\"),\"\",J!A311))","v":""},{"$f":"IF(AND(J!A311=\"\",J!B311=\"\"),\"\",J!B311)","v":""},null,null,null,"",null,null,null,null,"",null,"",null,"",null,"",null,9000]
[null,{"$f":"J!E312","v":312},{"$f":"IF(AND(J!A312=\"\",J!B312<>\"\"),\"NESTARTOVALO\",IF(AND(J!A312=\"\",J!B312=\"\"),\"\",J!A312))","v":""},{"$f":"IF(AND(J!A312=\"\",J!B312=\"\"),\"\",J!B312)","v":""},null,null,null,"",null,null,null,null,"",null,"",null,"",null,"",null,9000]
[null,{"$f":"J!E313","v":313},{"$f":"IF(AND(J!A313=\"\",J!B313<>\"\"),\"NESTARTOVALO\",IF(AND(J!A313=\"\",J!B313=\"\"),\"\",J!A313))","v":""},{"$f":"IF(AND(J!A313=\"\",J!B313=\"\"),\"\",J!B313)","v":""},null,null,null,"",null,null,null,null,"",null,"",null,"",null,"",null,9000]
[null,{"$f":"J!E314","v":314},{"$f":"IF(AND(J!A314=\"\",J!B314<>\"\"),\"NESTARTOVALO\",IF(AND(J!A314=\"\",J!B314=\"\"),\"\",J!A314))","v":""},{"$f":"IF(AND(J!A314=\"\",J!B314=\"\"),\"\",J!B314)","v":""},null,null,null,"",null,null,null,null,"",null,"",null,"",null,"",null,9000]
[null,{"$f":"J!E315","v":315},{"$f":"IF(AND(J!A315=\"\",J!B315<>\"\"),\"NESTARTOVALO\",IF(AND(J!A315=\"\",J!B315=\"\"),\"\",J!A315))","v":""},{"$f":"IF(AND(J!A315=\"\",J!B315=\"\"),\"\",J!B315)","v":""},null,null,null,"",null,null,null,null,"",null,"",null,"",null,"",null,9000]
[null,{"$f":"J!E316","v":316},{"$f":"IF(AND(J!A316=\"\",J!B316<>\"\"),\"NESTARTOVALO\",IF(AND(J!A316=\"\",J!B316=\"\"),\"\",J!A316))","v":""},{"$f":"IF(AND(J!A316=\"\",J!B316=\"\"),\"\",J!B316)","v":""},null,null,null,"",null,null,null,null,"",null,"",null,"",null,"",null,9000]
[null,{"$f":"J!E317","v":317},{"$f":"IF(AND(J!A317=\"\",J!B317<>\"\"),\"NESTARTOVALO\",IF(AND(J!A317=\"\",J!B317=\"\"),\"\",J!A317))","v":""},{"$f":"IF(AND(J!A317=\"\",J!B317=\"\"),\"\",J!B317)","v":""},null,null,null,"",null,null,null,null,"",null,"",null,"",null,"",null,9000]
[null,{"$f":"J!E318","v":318},{"$f":"IF(AND(J!A318=\"\",J!B318<>\"\"),\"NESTARTOVALO\",IF(AND(J!A318=\"\",J!B318=\"\"),\"\",J!A318))","v":""},{"$f":"IF(AND(J!A318=\"\",J!B318=\"\"),\"\",J!B318)","v":""},null,null,null,"",null,null,null,null,"",null,"",null,"",null,"",null,9000]
[null,{"$f":"J!E319","v":319},{"$f":"IF(AND(J!A319=\"\",J!B319<>\"\"),\"NESTARTOVALO\",IF(AND(J!A319=\"\",J!B319=\"\"),\"\",J!A319))","v":""},{"$f":"IF(AND(J!A319=\"\",J!B319=\"\"),\"\",J!B319)","v":""},null,null,null,"",null,null,null,null,"",null,"",null,"",null,"",null,9000]
[null,{"$f":"J!E320","v":320},{"$f":"IF(AND(J!A320=\"\",J!B320<>\"\"),\"NESTARTOVALO\",IF(AND(J!A320=\"\",J!B320=\"\"),\"\",J!A320))","v":""},{"$f":"IF(AND(J!A320=\"\",J!B320=\"\"),\"\",J!B320)","v":""},null,null,null,"",null,null,null,null,"",null,"",null,"",null,"",null,9000]
[null,{"$f":"J!E321","v":321},{"$f":"IF(AND(J!A321=\"\",J!B321<>\"\"),\"NESTARTOVALO\",IF(AND(J!A321=\"\",J!B321=\"\"),\"\",J!A321))","v":""},{"$f":"IF(AND(J!A321=\"\",J!B321=\"\"),\"\",J!B321)","v":""},null,null,null,{"$f":"IF($C325=\"\",\"\",IF(OR($E325=\"DNS\",$F325=\"DNS\",$G325=\"DNS\",AND($E325=\"\",$F325=\"\",$G325=\"\")),\"DNS\",IF(OR($E325=\"NP\",$F325=\"NP\",$G325=\"NP\"),\"NP\",IF(ISERROR(MEDIAN($E325:$G325)),\"DNS\",IF(OR($E325=\"X\",$F325=\"X\",$G325=\"X\",$E325=\"\",$F325=\"\",$G325=\"\",$E325=\"x\",$F325=\"x\",$G325=\"x\"),MAX($E325:$G325),MEDIAN($E325:$G325))))))","v":""},null,null,null,null,{"$f":"IF($C325=\"\",\"\",IF(OR($J325=\"DNS\",$K325=\"DNS\",$L325=\"DNS\",AND($J325=\"\",$K325=\"\",$L325=\"\")),\"DNS\",IF(OR($J325=\"NP\",$K325=\"NP\",$L325=\"NP\"),\"NP\",IF(ISERROR(MEDIAN($J325:$L325)),\"DNS\",IF(OR($J325=\"X\",$K325=\"X\",$L325=\"X\",$J325=\"\",$K325=\"\",$L325=\"\",$J325=\"x\",$K325=\"x\",$L325=\"x\"),MAX($J325:$L325),MEDIAN($J325:$L325))))))","v":""},null,{"$f":"IF(C325=\"\",\"\",IF(OR(AND(H325=\"NP\",M325=\"NP\"),AND(H325=\"DNS\",M325=\"DNS\")),H325,IF(AND(H325=\"NP\",M325=\"DNS\"),H325,IF(AND(H325=\"DNS\",M325=\"NP\"),M325,MIN(H325,M325)))))","v":""},null,{"$f":"IF(C325=\"\",\"\",IF(OR(O325=\"NP\",O325=\"DNS\"),O325,RANK(O325,O$5:O$179,1)))","v":""},null,{"$f":"IF(C325=\"\",\"\",IF(O325=\"NP\",MAX(Q$5:Q$179)+1,IF(O325=\"DNS\",MAX(Q$5:Q$179)+COUNTIF(Q$5:Q$179,\"NP\")+1,RANK(O325,O$5:O$179,1))))","v":""},null,{"$f":"IF($C325=\"\",9000,MAX(H325,M325)+(COUNTIF($H325:$H325,\"NP\")*600)+(COUNTIF($M325:$M325,\"NP\")*600)+(COUNTIF($H325:$H325,\"DNS\")*3600)+(COUNTIF($M325:$M325,\"DNS\")*3600))","v":9000}]
[null,{"$f":"J!E322","v":322},{"$f":"IF(AND(J!A322=\"\",J!B322<>\"\"),\"NESTARTOVALO\",IF(AND(J!A322=\"\",J!B322=\"\"),\"\",J!A322))","v":""},{"$f":"IF(AND(J!A322=\"\",J!B322=\"\"),\"\",J!B322)","v":""},null,null,null,"",null,null,null,null,"",null,"",null,"",null,"",null,9000]
[null,{"$f":"J!E323","v":323},{"$f":"IF(AND(J!A323=\"\",J!B323<>\"\"),\"NESTARTOVALO\",IF(AND(J!A323=\"\",J!B323=\"\"),\"\",J!A323))","v":""},{"$f":"IF(AND(J!A323=\"\",J!B323=\"\"),\"\",J!B323)","v":""},null,null,null,"",null,null,null,null,"",null,"",null,"",null,"",null,9000]
[null,{"$f":"J!E324","v":324},{"$f":"IF(AND(J!A324=\"\",J!B324<>\"\"),\"NESTARTOVALO\",IF(AND(J!A324=\"\",J!B324=\"\"),\"\",J!A324))","v":""},{"$f":"IF(AND(J!A324=\"\",J!B324=\"\"),\"\",J!B324)","v":""},null,null,null,"",null,null,null,null,"",null,"",null,"",null,"",null,9000]
[null,{"$f":"J!E325","v":325},{"$f":"IF(AND(J!A325=\"\",J!B325<>\"\"),\"NESTARTOVALO\",IF(AND(J!A325=\"\",J!B325=\"\"),\"\",J!A325))","v":""},{"$f":"IF(AND(J!A325=\"\",J!B325=\"\"),\"\",J!B325)","v":""},null,null,null,"",null,null,null,null,"",null,"",null,"",null,"",null,9000]
[null,{"$f":"J!E326","v":326},{"$f":"IF(AND(J!A326=\"\",J!B326<>\"\"),\"NESTARTOVALO\",IF(AND(J!A326=\"\",J!B326=\"\"),\"\",J!A326))","v":""},{"$f":"IF(AND(J!A326=\"\",J!B326=\"\"),\"\",J!B326)","v":""},null,null,null,"",null,null,null,null,"",null,"",null,"",null,"",null,9000]
[null,{"$f":"J!E327","v":327},{"$f":"IF(AND(J!A327=\"\",J!B327<>\"\"),\"NESTARTOVALO\",IF(AND(J!A327=\"\",J!B327=\"\"),\"\",J!A327))","v":""},{"$f":"IF(AND(J!A327=\"\",J!B327=\"\"),\"\",J!B327)","v":""},null,null,null,"",null,null,null,null,"",null,"",null,"",null,"",null,9000]
[null,{"$f":"J!E328","v":328},{"$f":"IF(AND(J!A328=\"\",J!B328<>\"\"),\"NESTARTOVALO\",IF(AND(J!A328=\"\",J!B328=\"\"),\"\",J!A328))","v":""},{"$f":"IF(AND(J!A328=\"\",J!B328=\"\"),\"\",J!B328)","v":""},null,null,null,"",null,null,null,null,"",null,"",null,"",null,"",null,9000]
[null,{"$f":"J!E329","v":329},{"$f":"IF(AND(J!A329=\"\",J!B329<>\"\"),\"NESTARTOVALO\",IF(AND(J!A329=\"\",J!B329=\"\"),\"\",J!A329))","v":""},{"$f":"IF(AND(J!A329=\"\",J!B329=\"\"),\"\",J!B329)","v":""},null,null,null,"",null,null,null,null,"",null,"",null,"",null,"",null,9000]
[null,{"$f":"J!E330","v":330},{"$f":"IF(AND(J!A330=\"\",J!B330<>\"\"),\"NESTARTOVALO\",IF(AND(J!A330=\"\",J!B330=\"\"),\"\",J!A330))","v":""},{"$f":"IF(AND(J!A330=\"\",J!B330=\"\"),\"\",J!B330)","v":""},null,null,null,"",null,null,null,null,"",null,"",null,"",null,"",null,9000]
[null,{"$f":"J!E331","v":331},{"$f":"IF(AND(J!A331=\"\",J!B331<>\"\"),\"NESTARTOVALO\",IF(AND(J!A331=\"\",J!B331=\"\"),\"\",J!A331))","v":""},{"$f":"IF(AND(J!A331=\"\",J!B331=\"\"),\"\",J!B331)","v":""},null,null,null,"",null,null,null,null,"",null,"",null,"",null,"",null,9000]
[null,{"$f":"J!E332","v":332},{"$f":"IF(AND(J!A332=\"\",J!B332<>\"\"),\"NESTARTOVALO\",IF(AND(J!A332=\"\",J!B332=\"\"),\"\",J!A332))","v":""},{"$f":"IF(AND(J!A332=\"\",J!B332=\"\"),\"\",J!B332)","v":""},null,null,null,"",null,null,null,null,"",null,"",null,"",null,"",null,9000]
[null,{"$f":"J!E333","v":333},{"$f":"IF(AND(J!A333=\"\",J!B333<>\"\"),\"NESTARTOVALO\",IF(AND(J!A333=\"\",J!B333=\"\"),\"\",J!A333))","v":""},{"$f":"IF(AND(J!A333=\"\",J!B333=\"\"),\"\",J!B333)","v":""},null,null,null,"",null,null,null,null,"",null,"",null,"",null,"",null,9000]
[null,{"$f":"J!E334","v":334},{"$f":"IF(AND(J!A334=\"\",J!B334<>\"\"),\"NESTARTOVALO\",IF(AND(J!A334=\"\",J!B334=\"\"),\"\",J!A334))","v":""},{"$f":"IF(AND(J!A334=\"\",J!B334=\"\"),\"\",J!B334)","v":""},null,null,null,"",null,null,null,null,"",null,"",null,"",null,"",null,9000]
[null,{"$f":"J!E335","v":335},{"$f":"IF(AND(J!A335=\"\",J!B335<>\"\"),\"NESTARTOVALO\",IF(AND(J!A335=\"\",J!B335=\"\"),\"\",J!A335))","v":""},{"$f":"IF(AND(J!A335=\"\",J!B335=\"\"),\"\",J!B335)","v":""},null,null,null,"",null,null,null,null,"",null,"",null,"",null,"",null,9000]
[null,{"$f":"J!E336","v":336},{"$f":"IF(AND(J!A336=\"\",J!B336<>\"\"),\"NESTARTOVALO\",IF(AND(J!A336=\"\",J!B336=\"\"),\"\",J!A336))","v":""},{"$f":"IF(AND(J!A336=\"\",J!B336=\"\"),\"\",J!B336)","v":""},null,null,null,"",null,null,null,null,"",null,"",null,"",null,"",null,9000]
[null,{"$f":"J!E337","v":337},{"$f":"IF(AND(J!A337=\"\",J!B337<>\"\"),\"NESTARTOVALO\",IF(AND(J!A337=\"\",J!B337=\"\"),\"\",J!A337))","v":""},{"$f":"IF(AND(J!A337=\"\",J!B337=\"\"),\"\",J!B337)","v":""},null,null,null,"",null,null,null,null,"",null,"",null,"",null,"",null,9000]
[null,{"$f":"J!E338","v":338},{"$f":"IF(AND(J!A338=\"\",J!B338<>\"\"),\"NESTARTOVALO\",IF(AND(J!A338=\"\",J!B338=\"\"),\"\",J!A338))","v":""},{"$f":"IF(AND(J!A338=\"\",J!B338=\"\"),\"\",J!B338)","v":""},null,null,null,"",null,null,null,null,"",null,"",null,"",null,"",null,9000]
[null,{"$f":"J!E339","v":339},{"$f":"IF(AND(J!A339=\"\",J!B339<>\"\"),\"NESTARTOVALO\",IF(AND(J!A339=\"\",J!B339=\"\"),\"\",J!A339))","v":""},{"$f":"IF(AND(J!A339=\"\",J!B339=\"\"),\"\",J!B339)","v":""},null,null,null,"",null,null,null,null,"",null,"",null,"",null,"",null,9000]
[null,{"$f":"J!E340","v":340},{"$f":"IF(AND(J!A340=\"\",J!B340<>\"\"),\"NESTARTOVALO\",IF(AND(J!A340=\"\",J!B340=\"\"),\"\",J!A340))","v":""},{"$f":"IF(AND(J!A340=\"\",J!B340=\"\"),\"\",J!B340)","v":""},null,null,null,"",null,null,null,null,"",null,"",null,"",null,"",null,9000]
[null,{"$f":"J!E341","v":341},{"$f":"IF(AND(J!A341=\"\",J!B341<>\"\"),\"NESTARTOVALO\",IF(AND(J!A341=\"\",J!B341=\"\"),\"\",J!A341))","v":""},{"$f":"IF(AND(J!A341=\"\",J!B341=\"\"),\"\",J!B341)","v":""},null,null,null,"",null,null,null,null,"",null,"",null,"",null,"",null,9000]
[null,{"$f":"J!E342","v":342},{"$f":"IF(AND(J!A342=\"\",J!B342<>\"\"),\"NESTARTOVALO\",IF(AND(J!A342=\"\",J!B342=\"\"),\"\",J!A342))","v":""},{"$f":"IF(AND(J!A342=\"\",J!B342=\"\"),\"\",J!B342)","v":""},null,null,null,"",null,null,null,null,"",null,"",null,"",null,"",null,9000]
[null,{"$f":"J!E343","v":343},{"$f":"IF(AND(J!A343=\"\",J!B343<>\"\"),\"NESTARTOVALO\",IF(AND(J!A343=\"\",J!B343=\"\"),\"\",J!A343))","v":""},{"$f":"IF(AND(J!A343=\"\",J!B343=\"\"),\"\",J!B343)","v":""},null,null,null,"",null,null,null,null,"",null,"",null,"",null,"",null,9000]
[null,{"$f":"J!E344","v":344},{"$f":"IF(AND(J!A344=\"\",J!B344<>\"\"),\"NESTARTOVALO\",IF(AND(J!A344=\"\",J!B344=\"\"),\"\",J!A344))","v":""},{"$f":"IF(AND(J!A344=\"\",J!B344=\"\"),\"\",J!B344)","v":""},null,null,null,"",null,null,null,null,"",null,"",null,"",null,"",null,9000]
[null,{"$f":"J!E345","v":345},{"$f":"IF(AND(J!A345=\"\",J!B345<>\"\"),\"NESTARTOVALO\",IF(AND(J!A345=\"\",J!B345=\"\"),\"\",J!A345))","v":""},{"$f":"IF(AND(J!A345=\"\",J!B345=\"\"),\"\",J!B345)","v":""},null,null,null,"",null,null,null,null,"",null,"",null,"",null,"",null,9000]
[null,{"$f":"J!E346","v":346},{"$f":"IF(AND(J!A346=\"\",J!B346<>\"\"),\"NESTARTOVALO\",IF(AND(J!A346=\"\",J!B346=\"\"),\"\",J!A346))","v":""},{"$f":"IF(AND(J!A346=\"\",J!B346=\"\"),\"\",J!B346)","v":""},null,null,null,"",null,null,null,null,"",null,"",null,"",null,"",null,9000]
[null,{"$f":"J!E347","v":347},{"$f":"IF(AND(J!A347=\"\",J!B347<>\"\"),\"NESTARTOVALO\",IF(AND(J!A347=\"\",J!B347=\"\"),\"\",J!A347))","v":""},{"$f":"IF(AND(J!A347=\"\",J!B347=\"\"),\"\",J!B347)","v":""},null,null,null,"",null,null,null,null,"",null,"",null,"",null,"",null,9000]
[null,{"$f":"J!E348","v":348},{"$f":"IF(AND(J!A348=\"\",J!B348<>\"\"),\"NESTARTOVALO\",IF(AND(J!A348=\"\",J!B348=\"\"),\"\",J!A348))","v":""},{"$f":"IF(AND(J!A348=\"\",J!B348=\"\"),\"\",J!B348)","v":""},null,null,null,"",null,null,null,null,"",null,"",null,"",null,"",null,9000]
[null,{"$f":"J!E349","v":349},{"$f":"IF(AND(J!A349=\"\",J!B349<>\"\"),\"NESTARTOVALO\",IF(AND(J!A349=\"\",J!B349=\"\"),\"\",J!A349))","v":""},{"$f":"IF(AND(J!A349=\"\",J!B349=\"\"),\"\",J!B349)","v":""},null,null,null,"",null,null,null,null,"",null,"",null,"",null,"",null,9000]
[null,{"$f":"J!E350","v":350},{"$f":"IF(AND(J!A349=\"\",J!B349<>\"\"),\"NESTARTOVALO\",IF(AND(J!A349=\"\",J!B349=\"\"),\"\",J!A349))","v":""},{"$f":"IF(AND(J!A349=\"\",J!B349=\"\"),\"\",J!B349)","v":""},null,null,null,"",null,null,null,null,"",null,"",null,"",null,"",null,9000]
[null,{"$f":"J!E351","v":351},{"$f":"IF(AND(J!A350=\"\",J!B350<>\"\"),\"NESTARTOVALO\",IF(AND(J!A350=\"\",J!B350=\"\"),\"\",J!A350))","v":""},{"$f":"IF(AND(J!A350=\"\",J!B350=\"\"),\"\",J!B350)","v":""},null,null,null,"",null,null,null,null,"",null,"",null,"",null,"",null,9000]
[null,{"$f":"J!E352","v":352},{"$f":"IF(AND(J!A351=\"\",J!B351<>\"\"),\"NESTARTOVALO\",IF(AND(J!A351=\"\",J!B351=\"\"),\"\",J!A351))","v":""},{"$f":"IF(AND(J!A351=\"\",J!B351=\"\"),\"\",J!B351)","v":""},null,null,null,"",null,null,null,null,"",null,"",null,"",null,"",null,9000]
[null,{"$f":"J!E353","v":353},{"$f":"IF(AND(J!A352=\"\",J!B352<>\"\"),\"NESTARTOVALO\",IF(AND(J!A352=\"\",J!B352=\"\"),\"\",J!A352))","v":""},{"$f":"IF(AND(J!A352=\"\",J!B352=\"\"),\"\",J!B352)","v":""},null,null,null,"",null,null,null,null,"",null,"",null,"",null,"",null,9000]
[null,{"$f":"J!E354","v":354},{"$f":"IF(AND(J!A353=\"\",J!B353<>\"\"),\"NESTARTOVALO\",IF(AND(J!A353=\"\",J!B353=\"\"),\"\",J!A353))","v":""},{"$f":"IF(AND(J!A353=\"\",J!B353=\"\"),\"\",J!B353)","v":""},null,null,null,"",null,null,null,null,"",null,"",null,"",null,"",null,9000]
[null,{"$f":"J!E355","v":355},{"$f":"IF(AND(J!A354=\"\",J!B354<>\"\"),\"NESTARTOVALO\",IF(AND(J!A354=\"\",J!B354=\"\"),\"\",J!A354))","v":""},{"$f":"IF(AND(J!A354=\"\",J!B354=\"\"),\"\",J!B354)","v":""},null,null,null,"",null,null,null,null,"",null,"",null,"",null,"",null,9000]
[null,{"$f":"J!E356","v":356},{"$f":"IF(AND(J!A355=\"\",J!B355<>\"\"),\"NESTARTOVALO\",IF(AND(J!A355=\"\",J!B355=\"\"),\"\",J!A355))","v":""},{"$f":"IF(AND(J!A355=\"\",J!B355=\"\"),\"\",J!B355)","v":""},null,null,null,"",null,null,null,null,"",null,"",null,"",null,"",null,9000]
[null,{"$f":"J!E357","v":357},{"$f":"IF(AND(J!A356=\"\",J!B356<>\"\"),\"NESTARTOVALO\",IF(AND(J!A356=\"\",J!B356=\"\"),\"\",J!A356))","v":""},{"$f":"IF(AND(J!A356=\"\",J!B356=\"\"),\"\",J!B356)","v":""},null,null,null,"",null,null,null,null,"",null,"",null,"",null,"",null,9000]
[null,{"$f":"J!E358","v":358},{"$f":"IF(AND(J!A357=\"\",J!B357<>\"\"),\"NESTARTOVALO\",IF(AND(J!A357=\"\",J!B357=\"\"),\"\",J!A357))","v":""},{"$f":"IF(AND(J!A357=\"\",J!B357=\"\"),\"\",J!B357)","v":""},null,null,null,"",null,null,null,null,"",null,"",null,"",null,"",null,9000]
[null,{"$f":"J!E359","v":359},{"$f":"IF(AND(J!A358=\"\",J!B358<>\"\"),\"NESTARTOVALO\",IF(AND(J!A358=\"\",J!B358=\"\"),\"\",J!A358))","v":""},{"$f":"IF(AND(J!A358=\"\",J!B358=\"\"),\"\",J!B358)","v":""},null,null,null,"",null,null,null,null,"",null,"",null,"",null,"",null,9000]
[null,{"$f":"J!E360","v":360},{"$f":"IF(AND(J!A359=\"\",J!B359<>\"\"),\"NESTARTOVALO\",IF(AND(J!A359=\"\",J!B359=\"\"),\"\",J!A359))","v":""},{"$f":"IF(AND(J!A359=\"\",J!B359=\"\"),\"\",J!B359)","v":""},null,null,null,"",null,null,null,null,"",null,"",null,"",null,"",null,9000]
[null,{"$f":"J!E361","v":361},{"$f":"IF(AND(J!A360=\"\",J!B360<>\"\"),\"NESTARTOVALO\",IF(AND(J!A360=\"\",J!B360=\"\"),\"\",J!A360))","v":""},{"$f":"IF(AND(J!A360=\"\",J!B360=\"\"),\"\",J!B360)","v":""},null,null,null,"",null,null,null,null,"",null,"",null,"",null,"",null,9000]
[null,{"$f":"J!E362","v":362},{"$f":"IF(AND(J!A361=\"\",J!B361<>\"\"),\"NESTARTOVALO\",IF(AND(J!A361=\"\",J!B361=\"\"),\"\",J!A361))","v":""},{"$f":"IF(AND(J!A361=\"\",J!B361=\"\"),\"\",J!B361)","v":""},null,null,null,"",null,null,null,null,"",null,"",null,"",null,"",null,9000]
[null,{"$f":"J!E363","v":363},{"$f":"IF(AND(J!A362=\"\",J!B362<>\"\"),\"NESTARTOVALO\",IF(AND(J!A362=\"\",J!B362=\"\"),\"\",J!A362))","v":""},{"$f":"IF(AND(J!A362=\"\",J!B362=\"\"),\"\",J!B362)","v":""},null,null,null,"",null,null,null,null,"",null,"",null,"",null,"",null,9000]
[null,{"$f":"J!E364","v":364},{"$f":"IF(AND(J!A363=\"\",J!B363<>\"\"),\"NESTARTOVALO\",IF(AND(J!A363=\"\",J!B363=\"\"),\"\",J!A363))","v":""},{"$f":"IF(AND(J!A363=\"\",J!B363=\"\"),\"\",J!B363)","v":""},null,null,null,"",null,null,null,null,"",null,"",null,"",null,"",null,9000]
[null,{"$f":"J!E365","v":365},{"$f":"IF(AND(J!A364=\"\",J!B364<>\"\"),\"NESTARTOVALO\",IF(AND(J!A364=\"\",J!B364=\"\"),\"\",J!A364))","v":""},{"$f":"IF(AND(J!A364=\"\",J!B364=\"\"),\"\",J!B364)","v":""},null,null,null,"",null,null,null,null,"",null,"",null,"",null,"",null,9000]
[null,{"$f":"J!E366","v":366},{"$f":"IF(AND(J!A365=\"\",J!B365<>\"\"),\"NESTARTOVALO\",IF(AND(J!A365=\"\",J!B365=\"\"),\"\",J!A365))","v":""},{"$f":"IF(AND(J!A365=\"\",J!B365=\"\"),\"\",J!B365)","v":""},null,null,null,"",null,null,null,null,"",null,"",null,"",null,"",null,9000]
[null,{"$f":"J!E367","v":367},{"$f":"IF(AND(J!A366=\"\",J!B366<>\"\"),\"NESTARTOVALO\",IF(AND(J!A366=\"\",J!B366=\"\"),\"\",J!A366))","v":""},{"$f":"IF(AND(J!A366=\"\",J!B366=\"\"),\"\",J!B366)","v":""},null,null,null,"",null,null,null,null,"",null,"",null,"",null,"",null,9000]
[null,{"$f":"J!E368","v":368},{"$f":"IF(AND(J!A367=\"\",J!B367<>\"\"),\"NESTARTOVALO\",IF(AND(J!A367=\"\",J!B367=\"\"),\"\",J!A367))","v":""},{"$f":"IF(AND(J!A367=\"\",J!B367=\"\"),\"\",J!B367)","v":""},null,null,null,"",null,null,null,null,"",null,"",null,"",null,"",null,9000]
[null,{"$f":"J!E369","v":369},{"$f":"IF(AND(J!A368=\"\",J!B368<>\"\"),\"NESTARTOVALO\",IF(AND(J!A368=\"\",J!B368=\"\"),\"\",J!A368))","v":""},{"$f":"IF(AND(J!A368=\"\",J!B368=\"\"),\"\",J!B368)","v":""},null,null,null,"",null,null,null,null,"",null,"",null,"",null,"",null,9000]
[null,{"$f":"J!E370","v":370},{"$f":"IF(AND(J!A369=\"\",J!B369<>\"\"),\"NESTARTOVALO\",IF(AND(J!A369=\"\",J!B369=\"\"),\"\",J!A369))","v":""},{"$f":"IF(AND(J!A369=\"\",J!B369=\"\"),\"\",J!B369)","v":""},null,null,null,"",null,null,null,null,"",null,"",null,"",null,"",null,9000]
[null,{"$f":"J!E371","v":371},{"$f":"IF(AND(J!A370=\"\",J!B370<>\"\"),\"NESTARTOVALO\",IF(AND(J!A370=\"\",J!B370=\"\"),\"\",J!A370))","v":""},{"$f":"IF(AND(J!A370=\"\",J!B370=\"\"),\"\",J!B370)","v":""},null,null,null,"",null,null,null,null,"",null,"",null,"",null,"",null,9000]
[null,{"$f":"J!E372","v":372},{"$f":"IF(AND(J!A371=\"\",J!B371<>\"\"),\"NESTARTOVALO\",IF(AND(J!A371=\"\",J!B371=\"\"),\"\",J!A371))","v":""},{"$f":"IF(AND(J!A371=\"\",J!B371=\"\"),\"\",J!B371)","v":""},null,null,null,"",null,null,null,null,"",null,"",null,"",null,"",null,9000]
[null,{"$f":"J!E373","v":373},{"$f":"IF(AND(J!A372=\"\",J!B372<>\"\"),\"NESTARTOVALO\",IF(AND(J!A372=\"\",J!B372=\"\"),\"\",J!A372))","v":""},{"$f":"IF(AND(J!A372=\"\",J!B372=\"\"),\"\",J!B372)","v":""},null,null,null,"",null,null,null,null,"",null,"",null,"",null,"",null,9000]
[null,{"$f":"J!E374","v":374},{"$f":"IF(AND(J!A373=\"\",J!B373<>\"\"),\"NESTARTOVALO\",IF(AND(J!A373=\"\",J!B373=\"\"),\"\",J!A373))","v":""},{"$f":"IF(AND(J!A373=\"\",J!B373=\"\"),\"\",J!B373)","v":""},null,null,null,"",null,null,null,null,"",null,"",null,"",null,"",null,9000]
[null,{"$f":"J!E375","v":375},{"$f":"IF(AND(J!A374=\"\",J!B374<>\"\"),\"NESTARTOVALO\",IF(AND(J!A374=\"\",J!B374=\"\"),\"\",J!A374))","v":""},{"$f":"IF(AND(J!A374=\"\",J!B374=\"\"),\"\",J!B374)","v":""},null,null,null,"",null,null,null,null,"",null,"",null,"",null,"",null,9000]
[null,{"$f":"J!E376","v":376},{"$f":"IF(AND(J!A375=\"\",J!B375<>\"\"),\"NESTARTOVALO\",IF(AND(J!A375=\"\",J!B375=\"\"),\"\",J!A375))","v":""},{"$f":"IF(AND(J!A375=\"\",J!B375=\"\"),\"\",J!B375)","v":""},null,null,null,"",null,null,null,null,"",null,"",null,"",null,"",null,9000]
[null,{"$f":"J!E377","v":377},{"$f":"IF(AND(J!A376=\"\",J!B376<>\"\"),\"NESTARTOVALO\",IF(AND(J!A376=\"\",J!B376=\"\"),\"\",J!A376))","v":""},{"$f":"IF(AND(J!A376=\"\",J!B376=\"\"),\"\",J!B376)","v":""},null,null,null,"",null,null,null,null,"",null,"",null,"",null,"",null,9000]
[null,{"$f":"J!E378","v":378},{"$f":"IF(AND(J!A377=\"\",J!B377<>\"\"),\"NESTARTOVALO\",IF(AND(J!A377=\"\",J!B377=\"\"),\"\",J!A377))","v":""},{"$f":"IF(AND(J!A377=\"\",J!B377=\"\"),\"\",J!B377)","v":""},null,null,null,"",null,null,null,null,"",null,"",null,"",null,"",null,9000]
[null,{"$f":"J!E379","v":379},{"$f":"IF(AND(J!A378=\"\",J!B378<>\"\"),\"NESTARTOVALO\",IF(AND(J!A378=\"\",J!B378=\"\"),\"\",J!A378))","v":""},{"$f":"IF(AND(J!A378=\"\",J!B378=\"\"),\"\",J!B378)","v":""},null,null,null,"",null,null,null,null,"",null,"",null,"",null,"",null,9000]
[null,{"$f":"J!E380","v":380},{"$f":"IF(AND(J!A379=\"\",J!B379<>\"\"),\"NESTARTOVALO\",IF(AND(J!A379=\"\",J!B379=\"\"),\"\",J!A379))","v":""},{"$f":"IF(AND(J!A379=\"\",J!B379=\"\"),\"\",J!B379)","v":""},null,null,null,"",null,null,null,null,"",null,"",null,"",null,"",null,9000]
[null,{"$f":"J!E381","v":381},{"$f":"IF(AND(J!A380=\"\",J!B380<>\"\"),\"NESTARTOVALO\",IF(AND(J!A380=\"\",J!B380=\"\"),\"\",J!A380))","v":""},{"$f":"IF(AND(J!A380=\"\",J!B380=\"\"),\"\",J!B380)","v":""},null,null,null,"",null,null,null,null,"",null,"",null,"",null,"",null,9000]
[null,{"$f":"J!E382","v":382},{"$f":"IF(AND(J!A381=\"\",J!B381<>\"\"),\"NESTARTOVALO\",IF(AND(J!A381=\"\",J!B381=\"\"),\"\",J!A381))","v":""},{"$f":"IF(AND(J!A381=\"\",J!B381=\"\"),\"\",J!B381)","v":""},null,null,null,"",null,null,null,null,"",null,"",null,"",null,"",null,9000]
[null,{"$f":"J!E383","v":383},{"$f":"IF(AND(J!A382=\"\",J!B382<>\"\"),\"NESTARTOVALO\",IF(AND(J!A382=\"\",J!B382=\"\"),\"\",J!A382))","v":""},{"$f":"IF(AND(J!A382=\"\",J!B382=\"\"),\"\",J!B382)","v":""},null,null,null,"",null,null,null,null,"",null,"",null,"",null,"",null,9000]
[null,{"$f":"J!E384","v":384},{"$f":"IF(AND(J!A383=\"\",J!B383<>\"\"),\"NESTARTOVALO\",IF(AND(J!A383=\"\",J!B383=\"\"),\"\",J!A383))","v":""},{"$f":"IF(AND(J!A383=\"\",J!B383=\"\"),\"\",J!B383)","v":""},null,null,null,"",null,null,null,null,"",null,"",null,"",null,"",null,9000]
[null,{"$f":"J!E385","v":385},{"$f":"IF(AND(J!A384=\"\",J!B384<>\"\"),\"NESTARTOVALO\",IF(AND(J!A384=\"\",J!B384=\"\"),\"\",J!A384))","v":""},{"$f":"IF(AND(J!A384=\"\",J!B384=\"\"),\"\",J!B384)","v":""},null,null,null,{"$f":"IF($C389=\"\",\"\",IF(OR($E389=\"DNS\",$F389=\"DNS\",$G389=\"DNS\",AND($E389=\"\",$F389=\"\",$G389=\"\")),\"DNS\",IF(OR($E389=\"NP\",$F389=\"NP\",$G389=\"NP\"),\"NP\",IF(ISERROR(MEDIAN($E389:$G389)),\"DNS\",IF(OR($E389=\"X\",$F389=\"X\",$G389=\"X\",$E389=\"\",$F389=\"\",$G389=\"\",$E389=\"x\",$F389=\"x\",$G389=\"x\"),MAX($E389:$G389),MEDIAN($E389:$G389))))))","v":""},null,null,null,null,{"$f":"IF($C389=\"\",\"\",IF(OR($J389=\"DNS\",$K389=\"DNS\",$L389=\"DNS\",AND($J389=\"\",$K389=\"\",$L389=\"\")),\"DNS\",IF(OR($J389=\"NP\",$K389=\"NP\",$L389=\"NP\"),\"NP\",IF(ISERROR(MEDIAN($J389:$L389)),\"DNS\",IF(OR($J389=\"X\",$K389=\"X\",$L389=\"X\",$J389=\"\",$K389=\"\",$L389=\"\",$J389=\"x\",$K389=\"x\",$L389=\"x\"),MAX($J389:$L389),MEDIAN($J389:$L389))))))","v":""},null,{"$f":"IF(C389=\"\",\"\",IF(OR(AND(H389=\"NP\",M389=\"NP\"),AND(H389=\"DNS\",M389=\"DNS\")),H389,IF(AND(H389=\"NP\",M389=\"DNS\"),H389,IF(AND(H389=\"DNS\",M389=\"NP\"),M389,MIN(H389,M389)))))","v":""},null,{"$f":"IF(C389=\"\",\"\",IF(OR(O389=\"NP\",O389=\"DNS\"),O389,RANK(O389,O$5:O$179,1)))","v":""},null,{"$f":"IF(C389=\"\",\"\",IF(O389=\"NP\",MAX(Q$5:Q$179)+1,IF(O389=\"DNS\",MAX(Q$5:Q$179)+COUNTIF(Q$5:Q$179,\"NP\")+1,RANK(O389,O$5:O$179,1))))","v":""},null,{"$f":"IF($C389=\"\",9000,MAX(H389,M389)+(COUNTIF($H389:$H389,\"NP\")*600)+(COUNTIF($M389:$M389,\"NP\")*600)+(COUNTIF($H389:$H389,\"DNS\")*3600)+(COUNTIF($M389:$M389,\"DNS\")*3600))","v":9000}]
[null,{"$f":"J!E386","v":386},{"$f":"IF(AND(J!A385=\"\",J!B385<>\"\"),\"NESTARTOVALO\",IF(AND(J!A385=\"\",J!B385=\"\"),\"\",J!A385))","v":""},{"$f":"IF(AND(J!A385=\"\",J!B385=\"\"),\"\",J!B385)","v":""},null,null,null,"",null,null,null,null,"",null,"",null,"",null,"",null,9000]
[null,{"$f":"J!E387","v":387},{"$f":"IF(AND(J!A386=\"\",J!B386<>\"\"),\"NESTARTOVALO\",IF(AND(J!A386=\"\",J!B386=\"\"),\"\",J!A386))","v":""},{"$f":"IF(AND(J!A386=\"\",J!B386=\"\"),\"\",J!B386)","v":""},null,null,null,"",null,null,null,null,"",null,"",null,"",null,"",null,9000]
[null,{"$f":"J!E388","v":388},{"$f":"IF(AND(J!A387=\"\",J!B387<>\"\"),\"NESTARTOVALO\",IF(AND(J!A387=\"\",J!B387=\"\"),\"\",J!A387))","v":""},{"$f":"IF(AND(J!A387=\"\",J!B387=\"\"),\"\",J!B387)","v":""},null,null,null,"",null,null,null,null,"",null,"",null,"",null,"",null,9000]
[null,{"$f":"J!E389","v":389},{"$f":"IF(AND(J!A388=\"\",J!B388<>\"\"),\"NESTARTOVALO\",IF(AND(J!A388=\"\",J!B388=\"\"),\"\",J!A388))","v":""},{"$f":"IF(AND(J!A388=\"\",J!B388=\"\"),\"\",J!B388)","v":""},null,null,null,"",null,null,null,null,"",null,"",null,"",null,"",null,9000]
[null,{"$f":"J!E390","v":390},{"$f":"IF(AND(J!A389=\"\",J!B389<>\"\"),\"NESTARTOVALO\",IF(AND(J!A389=\"\",J!B389=\"\"),\"\",J!A389))","v":""},{"$f":"IF(AND(J!A389=\"\",J!B389=\"\"),\"\",J!B389)","v":""},null,null,null,"",null,null,null,null,"",null,"",null,"",null,"",null,9000]
[null,{"$f":"J!E391","v":391},{"$f":"IF(AND(J!A390=\"\",J!B390<>\"\"),\"NESTARTOVALO\",IF(AND(J!A390=\"\",J!B390=\"\"),\"\",J!A390))","v":""},{"$f":"IF(AND(J!A390=\"\",J!B390=\"\"),\"\",J!B390)","v":""},null,null,null,"",null,null,null,null,"",null,"",null,"",null,"",null,9000]
[null,{"$f":"J!E392","v":392},{"$f":"IF(AND(J!A391=\"\",J!B391<>\"\"),\"NESTARTOVALO\",IF(AND(J!A391=\"\",J!B391=\"\"),\"\",J!A391))","v":""},{"$f":"IF(AND(J!A391=\"\",J!B391=\"\"),\"\",J!B391)","v":""},null,null,null,"",null,null,null,null,"",null,"",null,"",null,"",null,9000]
[null,{"$f":"J!E393","v":393},{"$f":"IF(AND(J!A392=\"\",J!B392<>\"\"),\"NESTARTOVALO\",IF(AND(J!A392=\"\",J!B392=\"\"),\"\",J!A392))","v":""},{"$f":"IF(AND(J!A392=\"\",J!B392=\"\"),\"\",J!B392)","v":""},null,null,null,"",null,null,null,null,"",null,"",null,"",null,"",null,9000]
[null,{"$f":"J!E394","v":394},{"$f":"IF(AND(J!A393=\"\",J!B393<>\"\"),\"NESTARTOVALO\",IF(AND(J!A393=\"\",J!B393=\"\"),\"\",J!A393))","v":""},{"$f":"IF(AND(J!A393=\"\",J!B393=\"\"),\"\",J!B393)","v":""},null,null,null,"",null,null,null,null,"",null,"",null,"",null,"",null,9000]
[null,{"$f":"J!E395","v":395},{"$f":"IF(AND(J!A394=\"\",J!B394<>\"\"),\"NESTARTOVALO\",IF(AND(J!A394=\"\",J!B394=\"\"),\"\",J!A394))","v":""},{"$f":"IF(AND(J!A394=\"\",J!B394=\"\"),\"\",J!B394)","v":""},null,null,null,"",null,null,null,null,"",null,"",null,"",null,"",null,9000]
[null,{"$f":"J!E396","v":396},{"$f":"IF(AND(J!A395=\"\",J!B395<>\"\"),\"NESTARTOVALO\",IF(AND(J!A395=\"\",J!B395=\"\"),\"\",J!A395))","v":""},{"$f":"IF(AND(J!A395=\"\",J!B395=\"\"),\"\",J!B395)","v":""},null,null,null,"",null,null,null,null,"",null,"",null,"",null,"",null,9000]
[null,{"$f":"J!E397","v":397},{"$f":"IF(AND(J!A396=\"\",J!B396<>\"\"),\"NESTARTOVALO\",IF(AND(J!A396=\"\",J!B396=\"\"),\"\",J!A396))","v":""},{"$f":"IF(AND(J!A396=\"\",J!B396=\"\"),\"\",J!B396)","v":""},null,null,null,"",null,null,null,null,"",null,"",null,"",null,"",null,9000]
[null,{"$f":"J!E398","v":398},{"$f":"IF(AND(J!A397=\"\",J!B397<>\"\"),\"NESTARTOVALO\",IF(AND(J!A397=\"\",J!B397=\"\"),\"\",J!A397))","v":""},{"$f":"IF(AND(J!A397=\"\",J!B397=\"\"),\"\",J!B397)","v":""},null,null,null,"",null,null,null,null,"",null,"",null,"",null,"",null,9000]
[null,{"$f":"J!E399","v":399},{"$f":"IF(AND(J!A398=\"\",J!B398<>\"\"),\"NESTARTOVALO\",IF(AND(J!A398=\"\",J!B398=\"\"),\"\",J!A398))","v":""},{"$f":"IF(AND(J!A398=\"\",J!B398=\"\"),\"\",J!B398)","v":""},null,null,null,"",null,null,null,null,"",null,"",null,"",null,"",null,9000]
[null,{"$f":"J!E400","v":400},{"$f":"IF(AND(J!A399=\"\",J!B399<>\"\"),\"NESTARTOVALO\",IF(AND(J!A399=\"\",J!B399=\"\"),\"\",J!A399))","v":""},{"$f":"IF(AND(J!A399=\"\",J!B399=\"\"),\"\",J!B399)","v":""},null,null,null,"",null,null,null,null,"",null,"",null,"",null,"",null,9000]
[null,{"$f":"J!E401","v":401},{"$f":"IF(AND(J!A400=\"\",J!B400<>\"\"),\"NESTARTOVALO\",IF(AND(J!A400=\"\",J!B400=\"\"),\"\",J!A400))","v":""},{"$f":"IF(AND(J!A400=\"\",J!B400=\"\"),\"\",J!B400)","v":""},null,null,null,"",null,null,null,null,"",null,"",null,"",null,"",null,9000]
[null,{"$f":"J!E402","v":402},{"$f":"IF(AND(J!A401=\"\",J!B401<>\"\"),\"NESTARTOVALO\",IF(AND(J!A401=\"\",J!B401=\"\"),\"\",J!A401))","v":""},{"$f":"IF(AND(J!A401=\"\",J!B401=\"\"),\"\",J!B401)","v":""},null,null,null,"",null,null,null,null,"",null,"",null,"",null,"",null,9000]
[null,{"$f":"J!E403","v":403},{"$f":"IF(AND(J!A402=\"\",J!B402<>\"\"),\"NESTARTOVALO\",IF(AND(J!A402=\"\",J!B402=\"\"),\"\",J!A402))","v":""},{"$f":"IF(AND(J!A402=\"\",J!B402=\"\"),\"\",J!B402)","v":""},null,null,null,"",null,null,null,null,"",null,"",null,"",null,"",null,9000]
[null,{"$f":"J!E404","v":404},{"$f":"IF(AND(J!A403=\"\",J!B403<>\"\"),\"NESTARTOVALO\",IF(AND(J!A403=\"\",J!B403=\"\"),\"\",J!A403))","v":""},{"$f":"IF(AND(J!A403=\"\",J!B403=\"\"),\"\",J!B403)","v":""},null,null,null,"",null,null,null,null,"",null,"",null,"",null,"",null,9000]
[null,{"$f":"J!E405","v":405},{"$f":"IF(AND(J!A404=\"\",J!B404<>\"\"),\"NESTARTOVALO\",IF(AND(J!A404=\"\",J!B404=\"\"),\"\",J!A404))","v":""},{"$f":"IF(AND(J!A404=\"\",J!B404=\"\"),\"\",J!B404)","v":""},null,null,null,"",null,null,null,null,"",null,"",null,"",null,"",null,9000]
[null,{"$f":"J!E406","v":406},{"$f":"IF(AND(J!A405=\"\",J!B405<>\"\"),\"NESTARTOVALO\",IF(AND(J!A405=\"\",J!B405=\"\"),\"\",J!A405))","v":""},{"$f":"IF(AND(J!A405=\"\",J!B405=\"\"),\"\",J!B405)","v":""},null,null,null,"",null,null,null,null,"",null,"",null,"",null,"",null,9000]
[null,{"$f":"J!E407","v":407},{"$f":"IF(AND(J!A406=\"\",J!B406<>\"\"),\"NESTARTOVALO\",IF(AND(J!A406=\"\",J!B406=\"\"),\"\",J!A406))","v":""},{"$f":"IF(AND(J!A406=\"\",J!B406=\"\"),\"\",J!B406)","v":""},null,null,null,"",null,null,null,null,"",null,"",null,"",null,"",null,9000]
[null,{"$f":"J!E408","v":408},{"$f":"IF(AND(J!A407=\"\",J!B407<>\"\"),\"NESTARTOVALO\",IF(AND(J!A407=\"\",J!B407=\"\"),\"\",J!A407))","v":""},{"$f":"IF(AND(J!A407=\"\",J!B407=\"\"),\"\",J!B407)","v":""},null,null,null,"",null,null,null,null,"",null,"",null,"",null,"",null,9000]
[null,{"$f":"J!E409","v":409},{"$f":"IF(AND(J!A408=\"\",J!B408<>\"\"),\"NESTARTOVALO\",IF(AND(J!A408=\"\",J!B408=\"\"),\"\",J!A408))","v":""},{"$f":"IF(AND(J!A408=\"\",J!B408=\"\"),\"\",J!B408)","v":""},null,null,null,"",null,null,null,null,"",null,"",null,"",null,"",null,9000]
[null,{"$f":"J!E410","v":410},{"$f":"IF(AND(J!A409=\"\",J!B409<>\"\"),\"NESTARTOVALO\",IF(AND(J!A409=\"\",J!B409=\"\"),\"\",J!A409))","v":""},{"$f":"IF(AND(J!A409=\"\",J!B409=\"\"),\"\",J!B409)","v":""},null,null,null,"",null,null,null,null,"",null,"",null,"",null,"",null,9000]
[null,{"$f":"J!E411","v":411},{"$f":"IF(AND(J!A410=\"\",J!B410<>\"\"),\"NESTARTOVALO\",IF(AND(J!A410=\"\",J!B410=\"\"),\"\",J!A410))","v":""},{"$f":"IF(AND(J!A410=\"\",J!B410=\"\"),\"\",J!B410)","v":""},null,null,null,"",null,null,null,null,"",null,"",null,"",null,"",null,9000]
[null,{"$f":"J!E412","v":412},{"$f":"IF(AND(J!A411=\"\",J!B411<>\"\"),\"NESTARTOVALO\",IF(AND(J!A411=\"\",J!B411=\"\"),\"\",J!A411))","v":""},{"$f":"IF(AND(J!A411=\"\",J!B411=\"\"),\"\",J!B411)","v":""},null,null,null,"",null,null,null,null,"",null,"",null,"",null,"",null,9000]
[null,{"$f":"J!E413","v":413},{"$f":"IF(AND(J!A388=\"\",J!B388<>\"\"),\"NESTARTOVALO\",IF(AND(J!A388=\"\",J!B388=\"\"),\"\",J!A388))","v":""},{"$f":"IF(AND(J!A388=\"\",J!B388=\"\"),\"\",J!B388)","v":""},null,null,null,"",null,null,null,null,"",null,"",null,"",null,"",null,9000]
[null,{"$f":"J!E414","v":414},{"$f":"IF(AND(J!A389=\"\",J!B389<>\"\"),\"NESTARTOVALO\",IF(AND(J!A389=\"\",J!B389=\"\"),\"\",J!A389))","v":""},{"$f":"IF(AND(J!A389=\"\",J!B389=\"\"),\"\",J!B389)","v":""},null,null,null,"",null,null,null,null,"",null,"",null,"",null,"",null,9000]
[null,{"$f":"J!E415","v":415},{"$f":"IF(AND(J!A390=\"\",J!B390<>\"\"),\"NESTARTOVALO\",IF(AND(J!A390=\"\",J!B390=\"\"),\"\",J!A390))","v":""},{"$f":"IF(AND(J!A390=\"\",J!B390=\"\"),\"\",J!B390)","v":""},null,null,null,"",null,null,null,null,"",null,"",null,"",null,"",null,9000]
[null,{"$f":"J!E416","v":416},{"$f":"IF(AND(J!A391=\"\",J!B391<>\"\"),\"NESTARTOVALO\",IF(AND(J!A391=\"\",J!B391=\"\"),\"\",J!A391))","v":""},{"$f":"IF(AND(J!A391=\"\",J!B391=\"\"),\"\",J!B391)","v":""},null,null,null,"",null,null,null,null,"",null,"",null,"",null,"",null,9000]
[null,{"$f":"J!E417","v":417},{"$f":"IF(AND(J!A392=\"\",J!B392<>\"\"),\"NESTARTOVALO\",IF(AND(J!A392=\"\",J!B392=\"\"),\"\",J!A392))","v":""},{"$f":"IF(AND(J!A392=\"\",J!B392=\"\"),\"\",J!B392)","v":""},null,null,null,"",null,null,null,null,"",null,"",null,"",null,"",null,9000]
[null,{"$f":"J!E418","v":418},{"$f":"IF(AND(J!A393=\"\",J!B393<>\"\"),\"NESTARTOVALO\",IF(AND(J!A393=\"\",J!B393=\"\"),\"\",J!A393))","v":""},{"$f":"IF(AND(J!A393=\"\",J!B393=\"\"),\"\",J!B393)","v":""},null,null,null,"",null,null,null,null,"",null,"",null,"",null,"",null,9000]
[null,{"$f":"J!E419","v":419},{"$f":"IF(AND(J!A394=\"\",J!B394<>\"\"),\"NESTARTOVALO\",IF(AND(J!A394=\"\",J!B394=\"\"),\"\",J!A394))","v":""},{"$f":"IF(AND(J!A394=\"\",J!B394=\"\"),\"\",J!B394)","v":""},null,null,null,"",null,null,null,null,"",null,"",null,"",null,"",null,9000]
[null,{"$f":"J!E420","v":420},{"$f":"IF(AND(J!A395=\"\",J!B395<>\"\"),\"NESTARTOVALO\",IF(AND(J!A395=\"\",J!B395=\"\"),\"\",J!A395))","v":""},{"$f":"IF(AND(J!A395=\"\",J!B395=\"\"),\"\",J!B395)","v":""},null,null,null,"",null,null,null,null,"",null,"",null,"",null,"",null,9000]
[null,{"$f":"J!E421","v":421},{"$f":"IF(AND(J!A396=\"\",J!B396<>\"\"),\"NESTARTOVALO\",IF(AND(J!A396=\"\",J!B396=\"\"),\"\",J!A396))","v":""},{"$f":"IF(AND(J!A396=\"\",J!B396=\"\"),\"\",J!B396)","v":""},null,null,null,"",null,null,null,null,"",null,"",null,"",null,"",null,9000]
[null,{"$f":"J!E422","v":422},{"$f":"IF(AND(J!A397=\"\",J!B397<>\"\"),\"NESTARTOVALO\",IF(AND(J!A397=\"\",J!B397=\"\"),\"\",J!A397))","v":""},{"$f":"IF(AND(J!A397=\"\",J!B397=\"\"),\"\",J!B397)","v":""},null,null,null,"",null,null,null,null,"",null,"",null,"",null,"",null,9000]
[null,{"$f":"J!E423","v":423},{"$f":"IF(AND(J!A398=\"\",J!B398<>\"\"),\"NESTARTOVALO\",IF(AND(J!A398=\"\",J!B398=\"\"),\"\",J!A398))","v":""},{"$f":"IF(AND(J!A398=\"\",J!B398=\"\"),\"\",J!B398)","v":""},null,null,null,"",null,null,null,null,"",null,"",null,"",null,"",null,9000]
[null,{"$f":"J!E424","v":424},{"$f":"IF(AND(J!A399=\"\",J!B399<>\"\"),\"NESTARTOVALO\",IF(AND(J!A399=\"\",J!B399=\"\"),\"\",J!A399))","v":""},{"$f":"IF(AND(J!A399=\"\",J!B399=\"\"),\"\",J!B399)","v":""},null,null,null,"",null,null,null,null,"",null,"",null,"",null,"",null,9000]
[null,{"$f":"J!E425","v":425},{"$f":"IF(AND(J!A400=\"\",J!B400<>\"\"),\"NESTARTOVALO\",IF(AND(J!A400=\"\",J!B400=\"\"),\"\",J!A400))","v":""},{"$f":"IF(AND(J!A400=\"\",J!B400=\"\"),\"\",J!B400)","v":""},null,null,null,"",null,null,null,null,"",null,"",null,"",null,"",null,9000]
[null,{"$f":"J!E426","v":426},{"$f":"IF(AND(J!A401=\"\",J!B401<>\"\"),\"NESTARTOVALO\",IF(AND(J!A401=\"\",J!B401=\"\"),\"\",J!A401))","v":""},{"$f":"IF(AND(J!A401=\"\",J!B401=\"\"),\"\",J!B401)","v":""},null,null,null,"",null,null,null,null,"",null,"",null,"",null,"",null,9000]
[null,{"$f":"J!E427","v":427},{"$f":"IF(AND(J!A402=\"\",J!B402<>\"\"),\"NESTARTOVALO\",IF(AND(J!A402=\"\",J!B402=\"\"),\"\",J!A402))","v":""},{"$f":"IF(AND(J!A402=\"\",J!B402=\"\"),\"\",J!B402)","v":""},null,null,null,"",null,null,null,null,"",null,"",null,"",null,"",null,9000]
[null,{"$f":"J!E428","v":428},{"$f":"IF(AND(J!A403=\"\",J!B403<>\"\"),\"NESTARTOVALO\",IF(AND(J!A403=\"\",J!B403=\"\"),\"\",J!A403))","v":""},{"$f":"IF(AND(J!A403=\"\",J!B403=\"\"),\"\",J!B403)","v":""},null,null,null,"",null,null,null,null,"",null,"",null,"",null,"",null,9000]
[null,{"$f":"J!E429","v":429},{"$f":"IF(AND(J!A404=\"\",J!B404<>\"\"),\"NESTARTOVALO\",IF(AND(J!A404=\"\",J!B404=\"\"),\"\",J!A404))","v":""},{"$f":"IF(AND(J!A404=\"\",J!B404=\"\"),\"\",J!B404)","v":""},null,null,null,"",null,null,null,null,"",null,"",null,"",null,"",null,9000]
[null,{"$f":"J!E430","v":430},{"$f":"IF(AND(J!A405=\"\",J!B405<>\"\"),\"NESTARTOVALO\",IF(AND(J!A405=\"\",J!B405=\"\"),\"\",J!A405))","v":""},{"$f":"IF(AND(J!A405=\"\",J!B405=\"\"),\"\",J!B405)","v":""},null,null,null,"",null,null,null,null,"",null,"",null,"",null,"",null,9000]
[null,{"$f":"J!E431","v":431},{"$f":"IF(AND(J!A406=\"\",J!B406<>\"\"),\"NESTARTOVALO\",IF(AND(J!A406=\"\",J!B406=\"\"),\"\",J!A406))","v":""},{"$f":"IF(AND(J!A406=\"\",J!B406=\"\"),\"\",J!B406)","v":""},null,null,null,"",null,null,null,null,"",null,"",null,"",null,"",null,9000]
[null,{"$f":"J!E432","v":432},{"$f":"IF(AND(J!A407=\"\",J!B407<>\"\"),\"NESTARTOVALO\",IF(AND(J!A407=\"\",J!B407=\"\"),\"\",J!A407))","v":""},{"$f":"IF(AND(J!A407=\"\",J!B407=\"\"),\"\",J!B407)","v":""},null,null,null,"",null,null,null,null,"",null,"",null,"",null,"",null,9000]
[null,{"$f":"J!E433","v":433},{"$f":"IF(AND(J!A408=\"\",J!B408<>\"\"),\"NESTARTOVALO\",IF(AND(J!A408=\"\",J!B408=\"\"),\"\",J!A408))","v":""},{"$f":"IF(AND(J!A408=\"\",J!B408=\"\"),\"\",J!B408)","v":""},null,null,null,"",null,null,null,null,"",null,"",null,"",null,"",null,9000]
[null,{"$f":"J!E434","v":434},{"$f":"IF(AND(J!A409=\"\",J!B409<>\"\"),\"NESTARTOVALO\",IF(AND(J!A409=\"\",J!B409=\"\"),\"\",J!A409))","v":""},{"$f":"IF(AND(J!A409=\"\",J!B409=\"\"),\"\",J!B409)","v":""},null,null,null,"",null,null,null,null,"",null,"",null,"",null,"",null,9000]
[null,{"$f":"J!E435","v":435},{"$f":"IF(AND(J!A410=\"\",J!B410<>\"\"),\"NESTARTOVALO\",IF(AND(J!A410=\"\",J!B410=\"\"),\"\",J!A410))","v":""},{"$f":"IF(AND(J!A410=\"\",J!B410=\"\"),\"\",J!B410)","v":""},null,null,null,"",null,null,null,null,"",null,"",null,"",null,"",null,9000]
[null,{"$f":"J!E436","v":436},{"$f":"IF(AND(J!A411=\"\",J!B411<>\"\"),\"NESTARTOVALO\",IF(AND(J!A411=\"\",J!B411=\"\"),\"\",J!A411))","v":""},{"$f":"IF(AND(J!A411=\"\",J!B411=\"\"),\"\",J!B411)","v":""},null,null,null,"",null,null,null,null,"",null,"",null,"",null,"",null,9000]
[null,{"$f":"J!E437","v":437},{"$f":"IF(AND(J!A412=\"\",J!B412<>\"\"),\"NESTARTOVALO\",IF(AND(J!A412=\"\",J!B412=\"\"),\"\",J!A412))","v":""},{"$f":"IF(AND(J!A412=\"\",J!B412=\"\"),\"\",J!B412)","v":""},null,null,null,"",null,null,null,null,"",null,"",null,"",null,"",null,9000]
[null,{"$f":"J!E438","v":438},{"$f":"IF(AND(J!A413=\"\",J!B413<>\"\"),\"NESTARTOVALO\",IF(AND(J!A413=\"\",J!B413=\"\"),\"\",J!A413))","v":""},{"$f":"IF(AND(J!A413=\"\",J!B413=\"\"),\"\",J!B413)","v":""},null,null,null,"",null,null,null,null,"",null,"",null,"",null,"",null,9000]
[null,{"$f":"J!E439","v":439},{"$f":"IF(AND(J!A414=\"\",J!B414<>\"\"),\"NESTARTOVALO\",IF(AND(J!A414=\"\",J!B414=\"\"),\"\",J!A414))","v":""},{"$f":"IF(AND(J!A414=\"\",J!B414=\"\"),\"\",J!B414)","v":""},null,null,null,"",null,null,null,null,"",null,"",null,"",null,"",null,9000]
[null,{"$f":"J!E440","v":440},{"$f":"IF(AND(J!A415=\"\",J!B415<>\"\"),\"NESTARTOVALO\",IF(AND(J!A415=\"\",J!B415=\"\"),\"\",J!A415))","v":""},{"$f":"IF(AND(J!A415=\"\",J!B415=\"\"),\"\",J!B415)","v":""},null,null,null,"",null,null,null,null,"",null,"",null,"",null,"",null,9000]
[null,{"$f":"J!E441","v":441},{"$f":"IF(AND(J!A416=\"\",J!B416<>\"\"),\"NESTARTOVALO\",IF(AND(J!A416=\"\",J!B416=\"\"),\"\",J!A416))","v":""},{"$f":"IF(AND(J!A416=\"\",J!B416=\"\"),\"\",J!B416)","v":""},null,null,null,"",null,null,null,null,"",null,"",null,"",null,"",null,9000]
[null,{"$f":"J!E442","v":442},{"$f":"IF(AND(J!A417=\"\",J!B417<>\"\"),\"NESTARTOVALO\",IF(AND(J!A417=\"\",J!B417=\"\"),\"\",J!A417))","v":""},{"$f":"IF(AND(J!A417=\"\",J!B417=\"\"),\"\",J!B417)","v":""},null,null,null,"",null,null,null,null,"",null,"",null,"",null,"",null,9000]
[null,{"$f":"J!E443","v":443},{"$f":"IF(AND(J!A418=\"\",J!B418<>\"\"),\"NESTARTOVALO\",IF(AND(J!A418=\"\",J!B418=\"\"),\"\",J!A418))","v":""},{"$f":"IF(AND(J!A418=\"\",J!B418=\"\"),\"\",J!B418)","v":""},null,null,null,"",null,null,null,null,"",null,"",null,"",null,"",null,9000]
[null,{"$f":"J!E444","v":444},{"$f":"IF(AND(J!A419=\"\",J!B419<>\"\"),\"NESTARTOVALO\",IF(AND(J!A419=\"\",J!B419=\"\"),\"\",J!A419))","v":""},{"$f":"IF(AND(J!A419=\"\",J!B419=\"\"),\"\",J!B419)","v":""},null,null,null,"",null,null,null,null,"",null,"",null,"",null,"",null,9000]
[null,{"$f":"J!E445","v":445},{"$f":"IF(AND(J!A420=\"\",J!B420<>\"\"),\"NESTARTOVALO\",IF(AND(J!A420=\"\",J!B420=\"\"),\"\",J!A420))","v":""},{"$f":"IF(AND(J!A420=\"\",J!B420=\"\"),\"\",J!B420)","v":""},null,null,null,"",null,null,null,null,"",null,"",null,"",null,"",null,9000]
[null,{"$f":"J!E446","v":446},{"$f":"IF(AND(J!A421=\"\",J!B421<>\"\"),\"NESTARTOVALO\",IF(AND(J!A421=\"\",J!B421=\"\"),\"\",J!A421))","v":""},{"$f":"IF(AND(J!A421=\"\",J!B421=\"\"),\"\",J!B421)","v":""},null,null,null,"",null,null,null,null,"",null,"",null,"",null,"",null,9000]
[null,{"$f":"J!E447","v":447},{"$f":"IF(AND(J!A422=\"\",J!B422<>\"\"),\"NESTARTOVALO\",IF(AND(J!A422=\"\",J!B422=\"\"),\"\",J!A422))","v":""},{"$f":"IF(AND(J!A422=\"\",J!B422=\"\"),\"\",J!B422)","v":""},null,null,null,"",null,null,null,null,"",null,"",null,"",null,"",null,9000]
[null,{"$f":"J!E448","v":448},{"$f":"IF(AND(J!A423=\"\",J!B423<>\"\"),\"NESTARTOVALO\",IF(AND(J!A423=\"\",J!B423=\"\"),\"\",J!A423))","v":""},{"$f":"IF(AND(J!A423=\"\",J!B423=\"\"),\"\",J!B423)","v":""},null,null,null,"",null,null,null,null,"",null,"",null,"",null,"",null,9000]
[null,{"$f":"J!E449","v":449},{"$f":"IF(AND(J!A424=\"\",J!B424<>\"\"),\"NESTARTOVALO\",IF(AND(J!A424=\"\",J!B424=\"\"),\"\",J!A424))","v":""},{"$f":"IF(AND(J!A424=\"\",J!B424=\"\"),\"\",J!B424)","v":""},null,null,null,"",null,null,null,null,"",null,"",null,"",null,"",null,9000]
[null,{"$f":"J!E450","v":450},{"$f":"IF(AND(J!A350=\"\",J!B350<>\"\"),\"NESTARTOVALO\",IF(AND(J!A350=\"\",J!B350=\"\"),\"\",J!A350))","v":""},{"$f":"IF(AND(J!A350=\"\",J!B350=\"\"),\"\",J!B350)","v":""},null,null,null,"",null,null,null,null,"",null,"",null,"",null,"",null,9000]

{"sheet":"PJ - P","index":9,"n_rows":450,"n_cols":22,"rows_kept":450,"cut":false,"hidden":false,"merged":[]}
[null,11,"Slezáková Nela","Skuteč",19.02,null,null,19.02,null,19.14,null,null,19.14,null,19.02,null,1,null,1,null,19.14,1]
[null,15,"Nováková Denisa","Skuteč",19.34,null,null,19.34,null,23.27,null,null,23.27,null,19.34,null,2,null,2,null,23.27,2]
[null,4,"Faltysová Tereza","Desná",19.54,null,null,19.54,null,19.37,null,null,19.37,null,19.37,null,3,null,3,null,19.54,3]
[null,1,"Bandžuchová Simona","Stéblová",19.88,null,null,19.88,null,19.46,null,null,19.46,null,19.46,null,4,null,4,null,19.88,4]
[null,9,"Nemcová Denisa Ella","Stéblová",19.55,null,null,19.55,null,20.59,null,null,20.59,null,19.55,null,5,null,5,null,20.59,5]
[null,7,"Pohnerová Nikol","Skuteč",19.579999999999998,null,null,19.579999999999998,null,19.71,null,null,19.71,null,19.579999999999998,null,6,null,6,null,19.71,6]
[null,5,"Janáčková Michaela","Stéblová",19.809999999999999,null,null,19.809999999999999,null,19.47,"NP",null,"NP",null,19.809999999999999,null,7,null,7,null,619.80999999999995,7]
[null,3,"Bubeníčková Denisa","Skuteč",26.03,null,null,26.03,null,19.899999999999999,null,null,19.899999999999999,null,19.899999999999999,null,8,null,8,null,26.03,8]
[null,19,"Zavoralová Aneta","Skuteč",20.43,null,null,20.43,null,20.100000000000001,null,null,20.100000000000001,null,20.100000000000001,null,9,null,9,null,20.43,9]
[null,14,"Adéla Hrušová","Lukavice",20.329999999999998,null,null,20.329999999999998,null,20.23,null,null,20.23,null,20.23,null,10,null,10,null,20.329999999999998,10]
[null,23,"Valíková Veronika","Skuteč",20.38,null,null,20.38,null,"NP",null,null,"NP",null,20.38,null,11,null,11,null,620.38,11]
[null,13,"Bandžuchová Zuzana","Stéblová",20.5,null,null,20.5,null,24.95,null,null,24.95,null,20.5,null,12,null,12,null,24.95,12]
[null,10,"Nela Hrušová","Lukavice",20.62,null,null,20.62,null,20.83,"Np",null,"NP",null,20.62,null,13,null,13,null,620.62,13]
[null,18,"Kamila Halbrštátová","Lukavice",21.29,null,null,21.29,null,20.78,null,null,20.78,null,20.78,null,14,null,14,null,21.29,14]
[null,28,"Andrlová Eliška","Desná",21.14,null,null,21.14,null,20.89,null,null,20.89,null,20.89,null,15,null,15,null,21.14,15]
[null,27,"Marboe Anita","Skuteč",21.5,null,null,21.5,null,21.05,null,null,21.05,null,21.05,null,16,null,16,null,21.5,16]
[null,2,"Simona Škopová","Lukavice",21.1,null,null,21.1,null,23.21,null,null,23.21,null,21.1,null,17,null,17,null,23.21,17]
[null,24,"Jůzová Nela","Desná",21.14,null,null,21.14,null,25.6,null,null,25.6,null,21.14,null,18,null,18,null,25.6,18]
[null,20,"Prokopová Magdaléna","Desná",21.68,null,null,21.68,null,21.21,null,null,21.21,null,21.21,null,19,null,19,null,21.68,19]
[null,22,"Denisa Boháčová","Lukavice",21.37,null,null,21.37,null,21.24,null,null,21.24,null,21.24,null,20,null,20,null,21.37,20]
[null,17,"Baťová Adéla","Stéblová",21.71,null,null,21.71,null,21.58,null,null,21.58,null,21.58,null,21,null,21,null,21.71,21]
[null,21,"Černohubá Tereza","Stéblová",22.2,null,null,22.2,null,23.25,null,null,23.25,null,22.2,null,22,null,22,null,23.25,22]
[null,25,"Zelingerová Aneta","Stéblová",22.55,null,null,22.55,null,"NP",null,null,"NP",null,22.55,null,23,null,23,null,622.54999999999995,23]
[null,8,"Mičíková Nikola","Desná",22.76,null,null,22.76,null,23.4,null,null,23.4,null,22.76,null,24,null,24,null,23.4,24]
[null,6,"Veronika Macháčková","Lukavice",22.97,null,null,22.97,null,"NP",null,null,"NP",null,22.97,null,25,null,25,null,622.97,25]
[null,12,"Ševčíková Veronika","Desná",26.73,null,null,26.73,null,25.05,null,null,25.05,null,25.05,null,26,null,26,null,26.73,26]
[null,16,"Doležalová Klára","Desná","NP",null,null,"NP",null,25.42,null,null,25.42,null,25.42,null,27,null,27,null,625.41999999999996,27]
[null,26,"Lucie Hotmarová","Lukavice",28.43,null,null,28.43,null,27.63,null,null,27.63,null,27.63,null,28,null,28,null,28.43,28]
[null,29,"","",null,null,null,"",null,null,null,null,"",null,"",null,"",null,"",null,9000]
[null,30,"","",null,null,null,"",null,null,null,null,"",null,"",null,"",null,"",null,9000]
[null,31,"","",null,null,null,"",null,null,null,null,"",null,"",null,"",null,"",null,9000]
[null,32,"","",null,null,null,"",null,null,null,null,"",null,"",null,"",null,"",null,9000]
[null,33,"","",null,null,null,"",null,null,null,null,"",null,"",null,"",null,"",null,9000]
[null,34,"","",null,null,null,"",null,null,null,null,"",null,"",null,"",null,"",null,9000]
[null,35,"","",null,null,null,"",null,null,null,null,"",null,"",null,"",null,"",null,9000]
[null,36,"","",null,null,null,"",null,null,null,null,"",null,"",null,"",null,"",null,9000]
[null,37,"","",null,null,null,"",null,null,null,null,"",null,"",null,"",null,"",null,9000]
[null,38,"","",null,null,null,"",null,null,null,null,"",null,"",null,"",null,"",null,9000]
[null,39,"","",null,null,null,"",null,null,null,null,"",null,"",null,"",null,"",null,9000]
[null,40,"","",null,null,null,"",null,null,null,null,"",null,"",null,"",null,"",null,9000]
[null,41,"","",null,null,null,"",null,null,null,null,"",null,"",null,"",null,"",null,9000]
[null,42,"","",null,null,null,"",null,null,null,null,"",null,"",null,"",null,"",null,9000]
[null,43,"","",null,null,null,"",null,null,null,null,"",null,"",null,"",null,"",null,9000]
[null,44,"","",null,null,null,"",null,null,null,null,"",null,"",null,"",null,"",null,9000]
[null,45,"","",null,null,null,"",null,null,null,null,"",null,"",null,"",null,"",null,9000]
[null,46,"","",null,null,null,"",null,null,null,null,"",null,"",null,"",null,"",null,9000]
[null,47,"","",null,null,null,"",null,null,null,null,"",null,"",null,"",null,"",null,9000]
[null,48,"","",null,null,null,"",null,null,null,null,"",null,"",null,"",null,"",null,9000]
[null,49,"","",null,null,null,"",null,null,null,null,"",null,"",null,"",null,"",null,9000]
[null,50,"","",null,null,null,"",null,null,null,null,"",null,"",null,"",null,"",null,9000]
[null,51,"","",null,null,null,"",null,null,null,null,"",null,"",null,"",null,"",null,9000]
[null,52,"","",null,null,null,"",null,null,null,null,"",null,"",null,"",null,"",null,9000]
[null,53,"","",null,null,null,"",null,null,null,null,"",null,"",null,"",null,"",null,9000]
[null,54,"","",null,null,null,"",null,null,null,null,"",null,"",null,"",null,"",null,9000]
[null,55,"","",null,null,null,"",null,null,null,null,"",null,"",null,"",null,"",null,9000]
[null,56,"","",null,null,null,"",null,null,null,null,"",null,"",null,"",null,"",null,9000]
[null,57,"","",null,null,null,"",null,null,null,null,"",null,"",null,"",null,"",null,9000]
[null,58,"","",null,null,null,"",null,null,null,null,"",null,"",null,"",null,"",null,9000]
[null,59,"","",null,null,null,"",null,null,null,null,"",null,"",null,"",null,"",null,9000]
[null,60,"","",null,null,null,"",null,null,null,null,"",null,"",null,"",null,"",null,9000]
[null,61,"","",null,null,null,"",null,null,null,null,"",null,"",null,"",null,"",null,9000]
[null,62,"","",null,null,null,"",null,null,null,null,"",null,"",null,"",null,"",null,9000]
[null,63,"","",null,null,null,"",null,null,null,null,"",null,"",null,"",null,"",null,9000]
[null,64,"","",null,null,null,"",null,null,null,null,"",null,"",null,"",null,"",null,9000]
[null,65,"","",null,null,null,"",null,null,null,null,"",null,"",null,"",null,"",null,9000]
[null,66,"","",null,null,null,"",null,null,null,null,"",null,"",null,"",null,"",null,9000]
[null,67,"","",null,null,null,"",null,null,null,null,"",null,"",null,"",null,"",null,9000]
[null,68,"","",null,null,null,"",null,null,null,null,"",null,"",null,"",null,"",null,9000]
[null,69,"","",null,null,null,"",null,null,null,null,"",null,"",null,"",null,"",null,9000]
[null,70,"","",null,null,null,"",null,null,null,null,"",null,"",null,"",null,"",null,9000]
[null,71,"","",null,null,null,"",null,null,null,null,"",null,"",null,"",null,"",null,9000]
[null,72,"","",null,null,null,"",null,null,null,null,"",null,"",null,"",null,"",null,9000]
[null,73,"","",null,null,null,"",null,null,null,null,"",null,"",null,"",null,"",null,9000]
[null,74,"","",null,null,null,"",null,null,null,null,"",null,"",null,"",null,"",null,9000]
[null,75,"","",null,null,null,"",null,null,null,null,"",null,"",null,"",null,"",null,9000]
[null,76,"","",null,null,null,"",null,null,null,null,"",null,"",null,"",null,"",null,9000]
[null,77,"","",null,null,null,"",null,null,null,null,"",null,"",null,"",null,"",null,9000]
[null,78,"","",null,null,null,"",null,null,null,null,"",null,"",null,"",null,"",null,9000]
[null,79,"","",null,null,null,"",null,null,null,null,"",null,"",null,"",null,"",null,9000]
[null,80,"","",null,null,null,"",null,null,null,null,"",null,"",null,"",null,"",null,9000]
[null,81,"","",null,null,null,"",null,null,null,null,"",null,"",null,"",null,"",null,9000]
[null,82,"","",null,null,null,"",null,null,null,null,"",null,"",null,"",null,"",null,9000]
[null,83,"","",null,null,null,"",null,null,null,null,"",null,"",null,"",null,"",null,9000]
[null,84,"","",null,null,null,"",null,null,null,null,"",null,"",null,"",null,"",null,9000]
[null,85,"","",null,null,null,"",null,null,null,null,"",null,"",null,"",null,"",null,9000]
[null,86,"","",null,null,null,"",null,null,null,null,"",null,"",null,"",null,"",null,9000]
[null,87,"","",null,null,null,"",null,null,null,null,"",null,"",null,"",null,"",null,9000]
[null,88,"","",null,null,null,"",null,null,null,null,"",null,"",null,"",null,"",null,9000]
[null,89,"","",null,null,null,"",null,null,null,null,"",null,"",null,"",null,"",null,9000]
[null,90,"","",null,null,null,"",null,null,null,null,"",null,"",null,"",null,"",null,9000]
[null,91,"","",null,null,null,"",null,null,null,null,"",null,"",null,"",null,"",null,9000]
[null,92,"","",null,null,null,"",null,null,null,null,"",null,"",null,"",null,"",null,9000]
[null,93,"","",null,null,null,"",null,null,null,null,"",null,"",null,"",null,"",null,9000]
[null,94,"","",null,null,null,"",null,null,null,null,"",null,"",null,"",null,"",null,9000]
[null,95,"","",null,null,null,"",null,null,null,null,"",null,"",null,"",null,"",null,9000]
[null,96,"","",null,null,null,"",null,null,null,null,"",null,"",null,"",null,"",null,9000]
[null,97,"","",null,null,null,"",null,null,null,null,"",null,"",null,"",null,"",null,9000]
[null,98,"","",null,null,null,"",null,null,null,null,"",null,"",null,"",null,"",null,9000]
[null,99,"","",null,null,null,"",null,null,null,null,"",null,"",null,"",null,"",null,9000]
[null,100,"","",null,null,null,"",null,null,null,null,"",null,"",null,"",null,"",null,9000]
[null,101,"","",null,null,null,"",null,null,null,null,"",null,"",null,"",null,"",null,9000]
[null,102,"","",null,null,null,"",null,null,null,null,"",null,"",null,"",null,"",null,9000]
[null,103,"","",null,null,null,"",null,null,null,null,"",null,"",null,"",null,"",null,9000]
[null,104,"","",null,null,null,"",null,null,null,null,"",null,"",null,"",null,"",null,9000]
[null,105,"","",null,null,null,"",null,null,null,null,"",null,"",null,"",null,"",null,9000]
[null,106,"","",null,null,null,"",null,null,null,null,"",null,"",null,"",null,"",null,9000]
[null,107,"","",null,null,null,"",null,null,null,null,"",null,"",null,"",null,"",null,9000]
[null,108,"","",null,null,null,"",null,null,null,null,"",null,"",null,"",null,"",null,9000]
[null,109,"","",null,null,null,"",null,null,null,null,"",null,"",null,"",null,"",null,9000]
[null,110,"","",null,null,null,"",null,null,null,null,"",null,"",null,"",null,"",null,9000]
[null,111,"","",null,null,null,"",null,null,null,null,"",null,"",null,"",null,"",null,9000]
[null,112,"","",null,null,null,"",null,null,null,null,"",null,"",null,"",null,"",null,9000]
[null,113,"","",null,null,null,"",null,null,null,null,"",null,"",null,"",null,"",null,9000]
[null,114,"","",null,null,null,"",null,null,null,null,"",null,"",null,"",null,"",null,9000]
[null,115,"","",null,null,null,"",null,null,null,null,"",null,"",null,"",null,"",null,9000]
[null,116,"","",null,null,null,"",null,null,null,null,"",null,"",null,"",null,"",null,9000]
[null,117,"","",null,null,null,"",null,null,null,null,"",null,"",null,"",null,"",null,9000]
[null,118,"","",null,null,null,"",null,null,null,null,"",null,"",null,"",null,"",null,9000]
[null,119,"","",null,null,null,"",null,null,null,null,"",null,"",null,"",null,"",null,9000]
[null,120,"","",null,null,null,"",null,null,null,null,"",null,"",null,"",null,"",null,9000]
[null,121,"","",null,null,null,"",null,null,null,null,"",null,"",null,"",null,"",null,9000]
[null,122,"","",null,null,null,"",null,null,null,null,"",null,"",null,"",null,"",null,9000]
[null,123,"","",null,null,null,"",null,null,null,null,"",null,"",null,"",null,"",null,9000]
[null,124,"","",null,null,null,"",null,null,null,null,"",null,"",null,"",null,"",null,9000]
[null,125,"","",null,null,null,"",null,null,null,null,"",null,"",null,"",null,"",null,9000]
[null,126,"","",null,null,null,"",null,null,null,null,"",null,"",null,"",null,"",null,9000]
[null,127,"","",null,null,null,"",null,null,null,null,"",null,"",null,"",null,"",null,9000]
[null,128,"","",null,null,null,"",null,null,null,null,"",null,"",null,"",null,"",null,9000]
[null,129,"","",null,null,null,"",null,null,null,null,"",null,"",null,"",null,"",null,9000]
[null,130,"","",null,null,null,"",null,null,null,null,"",null,"",null,"",null,"",null,9000]
[null,131,"","",null,null,null,"",null,null,null,null,"",null,"",null,"",null,"",null,9000]
[null,132,"","",null,null,null,"",null,null,null,null,"",null,"",null,"",null,"",null,9000]
[null,133,"","",null,null,null,"",null,null,null,null,"",null,"",null,"",null,"",null,9000]
[null,134,"","",null,null,null,"",null,null,null,null,"",null,"",null,"",null,"",null,9000]
[null,135,"","",null,null,null,"",null,null,null,null,"",null,"",null,"",null,"",null,9000]
[null,136,"","",null,null,null,"",null,null,null,null,"",null,"",null,"",null,"",null,9000]
[null,137,"","",null,null,null,"",null,null,null,null,"",null,"",null,"",null,"",null,9000]
[null,138,"","",null,null,null,"",null,null,null,null,"",null,"",null,"",null,"",null,9000]
[null,139,"","",null,null,null,"",null,null,null,null,"",null,"",null,"",null,"",null,9000]
[null,140,"","",null,null,null,"",null,null,null,null,"",null,"",null,"",null,"",null,9000]
[null,141,"","",null,null,null,"",null,null,null,null,"",null,"",null,"",null,"",null,9000]
[null,142,"","",null,null,null,"",null,null,null,null,"",null,"",null,"",null,"",null,9000]
[null,143,"","",null,null,null,"",null,null,null,null,"",null,"",null,"",null,"",null,9000]
[null,144,"","",null,null,null,"",null,null,null,null,"",null,"",null,"",null,"",null,9000]
[null,145,"","",null,null,null,"",null,null,null,null,"",null,"",null,"",null,"",null,9000]
[null,146,"","",null,null,null,"",null,null,null,null,"",null,"",null,"",null,"",null,9000]
[null,147,"","",null,null,null,"",null,null,null,null,"",null,"",null,"",null,"",null,9000]
[null,148,"","",null,null,null,"",null,null,null,null,"",null,"",null,"",null,"",null,9000]
[null,149,"","",null,null,null,"",null,null,null,null,"",null,"",null,"",null,"",null,9000]
[null,150,"","",null,null,null,"",null,null,null,null,"",null,"",null,"",null,"",null,9000]
[null,151,"","",null,null,null,"",null,null,null,null,"",null,"",null,"",null,"",null,9000]
[null,152,"","",null,null,null,"",null,null,null,null,"",null,"",null,"",null,"",null,9000]
[null,153,"","",null,null,null,"",null,null,null,null,"",null,"",null,"",null,"",null,9000]
[null,154,"","",null,null,null,"",null,null,null,null,"",null,"",null,"",null,"",null,9000]
[null,155,"","",null,null,null,"",null,null,null,null,"",null,"",null,"",null,"",null,9000]
[null,156,"","",null,null,null,"",null,null,null,null,"",null,"",null,"",null,"",null,9000]
[null,157,"","",null,null,null,"",null,null,null,null,"",null,"",null,"",null,"",null,9000]
[null,158,"","",null,null,null,"",null,null,null,null,"",null,"",null,"",null,"",null,9000]
[null,159,"","",null,null,null,"",null,null,null,null,"",null,"",null,"",null,"",null,9000]
[null,160,"","",null,null,null,"",null,null,null,null,"",null,"",null,"",null,"",null,9000]
[null,161,"","",null,null,null,"",null,null,null,null,"",null,"",null,"",null,"",null,9000]
[null,162,"","",null,null,null,"",null,null,null,null,"",null,"",null,"",null,"",null,9000]
[null,163,"","",null,null,null,"",null,null,null,null,"",null,"",null,"",null,"",null,9000]
[null,164,"","",null,null,null,"",null,null,null,null,"",null,"",null,"",null,"",null,9000]
[null,165,"","",null,null,null,"",null,null,null,null,"",null,"",null,"",null,"",null,9000]
[null,166,"","",null,null,null,"",null,null,null,null,"",null,"",null,"",null,"",null,9000]
[null,167,"","",null,null,null,"",null,null,null,null,"",null,"",null,"",null,"",null,9000]
[null,168,"","",null,null,null,"",null,null,null,null,"",null,"",null,"",null,"",null,9000]
[null,169,"","",null,null,null,"",null,null,null,null,"",null,"",null,"",null,"",null,9000]
[null,170,"","",null,null,null,"",null,null,null,null,"",null,"",null,"",null,"",null,9000]
[null,171,"","",null,null,null,"",null,null,null,null,"",null,"",null,"",null,"",null,9000]
[null,172,"","",null,null,null,"",null,null,null,null,"",null,"",null,"",null,"",null,9000]
[null,173,"","",null,null,null,"",null,null,null,null,"",null,"",null,"",null,"",null,9000]
[null,174,"","",null,null,null,"",null,null,null,null,"",null,"",null,"",null,"",null,9000]
[null,175,"","",null,null,null,"",null,null,null,null,"",null,"",null,"",null,"",null,9000]
[null,176,"","",null,null,null,"",null,null,null,null,"",null,"",null,"",null,"",null,9000]
[null,177,"","",null,null,null,"",null,null,null,null,"",null,"",null,"",null,"",null,9000]
[null,178,"","",null,null,null,"",null,null,null,null,"",null,"",null,"",null,"",null,9000]
[null,179,"","",null,null,null,"",null,null,null,null,"",null,"",null,"",null,"",null,9000]
[null,180,"","",null,null,null,"",null,null,null,null,"",null,"",null,"",null,"",null,9000]
[null,181,"","",null,null,null,"",null,null,null,null,"",null,"",null,"",null,"",null,9000]
[null,182,"","",null,null,null,"",null,null,null,null,"",null,"",null,"",null,"",null,9000]
[null,183,"","",null,null,null,"",null,null,null,null,"",null,"",null,"",null,"",null,9000]
[null,184,"","",null,null,null,"",null,null,null,null,"",null,"",null,"",null,"",null,9000]
[null,185,"","",null,null,null,"",null,null,null,null,"",null,"",null,"",null,"",null,9000]
[null,186,"","",null,null,null,"",null,null,null,null,"",null,"",null,"",null,"",null,9000]
[null,187,"","",null,null,null,"",null,null,null,null,"",null,"",null,"",null,"",null,9000]
[null,188,"","",null,null,null,"",null,null,null,null,"",null,"",null,"",null,"",null,9000]
[null,189,"","",null,null,null,"",null,null,null,null,"",null,"",null,"",null,"",null,9000]
[null,190,"","",null,null,null,"",null,null,null,null,"",null,"",null,"",null,"",null,9000]
[null,191,"","",null,null,null,"",null,null,null,null,"",null,"",null,"",null,"",null,9000]
[null,192,"","",null,null,null,"",null,null,null,null,"",null,"",null,"",null,"",null,9000]
[null,193,"","",null,null,null,"",null,null,null,null,"",null,"",null,"",null,"",null,9000]
[null,194,"","",null,null,null,"",null,null,null,null,"",null,"",null,"",null,"",null,9000]
[null,195,"","",null,null,null,"",null,null,null,null,"",null,"",null,"",null,"",null,9000]
[null,196,"","",null,null,null,"",null,null,null,null,"",null,"",null,"",null,"",null,9000]
[null,197,"","",null,null,null,"",null,null,null,null,"",null,"",null,"",null,"",null,9000]
[null,198,"","",null,null,null,"",null,null,null,null,"",null,"",null,"",null,"",null,9000]
[null,199,"","",null,null,null,"",null,null,null,null,"",null,"",null,"",null,"",null,9000]
[null,200,"","",null,null,null,"",null,null,null,null,"",null,"",null,"",null,"",null,9000]
[null,201,"","",null,null,null,"",null,null,null,null,"",null,"",null,"",null,"",null,9000]
[null,202,"","",null,null,null,"",null,null,null,null,"",null,"",null,"",null,"",null,9000]
[null,203,"","",null,null,null,"",null,null,null,null,"",null,"",null,"",null,"",null,9000]
[null,204,"","",null,null,null,"",null,null,null,null,"",null,"",null,"",null,"",null,9000]
[null,205,"","",null,null,null,"",null,null,null,null,"",null,"",null,"",null,"",null,9000]
[null,206,"","",null,null,null,"",null,null,null,null,"",null,"",null,"",null,"",null,9000]
[null,207,"","",null,null,null,"",null,null,null,null,"",null,"",null,"",null,"",null,9000]
[null,208,"","",null,null,null,"",null,null,null,null,"",null,"",null,"",null,"",null,9000]
[null,209,"","",null,null,null,"",null,null,null,null,"",null,"",null,"",null,"",null,9000]
[null,210,"","",null,null,null,"",null,null,null,null,"",null,"",null,"",null,"",null,9000]
[null,211,"","",null,null,null,"",null,null,null,null,"",null,"",null,"",null,"",null,9000]
[null,212,"","",null,null,null,"",null,null,null,null,"",null,"",null,"",null,"",null,9000]
[null,213,"","",null,null,null,"",null,null,null,null,"",null,"",null,"",null,"",null,9000]
[null,214,"","",null,null,null,"",null,null,null,null,"",null,"",null,"",null,"",null,9000]
[null,215,"","",null,null,null,"",null,null,null,null,"",null,"",null,"",null,"",null,9000]
[null,216,"","",null,null,null,"",null,null,null,null,"",null,"",null,"",null,"",null,9000]
[null,217,"","",null,null,null,"",null,null,null,null,"",null,"",null,"",null,"",null,9000]
[null,218,"","",null,null,null,"",null,null,null,null,"",null,"",null,"",null,"",null,9000]
[null,219,"","",null,null,null,"",null,null,null,null,"",null,"",null,"",null,"",null,9000]
[null,220,"","",null,null,null,"",null,null,null,null,"",null,"",null,"",null,"",null,9000]
[null,221,"","",null,null,null,"",null,null,null,null,"",null,"",null,"",null,"",null,9000]
[null,222,"","",null,null,null,"",null,null,null,null,"",null,"",null,"",null,"",null,9000]
[null,223,"","",null,null,null,"",null,null,null,null,"",null,"",null,"",null,"",null,9000]
[null,224,"","",null,null,null,"",null,null,null,null,"",null,"",null,"",null,"",null,9000]
[null,225,"","",null,null,null,"",null,null,null,null,"",null,"",null,"",null,"",null,9000]
[null,226,"","",null,null,null,"",null,null,null,null,"",null,"",null,"",null,"",null,9000]
[null,227,"","",null,null,null,"",null,null,null,null,"",null,"",null,"",null,"",null,9000]
[null,228,"","",null,null,null,"",null,null,null,null,"",null,"",null,"",null,"",null,9000]
[null,229,"","",null,null,null,"",null,null,null,null,"",null,"",null,"",null,"",null,9000]
[null,230,"","",null,null,null,"",null,null,null,null,"",null,"",null,"",null,"",null,9000]
[null,231,"","",null,null,null,"",null,null,null,null,"",null,"",null,"",null,"",null,9000]
[null,232,"","",null,null,null,"",null,null,null,null,"",null,"",null,"",null,"",null,9000]
[null,233,"","",null,null,null,"",null,null,null,null,"",null,"",null,"",null,"",null,9000]
[null,234,"","",null,null,null,"",null,null,null,null,"",null,"",null,"",null,"",null,9000]
[null,235,"","",null,null,null,"",null,null,null,null,"",null,"",null,"",null,"",null,9000]
[null,236,"","",null,null,null,"",null,null,null,null,"",null,"",null,"",null,"",null,9000]
[null,237,"","",null,null,null,"",null,null,null,null,"",null,"",null,"",null,"",null,9000]
[null,238,"","",null,null,null,"",null,null,null,null,"",null,"",null,"",null,"",null,9000]
[null,239,"","",null,null,null,"",null,null,null,null,"",null,"",null,"",null,"",null,9000]
[null,240,"","",null,null,null,"",null,null,null,null,"",null,"",null,"",null,"",null,9000]
[null,241,"","",null,null,null,"",null,null,null,null,"",null,"",null,"",null,"",null,9000]
[null,242,"","",null,null,null,"",null,null,null,null,"",null,"",null,"",null,"",null,9000]
[null,243,"","",null,null,null,"",null,null,null,null,"",null,"",null,"",null,"",null,9000]
[null,244,"","",null,null,null,"",null,null,null,null,"",null,"",null,"",null,"",null,9000]
[null,245,"","",null,null,null,"",null,null,null,null,"",null,"",null,"",null,"",null,9000]
[null,246,"","",null,null,null,"",null,null,null,null,"",null,"",null,"",null,"",null,9000]
[null,247,"","",null,null,null,"",null,null,null,null,"",null,"",null,"",null,"",null,9000]
[null,248,"","",null,null,null,"",null,null,null,null,"",null,"",null,"",null,"",null,9000]
[null,249,"","",null,null,null,"",null,null,null,null,"",null,"",null,"",null,"",null,9000]
[null,250,"","",null,null,null,"",null,null,null,null,"",null,"",null,"",null,"",null,9000]
[null,251,"","",null,null,null,"",null,null,null,null,"",null,"",null,"",null,"",null,9000]
[null,252,"","",null,null,null,"",null,null,null,null,"",null,"",null,"",null,"",null,9000]
[null,253,"","",null,null,null,"",null,null,null,null,"",null,"",null,"",null,"",null,9000]
[null,254,"","",null,null,null,"",null,null,null,null,"",null,"",null,"",null,"",null,9000]
[null,255,"","",null,null,null,"",null,null,null,null,"",null,"",null,"",null,"",null,9000]
[null,256,"","",null,null,null,"",null,null,null,null,"",null,"",null,"",null,"",null,9000]
[null,257,"","",null,null,null,"",null,null,null,null,"",null,"",null,"",null,"",null,9000]
[null,258,"","",null,null,null,"",null,null,null,null,"",null,"",null,"",null,"",null,9000]
[null,259,"","",null,null,null,"",null,null,null,null,"",null,"",null,"",null,"",null,9000]
[null,260,"","",null,null,null,"",null,null,null,null,"",null,"",null,"",null,"",null,9000]
[null,261,"","",null,null,null,"",null,null,null,null,"",null,"",null,"",null,"",null,9000]
[null,262,"","",null,null,null,"",null,null,null,null,"",null,"",null,"",null,"",null,9000]
[null,263,"","",null,null,null,"",null,null,null,null,"",null,"",null,"",null,"",null,9000]
[null,264,"","",null,null,null,"",null,null,null,null,"",null,"",null,"",null,"",null,9000]
[null,265,"","",null,null,null,"",null,null,null,null,"",null,"",null,"",null,"",null,9000]
[null,266,"","",null,null,null,"",null,null,null,null,"",null,"",null,"",null,"",null,9000]
[null,267,"","",null,null,null,"",null,null,null,null,"",null,"",null,"",null,"",null,9000]
[null,268,"","",null,null,null,"",null,null,null,null,"",null,"",null,"",null,"",null,9000]
[null,269,"","",null,null,null,"",null,null,null,null,"",null,"",null,"",null,"",null,9000]
[null,270,"","",null,null,null,"",null,null,null,null,"",null,"",null,"",null,"",null,9000]
[null,271,"","",null,null,null,"",null,null,null,null,"",null,"",null,"",null,"",null,9000]
[null,272,"","",null,null,null,"",null,null,null,null,"",null,"",null,"",null,"",null,9000]
[null,273,"","",null,null,null,"",null,null,null,null,"",null,"",null,"",null,"",null,9000]
[null,274,"","",null,null,null,"",null,null,null,null,"",null,"",null,"",null,"",null,9000]
[null,275,"","",null,null,null,"",null,null,null,null,"",null,"",null,"",null,"",null,9000]
[null,276,"","",null,null,null,"",null,null,null,null,"",null,"",null,"",null,"",null,9000]
[null,277,"","",null,null,null,"",null,null,null,null,"",null,"",null,"",null,"",null,9000]
[null,278,"","",null,null,null,"",null,null,null,null,"",null,"",null,"",null,"",null,9000]
[null,279,"","",null,null,null,"",null,null,null,null,"",null,"",null,"",null,"",null,9000]
[null,280,"","",null,null,null,"",null,null,null,null,"",null,"",null,"",null,"",null,9000]
[null,281,"","",null,null,null,"",null,null,null,null,"",null,"",null,"",null,"",null,9000]
[null,282,"","",null,null,null,"",null,null,null,null,"",null,"",null,"",null,"",null,9000]
[null,283,"","",null,null,null,"",null,null,null,null,"",null,"",null,"",null,"",null,9000]
[null,284,"","",null,null,null,"",null,null,null,null,"",null,"",null,"",null,"",null,9000]
[null,285,"","",null,null,null,"",null,null,null,null,"",null,"",null,"",null,"",null,9000]
[null,286,"","",null,null,null,"",null,null,null,null,"",null,"",null,"",null,"",null,9000]
[null,287,"","",null,null,null,"",null,null,null,null,"",null,"",null,"",null,"",null,9000]
[null,288,"","",null,null,null,"",null,null,null,null,"",null,"",null,"",null,"",null,9000]
[null,289,"","",null,null,null,"",null,null,null,null,"",null,"",null,"",null,"",null,9000]
[null,290,"","",null,null,null,"",null,null,null,null,"",null,"",null,"",null,"",null,9000]
[null,291,"","",null,null,null,"",null,null,null,null,"",null,"",null,"",null,"",null,9000]
[null,292,"","",null,null,null,"",null,null,null,null,"",null,"",null,"",null,"",null,9000]
[null,293,"","",null,null,null,"",null,null,null,null,"",null,"",null,"",null,"",null,9000]
[null,294,"","",null,null,null,"",null,null,null,null,"",null,"",null,"",null,"",null,9000]
[null,295,"","",null,null,null,"",null,null,null,null,"",null,"",null,"",null,"",null,9000]
[null,296,"","",null,null,null,"",null,null,null,null,"",null,"",null,"",null,"",null,9000]
[null,297,"","",null,null,null,"",null,null,null,null,"",null,"",null,"",null,"",null,9000]
[null,298,"","",null,null,null,"",null,null,null,null,"",null,"",null,"",null,"",null,9000]
[null,299,"","",null,null,null,"",null,null,null,null,"",null,"",null,"",null,"",null,9000]
[null,300,"","",null,null,null,"",null,null,null,null,"",null,"",null,"",null,"",null,9000]
[null,301,"","",null,null,null,"",null,null,null,null,"",null,"",null,"",null,"",null,9000]
[null,302,"","",null,null,null,"",null,null,null,null,"",null,"",null,"",null,"",null,9000]
[null,303,"","",null,null,null,"",null,null,null,null,"",null,"",null,"",null,"",null,9000]
[null,304,"","",null,null,null,"",null,null,null,null,"",null,"",null,"",null,"",null,9000]
[null,305,"","",null,null,null,"",null,null,null,null,"",null,"",null,"",null,"",null,9000]
[null,306,"","",null,null,null,"",null,null,null,null,"",null,"",null,"",null,"",null,9000]
[null,307,"","",null,null,null,"",null,null,null,null,"",null,"",null,"",null,"",null,9000]
[null,308,"","",null,null,null,"",null,null,null,null,"",null,"",null,"",null,"",null,9000]
[null,309,"","",null,null,null,"",null,null,null,null,"",null,"",null,"",null,"",null,9000]
[null,310,"","",null,null,null,"",null,null,null,null,"",null,"",null,"",null,"",null,9000]
[null,311,"","",null,null,null,"",null,null,null,null,"",null,"",null,"",null,"",null,9000]
[null,312,"","",null,null,null,"",null,null,null,null,"",null,"",null,"",null,"",null,9000]
[null,313,"","",null,null,null,"",null,null,null,null,"",null,"",null,"",null,"",null,9000]
[null,314,"","",null,null,null,"",null,null,null,null,"",null,"",null,"",null,"",null,9000]
[null,315,"","",null,null,null,"",null,null,null,null,"",null,"",null,"",null,"",null,9000]
[null,316,"","",null,null,null,"",null,null,null,null,"",null,"",null,"",null,"",null,9000]
[null,317,"","",null,null,null,"",null,null,null,null,"",null,"",null,"",null,"",null,9000]
[null,318,"","",null,null,null,"",null,null,null,null,"",null,"",null,"",null,"",null,9000]
[null,319,"","",null,null,null,"",null,null,null,null,"",null,"",null,"",null,"",null,9000]
[null,320,"","",null,null,null,"",null,null,null,null,"",null,"",null,"",null,"",null,9000]
[null,321,"","",null,null,null,"",null,null,null,null,"",null,"",null,"",null,"",null,9000]
[null,322,"","",null,null,null,"",null,null,null,null,"",null,"",null,"",null,"",null,9000]
[null,323,"","",null,null,null,"",null,null,null,null,"",null,"",null,"",null,"",null,9000]
[null,324,"","",null,null,null,"",null,null,null,null,"",null,"",null,"",null,"",null,9000]
[null,325,"","",null,null,null,"",null,null,null,null,"",null,"",null,"",null,"",null,9000]
[null,326,"","",null,null,null,"",null,null,null,null,"",null,"",null,"",null,"",null,9000]
[null,327,"","",null,null,null,"",null,null,null,null,"",null,"",null,"",null,"",null,9000]
[null,328,"","",null,null,null,"",null,null,null,null,"",null,"",null,"",null,"",null,9000]
[null,329,"","",null,null,null,"",null,null,null,null,"",null,"",null,"",null,"",null,9000]
[null,330,"","",null,null,null,"",null,null,null,null,"",null,"",null,"",null,"",null,9000]
[null,331,"","",null,null,null,"",null,null,null,null,"",null,"",null,"",null,"",null,9000]
[null,332,"","",null,null,null,"",null,null,null,null,"",null,"",null,"",null,"",null,9000]
[null,333,"","",null,null,null,"",null,null,null,null,"",null,"",null,"",null,"",null,9000]
[null,334,"","",null,null,null,"",null,null,null,null,"",null,"",null,"",null,"",null,9000]
[null,335,"","",null,null,null,"",null,null,null,null,"",null,"",null,"",null,"",null,9000]
[null,336,"","",null,null,null,"",null,null,null,null,"",null,"",null,"",null,"",null,9000]
[null,337,"","",null,null,null,"",null,null,null,null,"",null,"",null,"",null,"",null,9000]
[null,338,"","",null,null,null,"",null,null,null,null,"",null,"",null,"",null,"",null,9000]
[null,339,"","",null,null,null,"",null,null,null,null,"",null,"",null,"",null,"",null,9000]
[null,340,"","",null,null,null,"",null,null,null,null,"",null,"",null,"",null,"",null,9000]
[null,341,"","",null,null,null,"",null,null,null,null,"",null,"",null,"",null,"",null,9000]
[null,342,"","",null,null,null,"",null,null,null,null,"",null,"",null,"",null,"",null,9000]
[null,343,"","",null,null,null,"",null,null,null,null,"",null,"",null,"",null,"",null,9000]
[null,344,"","",null,null,null,"",null,null,null,null,"",null,"",null,"",null,"",null,9000]
[null,345,"","",null,null,null,"",null,null,null,null,"",null,"",null,"",null,"",null,9000]
[null,346,"","",null,null,null,"",null,null,null,null,"",null,"",null,"",null,"",null,9000]
[null,347,"","",null,null,null,"",null,null,null,null,"",null,"",null,"",null,"",null,9000]
[null,348,"","",null,null,null,"",null,null,null,null,"",null,"",null,"",null,"",null,9000]
[null,349,"","",null,null,null,"",null,null,null,null,"",null,"",null,"",null,"",null,9000]
[null,350,"","",null,null,null,"",null,null,null,null,"",null,"",null,"",null,"",null,9000]
[null,351,"","",null,null,null,"",null,null,null,null,"",null,"",null,"",null,"",null,9000]
[null,352,"","",null,null,null,"",null,null,null,null,"",null,"",null,"",null,"",null,9000]
[null,353,"","",null,null,null,"",null,null,null,null,"",null,"",null,"",null,"",null,9000]
[null,354,"","",null,null,null,"",null,null,null,null,"",null,"",null,"",null,"",null,9000]
[null,355,"","",null,null,null,"",null,null,null,null,"",null,"",null,"",null,"",null,9000]
[null,356,"","",null,null,null,"",null,null,null,null,"",null,"",null,"",null,"",null,9000]
[null,357,"","",null,null,null,"",null,null,null,null,"",null,"",null,"",null,"",null,9000]
[null,358,"","",null,null,null,"",null,null,null,null,"",null,"",null,"",null,"",null,9000]
[null,359,"","",null,null,null,"",null,null,null,null,"",null,"",null,"",null,"",null,9000]
[null,360,"","",null,null,null,"",null,null,null,null,"",null,"",null,"",null,"",null,9000]
[null,361,"","",null,null,null,"",null,null,null,null,"",null,"",null,"",null,"",null,9000]
[null,362,"","",null,null,null,"",null,null,null,null,"",null,"",null,"",null,"",null,9000]
[null,363,"","",null,null,null,"",null,null,null,null,"",null,"",null,"",null,"",null,9000]
[null,364,"","",null,null,null,"",null,null,null,null,"",null,"",null,"",null,"",null,9000]
[null,365,"","",null,null,null,"",null,null,null,null,"",null,"",null,"",null,"",null,9000]
[null,366,"","",null,null,null,"",null,null,null,null,"",null,"",null,"",null,"",null,9000]
[null,367,"","",null,null,null,"",null,null,null,null,"",null,"",null,"",null,"",null,9000]
[null,368,"","",null,null,null,"",null,null,null,null,"",null,"",null,"",null,"",null,9000]
[null,369,"","",null,null,null,"",null,null,null,null,"",null,"",null,"",null,"",null,9000]
[null,370,"","",null,null,null,"",null,null,null,null,"",null,"",null,"",null,"",null,9000]
[null,371,"","",null,null,null,"",null,null,null,null,"",null,"",null,"",null,"",null,9000]
[null,372,"","",null,null,null,"",null,null,null,null,"",null,"",null,"",null,"",null,9000]
[null,373,"","",null,null,null,"",null,null,null,null,"",null,"",null,"",null,"",null,9000]
[null,374,"","",null,null,null,"",null,null,null,null,"",null,"",null,"",null,"",null,9000]
[null,375,"","",null,null,null,"",null,null,null,null,"",null,"",null,"",null,"",null,9000]
[null,376,"","",null,null,null,"",null,null,null,null,"",null,"",null,"",null,"",null,9000]
[null,377,"","",null,null,null,"",null,null,null,null,"",null,"",null,"",null,"",null,9000]
[null,378,"","",null,null,null,"",null,null,null,null,"",null,"",null,"",null,"",null,9000]
[null,379,"","",null,null,null,"",null,null,null,null,"",null,"",null,"",null,"",null,9000]
[null,380,"","",null,null,null,"",null,null,null,null,"",null,"",null,"",null,"",null,9000]
[null,381,"","",null,null,null,"",null,null,null,null,"",null,"",null,"",null,"",null,9000]
[null,382,"","",null,null,null,"",null,null,null,null,"",null,"",null,"",null,"",null,9000]
[null,383,"","",null,null,null,"",null,null,null,null,"",null,"",null,"",null,"",null,9000]
[null,384,"","",null,null,null,"",null,null,null,null,"",null,"",null,"",null,"",null,9000]
[null,385,"","",null,null,null,"",null,null,null,null,"",null,"",null,"",null,"",null,9000]
[null,386,"","",null,null,null,"",null,null,null,null,"",null,"",null,"",null,"",null,9000]
[null,387,"","",null,null,null,"",null,null,null,null,"",null,"",null,"",null,"",null,9000]
[null,388,"","",null,null,null,"",null,null,null,null,"",null,"",null,"",null,"",null,9000]
[null,389,"","",null,null,null,"",null,null,null,null,"",null,"",null,"",null,"",null,9000]
[null,390,"","",null,null,null,"",null,null,null,null,"",null,"",null,"",null,"",null,9000]
[null,391,"","",null,null,null,"",null,null,null,null,"",null,"",null,"",null,"",null,9000]
[null,392,"","",null,null,null,"",null,null,null,null,"",null,"",null,"",null,"",null,9000]
[null,393,"","",null,null,null,"",null,null,null,null,"",null,"",null,"",null,"",null,9000]
[null,394,"","",null,null,null,"",null,null,null,null,"",null,"",null,"",null,"",null,9000]
[null,395,"","",null,null,null,"",null,null,null,null,"",null,"",null,"",null,"",null,9000]
[null,396,"","",null,null,null,"",null,null,null,null,"",null,"",null,"",null,"",null,9000]
[null,397,"","",null,null,null,"",null,null,null,null,"",null,"",null,"",null,"",null,9000]
[null,398,"","",null,null,null,"",null,null,null,null,"",null,"",null,"",null,"",null,9000]
[null,399,"","",null,null,null,"",null,null,null,null,"",null,"",null,"",null,"",null,9000]
[null,400,"","",null,null,null,"",null,null,null,null,"",null,"",null,"",null,"",null,9000]
[null,401,"","",null,null,null,"",null,null,null,null,"",null,"",null,"",null,"",null,9000]
[null,402,"","",null,null,null,"",null,null,null,null,"",null,"",null,"",null,"",null,9000]
[null,403,"","",null,null,null,"",null,null,null,null,"",null,"",null,"",null,"",null,9000]
[null,404,"","",null,null,null,"",null,null,null,null,"",null,"",null,"",null,"",null,9000]
[null,405,"","",null,null,null,"",null,null,null,null,"",null,"",null,"",null,"",null,9000]
[null,406,"","",null,null,null,"",null,null,null,null,"",null,"",null,"",null,"",null,9000]
[null,407,"","",null,null,null,"",null,null,null,null,"",null,"",null,"",null,"",null,9000]
[null,408,"","",null,null,null,"",null,null,null,null,"",null,"",null,"",null,"",null,9000]
[null,409,"","",null,null,null,"",null,null,null,null,"",null,"",null,"",null,"",null,9000]
[null,410,"","",null,null,null,"",null,null,null,null,"",null,"",null,"",null,"",null,9000]
[null,411,"","",null,null,null,"",null,null,null,null,"",null,"",null,"",null,"",null,9000]
[null,412,"","",null,null,null,"",null,null,null,null,"",null,"",null,"",null,"",null,9000]
[null,413,"","",null,null,null,"",null,null,null,null,"",null,"",null,"",null,"",null,9000]
[null,414,"","",null,null,null,"",null,null,null,null,"",null,"",null,"",null,"",null,9000]
[null,415,"","",null,null,null,"",null,null,null,null,"",null,"",null,"",null,"",null,9000]
[null,416,"","",null,null,null,"",null,null,null,null,"",null,"",null,"",null,"",null,9000]
[null,417,"","",null,null,null,"",null,null,null,null,"",null,"",null,"",null,"",null,9000]
[null,418,"","",null,null,null,"",null,null,null,null,"",null,"",null,"",null,"",null,9000]
[null,419,"","",null,null,null,"",null,null,null,null,"",null,"",null,"",null,"",null,9000]
[null,420,"","",null,null,null,"",null,null,null,null,"",null,"",null,"",null,"",null,9000]
[null,421,"","",null,null,null,"",null,null,null,null,"",null,"",null,"",null,"",null,9000]
[null,422,"","",null,null,null,"",null,null,null,null,"",null,"",null,"",null,"",null,9000]
[null,423,"","",null,null,null,"",null,null,null,null,"",null,"",null,"",null,"",null,9000]
[null,424,"","",null,null,null,"",null,null,null,null,"",null,"",null,"",null,"",null,9000]
[null,425,"","",null,null,null,"",null,null,null,null,"",null,"",null,"",null,"",null,9000]
[null,426,"","",null,null,null,"",null,null,null,null,"",null,"",null,"",null,"",null,9000]
[null,427,"","",null,null,null,"",null,null,null,null,"",null,"",null,"",null,"",null,9000]
[null,428,"","",null,null,null,"",null,null,null,null,"",null,"",null,"",null,"",null,9000]
[null,429,"","",null,null,null,"",null,null,null,null,"",null,"",null,"",null,"",null,9000]
[null,430,"","",null,null,null,"",null,null,null,null,"",null,"",null,"",null,"",null,9000]
[null,431,"","",null,null,null,"",null,null,null,null,"",null,"",null,"",null,"",null,9000]
[null,432,"","",null,null,null,"",null,null,null,null,"",null,"",null,"",null,"",null,9000]
[null,433,"","",null,null,null,"",null,null,null,null,"",null,"",null,"",null,"",null,9000]
[null,434,"","",null,null,null,"",null,null,null,null,"",null,"",null,"",null,"",null,9000]
[null,435,"","",null,null,null,"",null,null,null,null,"",null,"",null,"",null,"",null,9000]
[null,436,"","",null,null,null,"",null,null,null,null,"",null,"",null,"",null,"",null,9000]
[null,437,"","",null,null,null,"",null,null,null,null,"",null,"",null,"",null,"",null,9000]
[null,438,"","",null,null,null,"",null,null,null,null,"",null,"",null,"",null,"",null,9000]
[null,439,"","",null,null,null,"",null,null,null,null,"",null,"",null,"",null,"",null,9000]
[null,440,"","",null,null,null,"",null,null,null,null,"",null,"",null,"",null,"",null,9000]
[null,441,"","",null,null,null,"",null,null,null,null,"",null,"",null,"",null,"",null,9000]
[null,442,"","",null,null,null,"",null,null,null,null,"",null,"",null,"",null,"",null,9000]
[null,443,"","",null,null,null,"",null,null,null,null,"",null,"",null,"",null,"",null,9000]
[null,444,"","",null,null,null,"",null,null,null,null,"",null,"",null,"",null,"",null,9000]
[null,445,"","",null,null,null,"",null,null,null,null,"",null,"",null,"",null,"",null,9000]
[null,446,"","",null,null,null,"",null,null,null,null,"",null,"",null,"",null,"",null,9000]
[null,447,"","",null,null,null,"",null,null,null,null,"",null,"",null,"",null,"",null,9000]
[null,448,"","",null,null,null,"",null,null,null,null,"",null,"",null,"",null,"",null,9000]
[null,449,"","",null,null,null,"",null,null,null,null,"",null,"",null,"",null,"",null,9000]
[null,450,"","",null,null,null,"",null,null,null,null,"",null,"",null,"",null,"",null,9000]

{"sheet":"PJ-P","index":10,"n_rows":559,"n_cols":9,"rows_kept":559,"cut":false,"hidden":false,"merged":[[516,1,516,8],[518,1,518,3],[518,4,518,8],[520,1,520,2],[521,5,522,5],[521,6,522,6],[521,8,522,8],[521,1,522,1],[521,2,522,2],[521,3,522,3],[521,4,522,4],[475,1,475,3],[475,4,475,8],[477,1,477,2],[478,1,479,1],[478,2,479,2],[478,3,479,3],[478,4,479,4],[478,5,479,5],[478,6,479,6],[478,8,479,8],[430,1,430,8],[432,1,432,3],[432,4,432,8],[434,1,434,2],[435,5,436,5],[435,6,436,6],[435,8,436,8],[473,1,473,8],[435,1,436,1],[435,2,436,2],[435,3,436,3],[435,4,436,4],[389,4,389,8],[391,1,391,2],[392,1,393,1],[392,2,393,2],[392,3,393,3],[392,4,393,4],[392,5,393,5],[392,6,393,6],[392,8,393,8],[346,1,346,3],[346,4,346,8],[348,1,348,2],[349,1,350,1],[349,2,350,2],[349,3,350,3],[349,4,350,4],[349,5,350,5],[349,6,350,6],[349,8,350,8],[301,1,301,8],[303,1,303,3],[303,4,303,8],[305,1,305,2],[306,5,307,5],[306,6,307,6],[306,8,307,8],[344,1,344,8],[306,1,307,1],[306,2,307,2],[306,3,307,3],[306,4,307,4],[260,1,260,3],[260,4,260,8],[262,1,262,2],[263,1,264,1],[263,2,264,2],[263,3,264,3],[263,4,264,4],[263,5,264,5],[263,6,264,6],[263,8,264,8],[215,1,215,8],[217,1,217,3],[217,4,217,8],[219,1,219,2],[220,5,221,5],[220,6,221,6],[220,8,221,8],[258,1,258,8],[220,1,221,1],[220,2,221,2],[220,3,221,3],[220,4,221,4],[172,1,172,8],[134,1,135,1],[134,2,135,2],[134,3,135,3],[134,4,135,4],[174,1,174,3],[174,4,174,8],[176,1,176,2],[177,1,178,1],[177,2,178,2],[177,3,178,3],[177,4,178,4],[177,5,178,5],[177,6,178,6],[177,8,178,8],[91,6,92,6],[91,8,92,8],[129,1,129,8],[131,1,131,3],[131,4,131,8],[133,1,133,2],[134,5,135,5],[134,6,135,6],[134,8,135,8],[0,1,0,8],[2,1,2,3],[2,4,2,8],[4,1,4,2],[5,2,6,2],[5,3,6,3],[43,1,43,8],[45,1,45,3],[45,4,45,8],[387,1,387,8],[389,1,389,3],[5,4,6,4],[47,1,47,2],[86,1,86,8],[88,1,88,3],[5,5,6,5],[5,6,6,6],[5,8,6,8],[5,1,6,1],[48,1,49,1],[48,2,49,2],[48,3,49,3],[48,4,49,4],[48,5,49,5],[48,6,49,6],[48,8,49,8],[88,4,88,8],[90,1,90,2],[91,1,92,1],[91,2,92,2],[91,3,92,3],[91,4,92,4],[91,5,92,5]]}
[null,"Běh na 100m s přek. - Pořadí jednotlivců"]
[]
[null,"Okresní kolo v PS",null,null,{"$f":"Start!B3","v":"Chrast 16.6.2024"}]
[]
[null,{"$f":"Start!$C$5","v":"Dorky"}]
[null,"Pořadí","Start. číslo","Jméno","kolektiv","čas             I. pokusu","čas            II. pokusu",null,"Výsledný čas"]
[]
[null,{"$f":"IF(AND('PJ - P'!$C1=\"\",'PJ - P'!$D1=\"\"),\"\",'PJ - P'!V1)","v":1},{"$f":"IF(AND('PJ - P'!$C1=\"\",'PJ - P'!$D1=\"\"),\"\",'PJ - P'!B1)","v":11},{"$f":"IF('PJ - P'!C1=\"\",\"\",'PJ - P'!C1)","v":"Slezáková Nela"},{"$f":"IF('PJ - P'!D1=\"\",\"\",'PJ - P'!D1)","v":"Skuteč"},{"$f":"IF('PJ - P'!H1=\"\",\"\",'PJ - P'!H1)","v":19.02},{"$f":"IF('PJ - P'!M1=\"\",\"\",'PJ - P'!M1)","v":19.14},null,{"$f":"IF('PJ - P'!O1=\"\",\"\",'PJ - P'!O1)","v":19.02}]
[null,{"$f":"IF(AND('PJ - P'!$C2=\"\",'PJ - P'!$D2=\"\"),\"\",'PJ - P'!V2)","v":2},{"$f":"IF(AND('PJ - P'!$C2=\"\",'PJ - P'!$D2=\"\"),\"\",'PJ - P'!B2)","v":15},{"$f":"IF('PJ - P'!C2=\"\",\"\",'PJ - P'!C2)","v":"Nováková Denisa"},{"$f":"IF('PJ - P'!D2=\"\",\"\",'PJ - P'!D2)","v":"Skuteč"},{"$f":"IF('PJ - P'!H2=\"\",\"\",'PJ - P'!H2)","v":19.34},{"$f":"IF('PJ - P'!M2=\"\",\"\",'PJ - P'!M2)","v":23.27},null,{"$f":"IF('PJ - P'!O2=\"\",\"\",'PJ - P'!O2)","v":19.34}]
[null,{"$f":"IF(AND('PJ - P'!$C3=\"\",'PJ - P'!$D3=\"\"),\"\",'PJ - P'!V3)","v":3},{"$f":"IF(AND('PJ - P'!$C3=\"\",'PJ - P'!$D3=\"\"),\"\",'PJ - P'!B3)","v":4},{"$f":"IF('PJ - P'!C3=\"\",\"\",'PJ - P'!C3)","v":"Faltysová Tereza"},{"$f":"IF('PJ - P'!D3=\"\",\"\",'PJ - P'!D3)","v":"Desná"},{"$f":"IF('PJ - P'!H3=\"\",\"\",'PJ - P'!H3)","v":19.54},{"$f":"IF('PJ - P'!M3=\"\",\"\",'PJ - P'!M3)","v":19.37},null,{"$f":"IF('PJ - P'!O3=\"\",\"\",'PJ - P'!O3)","v":19.37}]
[null,{"$f":"IF(AND('PJ - P'!$C4=\"\",'PJ - P'!$D4=\"\"),\"\",'PJ - P'!V4)","v":4},{"$f":"IF(AND('PJ - P'!$C4=\"\",'PJ - P'!$D4=\"\"),\"\",'PJ - P'!B4)","v":1},{"$f":"IF('PJ - P'!C4=\"\",\"\",'PJ - P'!C4)","v":"Bandžuchová Simona"},{"$f":"IF('PJ - P'!D4=\"\",\"\",'PJ - P'!D4)","v":"Stéblová"},{"$f":"IF('PJ - P'!H4=\"\",\"\",'PJ - P'!H4)","v":19.88},{"$f":"IF('PJ - P'!M4=\"\",\"\",'PJ - P'!M4)","v":19.46},null,{"$f":"IF('PJ - P'!O4=\"\",\"\",'PJ - P'!O4)","v":19.46}]
[null,{"$f":"IF(AND('PJ - P'!$C5=\"\",'PJ - P'!$D5=\"\"),\"\",'PJ - P'!V5)","v":5},{"$f":"IF(AND('PJ - P'!$C5=\"\",'PJ - P'!$D5=\"\"),\"\",'PJ - P'!B5)","v":9},{"$f":"IF('PJ - P'!C5=\"\",\"\",'PJ - P'!C5)","v":"Nemcová Denisa Ella"},{"$f":"IF('PJ - P'!D5=\"\",\"\",'PJ - P'!D5)","v":"Stéblová"},{"$f":"IF('PJ - P'!H5=\"\",\"\",'PJ - P'!H5)","v":19.55},{"$f":"IF('PJ - P'!M5=\"\",\"\",'PJ - P'!M5)","v":20.59},null,{"$f":"IF('PJ - P'!O5=\"\",\"\",'PJ - P'!O5)","v":19.55}]
[null,{"$f":"IF(AND('PJ - P'!$C6=\"\",'PJ - P'!$D6=\"\"),\"\",'PJ - P'!V6)","v":6},{"$f":"IF(AND('PJ - P'!$C6=\"\",'PJ - P'!$D6=\"\"),\"\",'PJ - P'!B6)","v":7},{"$f":"IF('PJ - P'!C6=\"\",\"\",'PJ - P'!C6)","v":"Pohnerová Nikol"},{"$f":"IF('PJ - P'!D6=\"\",\"\",'PJ - P'!D6)","v":"Skuteč"},{"$f":"IF('PJ - P'!H6=\"\",\"\",'PJ - P'!H6)","v":19.579999999999998},{"$f":"IF('PJ - P'!M6=\"\",\"\",'PJ - P'!M6)","v":19.71},null,{"$f":"IF('PJ - P'!O6=\"\",\"\",'PJ - P'!O6)","v":19.579999999999998}]
[null,{"$f":"IF(AND('PJ - P'!$C7=\"\",'PJ - P'!$D7=\"\"),\"\",'PJ - P'!V7)","v":7},{"$f":"IF(AND('PJ - P'!$C7=\"\",'PJ - P'!$D7=\"\"),\"\",'PJ - P'!B7)","v":5},{"$f":"IF('PJ - P'!C7=\"\",\"\",'PJ - P'!C7)","v":"Janáčková Michaela"},{"$f":"IF('PJ - P'!D7=\"\",\"\",'PJ - P'!D7)","v":"Stéblová"},{"$f":"IF('PJ - P'!H7=\"\",\"\",'PJ - P'!H7)","v":19.809999999999999},{"$f":"IF('PJ - P'!M7=\"\",\"\",'PJ - P'!M7)","v":"NP"},null,{"$f":"IF('PJ - P'!O7=\"\",\"\",'PJ - P'!O7)","v":19.809999999999999}]
[null,{"$f":"IF(AND('PJ - P'!$C8=\"\",'PJ - P'!$D8=\"\"),\"\",'PJ - P'!V8)","v":8},{"$f":"IF(AND('PJ - P'!$C8=\"\",'PJ - P'!$D8=\"\"),\"\",'PJ - P'!B8)","v":3},{"$f":"IF('PJ - P'!C8=\"\",\"\",'PJ - P'!C8)","v":"Bubeníčková Denisa"},{"$f":"IF('PJ - P'!D8=\"\",\"\",'PJ - P'!D8)","v":"Skuteč"},{"$f":"IF('PJ - P'!H8=\"\",\"\",'PJ - P'!H8)","v":26.03},{"$f":"IF('PJ - P'!M8=\"\",\"\",'PJ - P'!M8)","v":19.899999999999999},null,{"$f":"IF('PJ - P'!O8=\"\",\"\",'PJ - P'!O8)","v":19.899999999999999}]
[null,{"$f":"IF(AND('PJ - P'!$C9=\"\",'PJ - P'!$D9=\"\"),\"\",'PJ - P'!V9)","v":9},{"$f":"IF(AND('PJ - P'!$C9=\"\",'PJ - P'!$D9=\"\"),\"\",'PJ - P'!B9)","v":19},{"$f":"IF('PJ - P'!C9=\"\",\"\",'PJ - P'!C9)","v":"Zavoralová Aneta"},{"$f":"IF('PJ - P'!D9=\"\",\"\",'PJ - P'!D9)","v":"Skuteč"},{"$f":"IF('PJ - P'!H9=\"\",\"\",'PJ - P'!H9)","v":20.43},{"$f":"IF('PJ - P'!M9=\"\",\"\",'PJ - P'!M9)","v":20.100000000000001},null,{"$f":"IF('PJ - P'!O9=\"\",\"\",'PJ - P'!O9)","v":20.100000000000001}]
[null,{"$f":"IF(AND('PJ - P'!$C10=\"\",'PJ - P'!$D10=\"\"),\"\",'PJ - P'!V10)","v":10},{"$f":"IF(AND('PJ - P'!$C10=\"\",'PJ - P'!$D10=\"\"),\"\",'PJ - P'!B10)","v":14},{"$f":"IF('PJ - P'!C10=\"\",\"\",'PJ - P'!C10)","v":"Adéla Hrušová"},{"$f":"IF('PJ - P'!D10=\"\",\"\",'PJ - P'!D10)","v":"Lukavice"},{"$f":"IF('PJ - P'!H10=\"\",\"\",'PJ - P'!H10)","v":20.329999999999998},{"$f":"IF('PJ - P'!M10=\"\",\"\",'PJ - P'!M10)","v":20.23},null,{"$f":"IF('PJ - P'!O10=\"\",\"\",'PJ - P'!O10)","v":20.23}]
[null,{"$f":"IF(AND('PJ - P'!$C11=\"\",'PJ - P'!$D11=\"\"),\"\",'PJ - P'!V11)","v":11},{"$f":"IF(AND('PJ - P'!$C11=\"\",'PJ - P'!$D11=\"\"),\"\",'PJ - P'!B11)","v":23},{"$f":"IF('PJ - P'!C11=\"\",\"\",'PJ - P'!C11)","v":"Valíková Veronika"},{"$f":"IF('PJ - P'!D11=\"\",\"\",'PJ - P'!D11)","v":"Skuteč"},{"$f":"IF('PJ - P'!H11=\"\",\"\",'PJ - P'!H11)","v":20.38},{"$f":"IF('PJ - P'!M11=\"\",\"\",'PJ - P'!M11)","v":"NP"},null,{"$f":"IF('PJ - P'!O11=\"\",\"\",'PJ - P'!O11)","v":20.38}]
[null,{"$f":"IF(AND('PJ - P'!$C12=\"\",'PJ - P'!$D12=\"\"),\"\",'PJ - P'!V12)","v":12},{"$f":"IF(AND('PJ - P'!$C12=\"\",'PJ - P'!$D12=\"\"),\"\",'PJ - P'!B12)","v":13},{"$f":"IF('PJ - P'!C12=\"\",\"\",'PJ - P'!C12)","v":"Bandžuchová Zuzana"},{"$f":"IF('PJ - P'!D12=\"\",\"\",'PJ - P'!D12)","v":"Stéblová"},{"$f":"IF('PJ - P'!H12=\"\",\"\",'PJ - P'!H12)","v":20.5},{"$f":"IF('PJ - P'!M12=\"\",\"\",'PJ - P'!M12)","v":24.95},null,{"$f":"IF('PJ - P'!O12=\"\",\"\",'PJ - P'!O12)","v":20.5}]
[null,{"$f":"IF(AND('PJ - P'!$C13=\"\",'PJ - P'!$D13=\"\"),\"\",'PJ - P'!V13)","v":13},{"$f":"IF(AND('PJ - P'!$C13=\"\",'PJ - P'!$D13=\"\"),\"\",'PJ - P'!B13)","v":10},{"$f":"IF('PJ - P'!C13=\"\",\"\",'PJ - P'!C13)","v":"Nela Hrušová"},{"$f":"IF('PJ - P'!D13=\"\",\"\",'PJ - P'!D13)","v":"Lukavice"},{"$f":"IF('PJ - P'!H13=\"\",\"\",'PJ - P'!H13)","v":20.62},{"$f":"IF('PJ - P'!M13=\"\",\"\",'PJ - P'!M13)","v":"NP"},null,{"$f":"IF('PJ - P'!O13=\"\",\"\",'PJ - P'!O13)","v":20.62}]
[null,{"$f":"IF(AND('PJ - P'!$C14=\"\",'PJ - P'!$D14=\"\"),\"\",'PJ - P'!V14)","v":14},{"$f":"IF(AND('PJ - P'!$C14=\"\",'PJ - P'!$D14=\"\"),\"\",'PJ - P'!B14)","v":18},{"$f":"IF('PJ - P'!C14=\"\",\"\",'PJ - P'!C14)","v":"Kamila Halbrštátová"},{"$f":"IF('PJ - P'!D14=\"\",\"\",'PJ - P'!D14)","v":"Lukavice"},{"$f":"IF('PJ - P'!H14=\"\",\"\",'PJ - P'!H14)","v":21.29},{"$f":"IF('PJ - P'!M14=\"\",\"\",'PJ - P'!M14)","v":20.78},null,{"$f":"IF('PJ - P'!O14=\"\",\"\",'PJ - P'!O14)","v":20.78}]
[null,{"$f":"IF(AND('PJ - P'!$C15=\"\",'PJ - P'!$D15=\"\"),\"\",'PJ - P'!V15)","v":15},{"$f":"IF(AND('PJ - P'!$C15=\"\",'PJ - P'!$D15=\"\"),\"\",'PJ - P'!B15)","v":28},{"$f":"IF('PJ - P'!C15=\"\",\"\",'PJ - P'!C15)","v":"Andrlová Eliška"},{"$f":"IF('PJ - P'!D15=\"\",\"\",'PJ - P'!D15)","v":"Desná"},{"$f":"IF('PJ - P'!H15=\"\",\"\",'PJ - P'!H15)","v":21.14},{"$f":"IF('PJ - P'!M15=\"\",\"\",'PJ - P'!M15)","v":20.89},null,{"$f":"IF('PJ - P'!O15=\"\",\"\",'PJ - P'!O15)","v":20.89}]
[null,{"$f":"IF(AND('PJ - P'!$C16=\"\",'PJ - P'!$D16=\"\"),\"\",'PJ - P'!V16)","v":16},{"$f":"IF(AND('PJ - P'!$C16=\"\",'PJ - P'!$D16=\"\"),\"\",'PJ - P'!B16)","v":27},{"$f":"IF('PJ - P'!C16=\"\",\"\",'PJ - P'!C16)","v":"Marboe Anita"},{"$f":"IF('PJ - P'!D16=\"\",\"\",'PJ - P'!D16)","v":"Skuteč"},{"$f":"IF('PJ - P'!H16=\"\",\"\",'PJ - P'!H16)","v":21.5},{"$f":"IF('PJ - P'!M16=\"\",\"\",'PJ - P'!M16)","v":21.05},null,{"$f":"IF('PJ - P'!O16=\"\",\"\",'PJ - P'!O16)","v":21.05}]
[null,{"$f":"IF(AND('PJ - P'!$C17=\"\",'PJ - P'!$D17=\"\"),\"\",'PJ - P'!V17)","v":17},{"$f":"IF(AND('PJ - P'!$C17=\"\",'PJ - P'!$D17=\"\"),\"\",'PJ - P'!B17)","v":2},{"$f":"IF('PJ - P'!C17=\"\",\"\",'PJ - P'!C17)","v":"Simona Škopová"},{"$f":"IF('PJ - P'!D17=\"\",\"\",'PJ - P'!D17)","v":"Lukavice"},{"$f":"IF('PJ - P'!H17=\"\",\"\",'PJ - P'!H17)","v":21.1},{"$f":"IF('PJ - P'!M17=\"\",\"\",'PJ - P'!M17)","v":23.21},null,{"$f":"IF('PJ - P'!O17=\"\",\"\",'PJ - P'!O17)","v":21.1}]
[null,{"$f":"IF(AND('PJ - P'!$C18=\"\",'PJ - P'!$D18=\"\"),\"\",'PJ - P'!V18)","v":18},{"$f":"IF(AND('PJ - P'!$C18=\"\",'PJ - P'!$D18=\"\"),\"\",'PJ - P'!B18)","v":24},{"$f":"IF('PJ - P'!C18=\"\",\"\",'PJ - P'!C18)","v":"Jůzová Nela"},{"$f":"IF('PJ - P'!D18=\"\",\"\",'PJ - P'!D18)","v":"Desná"},{"$f":"IF('PJ - P'!H18=\"\",\"\",'PJ - P'!H18)","v":21.14},{"$f":"IF('PJ - P'!M18=\"\",\"\",'PJ - P'!M18)","v":25.6},null,{"$f":"IF('PJ - P'!O18=\"\",\"\",'PJ - P'!O18)","v":21.14}]
[null,{"$f":"IF(AND('PJ - P'!$C19=\"\",'PJ - P'!$D19=\"\"),\"\",'PJ - P'!V19)","v":19},{"$f":"IF(AND('PJ - P'!$C19=\"\",'PJ - P'!$D19=\"\"),\"\",'PJ - P'!B19)","v":20},{"$f":"IF('PJ - P'!C19=\"\",\"\",'PJ - P'!C19)","v":"Prokopová Magdaléna"},{"$f":"IF('PJ - P'!D19=\"\",\"\",'PJ - P'!D19)","v":"Desná"},{"$f":"IF('PJ - P'!H19=\"\",\"\",'PJ - P'!H19)","v":21.68},{"$f":"IF('PJ - P'!M19=\"\",\"\",'PJ - P'!M19)","v":21.21},null,{"$f":"IF('PJ - P'!O19=\"\",\"\",'PJ - P'!O19)","v":21.21}]
[null,{"$f":"IF(AND('PJ - P'!$C20=\"\",'PJ - P'!$D20=\"\"),\"\",'PJ - P'!V20)","v":20},{"$f":"IF(AND('PJ - P'!$C20=\"\",'PJ - P'!$D20=\"\"),\"\",'PJ - P'!B20)","v":22},{"$f":"IF('PJ - P'!C20=\"\",\"\",'PJ - P'!C20)","v":"Denisa Boháčová"},{"$f":"IF('PJ - P'!D20=\"\",\"\",'PJ - P'!D20)","v":"Lukavice"},{"$f":"IF('PJ - P'!H20=\"\",\"\",'PJ - P'!H20)","v":21.37},{"$f":"IF('PJ - P'!M20=\"\",\"\",'PJ - P'!M20)","v":21.24},null,{"$f":"IF('PJ - P'!O20=\"\",\"\",'PJ - P'!O20)","v":21.24}]
[null,{"$f":"IF(AND('PJ - P'!$C21=\"\",'PJ - P'!$D21=\"\"),\"\",'PJ - P'!V21)","v":21},{"$f":"IF(AND('PJ - P'!$C21=\"\",'PJ - P'!$D21=\"\"),\"\",'PJ - P'!B21)","v":17},{"$f":"IF('PJ - P'!C21=\"\",\"\",'PJ - P'!C21)","v":"Baťová Adéla"},{"$f":"IF('PJ - P'!D21=\"\",\"\",'PJ - P'!D21)","v":"Stéblová"},{"$f":"IF('PJ - P'!H21=\"\",\"\",'PJ - P'!H21)","v":21.71},{"$f":"IF('PJ - P'!M21=\"\",\"\",'PJ - P'!M21)","v":21.58},null,{"$f":"IF('PJ - P'!O21=\"\",\"\",'PJ - P'!O21)","v":21.58}]
[null,{"$f":"IF(AND('PJ - P'!$C22=\"\",'PJ - P'!$D22=\"\"),\"\",'PJ - P'!V22)","v":22},{"$f":"IF(AND('PJ - P'!$C22=\"\",'PJ - P'!$D22=\"\"),\"\",'PJ - P'!B22)","v":21},{"$f":"IF('PJ - P'!C22=\"\",\"\",'PJ - P'!C22)","v":"Černohubá Tereza"},{"$f":"IF('PJ - P'!D22=\"\",\"\",'PJ - P'!D22)","v":"Stéblová"},{"$f":"IF('PJ - P'!H22=\"\",\"\",'PJ - P'!H22)","v":22.2},{"$f":"IF('PJ - P'!M22=\"\",\"\",'PJ - P'!M22)","v":23.25},null,{"$f":"IF('PJ - P'!O22=\"\",\"\",'PJ - P'!O22)","v":22.2}]
[null,{"$f":"IF(AND('PJ - P'!$C23=\"\",'PJ - P'!$D23=\"\"),\"\",'PJ - P'!V23)","v":23},{"$f":"IF(AND('PJ - P'!$C23=\"\",'PJ - P'!$D23=\"\"),\"\",'PJ - P'!B23)","v":25},{"$f":"IF('PJ - P'!C23=\"\",\"\",'PJ - P'!C23)","v":"Zelingerová Aneta"},{"$f":"IF('PJ - P'!D23=\"\",\"\",'PJ - P'!D23)","v":"Stéblová"},{"$f":"IF('PJ - P'!H23=\"\",\"\",'PJ - P'!H23)","v":22.55},{"$f":"IF('PJ - P'!M23=\"\",\"\",'PJ - P'!M23)","v":"NP"},null,{"$f":"IF('PJ - P'!O23=\"\",\"\",'PJ - P'!O23)","v":22.55}]
[null,{"$f":"IF(AND('PJ - P'!$C24=\"\",'PJ - P'!$D24=\"\"),\"\",'PJ - P'!V24)","v":24},{"$f":"IF(AND('PJ - P'!$C24=\"\",'PJ - P'!$D24=\"\"),\"\",'PJ - P'!B24)","v":8},{"$f":"IF('PJ - P'!C24=\"\",\"\",'PJ - P'!C24)","v":"Mičíková Nikola"},{"$f":"IF('PJ - P'!D24=\"\",\"\",'PJ - P'!D24)","v":"Desná"},{"$f":"IF('PJ - P'!H24=\"\",\"\",'PJ - P'!H24)","v":22.76},{"$f":"IF('PJ - P'!M24=\"\",\"\",'PJ - P'!M24)","v":23.4},null,{"$f":"IF('PJ - P'!O24=\"\",\"\",'PJ - P'!O24)","v":22.76}]
[null,{"$f":"IF(AND('PJ - P'!$C25=\"\",'PJ - P'!$D25=\"\"),\"\",'PJ - P'!V25)","v":25},{"$f":"IF(AND('PJ - P'!$C25=\"\",'PJ - P'!$D25=\"\"),\"\",'PJ - P'!B25)","v":6},{"$f":"IF('PJ - P'!C25=\"\",\"\",'PJ - P'!C25)","v":"Veronika Macháčková"},{"$f":"IF('PJ - P'!D25=\"\",\"\",'PJ - P'!D25)","v":"Lukavice"},{"$f":"IF('PJ - P'!H25=\"\",\"\",'PJ - P'!H25)","v":22.97},{"$f":"IF('PJ - P'!M25=\"\",\"\",'PJ - P'!M25)","v":"NP"},null,{"$f":"IF('PJ - P'!O25=\"\",\"\",'PJ - P'!O25)","v":22.97}]
[null,{"$f":"IF(AND('PJ - P'!$C26=\"\",'PJ - P'!$D26=\"\"),\"\",'PJ - P'!V26)","v":26},{"$f":"IF(AND('PJ - P'!$C26=\"\",'PJ - P'!$D26=\"\"),\"\",'PJ - P'!B26)","v":12},{"$f":"IF('PJ - P'!C26=\"\",\"\",'PJ - P'!C26)","v":"Ševčíková Veronika"},{"$f":"IF('PJ - P'!D26=\"\",\"\",'PJ - P'!D26)","v":"Desná"},{"$f":"IF('PJ - P'!H26=\"\",\"\",'PJ - P'!H26)","v":26.73},{"$f":"IF('PJ - P'!M26=\"\",\"\",'PJ - P'!M26)","v":25.05},null,{"$f":"IF('PJ - P'!O26=\"\",\"\",'PJ - P'!O26)","v":25.05}]
[null,{"$f":"IF(AND('PJ - P'!$C27=\"\",'PJ - P'!$D27=\"\"),\"\",'PJ - P'!V27)","v":27},{"$f":"IF(AND('PJ - P'!$C27=\"\",'PJ - P'!$D27=\"\"),\"\",'PJ - P'!B27)","v":16},{"$f":"IF('PJ - P'!C27=\"\",\"\",'PJ - P'!C27)","v":"Doležalová Klára"},{"$f":"IF('PJ - P'!D27=\"\",\"\",'PJ - P'!D27)","v":"Desná"},{"$f":"IF('PJ - P'!H27=\"\",\"\",'PJ - P'!H27)","v":"NP"},{"$f":"IF('PJ - P'!M27=\"\",\"\",'PJ - P'!M27)","v":25.42},null,{"$f":"IF('PJ - P'!O27=\"\",\"\",'PJ - P'!O27)","v":25.42}]
[null,{"$f":"IF(AND('PJ - P'!$C28=\"\",'PJ - P'!$D28=\"\"),\"\",'PJ - P'!V28)","v":28},{"$f":"IF(AND('PJ - P'!$C28=\"\",'PJ - P'!$D28=\"\"),\"\",'PJ - P'!B28)","v":26},{"$f":"IF('PJ - P'!C28=\"\",\"\",'PJ - P'!C28)","v":"Lucie Hotmarová"},{"$f":"IF('PJ - P'!D28=\"\",\"\",'PJ - P'!D28)","v":"Lukavice"},{"$f":"IF('PJ - P'!H28=\"\",\"\",'PJ - P'!H28)","v":28.43},{"$f":"IF('PJ - P'!M28=\"\",\"\",'PJ - P'!M28)","v":27.63},null,{"$f":"IF('PJ - P'!O28=\"\",\"\",'PJ - P'!O28)","v":27.63}]
[null,{"$f":"IF(AND('PJ - P'!$C29=\"\",'PJ - P'!$D29=\"\"),\"\",'PJ - P'!V29)","v":""},{"$f":"IF(AND('PJ - P'!$C29=\"\",'PJ - P'!$D29=\"\"),\"\",'PJ - P'!B29)","v":""},{"$f":"IF('PJ - P'!C29=\"\",\"\",'PJ - P'!C29)","v":""},{"$f":"IF('PJ - P'!D29=\"\",\"\",'PJ - P'!D29)","v":""},{"$f":"IF('PJ - P'!H29=\"\",\"\",'PJ - P'!H29)","v":""},{"$f":"IF('PJ - P'!M29=\"\",\"\",'PJ - P'!M29)","v":""},null,{"$f":"IF('PJ - P'!O29=\"\",\"\",'PJ - P'!O29)","v":""}]
[null,{"$f":"IF(AND('PJ - P'!$C30=\"\",'PJ - P'!$D30=\"\"),\"\",'PJ - P'!V30)","v":""},{"$f":"IF(AND('PJ - P'!$C30=\"\",'PJ - P'!$D30=\"\"),\"\",'PJ - P'!B30)","v":""},{"$f":"IF('PJ - P'!C30=\"\",\"\",'PJ - P'!C30)","v":""},{"$f":"IF('PJ - P'!D30=\"\",\"\",'PJ - P'!D30)","v":""},{"$f":"IF('PJ - P'!H30=\"\",\"\",'PJ - P'!H30)","v":""},{"$f":"IF('PJ - P'!M30=\"\",\"\",'PJ - P'!M30)","v":""},null,{"$f":"IF('PJ - P'!O30=\"\",\"\",'PJ - P'!O30)","v":""}]
[null,{"$f":"IF(AND('PJ - P'!$C31=\"\",'PJ - P'!$D31=\"\"),\"\",'PJ - P'!V31)","v":""},{"$f":"IF(AND('PJ - P'!$C31=\"\",'PJ - P'!$D31=\"\"),\"\",'PJ - P'!B31)","v":""},{"$f":"IF('PJ - P'!C31=\"\",\"\",'PJ - P'!C31)","v":""},{"$f":"IF('PJ - P'!D31=\"\",\"\",'PJ - P'!D31)","v":""},{"$f":"IF('PJ - P'!H31=\"\",\"\",'PJ - P'!H31)","v":""},{"$f":"IF('PJ - P'!M31=\"\",\"\",'PJ - P'!M31)","v":""},null,{"$f":"IF('PJ - P'!O31=\"\",\"\",'PJ - P'!O31)","v":""}]
[null,{"$f":"IF(AND('PJ - P'!$C32=\"\",'PJ - P'!$D32=\"\"),\"\",'PJ - P'!V32)","v":""},{"$f":"IF(AND('PJ - P'!$C32=\"\",'PJ - P'!$D32=\"\"),\"\",'PJ - P'!B32)","v":""},{"$f":"IF('PJ - P'!C32=\"\",\"\",'PJ - P'!C32)","v":""},{"$f":"IF('PJ - P'!D32=\"\",\"\",'PJ - P'!D32)","v":""},{"$f":"IF('PJ - P'!H32=\"\",\"\",'PJ - P'!H32)","v":""},{"$f":"IF('PJ - P'!M32=\"\",\"\",'PJ - P'!M32)","v":""},null,{"$f":"IF('PJ - P'!O32=\"\",\"\",'PJ - P'!O32)","v":""}]
[null,{"$f":"IF(AND('PJ - P'!$C33=\"\",'PJ - P'!$D33=\"\"),\"\",'PJ - P'!V33)","v":""},{"$f":"IF(AND('PJ - P'!$C33=\"\",'PJ - P'!$D33=\"\"),\"\",'PJ - P'!B33)","v":""},{"$f":"IF('PJ - P'!C33=\"\",\"\",'PJ - P'!C33)","v":""},{"$f":"IF('PJ - P'!D33=\"\",\"\",'PJ - P'!D33)","v":""},{"$f":"IF('PJ - P'!H33=\"\",\"\",'PJ - P'!H33)","v":""},{"$f":"IF('PJ - P'!M33=\"\",\"\",'PJ - P'!M33)","v":""},null,{"$f":"IF('PJ - P'!O33=\"\",\"\",'PJ - P'!O33)","v":""}]
[null,{"$f":"IF(AND('PJ - P'!$C34=\"\",'PJ - P'!$D34=\"\"),\"\",'PJ - P'!V34)","v":""},{"$f":"IF(AND('PJ - P'!$C34=\"\",'PJ - P'!$D34=\"\"),\"\",'PJ - P'!B34)","v":""},{"$f":"IF('PJ - P'!C34=\"\",\"\",'PJ - P'!C34)","v":""},{"$f":"IF('PJ - P'!D34=\"\",\"\",'PJ - P'!D34)","v":""},{"$f":"IF('PJ - P'!H34=\"\",\"\",'PJ - P'!H34)","v":""},{"$f":"IF('PJ - P'!M34=\"\",\"\",'PJ - P'!M34)","v":""},null,{"$f":"IF('PJ - P'!O34=\"\",\"\",'PJ - P'!O34)","v":""}]
[null,{"$f":"IF(AND('PJ - P'!$C35=\"\",'PJ - P'!$D35=\"\"),\"\",'PJ - P'!V35)","v":""},{"$f":"IF(AND('PJ - P'!$C35=\"\",'PJ - P'!$D35=\"\"),\"\",'PJ - P'!B35)","v":""},{"$f":"IF('PJ - P'!C35=\"\",\"\",'PJ - P'!C35)","v":""},{"$f":"IF('PJ - P'!D35=\"\",\"\",'PJ - P'!D35)","v":""},{"$f":"IF('PJ - P'!H35=\"\",\"\",'PJ - P'!H35)","v":""},{"$f":"IF('PJ - P'!M35=\"\",\"\",'PJ - P'!M35)","v":""},null,{"$f":"IF('PJ - P'!O35=\"\",\"\",'PJ - P'!O35)","v":""}]
[null,{"$f":"IF(AND('PJ - P'!$C36=\"\",'PJ - P'!$D36=\"\"),\"\",'PJ - P'!V36)","v":""},{"$f":"IF(AND('PJ - P'!$C36=\"\",'PJ - P'!$D36=\"\"),\"\",'PJ - P'!B36)","v":""},{"$f":"IF('PJ - P'!C36=\"\",\"\",'PJ - P'!C36)","v":""},{"$f":"IF('PJ - P'!D36=\"\",\"\",'PJ - P'!D36)","v":""},{"$f":"IF('PJ - P'!H36=\"\",\"\",'PJ - P'!H36)","v":""},{"$f":"IF('PJ - P'!M36=\"\",\"\",'PJ - P'!M36)","v":""},null,{"$f":"IF('PJ - P'!O36=\"\",\"\",'PJ - P'!O36)","v":""}]
[null,{"$f":"B$1","v":"Běh na 100m s přek. - Pořadí jednotlivců"}]
[]
[null,{"$f":"B$3","v":"Okresní kolo v PS"},null,null,{"$f":"E$3","v":"Chrast 16.6.2024"}]
[]
[null,{"$f":"Start!$C$5","v":"Dorky"}]
[null,"Pořadí","Start. číslo","Jméno","kolektiv","čas             I. pokusu","čas            II. pokusu",null,"Výsledný čas"]
[]
[null,{"$f":"IF(AND('PJ - P'!$C37=\"\",'PJ - P'!$D37=\"\"),\"\",'PJ - P'!V37)","v":""},{"$f":"IF(AND('PJ - P'!$C37=\"\",'PJ - P'!$D37=\"\"),\"\",'PJ - P'!B37)","v":""},{"$f":"IF('PJ - P'!C37=\"\",\"\",'PJ - P'!C37)","v":""},{"$f":"IF('PJ - P'!D37=\"\",\"\",'PJ - P'!D37)","v":""},{"$f":"IF('PJ - P'!H37=\"\",\"\",'PJ - P'!H37)","v":""},{"$f":"IF('PJ - P'!M37=\"\",\"\",'PJ - P'!M37)","v":""},null,{"$f":"IF('PJ - P'!O37=\"\",\"\",'PJ - P'!O37)","v":""}]
[null,{"$f":"IF(AND('PJ - P'!$C38=\"\",'PJ - P'!$D38=\"\"),\"\",'PJ - P'!V38)","v":""},{"$f":"IF(AND('PJ - P'!$C38=\"\",'PJ - P'!$D38=\"\"),\"\",'PJ - P'!B38)","v":""},{"$f":"IF('PJ - P'!C38=\"\",\"\",'PJ - P'!C38)","v":""},{"$f":"IF('PJ - P'!D38=\"\",\"\",'PJ - P'!D38)","v":""},{"$f":"IF('PJ - P'!H38=\"\",\"\",'PJ - P'!H38)","v":""},{"$f":"IF('PJ - P'!M38=\"\",\"\",'PJ - P'!M38)","v":""},null,{"$f":"IF('PJ - P'!O38=\"\",\"\",'PJ - P'!O38)","v":""}]
[null,{"$f":"IF(AND('PJ - P'!$C39=\"\",'PJ - P'!$D39=\"\"),\"\",'PJ - P'!V39)","v":""},{"$f":"IF(AND('PJ - P'!$C39=\"\",'PJ - P'!$D39=\"\"),\"\",'PJ - P'!B39)","v":""},{"$f":"IF('PJ - P'!C39=\"\",\"\",'PJ - P'!C39)","v":""},{"$f":"IF('PJ - P'!D39=\"\",\"\",'PJ - P'!D39)","v":""},{"$f":"IF('PJ - P'!H39=\"\",\"\",'PJ - P'!H39)","v":""},{"$f":"IF('PJ - P'!M39=\"\",\"\",'PJ - P'!M39)","v":""},null,{"$f":"IF('PJ - P'!O39=\"\",\"\",'PJ - P'!O39)","v":""}]
[null,{"$f":"IF(AND('PJ - P'!$C40=\"\",'PJ - P'!$D40=\"\"),\"\",'PJ - P'!V40)","v":""},{"$f":"IF(AND('PJ - P'!$C40=\"\",'PJ - P'!$D40=\"\"),\"\",'PJ - P'!B40)","v":""},{"$f":"IF('PJ - P'!C40=\"\",\"\",'PJ - P'!C40)","v":""},{"$f":"IF('PJ - P'!D40=\"\",\"\",'PJ - P'!D40)","v":""},{"$f":"IF('PJ - P'!H40=\"\",\"\",'PJ - P'!H40)","v":""},{"$f":"IF('PJ - P'!M40=\"\",\"\",'PJ - P'!M40)","v":""},null,{"$f":"IF('PJ - P'!O40=\"\",\"\",'PJ - P'!O40)","v":""}]
[null,{"$f":"IF(AND('PJ - P'!$C41=\"\",'PJ - P'!$D41=\"\"),\"\",'PJ - P'!V41)","v":""},{"$f":"IF(AND('PJ - P'!$C41=\"\",'PJ - P'!$D41=\"\"),\"\",'PJ - P'!B41)","v":""},{"$f":"IF('PJ - P'!C41=\"\",\"\",'PJ - P'!C41)","v":""},{"$f":"IF('PJ - P'!D41=\"\",\"\",'PJ - P'!D41)","v":""},{"$f":"IF('PJ - P'!H41=\"\",\"\",'PJ - P'!H41)","v":""},{"$f":"IF('PJ - P'!M41=\"\",\"\",'PJ - P'!M41)","v":""},null,{"$f":"IF('PJ - P'!O41=\"\",\"\",'PJ - P'!O41)","v":""}]
[null,{"$f":"IF(AND('PJ - P'!$C42=\"\",'PJ - P'!$D42=\"\"),\"\",'PJ - P'!V42)","v":""},{"$f":"IF(AND('PJ - P'!$C42=\"\",'PJ - P'!$D42=\"\"),\"\",'PJ - P'!B42)","v":""},{"$f":"IF('PJ - P'!C42=\"\",\"\",'PJ - P'!C42)","v":""},{"$f":"IF('PJ - P'!D42=\"\",\"\",'PJ - P'!D42)","v":""},{"$f":"IF('PJ - P'!H42=\"\",\"\",'PJ - P'!H42)","v":""},{"$f":"IF('PJ - P'!M42=\"\",\"\",'PJ - P'!M42)","v":""},null,{"$f":"IF('PJ - P'!O42=\"\",\"\",'PJ - P'!O42)","v":""}]
[null,{"$f":"IF(AND('PJ - P'!$C43=\"\",'PJ - P'!$D43=\"\"),\"\",'PJ - P'!V43)","v":""},{"$f":"IF(AND('PJ - P'!$C43=\"\",'PJ - P'!$D43=\"\"),\"\",'PJ - P'!B43)","v":""},{"$f":"IF('PJ - P'!C43=\"\",\"\",'PJ - P'!C43)","v":""},{"$f":"IF('PJ - P'!D43=\"\",\"\",'PJ - P'!D43)","v":""},{"$f":"IF('PJ - P'!H43=\"\",\"\",'PJ - P'!H43)","v":""},{"$f":"IF('PJ - P'!M43=\"\",\"\",'PJ - P'!M43)","v":""},null,{"$f":"IF('PJ - P'!O43=\"\",\"\",'PJ - P'!O43)","v":""}]
[null,{"$f":"IF(AND('PJ - P'!$C44=\"\",'PJ - P'!$D44=\"\"),\"\",'PJ - P'!V44)","v":""},{"$f":"IF(AND('PJ - P'!$C44=\"\",'PJ - P'!$D44=\"\"),\"\",'PJ - P'!B44)","v":""},{"$f":"IF('PJ - P'!C44=\"\",\"\",'PJ - P'!C44)","v":""},{"$f":"IF('PJ - P'!D44=\"\",\"\",'PJ - P'!D44)","v":""},{"$f":"IF('PJ - P'!H44=\"\",\"\",'PJ - P'!H44)","v":""},{"$f":"IF('PJ - P'!M44=\"\",\"\",'PJ - P'!M44)","v":""},null,{"$f":"IF('PJ - P'!O44=\"\",\"\",'PJ - P'!O44)","v":""}]
[null,{"$f":"IF(AND('PJ - P'!$C45=\"\",'PJ - P'!$D45=\"\"),\"\",'PJ - P'!V45)","v":""},{"$f":"IF(AND('PJ - P'!$C45=\"\",'PJ - P'!$D45=\"\"),\"\",'PJ - P'!B45)","v":""},{"$f":"IF('PJ - P'!C45=\"\",\"\",'PJ - P'!C45)","v":""},{"$f":"IF('PJ - P'!D45=\"\",\"\",'PJ - P'!D45)","v":""},{"$f":"IF('PJ - P'!H45=\"\",\"\",'PJ - P'!H45)","v":""},{"$f":"IF('PJ - P'!M45=\"\",\"\",'PJ - P'!M45)","v":""},null,{"$f":"IF('PJ - P'!O45=\"\",\"\",'PJ - P'!O45)","v":""}]
[null,{"$f":"IF(AND('PJ - P'!$C46=\"\",'PJ - P'!$D46=\"\"),\"\",'PJ - P'!V46)","v":""},{"$f":"IF(AND('PJ - P'!$C46=\"\",'PJ - P'!$D46=\"\"),\"\",'PJ - P'!B46)","v":""},{"$f":"IF('PJ - P'!C46=\"\",\"\",'PJ - P'!C46)","v":""},{"$f":"IF('PJ - P'!D46=\"\",\"\",'PJ - P'!D46)","v":""},{"$f":"IF('PJ - P'!H46=\"\",\"\",'PJ - P'!H46)","v":""},{"$f":"IF('PJ - P'!M46=\"\",\"\",'PJ - P'!M46)","v":""},null,{"$f":"IF('PJ - P'!O46=\"\",\"\",'PJ - P'!O46)","v":""}]
[null,{"$f":"IF(AND('PJ - P'!$C47=\"\",'PJ - P'!$D47=\"\"),\"\",'PJ - P'!V47)","v":""},{"$f":"IF(AND('PJ - P'!$C47=\"\",'PJ - P'!$D47=\"\"),\"\",'PJ - P'!B47)","v":""},{"$f":"IF('PJ - P'!C47=\"\",\"\",'PJ - P'!C47)","v":""},{"$f":"IF('PJ - P'!D47=\"\",\"\",'PJ - P'!D47)","v":""},{"$f":"IF('PJ - P'!H47=\"\",\"\",'PJ - P'!H47)","v":""},{"$f":"IF('PJ - P'!M47=\"\",\"\",'PJ - P'!M47)","v":""},null,{"$f":"IF('PJ - P'!O47=\"\",\"\",'PJ - P'!O47)","v":""}]
[null,{"$f":"IF(AND('PJ - P'!$C48=\"\",'PJ - P'!$D48=\"\"),\"\",'PJ - P'!V48)","v":""},{"$f":"IF(AND('PJ - P'!$C48=\"\",'PJ - P'!$D48=\"\"),\"\",'PJ - P'!B48)","v":""},{"$f":"IF('PJ - P'!C48=\"\",\"\",'PJ - P'!C48)","v":""},{"$f":"IF('PJ - P'!D48=\"\",\"\",'PJ - P'!D48)","v":""},{"$f":"IF('PJ - P'!H48=\"\",\"\",'PJ - P'!H48)","v":""},{"$f":"IF('PJ - P'!M48=\"\",\"\",'PJ - P'!M48)","v":""},null,{"$f":"IF('PJ - P'!O48=\"\",\"\",'PJ - P'!O48)","v":""}]
[null,{"$f":"IF(AND('PJ - P'!$C49=\"\",'PJ - P'!$D49=\"\"),\"\",'PJ - P'!V49)","v":""},{"$f":"IF(AND('PJ - P'!$C49=\"\",'PJ - P'!$D49=\"\"),\"\",'PJ - P'!B49)","v":""},{"$f":"IF('PJ - P'!C49=\"\",\"\",'PJ - P'!C49)","v":""},{"$f":"IF('PJ - P'!D49=\"\",\"\",'PJ - P'!D49)","v":""},{"$f":"IF('PJ - P'!H49=\"\",\"\",'PJ - P'!H49)","v":""},{"$f":"IF('PJ - P'!M49=\"\",\"\",'PJ - P'!M49)","v":""},null,{"$f":"IF('PJ - P'!O49=\"\",\"\",'PJ - P'!O49)","v":""}]
[null,{"$f":"IF(AND('PJ - P'!$C50=\"\",'PJ - P'!$D50=\"\"),\"\",'PJ - P'!V50)","v":""},{"$f":"IF(AND('PJ - P'!$C50=\"\",'PJ - P'!$D50=\"\"),\"\",'PJ - P'!B50)","v":""},{"$f":"IF('PJ - P'!C50=\"\",\"\",'PJ - P'!C50)","v":""},{"$f":"IF('PJ - P'!D50=\"\",\"\",'PJ - P'!D50)","v":""},{"$f":"IF('PJ - P'!H50=\"\",\"\",'PJ - P'!H50)","v":""},{"$f":"IF('PJ - P'!M50=\"\",\"\",'PJ - P'!M50)","v":""},null,{"$f":"IF('PJ - P'!O50=\"\",\"\",'PJ - P'!O50)","v":""}]
[null,{"$f":"IF(AND('PJ - P'!$C51=\"\",'PJ - P'!$D51=\"\"),\"\",'PJ - P'!V51)","v":""},{"$f":"IF(AND('PJ - P'!$C51=\"\",'PJ - P'!$D51=\"\"),\"\",'PJ - P'!B51)","v":""},{"$f":"IF('PJ - P'!C51=\"\",\"\",'PJ - P'!C51)","v":""},{"$f":"IF('PJ - P'!D51=\"\",\"\",'PJ - P'!D51)","v":""},{"$f":"IF('PJ - P'!H51=\"\",\"\",'PJ - P'!H51)","v":""},{"$f":"IF('PJ - P'!M51=\"\",\"\",'PJ - P'!M51)","v":""},null,{"$f":"IF('PJ - P'!O51=\"\",\"\",'PJ - P'!O51)","v":""}]
[null,{"$f":"IF(AND('PJ - P'!$C52=\"\",'PJ - P'!$D52=\"\"),\"\",'PJ - P'!V52)","v":""},{"$f":"IF(AND('PJ - P'!$C52=\"\",'PJ - P'!$D52=\"\"),\"\",'PJ - P'!B52)","v":""},{"$f":"IF('PJ - P'!C52=\"\",\"\",'PJ - P'!C52)","v":""},{"$f":"IF('PJ - P'!D52=\"\",\"\",'PJ - P'!D52)","v":""},{"$f":"IF('PJ - P'!H52=\"\",\"\",'PJ - P'!H52)","v":""},{"$f":"IF('PJ - P'!M52=\"\",\"\",'PJ - P'!M52)","v":""},null,{"$f":"IF('PJ - P'!O52=\"\",\"\",'PJ - P'!O52)","v":""}]
[null,{"$f":"IF(AND('PJ - P'!$C53=\"\",'PJ - P'!$D53=\"\"),\"\",'PJ - P'!V53)","v":""},{"$f":"IF(AND('PJ - P'!$C53=\"\",'PJ - P'!$D53=\"\"),\"\",'PJ - P'!B53)","v":""},{"$f":"IF('PJ - P'!C53=\"\",\"\",'PJ - P'!C53)","v":""},{"$f":"IF('PJ - P'!D53=\"\",\"\",'PJ - P'!D53)","v":""},{"$f":"IF('PJ - P'!H53=\"\",\"\",'PJ - P'!H53)","v":""},{"$f":"IF('PJ - P'!M53=\"\",\"\",'PJ - P'!M53)","v":""},null,{"$f":"IF('PJ - P'!O53=\"\",\"\",'PJ - P'!O53)","v":""}]
[null,{"$f":"IF(AND('PJ - P'!$C54=\"\",'PJ - P'!$D54=\"\"),\"\",'PJ - P'!V54)","v":""},{"$f":"IF(AND('PJ - P'!$C54=\"\",'PJ - P'!$D54=\"\"),\"\",'PJ - P'!B54)","v":""},{"$f":"IF('PJ - P'!C54=\"\",\"\",'PJ - P'!C54)","v":""},{"$f":"IF('PJ - P'!D54=\"\",\"\",'PJ - P'!D54)","v":""},{"$f":"IF('PJ - P'!H54=\"\",\"\",'PJ - P'!H54)","v":""},{"$f":"IF('PJ - P'!M54=\"\",\"\",'PJ - P'!M54)","v":""},null,{"$f":"IF('PJ - P'!O54=\"\",\"\",'PJ - P'!O54)","v":""}]
[null,{"$f":"IF(AND('PJ - P'!$C55=\"\",'PJ - P'!$D55=\"\"),\"\",'PJ - P'!V55)","v":""},{"$f":"IF(AND('PJ - P'!$C55=\"\",'PJ - P'!$D55=\"\"),\"\",'PJ - P'!B55)","v":""},{"$f":"IF('PJ - P'!C55=\"\",\"\",'PJ - P'!C55)","v":""},{"$f":"IF('PJ - P'!D55=\"\",\"\",'PJ - P'!D55)","v":""},{"$f":"IF('PJ - P'!H55=\"\",\"\",'PJ - P'!H55)","v":""},{"$f":"IF('PJ - P'!M55=\"\",\"\",'PJ - P'!M55)","v":""},null,{"$f":"IF('PJ - P'!O55=\"\",\"\",'PJ - P'!O55)","v":""}]
[null,{"$f":"IF(AND('PJ - P'!$C56=\"\",'PJ - P'!$D56=\"\"),\"\",'PJ - P'!V56)","v":""},{"$f":"IF(AND('PJ - P'!$C56=\"\",'PJ - P'!$D56=\"\"),\"\",'PJ - P'!B56)","v":""},{"$f":"IF('PJ - P'!C56=\"\",\"\",'PJ - P'!C56)","v":""},{"$f":"IF('PJ - P'!D56=\"\",\"\",'PJ - P'!D56)","v":""},{"$f":"IF('PJ - P'!H56=\"\",\"\",'PJ - P'!H56)","v":""},{"$f":"IF('PJ - P'!M56=\"\",\"\",'PJ - P'!M56)","v":""},null,{"$f":"IF('PJ - P'!O56=\"\",\"\",'PJ - P'!O56)","v":""}]
[null,{"$f":"IF(AND('PJ - P'!$C57=\"\",'PJ - P'!$D57=\"\"),\"\",'PJ - P'!V57)","v":""},{"$f":"IF(AND('PJ - P'!$C57=\"\",'PJ - P'!$D57=\"\"),\"\",'PJ - P'!B57)","v":""},{"$f":"IF('PJ - P'!C57=\"\",\"\",'PJ - P'!C57)","v":""},{"$f":"IF('PJ - P'!D57=\"\",\"\",'PJ - P'!D57)","v":""},{"$f":"IF('PJ - P'!H57=\"\",\"\",'PJ - P'!H57)","v":""},{"$f":"IF('PJ - P'!M57=\"\",\"\",'PJ - P'!M57)","v":""},null,{"$f":"IF('PJ - P'!O57=\"\",\"\",'PJ - P'!O57)","v":""}]
[null,{"$f":"IF(AND('PJ - P'!$C58=\"\",'PJ - P'!$D58=\"\"),\"\",'PJ - P'!V58)","v":""},{"$f":"IF(AND('PJ - P'!$C58=\"\",'PJ - P'!$D58=\"\"),\"\",'PJ - P'!B58)","v":""},{"$f":"IF('PJ - P'!C58=\"\",\"\",'PJ - P'!C58)","v":""},{"$f":"IF('PJ - P'!D58=\"\",\"\",'PJ - P'!D58)","v":""},{"$f":"IF('PJ - P'!H58=\"\",\"\",'PJ - P'!H58)","v":""},{"$f":"IF('PJ - P'!M58=\"\",\"\",'PJ - P'!M58)","v":""},null,{"$f":"IF('PJ - P'!O58=\"\",\"\",'PJ - P'!O58)","v":""}]
[null,{"$f":"IF(AND('PJ - P'!$C59=\"\",'PJ - P'!$D59=\"\"),\"\",'PJ - P'!V59)","v":""},{"$f":"IF(AND('PJ - P'!$C59=\"\",'PJ - P'!$D59=\"\"),\"\",'PJ - P'!B59)","v":""},{"$f":"IF('PJ - P'!C59=\"\",\"\",'PJ - P'!C59)","v":""},{"$f":"IF('PJ - P'!D59=\"\",\"\",'PJ - P'!D59)","v":""},{"$f":"IF('PJ - P'!H59=\"\",\"\",'PJ - P'!H59)","v":""},{"$f":"IF('PJ - P'!M59=\"\",\"\",'PJ - P'!M59)","v":""},null,{"$f":"IF('PJ - P'!O59=\"\",\"\",'PJ - P'!O59)","v":""}]
[null,{"$f":"IF(AND('PJ - P'!$C60=\"\",'PJ - P'!$D60=\"\"),\"\",'PJ - P'!V60)","v":""},{"$f":"IF(AND('PJ - P'!$C60=\"\",'PJ - P'!$D60=\"\"),\"\",'PJ - P'!B60)","v":""},{"$f":"IF('PJ - P'!C60=\"\",\"\",'PJ - P'!C60)","v":""},{"$f":"IF('PJ - P'!D60=\"\",\"\",'PJ - P'!D60)","v":""},{"$f":"IF('PJ - P'!H60=\"\",\"\",'PJ - P'!H60)","v":""},{"$f":"IF('PJ - P'!M60=\"\",\"\",'PJ - P'!M60)","v":""},null,{"$f":"IF('PJ - P'!O60=\"\",\"\",'PJ - P'!O60)","v":""}]
[null,{"$f":"IF(AND('PJ - P'!$C61=\"\",'PJ - P'!$D61=\"\"),\"\",'PJ - P'!V61)","v":""},{"$f":"IF(AND('PJ - P'!$C61=\"\",'PJ - P'!$D61=\"\"),\"\",'PJ - P'!B61)","v":""},{"$f":"IF('PJ - P'!C61=\"\",\"\",'PJ - P'!C61)","v":""},{"$f":"IF('PJ - P'!D61=\"\",\"\",'PJ - P'!D61)","v":""},{"$f":"IF('PJ - P'!H61=\"\",\"\",'PJ - P'!H61)","v":""},{"$f":"IF('PJ - P'!M61=\"\",\"\",'PJ - P'!M61)","v":""},null,{"$f":"IF('PJ - P'!O61=\"\",\"\",'PJ - P'!O61)","v":""}]
[null,{"$f":"IF(AND('PJ - P'!$C62=\"\",'PJ - P'!$D62=\"\"),\"\",'PJ - P'!V62)","v":""},{"$f":"IF(AND('PJ - P'!$C62=\"\",'PJ - P'!$D62=\"\"),\"\",'PJ - P'!B62)","v":""},{"$f":"IF('PJ - P'!C62=\"\",\"\",'PJ - P'!C62)","v":""},{"$f":"IF('PJ - P'!D62=\"\",\"\",'PJ - P'!D62)","v":""},{"$f":"IF('PJ - P'!H62=\"\",\"\",'PJ - P'!H62)","v":""},{"$f":"IF('PJ - P'!M62=\"\",\"\",'PJ - P'!M62)","v":""},null,{"$f":"IF('PJ - P'!O62=\"\",\"\",'PJ - P'!O62)","v":""}]
[null,{"$f":"IF(AND('PJ - P'!$C63=\"\",'PJ - P'!$D63=\"\"),\"\",'PJ - P'!V63)","v":""},{"$f":"IF(AND('PJ - P'!$C63=\"\",'PJ - P'!$D63=\"\"),\"\",'PJ - P'!B63)","v":""},{"$f":"IF('PJ - P'!C63=\"\",\"\",'PJ - P'!C63)","v":""},{"$f":"IF('PJ - P'!D63=\"\",\"\",'PJ - P'!D63)","v":""},{"$f":"IF('PJ - P'!H63=\"\",\"\",'PJ - P'!H63)","v":""},{"$f":"IF('PJ - P'!M63=\"\",\"\",'PJ - P'!M63)","v":""},null,{"$f":"IF('PJ - P'!O63=\"\",\"\",'PJ - P'!O63)","v":""}]
[null,{"$f":"IF(AND('PJ - P'!$C64=\"\",'PJ - P'!$D64=\"\"),\"\",'PJ - P'!V64)","v":""},{"$f":"IF(AND('PJ - P'!$C64=\"\",'PJ - P'!$D64=\"\"),\"\",'PJ - P'!B64)","v":""},{"$f":"IF('PJ - P'!C64=\"\",\"\",'PJ - P'!C64)","v":""},{"$f":"IF('PJ - P'!D64=\"\",\"\",'PJ - P'!D64)","v":""},{"$f":"IF('PJ - P'!H64=\"\",\"\",'PJ - P'!H64)","v":""},{"$f":"IF('PJ - P'!M64=\"\",\"\",'PJ - P'!M64)","v":""},null,{"$f":"IF('PJ - P'!O64=\"\",\"\",'PJ - P'!O64)","v":""}]
[null,{"$f":"IF(AND('PJ - P'!$C65=\"\",'PJ - P'!$D65=\"\"),\"\",'PJ - P'!V65)","v":""},{"$f":"IF(AND('PJ - P'!$C65=\"\",'PJ - P'!$D65=\"\"),\"\",'PJ - P'!B65)","v":""},{"$f":"IF('PJ - P'!C65=\"\",\"\",'PJ - P'!C65)","v":""},{"$f":"IF('PJ - P'!D65=\"\",\"\",'PJ - P'!D65)","v":""},{"$f":"IF('PJ - P'!H65=\"\",\"\",'PJ - P'!H65)","v":""},{"$f":"IF('PJ - P'!M65=\"\",\"\",'PJ - P'!M65)","v":""},null,{"$f":"IF('PJ - P'!O65=\"\",\"\",'PJ - P'!O65)","v":""}]
[null,{"$f":"IF(AND('PJ - P'!$C66=\"\",'PJ - P'!$D66=\"\"),\"\",'PJ - P'!V66)","v":""},{"$f":"IF(AND('PJ - P'!$C66=\"\",'PJ - P'!$D66=\"\"),\"\",'PJ - P'!B66)","v":""},{"$f":"IF('PJ - P'!C66=\"\",\"\",'PJ - P'!C66)","v":""},{"$f":"IF('PJ - P'!D66=\"\",\"\",'PJ - P'!D66)","v":""},{"$f":"IF('PJ - P'!H66=\"\",\"\",'PJ - P'!H66)","v":""},{"$f":"IF('PJ - P'!M66=\"\",\"\",'PJ - P'!M66)","v":""},null,{"$f":"IF('PJ - P'!O66=\"\",\"\",'PJ - P'!O66)","v":""}]
[null,{"$f":"IF(AND('PJ - P'!$C67=\"\",'PJ - P'!$D67=\"\"),\"\",'PJ - P'!V67)","v":""},{"$f":"IF(AND('PJ - P'!$C67=\"\",'PJ - P'!$D67=\"\"),\"\",'PJ - P'!B67)","v":""},{"$f":"IF('PJ - P'!C67=\"\",\"\",'PJ - P'!C67)","v":""},{"$f":"IF('PJ - P'!D67=\"\",\"\",'PJ - P'!D67)","v":""},{"$f":"IF('PJ - P'!H67=\"\",\"\",'PJ - P'!H67)","v":""},{"$f":"IF('PJ - P'!M67=\"\",\"\",'PJ - P'!M67)","v":""},null,{"$f":"IF('PJ - P'!O67=\"\",\"\",'PJ - P'!O67)","v":""}]
[null,{"$f":"IF(AND('PJ - P'!$C68=\"\",'PJ - P'!$D68=\"\"),\"\",'PJ - P'!V68)","v":""},{"$f":"IF(AND('PJ - P'!$C68=\"\",'PJ - P'!$D68=\"\"),\"\",'PJ - P'!B68)","v":""},{"$f":"IF('PJ - P'!C68=\"\",\"\",'PJ - P'!C68)","v":""},{"$f":"IF('PJ - P'!D68=\"\",\"\",'PJ - P'!D68)","v":""},{"$f":"IF('PJ - P'!H68=\"\",\"\",'PJ - P'!H68)","v":""},{"$f":"IF('PJ - P'!M68=\"\",\"\",'PJ - P'!M68)","v":""},null,{"$f":"IF('PJ - P'!O68=\"\",\"\",'PJ - P'!O68)","v":""}]
[null,{"$f":"IF(AND('PJ - P'!$C69=\"\",'PJ - P'!$D69=\"\"),\"\",'PJ - P'!V69)","v":""},{"$f":"IF(AND('PJ - P'!$C69=\"\",'PJ - P'!$D69=\"\"),\"\",'PJ - P'!B69)","v":""},{"$f":"IF('PJ - P'!C69=\"\",\"\",'PJ - P'!C69)","v":""},{"$f":"IF('PJ - P'!D69=\"\",\"\",'PJ - P'!D69)","v":""},{"$f":"IF('PJ - P'!H69=\"\",\"\",'PJ - P'!H69)","v":""},{"$f":"IF('PJ - P'!M69=\"\",\"\",'PJ - P'!M69)","v":""},null,{"$f":"IF('PJ - P'!O69=\"\",\"\",'PJ - P'!O69)","v":""}]
[null,{"$f":"IF(AND('PJ - P'!$C70=\"\",'PJ - P'!$D70=\"\"),\"\",'PJ - P'!V70)","v":""},{"$f":"IF(AND('PJ - P'!$C70=\"\",'PJ - P'!$D70=\"\"),\"\",'PJ - P'!B70)","v":""},{"$f":"IF('PJ - P'!C70=\"\",\"\",'PJ - P'!C70)","v":""},{"$f":"IF('PJ - P'!D70=\"\",\"\",'PJ - P'!D70)","v":""},{"$f":"IF('PJ - P'!H70=\"\",\"\",'PJ - P'!H70)","v":""},{"$f":"IF('PJ - P'!M70=\"\",\"\",'PJ - P'!M70)","v":""},null,{"$f":"IF('PJ - P'!O70=\"\",\"\",'PJ - P'!O70)","v":""}]
[null,{"$f":"IF(AND('PJ - P'!$C71=\"\",'PJ - P'!$D71=\"\"),\"\",'PJ - P'!V71)","v":""},{"$f":"IF(AND('PJ - P'!$C71=\"\",'PJ - P'!$D71=\"\"),\"\",'PJ - P'!B71)","v":""},{"$f":"IF('PJ - P'!C71=\"\",\"\",'PJ - P'!C71)","v":""},{"$f":"IF('PJ - P'!D71=\"\",\"\",'PJ - P'!D71)","v":""},{"$f":"IF('PJ - P'!H71=\"\",\"\",'PJ - P'!H71)","v":""},{"$f":"IF('PJ - P'!M71=\"\",\"\",'PJ - P'!M71)","v":""},null,{"$f":"IF('PJ - P'!O71=\"\",\"\",'PJ - P'!O71)","v":""}]
[null,{"$f":"IF(AND('PJ - P'!$C72=\"\",'PJ - P'!$D72=\"\"),\"\",'PJ - P'!V72)","v":""},{"$f":"IF(AND('PJ - P'!$C72=\"\",'PJ - P'!$D72=\"\"),\"\",'PJ - P'!B72)","v":""},{"$f":"IF('PJ - P'!C72=\"\",\"\",'PJ - P'!C72)","v":""},{"$f":"IF('PJ - P'!D72=\"\",\"\",'PJ - P'!D72)","v":""},{"$f":"IF('PJ - P'!H72=\"\",\"\",'PJ - P'!H72)","v":""},{"$f":"IF('PJ - P'!M72=\"\",\"\",'PJ - P'!M72)","v":""},null,{"$f":"IF('PJ - P'!O72=\"\",\"\",'PJ - P'!O72)","v":""}]
[null,{"$f":"B$1","v":"Běh na 100m s přek. - Pořadí jednotlivců"}]
[]
[null,{"$f":"B$3","v":"Okresní kolo v PS"},null,null,{"$f":"E$3","v":"Chrast 16.6.2024"}]
[]
[null,{"$f":"Start!$C$5","v":"Dorky"}]
[null,"Pořadí","Start. číslo","Jméno","kolektiv","čas             I. pokusu","čas            II. pokusu",null,"Výsledný čas"]
[]
[null,{"$f":"IF(AND('PJ - P'!$C73=\"\",'PJ - P'!$D73=\"\"),\"\",'PJ - P'!V73)","v":""},{"$f":"IF(AND('PJ - P'!$C73=\"\",'PJ - P'!$D73=\"\"),\"\",'PJ - P'!B73)","v":""},{"$f":"IF('PJ - P'!C73=\"\",\"\",'PJ - P'!C73)","v":""},{"$f":"IF('PJ - P'!D73=\"\",\"\",'PJ - P'!D73)","v":""},{"$f":"IF('PJ - P'!H73=\"\",\"\",'PJ - P'!H73)","v":""},{"$f":"IF('PJ - P'!M73=\"\",\"\",'PJ - P'!M73)","v":""},null,{"$f":"IF('PJ - P'!O73=\"\",\"\",'PJ - P'!O73)","v":""}]
[null,{"$f":"IF(AND('PJ - P'!$C74=\"\",'PJ - P'!$D74=\"\"),\"\",'PJ - P'!V74)","v":""},{"$f":"IF(AND('PJ - P'!$C74=\"\",'PJ - P'!$D74=\"\"),\"\",'PJ - P'!B74)","v":""},{"$f":"IF('PJ - P'!C74=\"\",\"\",'PJ - P'!C74)","v":""},{"$f":"IF('PJ - P'!D74=\"\",\"\",'PJ - P'!D74)","v":""},{"$f":"IF('PJ - P'!H74=\"\",\"\",'PJ - P'!H74)","v":""},{"$f":"IF('PJ - P'!M74=\"\",\"\",'PJ - P'!M74)","v":""},null,{"$f":"IF('PJ - P'!O74=\"\",\"\",'PJ - P'!O74)","v":""}]
[null,{"$f":"IF(AND('PJ - P'!$C75=\"\",'PJ - P'!$D75=\"\"),\"\",'PJ - P'!V75)","v":""},{"$f":"IF(AND('PJ - P'!$C75=\"\",'PJ - P'!$D75=\"\"),\"\",'PJ - P'!B75)","v":""},{"$f":"IF('PJ - P'!C75=\"\",\"\",'PJ - P'!C75)","v":""},{"$f":"IF('PJ - P'!D75=\"\",\"\",'PJ - P'!D75)","v":""},{"$f":"IF('PJ - P'!H75=\"\",\"\",'PJ - P'!H75)","v":""},{"$f":"IF('PJ - P'!M75=\"\",\"\",'PJ - P'!M75)","v":""},null,{"$f":"IF('PJ - P'!O75=\"\",\"\",'PJ - P'!O75)","v":""}]
[null,{"$f":"IF(AND('PJ - P'!$C76=\"\",'PJ - P'!$D76=\"\"),\"\",'PJ - P'!V76)","v":""},{"$f":"IF(AND('PJ - P'!$C76=\"\",'PJ - P'!$D76=\"\"),\"\",'PJ - P'!B76)","v":""},{"$f":"IF('PJ - P'!C76=\"\",\"\",'PJ - P'!C76)","v":""},{"$f":"IF('PJ - P'!D76=\"\",\"\",'PJ - P'!D76)","v":""},{"$f":"IF('PJ - P'!H76=\"\",\"\",'PJ - P'!H76)","v":""},{"$f":"IF('PJ - P'!M76=\"\",\"\",'PJ - P'!M76)","v":""},null,{"$f":"IF('PJ - P'!O76=\"\",\"\",'PJ - P'!O76)","v":""}]
[null,{"$f":"IF(AND('PJ - P'!$C77=\"\",'PJ - P'!$D77=\"\"),\"\",'PJ - P'!V77)","v":""},{"$f":"IF(AND('PJ - P'!$C77=\"\",'PJ - P'!$D77=\"\"),\"\",'PJ - P'!B77)","v":""},{"$f":"IF('PJ - P'!C77=\"\",\"\",'PJ - P'!C77)","v":""},{"$f":"IF('PJ - P'!D77=\"\",\"\",'PJ - P'!D77)","v":""},{"$f":"IF('PJ - P'!H77=\"\",\"\",'PJ - P'!H77)","v":""},{"$f":"IF('PJ - P'!M77=\"\",\"\",'PJ - P'!M77)","v":""},null,{"$f":"IF('PJ - P'!O77=\"\",\"\",'PJ - P'!O77)","v":""}]
[null,{"$f":"IF(AND('PJ - P'!$C78=\"\",'PJ - P'!$D78=\"\"),\"\",'PJ - P'!V78)","v":""},{"$f":"IF(AND('PJ - P'!$C78=\"\",'PJ - P'!$D78=\"\"),\"\",'PJ - P'!B78)","v":""},{"$f":"IF('PJ - P'!C78=\"\",\"\",'PJ - P'!C78)","v":""},{"$f":"IF('PJ - P'!D78=\"\",\"\",'PJ - P'!D78)","v":""},{"$f":"IF('PJ - P'!H78=\"\",\"\",'PJ - P'!H78)","v":""},{"$f":"IF('PJ - P'!M78=\"\",\"\",'PJ - P'!M78)","v":""},null,{"$f":"IF('PJ - P'!O78=\"\",\"\",'PJ - P'!O78)","v":""}]
[null,{"$f":"IF(AND('PJ - P'!$C79=\"\",'PJ - P'!$D79=\"\"),\"\",'PJ - P'!V79)","v":""},{"$f":"IF(AND('PJ - P'!$C79=\"\",'PJ - P'!$D79=\"\"),\"\",'PJ - P'!B79)","v":""},{"$f":"IF('PJ - P'!C79=\"\",\"\",'PJ - P'!C79)","v":""},{"$f":"IF('PJ - P'!D79=\"\",\"\",'PJ - P'!D79)","v":""},{"$f":"IF('PJ - P'!H79=\"\",\"\",'PJ - P'!H79)","v":""},{"$f":"IF('PJ - P'!M79=\"\",\"\",'PJ - P'!M79)","v":""},null,{"$f":"IF('PJ - P'!O79=\"\",\"\",'PJ - P'!O79)","v":""}]
[null,{"$f":"IF(AND('PJ - P'!$C80=\"\",'PJ - P'!$D80=\"\"),\"\",'PJ - P'!V80)","v":""},{"$f":"IF(AND('PJ - P'!$C80=\"\",'PJ - P'!$D80=\"\"),\"\",'PJ - P'!B80)","v":""},{"$f":"IF('PJ - P'!C80=\"\",\"\",'PJ - P'!C80)","v":""},{"$f":"IF('PJ - P'!D80=\"\",\"\",'PJ - P'!D80)","v":""},{"$f":"IF('PJ - P'!H80=\"\",\"\",'PJ - P'!H80)","v":""},{"$f":"IF('PJ - P'!M80=\"\",\"\",'PJ - P'!M80)","v":""},null,{"$f":"IF('PJ - P'!O80=\"\",\"\",'PJ - P'!O80)","v":""}]
[null,{"$f":"IF(AND('PJ - P'!$C81=\"\",'PJ - P'!$D81=\"\"),\"\",'PJ - P'!V81)","v":""},{"$f":"IF(AND('PJ - P'!$C81=\"\",'PJ - P'!$D81=\"\"),\"\",'PJ - P'!B81)","v":""},{"$f":"IF('PJ - P'!C81=\"\",\"\",'PJ - P'!C81)","v":""},{"$f":"IF('PJ - P'!D81=\"\",\"\",'PJ - P'!D81)","v":""},{"$f":"IF('PJ - P'!H81=\"\",\"\",'PJ - P'!H81)","v":""},{"$f":"IF('PJ - P'!M81=\"\",\"\",'PJ - P'!M81)","v":""},null,{"$f":"IF('PJ - P'!O81=\"\",\"\",'PJ - P'!O81)","v":""}]
[null,{"$f":"IF(AND('PJ - P'!$C82=\"\",'PJ - P'!$D82=\"\"),\"\",'PJ - P'!V82)","v":""},{"$f":"IF(AND('PJ - P'!$C82=\"\",'PJ - P'!$D82=\"\"),\"\",'PJ - P'!B82)","v":""},{"$f":"IF('PJ - P'!C82=\"\",\"\",'PJ - P'!C82)","v":""},{"$f":"IF('PJ - P'!D82=\"\",\"\",'PJ - P'!D82)","v":""},{"$f":"IF('PJ - P'!H82=\"\",\"\",'PJ - P'!H82)","v":""},{"$f":"IF('PJ - P'!M82=\"\",\"\",'PJ - P'!M82)","v":""},null,{"$f":"IF('PJ - P'!O82=\"\",\"\",'PJ - P'!O82)","v":""}]
[null,{"$f":"IF(AND('PJ - P'!$C83=\"\",'PJ - P'!$D83=\"\"),\"\",'PJ - P'!V83)","v":""},{"$f":"IF(AND('PJ - P'!$C83=\"\",'PJ - P'!$D83=\"\"),\"\",'PJ - P'!B83)","v":""},{"$f":"IF('PJ - P'!C83=\"\",\"\",'PJ - P'!C83)","v":""},{"$f":"IF('PJ - P'!D83=\"\",\"\",'PJ - P'!D83)","v":""},{"$f":"IF('PJ - P'!H83=\"\",\"\",'PJ - P'!H83)","v":""},{"$f":"IF('PJ - P'!M83=\"\",\"\",'PJ - P'!M83)","v":""},null,{"$f":"IF('PJ - P'!O83=\"\",\"\",'PJ - P'!O83)","v":""}]
[null,{"$f":"IF(AND('PJ - P'!$C84=\"\",'PJ - P'!$D84=\"\"),\"\",'PJ - P'!V84)","v":""},{"$f":"IF(AND('PJ - P'!$C84=\"\",'PJ - P'!$D84=\"\"),\"\",'PJ - P'!B84)","v":""},{"$f":"IF('PJ - P'!C84=\"\",\"\",'PJ - P'!C84)","v":""},{"$f":"IF('PJ - P'!D84=\"\",\"\",'PJ - P'!D84)","v":""},{"$f":"IF('PJ - P'!H84=\"\",\"\",'PJ - P'!H84)","v":""},{"$f":"IF('PJ - P'!M84=\"\",\"\",'PJ - P'!M84)","v":""},null,{"$f":"IF('PJ - P'!O84=\"\",\"\",'PJ - P'!O84)","v":""}]
[null,{"$f":"IF(AND('PJ - P'!$C85=\"\",'PJ - P'!$D85=\"\"),\"\",'PJ - P'!V85)","v":""},{"$f":"IF(AND('PJ - P'!$C85=\"\",'PJ - P'!$D85=\"\"),\"\",'PJ - P'!B85)","v":""},{"$f":"IF('PJ - P'!C85=\"\",\"\",'PJ - P'!C85)","v":""},{"$f":"IF('PJ - P'!D85=\"\",\"\",'PJ - P'!D85)","v":""},{"$f":"IF('PJ - P'!H85=\"\",\"\",'PJ - P'!H85)","v":""},{"$f":"IF('PJ - P'!M85=\"\",\"\",'PJ - P'!M85)","v":""},null,{"$f":"IF('PJ - P'!O85=\"\",\"\",'PJ - P'!O85)","v":""}]
[null,{"$f":"IF(AND('PJ - P'!$C86=\"\",'PJ - P'!$D86=\"\"),\"\",'PJ - P'!V86)","v":""},{"$f":"IF(AND('PJ - P'!$C86=\"\",'PJ - P'!$D86=\"\"),\"\",'PJ - P'!B86)","v":""},{"$f":"IF('PJ - P'!C86=\"\",\"\",'PJ - P'!C86)","v":""},{"$f":"IF('PJ - P'!D86=\"\",\"\",'PJ - P'!D86)","v":""},{"$f":"IF('PJ - P'!H86=\"\",\"\",'PJ - P'!H86)","v":""},{"$f":"IF('PJ - P'!M86=\"\",\"\",'PJ - P'!M86)","v":""},null,{"$f":"IF('PJ - P'!O86=\"\",\"\",'PJ - P'!O86)","v":""}]
[null,{"$f":"IF(AND('PJ - P'!$C87=\"\",'PJ - P'!$D87=\"\"),\"\",'PJ - P'!V87)","v":""},{"$f":"IF(AND('PJ - P'!$C87=\"\",'PJ - P'!$D87=\"\"),\"\",'PJ - P'!B87)","v":""},{"$f":"IF('PJ - P'!C87=\"\",\"\",'PJ - P'!C87)","v":""},{"$f":"IF('PJ - P'!D87=\"\",\"\",'PJ - P'!D87)","v":""},{"$f":"IF('PJ - P'!H87=\"\",\"\",'PJ - P'!H87)","v":""},{"$f":"IF('PJ - P'!M87=\"\",\"\",'PJ - P'!M87)","v":""},null,{"$f":"IF('PJ - P'!O87=\"\",\"\",'PJ - P'!O87)","v":""}]
[null,{"$f":"IF(AND('PJ - P'!$C88=\"\",'PJ - P'!$D88=\"\"),\"\",'PJ - P'!V88)","v":""},{"$f":"IF(AND('PJ - P'!$C88=\"\",'PJ - P'!$D88=\"\"),\"\",'PJ - P'!B88)","v":""},{"$f":"IF('PJ - P'!C88=\"\",\"\",'PJ - P'!C88)","v":""},{"$f":"IF('PJ - P'!D88=\"\",\"\",'PJ - P'!D88)","v":""},{"$f":"IF('PJ - P'!H88=\"\",\"\",'PJ - P'!H88)","v":""},{"$f":"IF('PJ - P'!M88=\"\",\"\",'PJ - P'!M88)","v":""},null,{"$f":"IF('PJ - P'!O88=\"\",\"\",'PJ - P'!O88)","v":""}]
[null,{"$f":"IF(AND('PJ - P'!$C89=\"\",'PJ - P'!$D89=\"\"),\"\",'PJ - P'!V89)","v":""},{"$f":"IF(AND('PJ - P'!$C89=\"\",'PJ - P'!$D89=\"\"),\"\",'PJ - P'!B89)","v":""},{"$f":"IF('PJ - P'!C89=\"\",\"\",'PJ - P'!C89)","v":""},{"$f":"IF('PJ - P'!D89=\"\",\"\",'PJ - P'!D89)","v":""},{"$f":"IF('PJ - P'!H89=\"\",\"\",'PJ - P'!H89)","v":""},{"$f":"IF('PJ - P'!M89=\"\",\"\",'PJ - P'!M89)","v":""},null,{"$f":"IF('PJ - P'!O89=\"\",\"\",'PJ - P'!O89)","v":""}]
[null,{"$f":"IF(AND('PJ - P'!$C90=\"\",'PJ - P'!$D90=\"\"),\"\",'PJ - P'!V90)","v":""},{"$f":"IF(AND('PJ - P'!$C90=\"\",'PJ - P'!$D90=\"\"),\"\",'PJ - P'!B90)","v":""},{"$f":"IF('PJ - P'!C90=\"\",\"\",'PJ - P'!C90)","v":""},{"$f":"IF('PJ - P'!D90=\"\",\"\",'PJ - P'!D90)","v":""},{"$f":"IF('PJ - P'!H90=\"\",\"\",'PJ - P'!H90)","v":""},{"$f":"IF('PJ - P'!M90=\"\",\"\",'PJ - P'!M90)","v":""},null,{"$f":"IF('PJ - P'!O90=\"\",\"\",'PJ - P'!O90)","v":""}]
[null,{"$f":"IF(AND('PJ - P'!$C91=\"\",'PJ - P'!$D91=\"\"),\"\",'PJ - P'!V91)","v":""},{"$f":"IF(AND('PJ - P'!$C91=\"\",'PJ - P'!$D91=\"\"),\"\",'PJ - P'!B91)","v":""},{"$f":"IF('PJ - P'!C91=\"\",\"\",'PJ - P'!C91)","v":""},{"$f":"IF('PJ - P'!D91=\"\",\"\",'PJ - P'!D91)","v":""},{"$f":"IF('PJ - P'!H91=\"\",\"\",'PJ - P'!H91)","v":""},{"$f":"IF('PJ - P'!M91=\"\",\"\",'PJ - P'!M91)","v":""},null,{"$f":"IF('PJ - P'!O91=\"\",\"\",'PJ - P'!O91)","v":""}]
[null,{"$f":"IF(AND('PJ - P'!$C92=\"\",'PJ - P'!$D92=\"\"),\"\",'PJ - P'!V92)","v":""},{"$f":"IF(AND('PJ - P'!$C92=\"\",'PJ - P'!$D92=\"\"),\"\",'PJ - P'!B92)","v":""},{"$f":"IF('PJ - P'!C92=\"\",\"\",'PJ - P'!C92)","v":""},{"$f":"IF('PJ - P'!D92=\"\",\"\",'PJ - P'!D92)","v":""},{"$f":"IF('PJ - P'!H92=\"\",\"\",'PJ - P'!H92)","v":""},{"$f":"IF('PJ - P'!M92=\"\",\"\",'PJ - P'!M92)","v":""},null,{"$f":"IF('PJ - P'!O92=\"\",\"\",'PJ - P'!O92)","v":""}]
[null,{"$f":"IF(AND('PJ - P'!$C93=\"\",'PJ - P'!$D93=\"\"),\"\",'PJ - P'!V93)","v":""},{"$f":"IF(AND('PJ - P'!$C93=\"\",'PJ - P'!$D93=\"\"),\"\",'PJ - P'!B93)","v":""},{"$f":"IF('PJ - P'!C93=\"\",\"\",'PJ - P'!C93)","v":""},{"$f":"IF('PJ - P'!D93=\"\",\"\",'PJ - P'!D93)","v":""},{"$f":"IF('PJ - P'!H93=\"\",\"\",'PJ - P'!H93)","v":""},{"$f":"IF('PJ - P'!M93=\"\",\"\",'PJ - P'!M93)","v":""},null,{"$f":"IF('PJ - P'!O93=\"\",\"\",'PJ - P'!O93)","v":""}]
[null,{"$f":"IF(AND('PJ - P'!$C94=\"\",'PJ - P'!$D94=\"\"),\"\",'PJ - P'!V94)","v":""},{"$f":"IF(AND('PJ - P'!$C94=\"\",'PJ - P'!$D94=\"\"),\"\",'PJ - P'!B94)","v":""},{"$f":"IF('PJ - P'!C94=\"\",\"\",'PJ - P'!C94)","v":""},{"$f":"IF('PJ - P'!D94=\"\",\"\",'PJ - P'!D94)","v":""},{"$f":"IF('PJ - P'!H94=\"\",\"\",'PJ - P'!H94)","v":""},{"$f":"IF('PJ - P'!M94=\"\",\"\",'PJ - P'!M94)","v":""},null,{"$f":"IF('PJ - P'!O94=\"\",\"\",'PJ - P'!O94)","v":""}]
[null,{"$f":"IF(AND('PJ - P'!$C95=\"\",'PJ - P'!$D95=\"\"),\"\",'PJ - P'!V95)","v":""},{"$f":"IF(AND('PJ - P'!$C95=\"\",'PJ - P'!$D95=\"\"),\"\",'PJ - P'!B95)","v":""},{"$f":"IF('PJ - P'!C95=\"\",\"\",'PJ - P'!C95)","v":""},{"$f":"IF('PJ - P'!D95=\"\",\"\",'PJ - P'!D95)","v":""},{"$f":"IF('PJ - P'!H95=\"\",\"\",'PJ - P'!H95)","v":""},{"$f":"IF('PJ - P'!M95=\"\",\"\",'PJ - P'!M95)","v":""},null,{"$f":"IF('PJ - P'!O95=\"\",\"\",'PJ - P'!O95)","v":""}]
[null,{"$f":"IF(AND('PJ - P'!$C96=\"\",'PJ - P'!$D96=\"\"),\"\",'PJ - P'!V96)","v":""},{"$f":"IF(AND('PJ - P'!$C96=\"\",'PJ - P'!$D96=\"\"),\"\",'PJ - P'!B96)","v":""},{"$f":"IF('PJ - P'!C96=\"\",\"\",'PJ - P'!C96)","v":""},{"$f":"IF('PJ - P'!D96=\"\",\"\",'PJ - P'!D96)","v":""},{"$f":"IF('PJ - P'!H96=\"\",\"\",'PJ - P'!H96)","v":""},{"$f":"IF('PJ - P'!M96=\"\",\"\",'PJ - P'!M96)","v":""},null,{"$f":"IF('PJ - P'!O96=\"\",\"\",'PJ - P'!O96)","v":""}]
[null,{"$f":"IF(AND('PJ - P'!$C97=\"\",'PJ - P'!$D97=\"\"),\"\",'PJ - P'!V97)","v":""},{"$f":"IF(AND('PJ - P'!$C97=\"\",'PJ - P'!$D97=\"\"),\"\",'PJ - P'!B97)","v":""},{"$f":"IF('PJ - P'!C97=\"\",\"\",'PJ - P'!C97)","v":""},{"$f":"IF('PJ - P'!D97=\"\",\"\",'PJ - P'!D97)","v":""},{"$f":"IF('PJ - P'!H97=\"\",\"\",'PJ - P'!H97)","v":""},{"$f":"IF('PJ - P'!M97=\"\",\"\",'PJ - P'!M97)","v":""},null,{"$f":"IF('PJ - P'!O97=\"\",\"\",'PJ - P'!O97)","v":""}]
[null,{"$f":"IF(AND('PJ - P'!$C98=\"\",'PJ - P'!$D98=\"\"),\"\",'PJ - P'!V98)","v":""},{"$f":"IF(AND('PJ - P'!$C98=\"\",'PJ - P'!$D98=\"\"),\"\",'PJ - P'!B98)","v":""},{"$f":"IF('PJ - P'!C98=\"\",\"\",'PJ - P'!C98)","v":""},{"$f":"IF('PJ - P'!D98=\"\",\"\",'PJ - P'!D98)","v":""},{"$f":"IF('PJ - P'!H98=\"\",\"\",'PJ - P'!H98)","v":""},{"$f":"IF('PJ - P'!M98=\"\",\"\",'PJ - P'!M98)","v":""},null,{"$f":"IF('PJ - P'!O98=\"\",\"\",'PJ - P'!O98)","v":""}]
[null,{"$f":"IF(AND('PJ - P'!$C99=\"\",'PJ - P'!$D99=\"\"),\"\",'PJ - P'!V99)","v":""},{"$f":"IF(AND('PJ - P'!$C99=\"\",'PJ - P'!$D99=\"\"),\"\",'PJ - P'!B99)","v":""},{"$f":"IF('PJ - P'!C99=\"\",\"\",'PJ - P'!C99)","v":""},{"$f":"IF('PJ - P'!D99=\"\",\"\",'PJ - P'!D99)","v":""},{"$f":"IF('PJ - P'!H99=\"\",\"\",'PJ - P'!H99)","v":""},{"$f":"IF('PJ - P'!M99=\"\",\"\",'PJ - P'!M99)","v":""},null,{"$f":"IF('PJ - P'!O99=\"\",\"\",'PJ - P'!O99)","v":""}]
[null,{"$f":"IF(AND('PJ - P'!$C100=\"\",'PJ - P'!$D100=\"\"),\"\",'PJ - P'!V100)","v":""},{"$f":"IF(AND('PJ - P'!$C100=\"\",'PJ - P'!$D100=\"\"),\"\",'PJ - P'!B100)","v":""},{"$f":"IF('PJ - P'!C100=\"\",\"\",'PJ - P'!C100)","v":""},{"$f":"IF('PJ - P'!D100=\"\",\"\",'PJ - P'!D100)","v":""},{"$f":"IF('PJ - P'!H100=\"\",\"\",'PJ - P'!H100)","v":""},{"$f":"IF('PJ - P'!M100=\"\",\"\",'PJ - P'!M100)","v":""},null,{"$f":"IF('PJ - P'!O100=\"\",\"\",'PJ - P'!O100)","v":""}]
[null,{"$f":"IF(AND('PJ - P'!$C101=\"\",'PJ - P'!$D101=\"\"),\"\",'PJ - P'!V101)","v":""},{"$f":"IF(AND('PJ - P'!$C101=\"\",'PJ - P'!$D101=\"\"),\"\",'PJ - P'!B101)","v":""},{"$f":"IF('PJ - P'!C101=\"\",\"\",'PJ - P'!C101)","v":""},{"$f":"IF('PJ - P'!D101=\"\",\"\",'PJ - P'!D101)","v":""},{"$f":"IF('PJ - P'!H101=\"\",\"\",'PJ - P'!H101)","v":""},{"$f":"IF('PJ - P'!M101=\"\",\"\",'PJ - P'!M101)","v":""},null,{"$f":"IF('PJ - P'!O101=\"\",\"\",'PJ - P'!O101)","v":""}]
[null,{"$f":"IF(AND('PJ - P'!$C102=\"\",'PJ - P'!$D102=\"\"),\"\",'PJ - P'!V102)","v":""},{"$f":"IF(AND('PJ - P'!$C102=\"\",'PJ - P'!$D102=\"\"),\"\",'PJ - P'!B102)","v":""},{"$f":"IF('PJ - P'!C102=\"\",\"\",'PJ - P'!C102)","v":""},{"$f":"IF('PJ - P'!D102=\"\",\"\",'PJ - P'!D102)","v":""},{"$f":"IF('PJ - P'!H102=\"\",\"\",'PJ - P'!H102)","v":""},{"$f":"IF('PJ - P'!M102=\"\",\"\",'PJ - P'!M102)","v":""},null,{"$f":"IF('PJ - P'!O102=\"\",\"\",'PJ - P'!O102)","v":""}]
[null,{"$f":"IF(AND('PJ - P'!$C103=\"\",'PJ - P'!$D103=\"\"),\"\",'PJ - P'!V103)","v":""},{"$f":"IF(AND('PJ - P'!$C103=\"\",'PJ - P'!$D103=\"\"),\"\",'PJ - P'!B103)","v":""},{"$f":"IF('PJ - P'!C103=\"\",\"\",'PJ - P'!C103)","v":""},{"$f":"IF('PJ - P'!D103=\"\",\"\",'PJ - P'!D103)","v":""},{"$f":"IF('PJ - P'!H103=\"\",\"\",'PJ - P'!H103)","v":""},{"$f":"IF('PJ - P'!M103=\"\",\"\",'PJ - P'!M103)","v":""},null,{"$f":"IF('PJ - P'!O103=\"\",\"\",'PJ - P'!O103)","v":""}]
[null,{"$f":"IF(AND('PJ - P'!$C104=\"\",'PJ - P'!$D104=\"\"),\"\",'PJ - P'!V104)","v":""},{"$f":"IF(AND('PJ - P'!$C104=\"\",'PJ - P'!$D104=\"\"),\"\",'PJ - P'!B104)","v":""},{"$f":"IF('PJ - P'!C104=\"\",\"\",'PJ - P'!C104)","v":""},{"$f":"IF('PJ - P'!D104=\"\",\"\",'PJ - P'!D104)","v":""},{"$f":"IF('PJ - P'!H104=\"\",\"\",'PJ - P'!H104)","v":""},{"$f":"IF('PJ - P'!M104=\"\",\"\",'PJ - P'!M104)","v":""},null,{"$f":"IF('PJ - P'!O104=\"\",\"\",'PJ - P'!O104)","v":""}]
[null,{"$f":"IF(AND('PJ - P'!$C105=\"\",'PJ - P'!$D105=\"\"),\"\",'PJ - P'!V105)","v":""},{"$f":"IF(AND('PJ - P'!$C105=\"\",'PJ - P'!$D105=\"\"),\"\",'PJ - P'!B105)","v":""},{"$f":"IF('PJ - P'!C105=\"\",\"\",'PJ - P'!C105)","v":""},{"$f":"IF('PJ - P'!D105=\"\",\"\",'PJ - P'!D105)","v":""},{"$f":"IF('PJ - P'!H105=\"\",\"\",'PJ - P'!H105)","v":""},{"$f":"IF('PJ - P'!M105=\"\",\"\",'PJ - P'!M105)","v":""},null,{"$f":"IF('PJ - P'!O105=\"\",\"\",'PJ - P'!O105)","v":""}]
[null,{"$f":"IF(AND('PJ - P'!$C106=\"\",'PJ - P'!$D106=\"\"),\"\",'PJ - P'!V106)","v":""},{"$f":"IF(AND('PJ - P'!$C106=\"\",'PJ - P'!$D106=\"\"),\"\",'PJ - P'!B106)","v":""},{"$f":"IF('PJ - P'!C106=\"\",\"\",'PJ - P'!C106)","v":""},{"$f":"IF('PJ - P'!D106=\"\",\"\",'PJ - P'!D106)","v":""},{"$f":"IF('PJ - P'!H106=\"\",\"\",'PJ - P'!H106)","v":""},{"$f":"IF('PJ - P'!M106=\"\",\"\",'PJ - P'!M106)","v":""},null,{"$f":"IF('PJ - P'!O106=\"\",\"\",'PJ - P'!O106)","v":""}]
[null,{"$f":"IF(AND('PJ - P'!$C107=\"\",'PJ - P'!$D107=\"\"),\"\",'PJ - P'!V107)","v":""},{"$f":"IF(AND('PJ - P'!$C107=\"\",'PJ - P'!$D107=\"\"),\"\",'PJ - P'!B107)","v":""},{"$f":"IF('PJ - P'!C107=\"\",\"\",'PJ - P'!C107)","v":""},{"$f":"IF('PJ - P'!D107=\"\",\"\",'PJ - P'!D107)","v":""},{"$f":"IF('PJ - P'!H107=\"\",\"\",'PJ - P'!H107)","v":""},{"$f":"IF('PJ - P'!M107=\"\",\"\",'PJ - P'!M107)","v":""},null,{"$f":"IF('PJ - P'!O107=\"\",\"\",'PJ - P'!O107)","v":""}]
[null,{"$f":"IF(AND('PJ - P'!$C108=\"\",'PJ - P'!$D108=\"\"),\"\",'PJ - P'!V108)","v":""},{"$f":"IF(AND('PJ - P'!$C108=\"\",'PJ - P'!$D108=\"\"),\"\",'PJ - P'!B108)","v":""},{"$f":"IF('PJ - P'!C108=\"\",\"\",'PJ - P'!C108)","v":""},{"$f":"IF('PJ - P'!D108=\"\",\"\",'PJ - P'!D108)","v":""},{"$f":"IF('PJ - P'!H108=\"\",\"\",'PJ - P'!H108)","v":""},{"$f":"IF('PJ - P'!M108=\"\",\"\",'PJ - P'!M108)","v":""},null,{"$f":"IF('PJ - P'!O108=\"\",\"\",'PJ - P'!O108)","v":""}]
[null,{"$f":"B$1","v":"Běh na 100m s přek. - Pořadí jednotlivců"}]
[]
[null,{"$f":"B$3","v":"Okresní kolo v PS"},null,null,{"$f":"E$3","v":"Chrast 16.6.2024"}]
[]
[null,{"$f":"Start!$C$5","v":"Dorky"}]
[null,"Pořadí","Start. číslo","Jméno","kolektiv","čas             I. pokusu","čas            II. pokusu",null,"Výsledný čas"]
[]
[null,{"$f":"IF(AND('PJ - P'!$C109=\"\",'PJ - P'!$D109=\"\"),\"\",'PJ - P'!V109)","v":""},{"$f":"IF(AND('PJ - P'!$C109=\"\",'PJ - P'!$D109=\"\"),\"\",'PJ - P'!B109)","v":""},{"$f":"IF('PJ - P'!C109=\"\",\"\",'PJ - P'!C109)","v":""},{"$f":"IF('PJ - P'!D109=\"\",\"\",'PJ - P'!D109)","v":""},{"$f":"IF('PJ - P'!H109=\"\",\"\",'PJ - P'!H109)","v":""},{"$f":"IF('PJ - P'!M109=\"\",\"\",'PJ - P'!M109)","v":""},null,{"$f":"IF('PJ - P'!O109=\"\",\"\",'PJ - P'!O109)","v":""}]
[null,{"$f":"IF(AND('PJ - P'!$C110=\"\",'PJ - P'!$D110=\"\"),\"\",'PJ - P'!V110)","v":""},{"$f":"IF(AND('PJ - P'!$C110=\"\",'PJ - P'!$D110=\"\"),\"\",'PJ - P'!B110)","v":""},{"$f":"IF('PJ - P'!C110=\"\",\"\",'PJ - P'!C110)","v":""},{"$f":"IF('PJ - P'!D110=\"\",\"\",'PJ - P'!D110)","v":""},{"$f":"IF('PJ - P'!H110=\"\",\"\",'PJ - P'!H110)","v":""},{"$f":"IF('PJ - P'!M110=\"\",\"\",'PJ - P'!M110)","v":""},null,{"$f":"IF('PJ - P'!O110=\"\",\"\",'PJ - P'!O110)","v":""}]
[null,{"$f":"IF(AND('PJ - P'!$C111=\"\",'PJ - P'!$D111=\"\"),\"\",'PJ - P'!V111)","v":""},{"$f":"IF(AND('PJ - P'!$C111=\"\",'PJ - P'!$D111=\"\"),\"\",'PJ - P'!B111)","v":""},{"$f":"IF('PJ - P'!C111=\"\",\"\",'PJ - P'!C111)","v":""},{"$f":"IF('PJ - P'!D111=\"\",\"\",'PJ - P'!D111)","v":""},{"$f":"IF('PJ - P'!H111=\"\",\"\",'PJ - P'!H111)","v":""},{"$f":"IF('PJ - P'!M111=\"\",\"\",'PJ - P'!M111)","v":""},null,{"$f":"IF('PJ - P'!O111=\"\",\"\",'PJ - P'!O111)","v":""}]
[null,{"$f":"IF(AND('PJ - P'!$C112=\"\",'PJ - P'!$D112=\"\"),\"\",'PJ - P'!V112)","v":""},{"$f":"IF(AND('PJ - P'!$C112=\"\",'PJ - P'!$D112=\"\"),\"\",'PJ - P'!B112)","v":""},{"$f":"IF('PJ - P'!C112=\"\",\"\",'PJ - P'!C112)","v":""},{"$f":"IF('PJ - P'!D112=\"\",\"\",'PJ - P'!D112)","v":""},{"$f":"IF('PJ - P'!H112=\"\",\"\",'PJ - P'!H112)","v":""},{"$f":"IF('PJ - P'!M112=\"\",\"\",'PJ - P'!M112)","v":""},null,{"$f":"IF('PJ - P'!O112=\"\",\"\",'PJ - P'!O112)","v":""}]
[null,{"$f":"IF(AND('PJ - P'!$C113=\"\",'PJ - P'!$D113=\"\"),\"\",'PJ - P'!V113)","v":""},{"$f":"IF(AND('PJ - P'!$C113=\"\",'PJ - P'!$D113=\"\"),\"\",'PJ - P'!B113)","v":""},{"$f":"IF('PJ - P'!C113=\"\",\"\",'PJ - P'!C113)","v":""},{"$f":"IF('PJ - P'!D113=\"\",\"\",'PJ - P'!D113)","v":""},{"$f":"IF('PJ - P'!H113=\"\",\"\",'PJ - P'!H113)","v":""},{"$f":"IF('PJ - P'!M113=\"\",\"\",'PJ - P'!M113)","v":""},null,{"$f":"IF('PJ - P'!O113=\"\",\"\",'PJ - P'!O113)","v":""}]
[null,{"$f":"IF(AND('PJ - P'!$C114=\"\",'PJ - P'!$D114=\"\"),\"\",'PJ - P'!V114)","v":""},{"$f":"IF(AND('PJ - P'!$C114=\"\",'PJ - P'!$D114=\"\"),\"\",'PJ - P'!B114)","v":""},{"$f":"IF('PJ - P'!C114=\"\",\"\",'PJ - P'!C114)","v":""},{"$f":"IF('PJ - P'!D114=\"\",\"\",'PJ - P'!D114)","v":""},{"$f":"IF('PJ - P'!H114=\"\",\"\",'PJ - P'!H114)","v":""},{"$f":"IF('PJ - P'!M114=\"\",\"\",'PJ - P'!M114)","v":""},null,{"$f":"IF('PJ - P'!O114=\"\",\"\",'PJ - P'!O114)","v":""}]
[null,{"$f":"IF(AND('PJ - P'!$C115=\"\",'PJ - P'!$D115=\"\"),\"\",'PJ - P'!V115)","v":""},{"$f":"IF(AND('PJ - P'!$C115=\"\",'PJ - P'!$D115=\"\"),\"\",'PJ - P'!B115)","v":""},{"$f":"IF('PJ - P'!C115=\"\",\"\",'PJ - P'!C115)","v":""},{"$f":"IF('PJ - P'!D115=\"\",\"\",'PJ - P'!D115)","v":""},{"$f":"IF('PJ - P'!H115=\"\",\"\",'PJ - P'!H115)","v":""},{"$f":"IF('PJ - P'!M115=\"\",\"\",'PJ - P'!M115)","v":""},null,{"$f":"IF('PJ - P'!O115=\"\",\"\",'PJ - P'!O115)","v":""}]
[null,{"$f":"IF(AND('PJ - P'!$C116=\"\",'PJ - P'!$D116=\"\"),\"\",'PJ - P'!V116)","v":""},{"$f":"IF(AND('PJ - P'!$C116=\"\",'PJ - P'!$D116=\"\"),\"\",'PJ - P'!B116)","v":""},{"$f":"IF('PJ - P'!C116=\"\",\"\",'PJ - P'!C116)","v":""},{"$f":"IF('PJ - P'!D116=\"\",\"\",'PJ - P'!D116)","v":""},{"$f":"IF('PJ - P'!H116=\"\",\"\",'PJ - P'!H116)","v":""},{"$f":"IF('PJ - P'!M116=\"\",\"\",'PJ - P'!M116)","v":""},null,{"$f":"IF('PJ - P'!O116=\"\",\"\",'PJ - P'!O116)","v":""}]
[null,{"$f":"IF(AND('PJ - P'!$C117=\"\",'PJ - P'!$D117=\"\"),\"\",'PJ - P'!V117)","v":""},{"$f":"IF(AND('PJ - P'!$C117=\"\",'PJ - P'!$D117=\"\"),\"\",'PJ - P'!B117)","v":""},{"$f":"IF('PJ - P'!C117=\"\",\"\",'PJ - P'!C117)","v":""},{"$f":"IF('PJ - P'!D117=\"\",\"\",'PJ - P'!D117)","v":""},{"$f":"IF('PJ - P'!H117=\"\",\"\",'PJ - P'!H117)","v":""},{"$f":"IF('PJ - P'!M117=\"\",\"\",'PJ - P'!M117)","v":""},null,{"$f":"IF('PJ - P'!O117=\"\",\"\",'PJ - P'!O117)","v":""}]
[null,{"$f":"IF(AND('PJ - P'!$C118=\"\",'PJ - P'!$D118=\"\"),\"\",'PJ - P'!V118)","v":""},{"$f":"IF(AND('PJ - P'!$C118=\"\",'PJ - P'!$D118=\"\"),\"\",'PJ - P'!B118)","v":""},{"$f":"IF('PJ - P'!C118=\"\",\"\",'PJ - P'!C118)","v":""},{"$f":"IF('PJ - P'!D118=\"\",\"\",'PJ - P'!D118)","v":""},{"$f":"IF('PJ - P'!H118=\"\",\"\",'PJ - P'!H118)","v":""},{"$f":"IF('PJ - P'!M118=\"\",\"\",'PJ - P'!M118)","v":""},null,{"$f":"IF('PJ - P'!O118=\"\",\"\",'PJ - P'!O118)","v":""}]
[null,{"$f":"IF(AND('PJ - P'!$C119=\"\",'PJ - P'!$D119=\"\"),\"\",'PJ - P'!V119)","v":""},{"$f":"IF(AND('PJ - P'!$C119=\"\",'PJ - P'!$D119=\"\"),\"\",'PJ - P'!B119)","v":""},{"$f":"IF('PJ - P'!C119=\"\",\"\",'PJ - P'!C119)","v":""},{"$f":"IF('PJ - P'!D119=\"\",\"\",'PJ - P'!D119)","v":""},{"$f":"IF('PJ - P'!H119=\"\",\"\",'PJ - P'!H119)","v":""},{"$f":"IF('PJ - P'!M119=\"\",\"\",'PJ - P'!M119)","v":""},null,{"$f":"IF('PJ - P'!O119=\"\",\"\",'PJ - P'!O119)","v":""}]
[null,{"$f":"IF(AND('PJ - P'!$C120=\"\",'PJ - P'!$D120=\"\"),\"\",'PJ - P'!V120)","v":""},{"$f":"IF(AND('PJ - P'!$C120=\"\",'PJ - P'!$D120=\"\"),\"\",'PJ - P'!B120)","v":""},{"$f":"IF('PJ - P'!C120=\"\",\"\",'PJ - P'!C120)","v":""},{"$f":"IF('PJ - P'!D120=\"\",\"\",'PJ - P'!D120)","v":""},{"$f":"IF('PJ - P'!H120=\"\",\"\",'PJ - P'!H120)","v":""},{"$f":"IF('PJ - P'!M120=\"\",\"\",'PJ - P'!M120)","v":""},null,{"$f":"IF('PJ - P'!O120=\"\",\"\",'PJ - P'!O120)","v":""}]
[null,{"$f":"IF(AND('PJ - P'!$C121=\"\",'PJ - P'!$D121=\"\"),\"\",'PJ - P'!V121)","v":""},{"$f":"IF(AND('PJ - P'!$C121=\"\",'PJ - P'!$D121=\"\"),\"\",'PJ - P'!B121)","v":""},{"$f":"IF('PJ - P'!C121=\"\",\"\",'PJ - P'!C121)","v":""},{"$f":"IF('PJ - P'!D121=\"\",\"\",'PJ - P'!D121)","v":""},{"$f":"IF('PJ - P'!H121=\"\",\"\",'PJ - P'!H121)","v":""},{"$f":"IF('PJ - P'!M121=\"\",\"\",'PJ - P'!M121)","v":""},null,{"$f":"IF('PJ - P'!O121=\"\",\"\",'PJ - P'!O121)","v":""}]
[null,{"$f":"IF(AND('PJ - P'!$C122=\"\",'PJ - P'!$D122=\"\"),\"\",'PJ - P'!V122)","v":""},{"$f":"IF(AND('PJ - P'!$C122=\"\",'PJ - P'!$D122=\"\"),\"\",'PJ - P'!B122)","v":""},{"$f":"IF('PJ - P'!C122=\"\",\"\",'PJ - P'!C122)","v":""},{"$f":"IF('PJ - P'!D122=\"\",\"\",'PJ - P'!D122)","v":""},{"$f":"IF('PJ - P'!H122=\"\",\"\",'PJ - P'!H122)","v":""},{"$f":"IF('PJ - P'!M122=\"\",\"\",'PJ - P'!M122)","v":""},null,{"$f":"IF('PJ - P'!O122=\"\",\"\",'PJ - P'!O122)","v":""}]
[null,{"$f":"IF(AND('PJ - P'!$C123=\"\",'PJ - P'!$D123=\"\"),\"\",'PJ - P'!V123)","v":""},{"$f":"IF(AND('PJ - P'!$C123=\"\",'PJ - P'!$D123=\"\"),\"\",'PJ - P'!B123)","v":""},{"$f":"IF('PJ - P'!C123=\"\",\"\",'PJ - P'!C123)","v":""},{"$f":"IF('PJ - P'!D123=\"\",\"\",'PJ - P'!D123)","v":""},{"$f":"IF('PJ - P'!H123=\"\",\"\",'PJ - P'!H123)","v":""},{"$f":"IF('PJ - P'!M123=\"\",\"\",'PJ - P'!M123)","v":""},null,{"$f":"IF('PJ - P'!O123=\"\",\"\",'PJ - P'!O123)","v":""}]
[null,{"$f":"IF(AND('PJ - P'!$C124=\"\",'PJ - P'!$D124=\"\"),\"\",'PJ - P'!V124)","v":""},{"$f":"IF(AND('PJ - P'!$C124=\"\",'PJ - P'!$D124=\"\"),\"\",'PJ - P'!B124)","v":""},{"$f":"IF('PJ - P'!C124=\"\",\"\",'PJ - P'!C124)","v":""},{"$f":"IF('PJ - P'!D124=\"\",\"\",'PJ - P'!D124)","v":""},{"$f":"IF('PJ - P'!H124=\"\",\"\",'PJ - P'!H124)","v":""},{"$f":"IF('PJ - P'!M124=\"\",\"\",'PJ - P'!M124)","v":""},null,{"$f":"IF('PJ - P'!O124=\"\",\"\",'PJ - P'!O124)","v":""}]
[null,{"$f":"IF(AND('PJ - P'!$C125=\"\",'PJ - P'!$D125=\"\"),\"\",'PJ - P'!V125)","v":""},{"$f":"IF(AND('PJ - P'!$C125=\"\",'PJ - P'!$D125=\"\"),\"\",'PJ - P'!B125)","v":""},{"$f":"IF('PJ - P'!C125=\"\",\"\",'PJ - P'!C125)","v":""},{"$f":"IF('PJ - P'!D125=\"\",\"\",'PJ - P'!D125)","v":""},{"$f":"IF('PJ - P'!H125=\"\",\"\",'PJ - P'!H125)","v":""},{"$f":"IF('PJ - P'!M125=\"\",\"\",'PJ - P'!M125)","v":""},null,{"$f":"IF('PJ - P'!O125=\"\",\"\",'PJ - P'!O125)","v":""}]
[null,{"$f":"IF(AND('PJ - P'!$C126=\"\",'PJ - P'!$D126=\"\"),\"\",'PJ - P'!V126)","v":""},{"$f":"IF(AND('PJ - P'!$C126=\"\",'PJ - P'!$D126=\"\"),\"\",'PJ - P'!B126)","v":""},{"$f":"IF('PJ - P'!C126=\"\",\"\",'PJ - P'!C126)","v":""},{"$f":"IF('PJ - P'!D126=\"\",\"\",'PJ - P'!D126)","v":""},{"$f":"IF('PJ - P'!H126=\"\",\"\",'PJ - P'!H126)","v":""},{"$f":"IF('PJ - P'!M126=\"\",\"\",'PJ - P'!M126)","v":""},null,{"$f":"IF('PJ - P'!O126=\"\",\"\",'PJ - P'!O126)","v":""}]
[null,{"$f":"IF(AND('PJ - P'!$C127=\"\",'PJ - P'!$D127=\"\"),\"\",'PJ - P'!V127)","v":""},{"$f":"IF(AND('PJ - P'!$C127=\"\",'PJ - P'!$D127=\"\"),\"\",'PJ - P'!B127)","v":""},{"$f":"IF('PJ - P'!C127=\"\",\"\",'PJ - P'!C127)","v":""},{"$f":"IF('PJ - P'!D127=\"\",\"\",'PJ - P'!D127)","v":""},{"$f":"IF('PJ - P'!H127=\"\",\"\",'PJ - P'!H127)","v":""},{"$f":"IF('PJ - P'!M127=\"\",\"\",'PJ - P'!M127)","v":""},null,{"$f":"IF('PJ - P'!O127=\"\",\"\",'PJ - P'!O127)","v":""}]
[null,{"$f":"IF(AND('PJ - P'!$C128=\"\",'PJ - P'!$D128=\"\"),\"\",'PJ - P'!V128)","v":""},{"$f":"IF(AND('PJ - P'!$C128=\"\",'PJ - P'!$D128=\"\"),\"\",'PJ - P'!B128)","v":""},{"$f":"IF('PJ - P'!C128=\"\",\"\",'PJ - P'!C128)","v":""},{"$f":"IF('PJ - P'!D128=\"\",\"\",'PJ - P'!D128)","v":""},{"$f":"IF('PJ - P'!H128=\"\",\"\",'PJ - P'!H128)","v":""},{"$f":"IF('PJ - P'!M128=\"\",\"\",'PJ - P'!M128)","v":""},null,{"$f":"IF('PJ - P'!O128=\"\",\"\",'PJ - P'!O128)","v":""}]
[null,{"$f":"IF(AND('PJ - P'!$C129=\"\",'PJ - P'!$D129=\"\"),\"\",'PJ - P'!V129)","v":""},{"$f":"IF(AND('PJ - P'!$C129=\"\",'PJ - P'!$D129=\"\"),\"\",'PJ - P'!B129)","v":""},{"$f":"IF('PJ - P'!C129=\"\",\"\",'PJ - P'!C129)","v":""},{"$f":"IF('PJ - P'!D129=\"\",\"\",'PJ - P'!D129)","v":""},{"$f":"IF('PJ - P'!H129=\"\",\"\",'PJ - P'!H129)","v":""},{"$f":"IF('PJ - P'!M129=\"\",\"\",'PJ - P'!M129)","v":""},null,{"$f":"IF('PJ - P'!O129=\"\",\"\",'PJ - P'!O129)","v":""}]
[null,{"$f":"IF(AND('PJ - P'!$C130=\"\",'PJ - P'!$D130=\"\"),\"\",'PJ - P'!V130)","v":""},{"$f":"IF(AND('PJ - P'!$C130=\"\",'PJ - P'!$D130=\"\"),\"\",'PJ - P'!B130)","v":""},{"$f":"IF('PJ - P'!C130=\"\",\"\",'PJ - P'!C130)","v":""},{"$f":"IF('PJ - P'!D130=\"\",\"\",'PJ - P'!D130)","v":""},{"$f":"IF('PJ - P'!H130=\"\",\"\",'PJ - P'!H130)","v":""},{"$f":"IF('PJ - P'!M130=\"\",\"\",'PJ - P'!M130)","v":""},null,{"$f":"IF('PJ - P'!O130=\"\",\"\",'PJ - P'!O130)","v":""}]
[null,{"$f":"IF(AND('PJ - P'!$C131=\"\",'PJ - P'!$D131=\"\"),\"\",'PJ - P'!V131)","v":""},{"$f":"IF(AND('PJ - P'!$C131=\"\",'PJ - P'!$D131=\"\"),\"\",'PJ - P'!B131)","v":""},{"$f":"IF('PJ - P'!C131=\"\",\"\",'PJ - P'!C131)","v":""},{"$f":"IF('PJ - P'!D131=\"\",\"\",'PJ - P'!D131)","v":""},{"$f":"IF('PJ - P'!H131=\"\",\"\",'PJ - P'!H131)","v":""},{"$f":"IF('PJ - P'!M131=\"\",\"\",'PJ - P'!M131)","v":""},null,{"$f":"IF('PJ - P'!O131=\"\",\"\",'PJ - P'!O131)","v":""}]
[null,{"$f":"IF(AND('PJ - P'!$C132=\"\",'PJ - P'!$D132=\"\"),\"\",'PJ - P'!V132)","v":""},{"$f":"IF(AND('PJ - P'!$C132=\"\",'PJ - P'!$D132=\"\"),\"\",'PJ - P'!B132)","v":""},{"$f":"IF('PJ - P'!C132=\"\",\"\",'PJ - P'!C132)","v":""},{"$f":"IF('PJ - P'!D132=\"\",\"\",'PJ - P'!D132)","v":""},{"$f":"IF('PJ - P'!H132=\"\",\"\",'PJ - P'!H132)","v":""},{"$f":"IF('PJ - P'!M132=\"\",\"\",'PJ - P'!M132)","v":""},null,{"$f":"IF('PJ - P'!O132=\"\",\"\",'PJ - P'!O132)","v":""}]
[null,{"$f":"IF(AND('PJ - P'!$C133=\"\",'PJ - P'!$D133=\"\"),\"\",'PJ - P'!V133)","v":""},{"$f":"IF(AND('PJ - P'!$C133=\"\",'PJ - P'!$D133=\"\"),\"\",'PJ - P'!B133)","v":""},{"$f":"IF('PJ - P'!C133=\"\",\"\",'PJ - P'!C133)","v":""},{"$f":"IF('PJ - P'!D133=\"\",\"\",'PJ - P'!D133)","v":""},{"$f":"IF('PJ - P'!H133=\"\",\"\",'PJ - P'!H133)","v":""},{"$f":"IF('PJ - P'!M133=\"\",\"\",'PJ - P'!M133)","v":""},null,{"$f":"IF('PJ - P'!O133=\"\",\"\",'PJ - P'!O133)","v":""}]
[null,{"$f":"IF(AND('PJ - P'!$C134=\"\",'PJ - P'!$D134=\"\"),\"\",'PJ - P'!V134)","v":""},{"$f":"IF(AND('PJ - P'!$C134=\"\",'PJ - P'!$D134=\"\"),\"\",'PJ - P'!B134)","v":""},{"$f":"IF('PJ - P'!C134=\"\",\"\",'PJ - P'!C134)","v":""},{"$f":"IF('PJ - P'!D134=\"\",\"\",'PJ - P'!D134)","v":""},{"$f":"IF('PJ - P'!H134=\"\",\"\",'PJ - P'!H134)","v":""},{"$f":"IF('PJ - P'!M134=\"\",\"\",'PJ - P'!M134)","v":""},null,{"$f":"IF('PJ - P'!O134=\"\",\"\",'PJ - P'!O134)","v":""}]
[null,{"$f":"IF(AND('PJ - P'!$C135=\"\",'PJ - P'!$D135=\"\"),\"\",'PJ - P'!V135)","v":""},{"$f":"IF(AND('PJ - P'!$C135=\"\",'PJ - P'!$D135=\"\"),\"\",'PJ - P'!B135)","v":""},{"$f":"IF('PJ - P'!C135=\"\",\"\",'PJ - P'!C135)","v":""},{"$f":"IF('PJ - P'!D135=\"\",\"\",'PJ - P'!D135)","v":""},{"$f":"IF('PJ - P'!H135=\"\",\"\",'PJ - P'!H135)","v":""},{"$f":"IF('PJ - P'!M135=\"\",\"\",'PJ - P'!M135)","v":""},null,{"$f":"IF('PJ - P'!O135=\"\",\"\",'PJ - P'!O135)","v":""}]
[null,{"$f":"IF(AND('PJ - P'!$C136=\"\",'PJ - P'!$D136=\"\"),\"\",'PJ - P'!V136)","v":""},{"$f":"IF(AND('PJ - P'!$C136=\"\",'PJ - P'!$D136=\"\"),\"\",'PJ - P'!B136)","v":""},{"$f":"IF('PJ - P'!C136=\"\",\"\",'PJ - P'!C136)","v":""},{"$f":"IF('PJ - P'!D136=\"\",\"\",'PJ - P'!D136)","v":""},{"$f":"IF('PJ - P'!H136=\"\",\"\",'PJ - P'!H136)","v":""},{"$f":"IF('PJ - P'!M136=\"\",\"\",'PJ - P'!M136)","v":""},null,{"$f":"IF('PJ - P'!O136=\"\",\"\",'PJ - P'!O136)","v":""}]
[null,{"$f":"IF(AND('PJ - P'!$C137=\"\",'PJ - P'!$D137=\"\"),\"\",'PJ - P'!V137)","v":""},{"$f":"IF(AND('PJ - P'!$C137=\"\",'PJ - P'!$D137=\"\"),\"\",'PJ - P'!B137)","v":""},{"$f":"IF('PJ - P'!C137=\"\",\"\",'PJ - P'!C137)","v":""},{"$f":"IF('PJ - P'!D137=\"\",\"\",'PJ - P'!D137)","v":""},{"$f":"IF('PJ - P'!H137=\"\",\"\",'PJ - P'!H137)","v":""},{"$f":"IF('PJ - P'!M137=\"\",\"\",'PJ - P'!M137)","v":""},null,{"$f":"IF('PJ - P'!O137=\"\",\"\",'PJ - P'!O137)","v":""}]
[null,{"$f":"IF(AND('PJ - P'!$C138=\"\",'PJ - P'!$D138=\"\"),\"\",'PJ - P'!V138)","v":""},{"$f":"IF(AND('PJ - P'!$C138=\"\",'PJ - P'!$D138=\"\"),\"\",'PJ - P'!B138)","v":""},{"$f":"IF('PJ - P'!C138=\"\",\"\",'PJ - P'!C138)","v":""},{"$f":"IF('PJ - P'!D138=\"\",\"\",'PJ - P'!D138)","v":""},{"$f":"IF('PJ - P'!H138=\"\",\"\",'PJ - P'!H138)","v":""},{"$f":"IF('PJ - P'!M138=\"\",\"\",'PJ - P'!M138)","v":""},null,{"$f":"IF('PJ - P'!O138=\"\",\"\",'PJ - P'!O138)","v":""}]
[null,{"$f":"IF(AND('PJ - P'!$C139=\"\",'PJ - P'!$D139=\"\"),\"\",'PJ - P'!V139)","v":""},{"$f":"IF(AND('PJ - P'!$C139=\"\",'PJ - P'!$D139=\"\"),\"\",'PJ - P'!B139)","v":""},{"$f":"IF('PJ - P'!C139=\"\",\"\",'PJ - P'!C139)","v":""},{"$f":"IF('PJ - P'!D139=\"\",\"\",'PJ - P'!D139)","v":""},{"$f":"IF('PJ - P'!H139=\"\",\"\",'PJ - P'!H139)","v":""},{"$f":"IF('PJ - P'!M139=\"\",\"\",'PJ - P'!M139)","v":""},null,{"$f":"IF('PJ - P'!O139=\"\",\"\",'PJ - P'!O139)","v":""}]
[null,{"$f":"IF(AND('PJ - P'!$C140=\"\",'PJ - P'!$D140=\"\"),\"\",'PJ - P'!V140)","v":""},{"$f":"IF(AND('PJ - P'!$C140=\"\",'PJ - P'!$D140=\"\"),\"\",'PJ - P'!B140)","v":""},{"$f":"IF('PJ - P'!C140=\"\",\"\",'PJ - P'!C140)","v":""},{"$f":"IF('PJ - P'!D140=\"\",\"\",'PJ - P'!D140)","v":""},{"$f":"IF('PJ - P'!H140=\"\",\"\",'PJ - P'!H140)","v":""},{"$f":"IF('PJ - P'!M140=\"\",\"\",'PJ - P'!M140)","v":""},null,{"$f":"IF('PJ - P'!O140=\"\",\"\",'PJ - P'!O140)","v":""}]
[null,{"$f":"IF(AND('PJ - P'!$C141=\"\",'PJ - P'!$D141=\"\"),\"\",'PJ - P'!V141)","v":""},{"$f":"IF(AND('PJ - P'!$C141=\"\",'PJ - P'!$D141=\"\"),\"\",'PJ - P'!B141)","v":""},{"$f":"IF('PJ - P'!C141=\"\",\"\",'PJ - P'!C141)","v":""},{"$f":"IF('PJ - P'!D141=\"\",\"\",'PJ - P'!D141)","v":""},{"$f":"IF('PJ - P'!H141=\"\",\"\",'PJ - P'!H141)","v":""},{"$f":"IF('PJ - P'!M141=\"\",\"\",'PJ - P'!M141)","v":""},null,{"$f":"IF('PJ - P'!O141=\"\",\"\",'PJ - P'!O141)","v":""}]
[null,{"$f":"IF(AND('PJ - P'!$C142=\"\",'PJ - P'!$D142=\"\"),\"\",'PJ - P'!V142)","v":""},{"$f":"IF(AND('PJ - P'!$C142=\"\",'PJ - P'!$D142=\"\"),\"\",'PJ - P'!B142)","v":""},{"$f":"IF('PJ - P'!C142=\"\",\"\",'PJ - P'!C142)","v":""},{"$f":"IF('PJ - P'!D142=\"\",\"\",'PJ - P'!D142)","v":""},{"$f":"IF('PJ - P'!H142=\"\",\"\",'PJ - P'!H142)","v":""},{"$f":"IF('PJ - P'!M142=\"\",\"\",'PJ - P'!M142)","v":""},null,{"$f":"IF('PJ - P'!O142=\"\",\"\",'PJ - P'!O142)","v":""}]
[null,{"$f":"IF(AND('PJ - P'!$C143=\"\",'PJ - P'!$D143=\"\"),\"\",'PJ - P'!V143)","v":""},{"$f":"IF(AND('PJ - P'!$C143=\"\",'PJ - P'!$D143=\"\"),\"\",'PJ - P'!B143)","v":""},{"$f":"IF('PJ - P'!C143=\"\",\"\",'PJ - P'!C143)","v":""},{"$f":"IF('PJ - P'!D143=\"\",\"\",'PJ - P'!D143)","v":""},{"$f":"IF('PJ - P'!H143=\"\",\"\",'PJ - P'!H143)","v":""},{"$f":"IF('PJ - P'!M143=\"\",\"\",'PJ - P'!M143)","v":""},null,{"$f":"IF('PJ - P'!O143=\"\",\"\",'PJ - P'!O143)","v":""}]
[null,{"$f":"IF(AND('PJ - P'!$C144=\"\",'PJ - P'!$D144=\"\"),\"\",'PJ - P'!V144)","v":""},{"$f":"IF(AND('PJ - P'!$C144=\"\",'PJ - P'!$D144=\"\"),\"\",'PJ - P'!B144)","v":""},{"$f":"IF('PJ - P'!C144=\"\",\"\",'PJ - P'!C144)","v":""},{"$f":"IF('PJ - P'!D144=\"\",\"\",'PJ - P'!D144)","v":""},{"$f":"IF('PJ - P'!H144=\"\",\"\",'PJ - P'!H144)","v":""},{"$f":"IF('PJ - P'!M144=\"\",\"\",'PJ - P'!M144)","v":""},null,{"$f":"IF('PJ - P'!O144=\"\",\"\",'PJ - P'!O144)","v":""}]
[null,{"$f":"B$1","v":"Běh na 100m s přek. - Pořadí jednotlivců"}]
[]
[null,{"$f":"B$3","v":"Okresní kolo v PS"},null,null,{"$f":"E$3","v":"Chrast 16.6.2024"}]
[]
[null,{"$f":"Start!$C$5","v":"Dorky"}]
[null,"Pořadí","Start. číslo","Jméno","kolektiv","čas             I. pokusu","čas            II. pokusu",null,"Výsledný čas"]
[]
[null,{"$f":"IF(AND('PJ - P'!$C145=\"\",'PJ - P'!$D145=\"\"),\"\",'PJ - P'!V145)","v":""},{"$f":"IF(AND('PJ - P'!$C145=\"\",'PJ - P'!$D145=\"\"),\"\",'PJ - P'!B145)","v":""},{"$f":"IF('PJ - P'!C145=\"\",\"\",'PJ - P'!C145)","v":""},{"$f":"IF('PJ - P'!D145=\"\",\"\",'PJ - P'!D145)","v":""},{"$f":"IF('PJ - P'!H145=\"\",\"\",'PJ - P'!H145)","v":""},{"$f":"IF('PJ - P'!M145=\"\",\"\",'PJ - P'!M145)","v":""},null,{"$f":"IF('PJ - P'!O145=\"\",\"\",'PJ - P'!O145)","v":""}]
[null,{"$f":"IF(AND('PJ - P'!$C146=\"\",'PJ - P'!$D146=\"\"),\"\",'PJ - P'!V146)","v":""},{"$f":"IF(AND('PJ - P'!$C146=\"\",'PJ - P'!$D146=\"\"),\"\",'PJ - P'!B146)","v":""},{"$f":"IF('PJ - P'!C146=\"\",\"\",'PJ - P'!C146)","v":""},{"$f":"IF('PJ - P'!D146=\"\",\"\",'PJ - P'!D146)","v":""},{"$f":"IF('PJ - P'!H146=\"\",\"\",'PJ - P'!H146)","v":""},{"$f":"IF('PJ - P'!M146=\"\",\"\",'PJ - P'!M146)","v":""},null,{"$f":"IF('PJ - P'!O146=\"\",\"\",'PJ - P'!O146)","v":""}]
[null,{"$f":"IF(AND('PJ - P'!$C147=\"\",'PJ - P'!$D147=\"\"),\"\",'PJ - P'!V147)","v":""},{"$f":"IF(AND('PJ - P'!$C147=\"\",'PJ - P'!$D147=\"\"),\"\",'PJ - P'!B147)","v":""},{"$f":"IF('PJ - P'!C147=\"\",\"\",'PJ - P'!C147)","v":""},{"$f":"IF('PJ - P'!D147=\"\",\"\",'PJ - P'!D147)","v":""},{"$f":"IF('PJ - P'!H147=\"\",\"\",'PJ - P'!H147)","v":""},{"$f":"IF('PJ - P'!M147=\"\",\"\",'PJ - P'!M147)","v":""},null,{"$f":"IF('PJ - P'!O147=\"\",\"\",'PJ - P'!O147)","v":""}]
[null,{"$f":"IF(AND('PJ - P'!$C148=\"\",'PJ - P'!$D148=\"\"),\"\",'PJ - P'!V148)","v":""},{"$f":"IF(AND('PJ - P'!$C148=\"\",'PJ - P'!$D148=\"\"),\"\",'PJ - P'!B148)","v":""},{"$f":"IF('PJ - P'!C148=\"\",\"\",'PJ - P'!C148)","v":""},{"$f":"IF('PJ - P'!D148=\"\",\"\",'PJ - P'!D148)","v":""},{"$f":"IF('PJ - P'!H148=\"\",\"\",'PJ - P'!H148)","v":""},{"$f":"IF('PJ - P'!M148=\"\",\"\",'PJ - P'!M148)","v":""},null,{"$f":"IF('PJ - P'!O148=\"\",\"\",'PJ - P'!O148)","v":""}]
[null,{"$f":"IF(AND('PJ - P'!$C149=\"\",'PJ - P'!$D149=\"\"),\"\",'PJ - P'!V149)","v":""},{"$f":"IF(AND('PJ - P'!$C149=\"\",'PJ - P'!$D149=\"\"),\"\",'PJ - P'!B149)","v":""},{"$f":"IF('PJ - P'!C149=\"\",\"\",'PJ - P'!C149)","v":""},{"$f":"IF('PJ - P'!D149=\"\",\"\",'PJ - P'!D149)","v":""},{"$f":"IF('PJ - P'!H149=\"\",\"\",'PJ - P'!H149)","v":""},{"$f":"IF('PJ - P'!M149=\"\",\"\",'PJ - P'!M149)","v":""},null,{"$f":"IF('PJ - P'!O149=\"\",\"\",'PJ - P'!O149)","v":""}]
[null,{"$f":"IF(AND('PJ - P'!$C150=\"\",'PJ - P'!$D150=\"\"),\"\",'PJ - P'!V150)","v":""},{"$f":"IF(AND('PJ - P'!$C150=\"\",'PJ - P'!$D150=\"\"),\"\",'PJ - P'!B150)","v":""},{"$f":"IF('PJ - P'!C150=\"\",\"\",'PJ - P'!C150)","v":""},{"$f":"IF('PJ - P'!D150=\"\",\"\",'PJ - P'!D150)","v":""},{"$f":"IF('PJ - P'!H150=\"\",\"\",'PJ - P'!H150)","v":""},{"$f":"IF('PJ - P'!M150=\"\",\"\",'PJ - P'!M150)","v":""},null,{"$f":"IF('PJ - P'!O150=\"\",\"\",'PJ - P'!O150)","v":""}]
[null,{"$f":"IF(AND('PJ - P'!$C151=\"\",'PJ - P'!$D151=\"\"),\"\",'PJ - P'!V151)","v":""},{"$f":"IF(AND('PJ - P'!$C151=\"\",'PJ - P'!$D151=\"\"),\"\",'PJ - P'!B151)","v":""},{"$f":"IF('PJ - P'!C151=\"\",\"\",'PJ - P'!C151)","v":""},{"$f":"IF('PJ - P'!D151=\"\",\"\",'PJ - P'!D151)","v":""},{"$f":"IF('PJ - P'!H151=\"\",\"\",'PJ - P'!H151)","v":""},{"$f":"IF('PJ - P'!M151=\"\",\"\",'PJ - P'!M151)","v":""},null,{"$f":"IF('PJ - P'!O151=\"\",\"\",'PJ - P'!O151)","v":""}]
[null,{"$f":"IF(AND('PJ - P'!$C152=\"\",'PJ - P'!$D152=\"\"),\"\",'PJ - P'!V152)","v":""},{"$f":"IF(AND('PJ - P'!$C152=\"\",'PJ - P'!$D152=\"\"),\"\",'PJ - P'!B152)","v":""},{"$f":"IF('PJ - P'!C152=\"\",\"\",'PJ - P'!C152)","v":""},{"$f":"IF('PJ - P'!D152=\"\",\"\",'PJ - P'!D152)","v":""},{"$f":"IF('PJ - P'!H152=\"\",\"\",'PJ - P'!H152)","v":""},{"$f":"IF('PJ - P'!M152=\"\",\"\",'PJ - P'!M152)","v":""},null,{"$f":"IF('PJ - P'!O152=\"\",\"\",'PJ - P'!O152)","v":""}]
[null,{"$f":"IF(AND('PJ - P'!$C153=\"\",'PJ - P'!$D153=\"\"),\"\",'PJ - P'!V153)","v":""},{"$f":"IF(AND('PJ - P'!$C153=\"\",'PJ - P'!$D153=\"\"),\"\",'PJ - P'!B153)","v":""},{"$f":"IF('PJ - P'!C153=\"\",\"\",'PJ - P'!C153)","v":""},{"$f":"IF('PJ - P'!D153=\"\",\"\",'PJ - P'!D153)","v":""},{"$f":"IF('PJ - P'!H153=\"\",\"\",'PJ - P'!H153)","v":""},{"$f":"IF('PJ - P'!M153=\"\",\"\",'PJ - P'!M153)","v":""},null,{"$f":"IF('PJ - P'!O153=\"\",\"\",'PJ - P'!O153)","v":""}]
[null,{"$f":"IF(AND('PJ - P'!$C154=\"\",'PJ - P'!$D154=\"\"),\"\",'PJ - P'!V154)","v":""},{"$f":"IF(AND('PJ - P'!$C154=\"\",'PJ - P'!$D154=\"\"),\"\",'PJ - P'!B154)","v":""},{"$f":"IF('PJ - P'!C154=\"\",\"\",'PJ - P'!C154)","v":""},{"$f":"IF('PJ - P'!D154=\"\",\"\",'PJ - P'!D154)","v":""},{"$f":"IF('PJ - P'!H154=\"\",\"\",'PJ - P'!H154)","v":""},{"$f":"IF('PJ - P'!M154=\"\",\"\",'PJ - P'!M154)","v":""},null,{"$f":"IF('PJ - P'!O154=\"\",\"\",'PJ - P'!O154)","v":""}]
[null,{"$f":"IF(AND('PJ - P'!$C155=\"\",'PJ - P'!$D155=\"\"),\"\",'PJ - P'!V155)","v":""},{"$f":"IF(AND('PJ - P'!$C155=\"\",'PJ - P'!$D155=\"\"),\"\",'PJ - P'!B155)","v":""},{"$f":"IF('PJ - P'!C155=\"\",\"\",'PJ - P'!C155)","v":""},{"$f":"IF('PJ - P'!D155=\"\",\"\",'PJ - P'!D155)","v":""},{"$f":"IF('PJ - P'!H155=\"\",\"\",'PJ - P'!H155)","v":""},{"$f":"IF('PJ - P'!M155=\"\",\"\",'PJ - P'!M155)","v":""},null,{"$f":"IF('PJ - P'!O155=\"\",\"\",'PJ - P'!O155)","v":""}]
[null,{"$f":"IF(AND('PJ - P'!$C156=\"\",'PJ - P'!$D156=\"\"),\"\",'PJ - P'!V156)","v":""},{"$f":"IF(AND('PJ - P'!$C156=\"\",'PJ - P'!$D156=\"\"),\"\",'PJ - P'!B156)","v":""},{"$f":"IF('PJ - P'!C156=\"\",\"\",'PJ - P'!C156)","v":""},{"$f":"IF('PJ - P'!D156=\"\",\"\",'PJ - P'!D156)","v":""},{"$f":"IF('PJ - P'!H156=\"\",\"\",'PJ - P'!H156)","v":""},{"$f":"IF('PJ - P'!M156=\"\",\"\",'PJ - P'!M156)","v":""},null,{"$f":"IF('PJ - P'!O156=\"\",\"\",'PJ - P'!O156)","v":""}]
[null,{"$f":"IF(AND('PJ - P'!$C157=\"\",'PJ - P'!$D157=\"\"),\"\",'PJ - P'!V157)","v":""},{"$f":"IF(AND('PJ - P'!$C157=\"\",'PJ - P'!$D157=\"\"),\"\",'PJ - P'!B157)","v":""},{"$f":"IF('PJ - P'!C157=\"\",\"\",'PJ - P'!C157)","v":""},{"$f":"IF('PJ - P'!D157=\"\",\"\",'PJ - P'!D157)","v":""},{"$f":"IF('PJ - P'!H157=\"\",\"\",'PJ - P'!H157)","v":""},{"$f":"IF('PJ - P'!M157=\"\",\"\",'PJ - P'!M157)","v":""},null,{"$f":"IF('PJ - P'!O157=\"\",\"\",'PJ - P'!O157)","v":""}]
[null,{"$f":"IF(AND('PJ - P'!$C158=\"\",'PJ - P'!$D158=\"\"),\"\",'PJ - P'!V158)","v":""},{"$f":"IF(AND('PJ - P'!$C158=\"\",'PJ - P'!$D158=\"\"),\"\",'PJ - P'!B158)","v":""},{"$f":"IF('PJ - P'!C158=\"\",\"\",'PJ - P'!C158)","v":""},{"$f":"IF('PJ - P'!D158=\"\",\"\",'PJ - P'!D158)","v":""},{"$f":"IF('PJ - P'!H158=\"\",\"\",'PJ - P'!H158)","v":""},{"$f":"IF('PJ - P'!M158=\"\",\"\",'PJ - P'!M158)","v":""},null,{"$f":"IF('PJ - P'!O158=\"\",\"\",'PJ - P'!O158)","v":""}]
[null,{"$f":"IF(AND('PJ - P'!$C159=\"\",'PJ - P'!$D159=\"\"),\"\",'PJ - P'!V159)","v":""},{"$f":"IF(AND('PJ - P'!$C159=\"\",'PJ - P'!$D159=\"\"),\"\",'PJ - P'!B159)","v":""},{"$f":"IF('PJ - P'!C159=\"\",\"\",'PJ - P'!C159)","v":""},{"$f":"IF('PJ - P'!D159=\"\",\"\",'PJ - P'!D159)","v":""},{"$f":"IF('PJ - P'!H159=\"\",\"\",'PJ - P'!H159)","v":""},{"$f":"IF('PJ - P'!M159=\"\",\"\",'PJ - P'!M159)","v":""},null,{"$f":"IF('PJ - P'!O159=\"\",\"\",'PJ - P'!O159)","v":""}]
[null,{"$f":"IF(AND('PJ - P'!$C160=\"\",'PJ - P'!$D160=\"\"),\"\",'PJ - P'!V160)","v":""},{"$f":"IF(AND('PJ - P'!$C160=\"\",'PJ - P'!$D160=\"\"),\"\",'PJ - P'!B160)","v":""},{"$f":"IF('PJ - P'!C160=\"\",\"\",'PJ - P'!C160)","v":""},{"$f":"IF('PJ - P'!D160=\"\",\"\",'PJ - P'!D160)","v":""},{"$f":"IF('PJ - P'!H160=\"\",\"\",'PJ - P'!H160)","v":""},{"$f":"IF('PJ - P'!M160=\"\",\"\",'PJ - P'!M160)","v":""},null,{"$f":"IF('PJ - P'!O160=\"\",\"\",'PJ - P'!O160)","v":""}]
[null,{"$f":"IF(AND('PJ - P'!$C161=\"\",'PJ - P'!$D161=\"\"),\"\",'PJ - P'!V161)","v":""},{"$f":"IF(AND('PJ - P'!$C161=\"\",'PJ - P'!$D161=\"\"),\"\",'PJ - P'!B161)","v":""},{"$f":"IF('PJ - P'!C161=\"\",\"\",'PJ - P'!C161)","v":""},{"$f":"IF('PJ - P'!D161=\"\",\"\",'PJ - P'!D161)","v":""},{"$f":"IF('PJ - P'!H161=\"\",\"\",'PJ - P'!H161)","v":""},{"$f":"IF('PJ - P'!M161=\"\",\"\",'PJ - P'!M161)","v":""},null,{"$f":"IF('PJ - P'!O161=\"\",\"\",'PJ - P'!O161)","v":""}]
[null,{"$f":"IF(AND('PJ - P'!$C162=\"\",'PJ - P'!$D162=\"\"),\"\",'PJ - P'!V162)","v":""},{"$f":"IF(AND('PJ - P'!$C162=\"\",'PJ - P'!$D162=\"\"),\"\",'PJ - P'!B162)","v":""},{"$f":"IF('PJ - P'!C162=\"\",\"\",'PJ - P'!C162)","v":""},{"$f":"IF('PJ - P'!D162=\"\",\"\",'PJ - P'!D162)","v":""},{"$f":"IF('PJ - P'!H162=\"\",\"\",'PJ - P'!H162)","v":""},{"$f":"IF('PJ - P'!M162=\"\",\"\",'PJ - P'!M162)","v":""},null,{"$f":"IF('PJ - P'!O162=\"\",\"\",'PJ - P'!O162)","v":""}]
[null,{"$f":"IF(AND('PJ - P'!$C163=\"\",'PJ - P'!$D163=\"\"),\"\",'PJ - P'!V163)","v":""},{"$f":"IF(AND('PJ - P'!$C163=\"\",'PJ - P'!$D163=\"\"),\"\",'PJ - P'!B163)","v":""},{"$f":"IF('PJ - P'!C163=\"\",\"\",'PJ - P'!C163)","v":""},{"$f":"IF('PJ - P'!D163=\"\",\"\",'PJ - P'!D163)","v":""},{"$f":"IF('PJ - P'!H163=\"\",\"\",'PJ - P'!H163)","v":""},{"$f":"IF('PJ - P'!M163=\"\",\"\",'PJ - P'!M163)","v":""},null,{"$f":"IF('PJ - P'!O163=\"\",\"\",'PJ - P'!O163)","v":""}]
[null,{"$f":"IF(AND('PJ - P'!$C164=\"\",'PJ - P'!$D164=\"\"),\"\",'PJ - P'!V164)","v":""},{"$f":"IF(AND('PJ - P'!$C164=\"\",'PJ - P'!$D164=\"\"),\"\",'PJ - P'!B164)","v":""},{"$f":"IF('PJ - P'!C164=\"\",\"\",'PJ - P'!C164)","v":""},{"$f":"IF('PJ - P'!D164=\"\",\"\",'PJ - P'!D164)","v":""},{"$f":"IF('PJ - P'!H164=\"\",\"\",'PJ - P'!H164)","v":""},{"$f":"IF('PJ - P'!M164=\"\",\"\",'PJ - P'!M164)","v":""},null,{"$f":"IF('PJ - P'!O164=\"\",\"\",'PJ - P'!O164)","v":""}]
[null,{"$f":"IF(AND('PJ - P'!$C165=\"\",'PJ - P'!$D165=\"\"),\"\",'PJ - P'!V165)","v":""},{"$f":"IF(AND('PJ - P'!$C165=\"\",'PJ - P'!$D165=\"\"),\"\",'PJ - P'!B165)","v":""},{"$f":"IF('PJ - P'!C165=\"\",\"\",'PJ - P'!C165)","v":""},{"$f":"IF('PJ - P'!D165=\"\",\"\",'PJ - P'!D165)","v":""},{"$f":"IF('PJ - P'!H165=\"\",\"\",'PJ - P'!H165)","v":""},{"$f":"IF('PJ - P'!M165=\"\",\"\",'PJ - P'!M165)","v":""},null,{"$f":"IF('PJ - P'!O165=\"\",\"\",'PJ - P'!O165)","v":""}]
[null,{"$f":"IF(AND('PJ - P'!$C166=\"\",'PJ - P'!$D166=\"\"),\"\",'PJ - P'!V166)","v":""},{"$f":"IF(AND('PJ - P'!$C166=\"\",'PJ - P'!$D166=\"\"),\"\",'PJ - P'!B166)","v":""},{"$f":"IF('PJ - P'!C166=\"\",\"\",'PJ - P'!C166)","v":""},{"$f":"IF('PJ - P'!D166=\"\",\"\",'PJ - P'!D166)","v":""},{"$f":"IF('PJ - P'!H166=\"\",\"\",'PJ - P'!H166)","v":""},{"$f":"IF('PJ - P'!M166=\"\",\"\",'PJ - P'!M166)","v":""},null,{"$f":"IF('PJ - P'!O166=\"\",\"\",'PJ - P'!O166)","v":""}]
[null,{"$f":"IF(AND('PJ - P'!$C167=\"\",'PJ - P'!$D167=\"\"),\"\",'PJ - P'!V167)","v":""},{"$f":"IF(AND('PJ - P'!$C167=\"\",'PJ - P'!$D167=\"\"),\"\",'PJ - P'!B167)","v":""},{"$f":"IF('PJ - P'!C167=\"\",\"\",'PJ - P'!C167)","v":""},{"$f":"IF('PJ - P'!D167=\"\",\"\",'PJ - P'!D167)","v":""},{"$f":"IF('PJ - P'!H167=\"\",\"\",'PJ - P'!H167)","v":""},{"$f":"IF('PJ - P'!M167=\"\",\"\",'PJ - P'!M167)","v":""},null,{"$f":"IF('PJ - P'!O167=\"\",\"\",'PJ - P'!O167)","v":""}]
[null,{"$f":"IF(AND('PJ - P'!$C168=\"\",'PJ - P'!$D168=\"\"),\"\",'PJ - P'!V168)","v":""},{"$f":"IF(AND('PJ - P'!$C168=\"\",'PJ - P'!$D168=\"\"),\"\",'PJ - P'!B168)","v":""},{"$f":"IF('PJ - P'!C168=\"\",\"\",'PJ - P'!C168)","v":""},{"$f":"IF('PJ - P'!D168=\"\",\"\",'PJ - P'!D168)","v":""},{"$f":"IF('PJ - P'!H168=\"\",\"\",'PJ - P'!H168)","v":""},{"$f":"IF('PJ - P'!M168=\"\",\"\",'PJ - P'!M168)","v":""},null,{"$f":"IF('PJ - P'!O168=\"\",\"\",'PJ - P'!O168)","v":""}]
[null,{"$f":"IF(AND('PJ - P'!$C169=\"\",'PJ - P'!$D169=\"\"),\"\",'PJ - P'!V169)","v":""},{"$f":"IF(AND('PJ - P'!$C169=\"\",'PJ - P'!$D169=\"\"),\"\",'PJ - P'!B169)","v":""},{"$f":"IF('PJ - P'!C169=\"\",\"\",'PJ - P'!C169)","v":""},{"$f":"IF('PJ - P'!D169=\"\",\"\",'PJ - P'!D169)","v":""},{"$f":"IF('PJ - P'!H169=\"\",\"\",'PJ - P'!H169)","v":""},{"$f":"IF('PJ - P'!M169=\"\",\"\",'PJ - P'!M169)","v":""},null,{"$f":"IF('PJ - P'!O169=\"\",\"\",'PJ - P'!O169)","v":""}]
[null,{"$f":"IF(AND('PJ - P'!$C170=\"\",'PJ - P'!$D170=\"\"),\"\",'PJ - P'!V170)","v":""},{"$f":"IF(AND('PJ - P'!$C170=\"\",'PJ - P'!$D170=\"\"),\"\",'PJ - P'!B170)","v":""},{"$f":"IF('PJ - P'!C170=\"\",\"\",'PJ - P'!C170)","v":""},{"$f":"IF('PJ - P'!D170=\"\",\"\",'PJ - P'!D170)","v":""},{"$f":"IF('PJ - P'!H170=\"\",\"\",'PJ - P'!H170)","v":""},{"$f":"IF('PJ - P'!M170=\"\",\"\",'PJ - P'!M170)","v":""},null,{"$f":"IF('PJ - P'!O170=\"\",\"\",'PJ - P'!O170)","v":""}]
[null,{"$f":"IF(AND('PJ - P'!$C171=\"\",'PJ - P'!$D171=\"\"),\"\",'PJ - P'!V171)","v":""},{"$f":"IF(AND('PJ - P'!$C171=\"\",'PJ - P'!$D171=\"\"),\"\",'PJ - P'!B171)","v":""},{"$f":"IF('PJ - P'!C171=\"\",\"\",'PJ - P'!C171)","v":""},{"$f":"IF('PJ - P'!D171=\"\",\"\",'PJ - P'!D171)","v":""},{"$f":"IF('PJ - P'!H171=\"\",\"\",'PJ - P'!H171)","v":""},{"$f":"IF('PJ - P'!M171=\"\",\"\",'PJ - P'!M171)","v":""},null,{"$f":"IF('PJ - P'!O171=\"\",\"\",'PJ - P'!O171)","v":""}]
[null,{"$f":"IF(AND('PJ - P'!$C172=\"\",'PJ - P'!$D172=\"\"),\"\",'PJ - P'!V172)","v":""},{"$f":"IF(AND('PJ - P'!$C172=\"\",'PJ - P'!$D172=\"\"),\"\",'PJ - P'!B172)","v":""},{"$f":"IF('PJ - P'!C172=\"\",\"\",'PJ - P'!C172)","v":""},{"$f":"IF('PJ - P'!D172=\"\",\"\",'PJ - P'!D172)","v":""},{"$f":"IF('PJ - P'!H172=\"\",\"\",'PJ - P'!H172)","v":""},{"$f":"IF('PJ - P'!M172=\"\",\"\",'PJ - P'!M172)","v":""},null,{"$f":"IF('PJ - P'!O172=\"\",\"\",'PJ - P'!O172)","v":""}]
[null,{"$f":"IF(AND('PJ - P'!$C173=\"\",'PJ - P'!$D173=\"\"),\"\",'PJ - P'!V173)","v":""},{"$f":"IF(AND('PJ - P'!$C173=\"\",'PJ - P'!$D173=\"\"),\"\",'PJ - P'!B173)","v":""},{"$f":"IF('PJ - P'!C173=\"\",\"\",'PJ - P'!C173)","v":""},{"$f":"IF('PJ - P'!D173=\"\",\"\",'PJ - P'!D173)","v":""},{"$f":"IF('PJ - P'!H173=\"\",\"\",'PJ - P'!H173)","v":""},{"$f":"IF('PJ - P'!M173=\"\",\"\",'PJ - P'!M173)","v":""},null,{"$f":"IF('PJ - P'!O173=\"\",\"\",'PJ - P'!O173)","v":""}]
[null,{"$f":"IF(AND('PJ - P'!$C174=\"\",'PJ - P'!$D174=\"\"),\"\",'PJ - P'!V174)","v":""},{"$f":"IF(AND('PJ - P'!$C174=\"\",'PJ - P'!$D174=\"\"),\"\",'PJ - P'!B174)","v":""},{"$f":"IF('PJ - P'!C174=\"\",\"\",'PJ - P'!C174)","v":""},{"$f":"IF('PJ - P'!D174=\"\",\"\",'PJ - P'!D174)","v":""},{"$f":"IF('PJ - P'!H174=\"\",\"\",'PJ - P'!H174)","v":""},{"$f":"IF('PJ - P'!M174=\"\",\"\",'PJ - P'!M174)","v":""},null,{"$f":"IF('PJ - P'!O174=\"\",\"\",'PJ - P'!O174)","v":""}]
[null,{"$f":"IF(AND('PJ - P'!$C175=\"\",'PJ - P'!$D175=\"\"),\"\",'PJ - P'!V175)","v":""},{"$f":"IF(AND('PJ - P'!$C175=\"\",'PJ - P'!$D175=\"\"),\"\",'PJ - P'!B175)","v":""},{"$f":"IF('PJ - P'!C175=\"\",\"\",'PJ - P'!C175)","v":""},{"$f":"IF('PJ - P'!D175=\"\",\"\",'PJ - P'!D175)","v":""},{"$f":"IF('PJ - P'!H175=\"\",\"\",'PJ - P'!H175)","v":""},{"$f":"IF('PJ - P'!M175=\"\",\"\",'PJ - P'!M175)","v":""},null,{"$f":"IF('PJ - P'!O175=\"\",\"\",'PJ - P'!O175)","v":""}]
[null,{"$f":"IF(AND('PJ - P'!$C176=\"\",'PJ - P'!$D176=\"\"),\"\",'PJ - P'!V176)","v":""},{"$f":"IF(AND('PJ - P'!$C176=\"\",'PJ - P'!$D176=\"\"),\"\",'PJ - P'!B176)","v":""},{"$f":"IF('PJ - P'!C176=\"\",\"\",'PJ - P'!C176)","v":""},{"$f":"IF('PJ - P'!D176=\"\",\"\",'PJ - P'!D176)","v":""},{"$f":"IF('PJ - P'!H176=\"\",\"\",'PJ - P'!H176)","v":""},{"$f":"IF('PJ - P'!M176=\"\",\"\",'PJ - P'!M176)","v":""},null,{"$f":"IF('PJ - P'!O176=\"\",\"\",'PJ - P'!O176)","v":""}]
[null,{"$f":"IF(AND('PJ - P'!$C177=\"\",'PJ - P'!$D177=\"\"),\"\",'PJ - P'!V177)","v":""},{"$f":"IF(AND('PJ - P'!$C177=\"\",'PJ - P'!$D177=\"\"),\"\",'PJ - P'!B177)","v":""},{"$f":"IF('PJ - P'!C177=\"\",\"\",'PJ - P'!C177)","v":""},{"$f":"IF('PJ - P'!D177=\"\",\"\",'PJ - P'!D177)","v":""},{"$f":"IF('PJ - P'!H177=\"\",\"\",'PJ - P'!H177)","v":""},{"$f":"IF('PJ - P'!M177=\"\",\"\",'PJ - P'!M177)","v":""},null,{"$f":"IF('PJ - P'!O177=\"\",\"\",'PJ - P'!O177)","v":""}]
[null,{"$f":"IF(AND('PJ - P'!$C178=\"\",'PJ - P'!$D178=\"\"),\"\",'PJ - P'!V178)","v":""},{"$f":"IF(AND('PJ - P'!$C178=\"\",'PJ - P'!$D178=\"\"),\"\",'PJ - P'!B178)","v":""},{"$f":"IF('PJ - P'!C178=\"\",\"\",'PJ - P'!C178)","v":""},{"$f":"IF('PJ - P'!D178=\"\",\"\",'PJ - P'!D178)","v":""},{"$f":"IF('PJ - P'!H178=\"\",\"\",'PJ - P'!H178)","v":""},{"$f":"IF('PJ - P'!M178=\"\",\"\",'PJ - P'!M178)","v":""},null,{"$f":"IF('PJ - P'!O178=\"\",\"\",'PJ - P'!O178)","v":""}]
[null,{"$f":"IF(AND('PJ - P'!$C179=\"\",'PJ - P'!$D179=\"\"),\"\",'PJ - P'!V179)","v":""},{"$f":"IF(AND('PJ - P'!$C179=\"\",'PJ - P'!$D179=\"\"),\"\",'PJ - P'!B179)","v":""},{"$f":"IF('PJ - P'!C179=\"\",\"\",'PJ - P'!C179)","v":""},{"$f":"IF('PJ - P'!D179=\"\",\"\",'PJ - P'!D179)","v":""},{"$f":"IF('PJ - P'!H179=\"\",\"\",'PJ - P'!H179)","v":""},{"$f":"IF('PJ - P'!M179=\"\",\"\",'PJ - P'!M179)","v":""},null,{"$f":"IF('PJ - P'!O179=\"\",\"\",'PJ - P'!O179)","v":""}]
[null,{"$f":"IF(AND('PJ - P'!$C180=\"\",'PJ - P'!$D180=\"\"),\"\",'PJ - P'!V180)","v":""},{"$f":"IF(AND('PJ - P'!$C180=\"\",'PJ - P'!$D180=\"\"),\"\",'PJ - P'!B180)","v":""},{"$f":"IF('PJ - P'!C180=\"\",\"\",'PJ - P'!C180)","v":""},{"$f":"IF('PJ - P'!D180=\"\",\"\",'PJ - P'!D180)","v":""},{"$f":"IF('PJ - P'!H180=\"\",\"\",'PJ - P'!H180)","v":""},{"$f":"IF('PJ - P'!M180=\"\",\"\",'PJ - P'!M180)","v":""},null,{"$f":"IF('PJ - P'!O180=\"\",\"\",'PJ - P'!O180)","v":""}]
[null,{"$f":"B$1","v":"Běh na 100m s přek. - Pořadí jednotlivců"}]
[]
[null,{"$f":"B$3","v":"Okresní kolo v PS"},null,null,{"$f":"E$3","v":"Chrast 16.6.2024"}]
[]
[null,{"$f":"Start!$C$5","v":"Dorky"}]
[null,"Pořadí","Start. číslo","Jméno","kolektiv","čas             I. pokusu","čas            II. pokusu",null,"Výsledný čas"]
[]
[null,{"$f":"IF(AND('PJ - P'!$C181=\"\",'PJ - P'!$D181=\"\"),\"\",'PJ - P'!V181)","v":""},{"$f":"IF(AND('PJ - P'!$C181=\"\",'PJ - P'!$D181=\"\"),\"\",'PJ - P'!B181)","v":""},{"$f":"IF('PJ - P'!C181=\"\",\"\",'PJ - P'!C181)","v":""},{"$f":"IF('PJ - P'!D181=\"\",\"\",'PJ - P'!D181)","v":""},{"$f":"IF('PJ - P'!H181=\"\",\"\",'PJ - P'!H181)","v":""},{"$f":"IF('PJ - P'!M181=\"\",\"\",'PJ - P'!M181)","v":""},null,{"$f":"IF('PJ - P'!O181=\"\",\"\",'PJ - P'!O181)","v":""}]
[null,{"$f":"IF(AND('PJ - P'!$C182=\"\",'PJ - P'!$D182=\"\"),\"\",'PJ - P'!V182)","v":""},{"$f":"IF(AND('PJ - P'!$C182=\"\",'PJ - P'!$D182=\"\"),\"\",'PJ - P'!B182)","v":""},{"$f":"IF('PJ - P'!C182=\"\",\"\",'PJ - P'!C182)","v":""},{"$f":"IF('PJ - P'!D182=\"\",\"\",'PJ - P'!D182)","v":""},{"$f":"IF('PJ - P'!H182=\"\",\"\",'PJ - P'!H182)","v":""},{"$f":"IF('PJ - P'!M182=\"\",\"\",'PJ - P'!M182)","v":""},null,{"$f":"IF('PJ - P'!O182=\"\",\"\",'PJ - P'!O182)","v":""}]
[null,{"$f":"IF(AND('PJ - P'!$C183=\"\",'PJ - P'!$D183=\"\"),\"\",'PJ - P'!V183)","v":""},{"$f":"IF(AND('PJ - P'!$C183=\"\",'PJ - P'!$D183=\"\"),\"\",'PJ - P'!B183)","v":""},{"$f":"IF('PJ - P'!C183=\"\",\"\",'PJ - P'!C183)","v":""},{"$f":"IF('PJ - P'!D183=\"\",\"\",'PJ - P'!D183)","v":""},{"$f":"IF('PJ - P'!H183=\"\",\"\",'PJ - P'!H183)","v":""},{"$f":"IF('PJ - P'!M183=\"\",\"\",'PJ - P'!M183)","v":""},null,{"$f":"IF('PJ - P'!O183=\"\",\"\",'PJ - P'!O183)","v":""}]
[null,{"$f":"IF(AND('PJ - P'!$C184=\"\",'PJ - P'!$D184=\"\"),\"\",'PJ - P'!V184)","v":""},{"$f":"IF(AND('PJ - P'!$C184=\"\",'PJ - P'!$D184=\"\"),\"\",'PJ - P'!B184)","v":""},{"$f":"IF('PJ - P'!C184=\"\",\"\",'PJ - P'!C184)","v":""},{"$f":"IF('PJ - P'!D184=\"\",\"\",'PJ - P'!D184)","v":""},{"$f":"IF('PJ - P'!H184=\"\",\"\",'PJ - P'!H184)","v":""},{"$f":"IF('PJ - P'!M184=\"\",\"\",'PJ - P'!M184)","v":""},null,{"$f":"IF('PJ - P'!O184=\"\",\"\",'PJ - P'!O184)","v":""}]
[null,{"$f":"IF(AND('PJ - P'!$C185=\"\",'PJ - P'!$D185=\"\"),\"\",'PJ - P'!V185)","v":""},{"$f":"IF(AND('PJ - P'!$C185=\"\",'PJ - P'!$D185=\"\"),\"\",'PJ - P'!B185)","v":""},{"$f":"IF('PJ - P'!C185=\"\",\"\",'PJ - P'!C185)","v":""},{"$f":"IF('PJ - P'!D185=\"\",\"\",'PJ - P'!D185)","v":""},{"$f":"IF('PJ - P'!H185=\"\",\"\",'PJ - P'!H185)","v":""},{"$f":"IF('PJ - P'!M185=\"\",\"\",'PJ - P'!M185)","v":""},null,{"$f":"IF('PJ - P'!O185=\"\",\"\",'PJ - P'!O185)","v":""}]
[null,{"$f":"IF(AND('PJ - P'!$C186=\"\",'PJ - P'!$D186=\"\"),\"\",'PJ - P'!V186)","v":""},{"$f":"IF(AND('PJ - P'!$C186=\"\",'PJ - P'!$D186=\"\"),\"\",'PJ - P'!B186)","v":""},{"$f":"IF('PJ - P'!C186=\"\",\"\",'PJ - P'!C186)","v":""},{"$f":"IF('PJ - P'!D186=\"\",\"\",'PJ - P'!D186)","v":""},{"$f":"IF('PJ - P'!H186=\"\",\"\",'PJ - P'!H186)","v":""},{"$f":"IF('PJ - P'!M186=\"\",\"\",'PJ - P'!M186)","v":""},null,{"$f":"IF('PJ - P'!O186=\"\",\"\",'PJ - P'!O186)","v":""}]
[null,{"$f":"IF(AND('PJ - P'!$C187=\"\",'PJ - P'!$D187=\"\"),\"\",'PJ - P'!V187)","v":""},{"$f":"IF(AND('PJ - P'!$C187=\"\",'PJ - P'!$D187=\"\"),\"\",'PJ - P'!B187)","v":""},{"$f":"IF('PJ - P'!C187=\"\",\"\",'PJ - P'!C187)","v":""},{"$f":"IF('PJ - P'!D187=\"\",\"\",'PJ - P'!D187)","v":""},{"$f":"IF('PJ - P'!H187=\"\",\"\",'PJ - P'!H187)","v":""},{"$f":"IF('PJ - P'!M187=\"\",\"\",'PJ - P'!M187)","v":""},null,{"$f":"IF('PJ - P'!O187=\"\",\"\",'PJ - P'!O187)","v":""}]
[null,{"$f":"IF(AND('PJ - P'!$C188=\"\",'PJ - P'!$D188=\"\"),\"\",'PJ - P'!V188)","v":""},{"$f":"IF(AND('PJ - P'!$C188=\"\",'PJ - P'!$D188=\"\"),\"\",'PJ - P'!B188)","v":""},{"$f":"IF('PJ - P'!C188=\"\",\"\",'PJ - P'!C188)","v":""},{"$f":"IF('PJ - P'!D188=\"\",\"\",'PJ - P'!D188)","v":""},{"$f":"IF('PJ - P'!H188=\"\",\"\",'PJ - P'!H188)","v":""},{"$f":"IF('PJ - P'!M188=\"\",\"\",'PJ - P'!M188)","v":""},null,{"$f":"IF('PJ - P'!O188=\"\",\"\",'PJ - P'!O188)","v":""}]
[null,{"$f":"IF(AND('PJ - P'!$C189=\"\",'PJ - P'!$D189=\"\"),\"\",'PJ - P'!V189)","v":""},{"$f":"IF(AND('PJ - P'!$C189=\"\",'PJ - P'!$D189=\"\"),\"\",'PJ - P'!B189)","v":""},{"$f":"IF('PJ - P'!C189=\"\",\"\",'PJ - P'!C189)","v":""},{"$f":"IF('PJ - P'!D189=\"\",\"\",'PJ - P'!D189)","v":""},{"$f":"IF('PJ - P'!H189=\"\",\"\",'PJ - P'!H189)","v":""},{"$f":"IF('PJ - P'!M189=\"\",\"\",'PJ - P'!M189)","v":""},null,{"$f":"IF('PJ - P'!O189=\"\",\"\",'PJ - P'!O189)","v":""}]
[null,{"$f":"IF(AND('PJ - P'!$C190=\"\",'PJ - P'!$D190=\"\"),\"\",'PJ - P'!V190)","v":""},{"$f":"IF(AND('PJ - P'!$C190=\"\",'PJ - P'!$D190=\"\"),\"\",'PJ - P'!B190)","v":""},{"$f":"IF('PJ - P'!C190=\"\",\"\",'PJ - P'!C190)","v":""},{"$f":"IF('PJ - P'!D190=\"\",\"\",'PJ - P'!D190)","v":""},{"$f":"IF('PJ - P'!H190=\"\",\"\",'PJ - P'!H190)","v":""},{"$f":"IF('PJ - P'!M190=\"\",\"\",'PJ - P'!M190)","v":""},null,{"$f":"IF('PJ - P'!O190=\"\",\"\",'PJ - P'!O190)","v":""}]
[null,{"$f":"IF(AND('PJ - P'!$C191=\"\",'PJ - P'!$D191=\"\"),\"\",'PJ - P'!V191)","v":""},{"$f":"IF(AND('PJ - P'!$C191=\"\",'PJ - P'!$D191=\"\"),\"\",'PJ - P'!B191)","v":""},{"$f":"IF('PJ - P'!C191=\"\",\"\",'PJ - P'!C191)","v":""},{"$f":"IF('PJ - P'!D191=\"\",\"\",'PJ - P'!D191)","v":""},{"$f":"IF('PJ - P'!H191=\"\",\"\",'PJ - P'!H191)","v":""},{"$f":"IF('PJ - P'!M191=\"\",\"\",'PJ - P'!M191)","v":""},null,{"$f":"IF('PJ - P'!O191=\"\",\"\",'PJ - P'!O191)","v":""}]
[null,{"$f":"IF(AND('PJ - P'!$C192=\"\",'PJ - P'!$D192=\"\"),\"\",'PJ - P'!V192)","v":""},{"$f":"IF(AND('PJ - P'!$C192=\"\",'PJ - P'!$D192=\"\"),\"\",'PJ - P'!B192)","v":""},{"$f":"IF('PJ - P'!C192=\"\",\"\",'PJ - P'!C192)","v":""},{"$f":"IF('PJ - P'!D192=\"\",\"\",'PJ - P'!D192)","v":""},{"$f":"IF('PJ - P'!H192=\"\",\"\",'PJ - P'!H192)","v":""},{"$f":"IF('PJ - P'!M192=\"\",\"\",'PJ - P'!M192)","v":""},null,{"$f":"IF('PJ - P'!O192=\"\",\"\",'PJ - P'!O192)","v":""}]
[null,{"$f":"IF(AND('PJ - P'!$C193=\"\",'PJ - P'!$D193=\"\"),\"\",'PJ - P'!V193)","v":""},{"$f":"IF(AND('PJ - P'!$C193=\"\",'PJ - P'!$D193=\"\"),\"\",'PJ - P'!B193)","v":""},{"$f":"IF('PJ - P'!C193=\"\",\"\",'PJ - P'!C193)","v":""},{"$f":"IF('PJ - P'!D193=\"\",\"\",'PJ - P'!D193)","v":""},{"$f":"IF('PJ - P'!H193=\"\",\"\",'PJ - P'!H193)","v":""},{"$f":"IF('PJ - P'!M193=\"\",\"\",'PJ - P'!M193)","v":""},null,{"$f":"IF('PJ - P'!O193=\"\",\"\",'PJ - P'!O193)","v":""}]
[null,{"$f":"IF(AND('PJ - P'!$C194=\"\",'PJ - P'!$D194=\"\"),\"\",'PJ - P'!V194)","v":""},{"$f":"IF(AND('PJ - P'!$C194=\"\",'PJ - P'!$D194=\"\"),\"\",'PJ - P'!B194)","v":""},{"$f":"IF('PJ - P'!C194=\"\",\"\",'PJ - P'!C194)","v":""},{"$f":"IF('PJ - P'!D194=\"\",\"\",'PJ - P'!D194)","v":""},{"$f":"IF('PJ - P'!H194=\"\",\"\",'PJ - P'!H194)","v":""},{"$f":"IF('PJ - P'!M194=\"\",\"\",'PJ - P'!M194)","v":""},null,{"$f":"IF('PJ - P'!O194=\"\",\"\",'PJ - P'!O194)","v":""}]
[null,{"$f":"IF(AND('PJ - P'!$C195=\"\",'PJ - P'!$D195=\"\"),\"\",'PJ - P'!V195)","v":""},{"$f":"IF(AND('PJ - P'!$C195=\"\",'PJ - P'!$D195=\"\"),\"\",'PJ - P'!B195)","v":""},{"$f":"IF('PJ - P'!C195=\"\",\"\",'PJ - P'!C195)","v":""},{"$f":"IF('PJ - P'!D195=\"\",\"\",'PJ - P'!D195)","v":""},{"$f":"IF('PJ - P'!H195=\"\",\"\",'PJ - P'!H195)","v":""},{"$f":"IF('PJ - P'!M195=\"\",\"\",'PJ - P'!M195)","v":""},null,{"$f":"IF('PJ - P'!O195=\"\",\"\",'PJ - P'!O195)","v":""}]
[null,{"$f":"IF(AND('PJ - P'!$C196=\"\",'PJ - P'!$D196=\"\"),\"\",'PJ - P'!V196)","v":""},{"$f":"IF(AND('PJ - P'!$C196=\"\",'PJ - P'!$D196=\"\"),\"\",'PJ - P'!B196)","v":""},{"$f":"IF('PJ - P'!C196=\"\",\"\",'PJ - P'!C196)","v":""},{"$f":"IF('PJ - P'!D196=\"\",\"\",'PJ - P'!D196)","v":""},{"$f":"IF('PJ - P'!H196=\"\",\"\",'PJ - P'!H196)","v":""},{"$f":"IF('PJ - P'!M196=\"\",\"\",'PJ - P'!M196)","v":""},null,{"$f":"IF('PJ - P'!O196=\"\",\"\",'PJ - P'!O196)","v":""}]
[null,{"$f":"IF(AND('PJ - P'!$C197=\"\",'PJ - P'!$D197=\"\"),\"\",'PJ - P'!V197)","v":""},{"$f":"IF(AND('PJ - P'!$C197=\"\",'PJ - P'!$D197=\"\"),\"\",'PJ - P'!B197)","v":""},{"$f":"IF('PJ - P'!C197=\"\",\"\",'PJ - P'!C197)","v":""},{"$f":"IF('PJ - P'!D197=\"\",\"\",'PJ - P'!D197)","v":""},{"$f":"IF('PJ - P'!H197=\"\",\"\",'PJ - P'!H197)","v":""},{"$f":"IF('PJ - P'!M197=\"\",\"\",'PJ - P'!M197)","v":""},null,{"$f":"IF('PJ - P'!O197=\"\",\"\",'PJ - P'!O197)","v":""}]
[null,{"$f":"IF(AND('PJ - P'!$C198=\"\",'PJ - P'!$D198=\"\"),\"\",'PJ - P'!V198)","v":""},{"$f":"IF(AND('PJ - P'!$C198=\"\",'PJ - P'!$D198=\"\"),\"\",'PJ - P'!B198)","v":""},{"$f":"IF('PJ - P'!C198=\"\",\"\",'PJ - P'!C198)","v":""},{"$f":"IF('PJ - P'!D198=\"\",\"\",'PJ - P'!D198)","v":""},{"$f":"IF('PJ - P'!H198=\"\",\"\",'PJ - P'!H198)","v":""},{"$f":"IF('PJ - P'!M198=\"\",\"\",'PJ - P'!M198)","v":""},null,{"$f":"IF('PJ - P'!O198=\"\",\"\",'PJ - P'!O198)","v":""}]
[null,{"$f":"IF(AND('PJ - P'!$C199=\"\",'PJ - P'!$D199=\"\"),\"\",'PJ - P'!V199)","v":""},{"$f":"IF(AND('PJ - P'!$C199=\"\",'PJ - P'!$D199=\"\"),\"\",'PJ - P'!B199)","v":""},{"$f":"IF('PJ - P'!C199=\"\",\"\",'PJ - P'!C199)","v":""},{"$f":"IF('PJ - P'!D199=\"\",\"\",'PJ - P'!D199)","v":""},{"$f":"IF('PJ - P'!H199=\"\",\"\",'PJ - P'!H199)","v":""},{"$f":"IF('PJ - P'!M199=\"\",\"\",'PJ - P'!M199)","v":""},null,{"$f":"IF('PJ - P'!O199=\"\",\"\",'PJ - P'!O199)","v":""}]
[null,{"$f":"IF(AND('PJ - P'!$C200=\"\",'PJ - P'!$D200=\"\"),\"\",'PJ - P'!V200)","v":""},{"$f":"IF(AND('PJ - P'!$C200=\"\",'PJ - P'!$D200=\"\"),\"\",'PJ - P'!B200)","v":""},{"$f":"IF('PJ - P'!C200=\"\",\"\",'PJ - P'!C200)","v":""},{"$f":"IF('PJ - P'!D200=\"\",\"\",'PJ - P'!D200)","v":""},{"$f":"IF('PJ - P'!H200=\"\",\"\",'PJ - P'!H200)","v":""},{"$f":"IF('PJ - P'!M200=\"\",\"\",'PJ - P'!M200)","v":""},null,{"$f":"IF('PJ - P'!O200=\"\",\"\",'PJ - P'!O200)","v":""}]
[null,{"$f":"IF(AND('PJ - P'!$C201=\"\",'PJ - P'!$D201=\"\"),\"\",'PJ - P'!V201)","v":""},{"$f":"IF(AND('PJ - P'!$C201=\"\",'PJ - P'!$D201=\"\"),\"\",'PJ - P'!B201)","v":""},{"$f":"IF('PJ - P'!C201=\"\",\"\",'PJ - P'!C201)","v":""},{"$f":"IF('PJ - P'!D201=\"\",\"\",'PJ - P'!D201)","v":""},{"$f":"IF('PJ - P'!H201=\"\",\"\",'PJ - P'!H201)","v":""},{"$f":"IF('PJ - P'!M201=\"\",\"\",'PJ - P'!M201)","v":""},null,{"$f":"IF('PJ - P'!O201=\"\",\"\",'PJ - P'!O201)","v":""}]
[null,{"$f":"IF(AND('PJ - P'!$C202=\"\",'PJ - P'!$D202=\"\"),\"\",'PJ - P'!V202)","v":""},{"$f":"IF(AND('PJ - P'!$C202=\"\",'PJ - P'!$D202=\"\"),\"\",'PJ - P'!B202)","v":""},{"$f":"IF('PJ - P'!C202=\"\",\"\",'PJ - P'!C202)","v":""},{"$f":"IF('PJ - P'!D202=\"\",\"\",'PJ - P'!D202)","v":""},{"$f":"IF('PJ - P'!H202=\"\",\"\",'PJ - P'!H202)","v":""},{"$f":"IF('PJ - P'!M202=\"\",\"\",'PJ - P'!M202)","v":""},null,{"$f":"IF('PJ - P'!O202=\"\",\"\",'PJ - P'!O202)","v":""}]
[null,{"$f":"IF(AND('PJ - P'!$C203=\"\",'PJ - P'!$D203=\"\"),\"\",'PJ - P'!V203)","v":""},{"$f":"IF(AND('PJ - P'!$C203=\"\",'PJ - P'!$D203=\"\"),\"\",'PJ - P'!B203)","v":""},{"$f":"IF('PJ - P'!C203=\"\",\"\",'PJ - P'!C203)","v":""},{"$f":"IF('PJ - P'!D203=\"\",\"\",'PJ - P'!D203)","v":""},{"$f":"IF('PJ - P'!H203=\"\",\"\",'PJ - P'!H203)","v":""},{"$f":"IF('PJ - P'!M203=\"\",\"\",'PJ - P'!M203)","v":""},null,{"$f":"IF('PJ - P'!O203=\"\",\"\",'PJ - P'!O203)","v":""}]
[null,{"$f":"IF(AND('PJ - P'!$C204=\"\",'PJ - P'!$D204=\"\"),\"\",'PJ - P'!V204)","v":""},{"$f":"IF(AND('PJ - P'!$C204=\"\",'PJ - P'!$D204=\"\"),\"\",'PJ - P'!B204)","v":""},{"$f":"IF('PJ - P'!C204=\"\",\"\",'PJ - P'!C204)","v":""},{"$f":"IF('PJ - P'!D204=\"\",\"\",'PJ - P'!D204)","v":""},{"$f":"IF('PJ - P'!H204=\"\",\"\",'PJ - P'!H204)","v":""},{"$f":"IF('PJ - P'!M204=\"\",\"\",'PJ - P'!M204)","v":""},null,{"$f":"IF('PJ - P'!O204=\"\",\"\",'PJ - P'!O204)","v":""}]
[null,{"$f":"IF(AND('PJ - P'!$C205=\"\",'PJ - P'!$D205=\"\"),\"\",'PJ - P'!V205)","v":""},{"$f":"IF(AND('PJ - P'!$C205=\"\",'PJ - P'!$D205=\"\"),\"\",'PJ - P'!B205)","v":""},{"$f":"IF('PJ - P'!C205=\"\",\"\",'PJ - P'!C205)","v":""},{"$f":"IF('PJ - P'!D205=\"\",\"\",'PJ - P'!D205)","v":""},{"$f":"IF('PJ - P'!H205=\"\",\"\",'PJ - P'!H205)","v":""},{"$f":"IF('PJ - P'!M205=\"\",\"\",'PJ - P'!M205)","v":""},null,{"$f":"IF('PJ - P'!O205=\"\",\"\",'PJ - P'!O205)","v":""}]
[null,{"$f":"IF(AND('PJ - P'!$C206=\"\",'PJ - P'!$D206=\"\"),\"\",'PJ - P'!V206)","v":""},{"$f":"IF(AND('PJ - P'!$C206=\"\",'PJ - P'!$D206=\"\"),\"\",'PJ - P'!B206)","v":""},{"$f":"IF('PJ - P'!C206=\"\",\"\",'PJ - P'!C206)","v":""},{"$f":"IF('PJ - P'!D206=\"\",\"\",'PJ - P'!D206)","v":""},{"$f":"IF('PJ - P'!H206=\"\",\"\",'PJ - P'!H206)","v":""},{"$f":"IF('PJ - P'!M206=\"\",\"\",'PJ - P'!M206)","v":""},null,{"$f":"IF('PJ - P'!O206=\"\",\"\",'PJ - P'!O206)","v":""}]
[null,{"$f":"IF(AND('PJ - P'!$C207=\"\",'PJ - P'!$D207=\"\"),\"\",'PJ - P'!V207)","v":""},{"$f":"IF(AND('PJ - P'!$C207=\"\",'PJ - P'!$D207=\"\"),\"\",'PJ - P'!B207)","v":""},{"$f":"IF('PJ - P'!C207=\"\",\"\",'PJ - P'!C207)","v":""},{"$f":"IF('PJ - P'!D207=\"\",\"\",'PJ - P'!D207)","v":""},{"$f":"IF('PJ - P'!H207=\"\",\"\",'PJ - P'!H207)","v":""},{"$f":"IF('PJ - P'!M207=\"\",\"\",'PJ - P'!M207)","v":""},null,{"$f":"IF('PJ - P'!O207=\"\",\"\",'PJ - P'!O207)","v":""}]
[null,{"$f":"IF(AND('PJ - P'!$C208=\"\",'PJ - P'!$D208=\"\"),\"\",'PJ - P'!V208)","v":""},{"$f":"IF(AND('PJ - P'!$C208=\"\",'PJ - P'!$D208=\"\"),\"\",'PJ - P'!B208)","v":""},{"$f":"IF('PJ - P'!C208=\"\",\"\",'PJ - P'!C208)","v":""},{"$f":"IF('PJ - P'!D208=\"\",\"\",'PJ - P'!D208)","v":""},{"$f":"IF('PJ - P'!H208=\"\",\"\",'PJ - P'!H208)","v":""},{"$f":"IF('PJ - P'!M208=\"\",\"\",'PJ - P'!M208)","v":""},null,{"$f":"IF('PJ - P'!O208=\"\",\"\",'PJ - P'!O208)","v":""}]
[null,{"$f":"IF(AND('PJ - P'!$C209=\"\",'PJ - P'!$D209=\"\"),\"\",'PJ - P'!V209)","v":""},{"$f":"IF(AND('PJ - P'!$C209=\"\",'PJ - P'!$D209=\"\"),\"\",'PJ - P'!B209)","v":""},{"$f":"IF('PJ - P'!C209=\"\",\"\",'PJ - P'!C209)","v":""},{"$f":"IF('PJ - P'!D209=\"\",\"\",'PJ - P'!D209)","v":""},{"$f":"IF('PJ - P'!H209=\"\",\"\",'PJ - P'!H209)","v":""},{"$f":"IF('PJ - P'!M209=\"\",\"\",'PJ - P'!M209)","v":""},null,{"$f":"IF('PJ - P'!O209=\"\",\"\",'PJ - P'!O209)","v":""}]
[null,{"$f":"IF(AND('PJ - P'!$C210=\"\",'PJ - P'!$D210=\"\"),\"\",'PJ - P'!V210)","v":""},{"$f":"IF(AND('PJ - P'!$C210=\"\",'PJ - P'!$D210=\"\"),\"\",'PJ - P'!B210)","v":""},{"$f":"IF('PJ - P'!C210=\"\",\"\",'PJ - P'!C210)","v":""},{"$f":"IF('PJ - P'!D210=\"\",\"\",'PJ - P'!D210)","v":""},{"$f":"IF('PJ - P'!H210=\"\",\"\",'PJ - P'!H210)","v":""},{"$f":"IF('PJ - P'!M210=\"\",\"\",'PJ - P'!M210)","v":""},null,{"$f":"IF('PJ - P'!O210=\"\",\"\",'PJ - P'!O210)","v":""}]
[null,{"$f":"IF(AND('PJ - P'!$C211=\"\",'PJ - P'!$D211=\"\"),\"\",'PJ - P'!V211)","v":""},{"$f":"IF(AND('PJ - P'!$C211=\"\",'PJ - P'!$D211=\"\"),\"\",'PJ - P'!B211)","v":""},{"$f":"IF('PJ - P'!C211=\"\",\"\",'PJ - P'!C211)","v":""},{"$f":"IF('PJ - P'!D211=\"\",\"\",'PJ - P'!D211)","v":""},{"$f":"IF('PJ - P'!H211=\"\",\"\",'PJ - P'!H211)","v":""},{"$f":"IF('PJ - P'!M211=\"\",\"\",'PJ - P'!M211)","v":""},null,{"$f":"IF('PJ - P'!O211=\"\",\"\",'PJ - P'!O211)","v":""}]
[null,{"$f":"IF(AND('PJ - P'!$C212=\"\",'PJ - P'!$D212=\"\"),\"\",'PJ - P'!V212)","v":""},{"$f":"IF(AND('PJ - P'!$C212=\"\",'PJ - P'!$D212=\"\"),\"\",'PJ - P'!B212)","v":""},{"$f":"IF('PJ - P'!C212=\"\",\"\",'PJ - P'!C212)","v":""},{"$f":"IF('PJ - P'!D212=\"\",\"\",'PJ - P'!D212)","v":""},{"$f":"IF('PJ - P'!H212=\"\",\"\",'PJ - P'!H212)","v":""},{"$f":"IF('PJ - P'!M212=\"\",\"\",'PJ - P'!M212)","v":""},null,{"$f":"IF('PJ - P'!O212=\"\",\"\",'PJ - P'!O212)","v":""}]
[null,{"$f":"IF(AND('PJ - P'!$C213=\"\",'PJ - P'!$D213=\"\"),\"\",'PJ - P'!V213)","v":""},{"$f":"IF(AND('PJ - P'!$C213=\"\",'PJ - P'!$D213=\"\"),\"\",'PJ - P'!B213)","v":""},{"$f":"IF('PJ - P'!C213=\"\",\"\",'PJ - P'!C213)","v":""},{"$f":"IF('PJ - P'!D213=\"\",\"\",'PJ - P'!D213)","v":""},{"$f":"IF('PJ - P'!H213=\"\",\"\",'PJ - P'!H213)","v":""},{"$f":"IF('PJ - P'!M213=\"\",\"\",'PJ - P'!M213)","v":""},null,{"$f":"IF('PJ - P'!O213=\"\",\"\",'PJ - P'!O213)","v":""}]
[null,{"$f":"IF(AND('PJ - P'!$C214=\"\",'PJ - P'!$D214=\"\"),\"\",'PJ - P'!V214)","v":""},{"$f":"IF(AND('PJ - P'!$C214=\"\",'PJ - P'!$D214=\"\"),\"\",'PJ - P'!B214)","v":""},{"$f":"IF('PJ - P'!C214=\"\",\"\",'PJ - P'!C214)","v":""},{"$f":"IF('PJ - P'!D214=\"\",\"\",'PJ - P'!D214)","v":""},{"$f":"IF('PJ - P'!H214=\"\",\"\",'PJ - P'!H214)","v":""},{"$f":"IF('PJ - P'!M214=\"\",\"\",'PJ - P'!M214)","v":""},null,{"$f":"IF('PJ - P'!O214=\"\",\"\",'PJ - P'!O214)","v":""}]
[null,{"$f":"IF(AND('PJ - P'!$C215=\"\",'PJ - P'!$D215=\"\"),\"\",'PJ - P'!V215)","v":""},{"$f":"IF(AND('PJ - P'!$C215=\"\",'PJ - P'!$D215=\"\"),\"\",'PJ - P'!B215)","v":""},{"$f":"IF('PJ - P'!C215=\"\",\"\",'PJ - P'!C215)","v":""},{"$f":"IF('PJ - P'!D215=\"\",\"\",'PJ - P'!D215)","v":""},{"$f":"IF('PJ - P'!H215=\"\",\"\",'PJ - P'!H215)","v":""},{"$f":"IF('PJ - P'!M215=\"\",\"\",'PJ - P'!M215)","v":""},null,{"$f":"IF('PJ - P'!O215=\"\",\"\",'PJ - P'!O215)","v":""}]
[null,{"$f":"IF(AND('PJ - P'!$C216=\"\",'PJ - P'!$D216=\"\"),\"\",'PJ - P'!V216)","v":""},{"$f":"IF(AND('PJ - P'!$C216=\"\",'PJ - P'!$D216=\"\"),\"\",'PJ - P'!B216)","v":""},{"$f":"IF('PJ - P'!C216=\"\",\"\",'PJ - P'!C216)","v":""},{"$f":"IF('PJ - P'!D216=\"\",\"\",'PJ - P'!D216)","v":""},{"$f":"IF('PJ - P'!H216=\"\",\"\",'PJ - P'!H216)","v":""},{"$f":"IF('PJ - P'!M216=\"\",\"\",'PJ - P'!M216)","v":""},null,{"$f":"IF('PJ - P'!O216=\"\",\"\",'PJ - P'!O216)","v":""}]
[null,{"$f":"B$1","v":"Běh na 100m s přek. - Pořadí jednotlivců"}]
[]
[null,{"$f":"B$3","v":"Okresní kolo v PS"},null,null,{"$f":"E$3","v":"Chrast 16.6.2024"}]
[]
[null,{"$f":"Start!$C$5","v":"Dorky"}]
[null,"Pořadí","Start. číslo","Jméno","kolektiv","čas             I. pokusu","čas            II. pokusu",null,"Výsledný čas"]
[]
[null,{"$f":"IF(AND('PJ - P'!$C217=\"\",'PJ - P'!$D217=\"\"),\"\",'PJ - P'!V217)","v":""},{"$f":"IF(AND('PJ - P'!$C217=\"\",'PJ - P'!$D217=\"\"),\"\",'PJ - P'!B217)","v":""},{"$f":"IF('PJ - P'!C217=\"\",\"\",'PJ - P'!C217)","v":""},{"$f":"IF('PJ - P'!D217=\"\",\"\",'PJ - P'!D217)","v":""},{"$f":"IF('PJ - P'!H217=\"\",\"\",'PJ - P'!H217)","v":""},{"$f":"IF('PJ - P'!M217=\"\",\"\",'PJ - P'!M217)","v":""},null,{"$f":"IF('PJ - P'!O217=\"\",\"\",'PJ - P'!O217)","v":""}]
[null,{"$f":"IF(AND('PJ - P'!$C218=\"\",'PJ - P'!$D218=\"\"),\"\",'PJ - P'!V218)","v":""},{"$f":"IF(AND('PJ - P'!$C218=\"\",'PJ - P'!$D218=\"\"),\"\",'PJ - P'!B218)","v":""},{"$f":"IF('PJ - P'!C218=\"\",\"\",'PJ - P'!C218)","v":""},{"$f":"IF('PJ - P'!D218=\"\",\"\",'PJ - P'!D218)","v":""},{"$f":"IF('PJ - P'!H218=\"\",\"\",'PJ - P'!H218)","v":""},{"$f":"IF('PJ - P'!M218=\"\",\"\",'PJ - P'!M218)","v":""},null,{"$f":"IF('PJ - P'!O218=\"\",\"\",'PJ - P'!O218)","v":""}]
[null,{"$f":"IF(AND('PJ - P'!$C219=\"\",'PJ - P'!$D219=\"\"),\"\",'PJ - P'!V219)","v":""},{"$f":"IF(AND('PJ - P'!$C219=\"\",'PJ - P'!$D219=\"\"),\"\",'PJ - P'!B219)","v":""},{"$f":"IF('PJ - P'!C219=\"\",\"\",'PJ - P'!C219)","v":""},{"$f":"IF('PJ - P'!D219=\"\",\"\",'PJ - P'!D219)","v":""},{"$f":"IF('PJ - P'!H219=\"\",\"\",'PJ - P'!H219)","v":""},{"$f":"IF('PJ - P'!M219=\"\",\"\",'PJ - P'!M219)","v":""},null,{"$f":"IF('PJ - P'!O219=\"\",\"\",'PJ - P'!O219)","v":""}]
[null,{"$f":"IF(AND('PJ - P'!$C220=\"\",'PJ - P'!$D220=\"\"),\"\",'PJ - P'!V220)","v":""},{"$f":"IF(AND('PJ - P'!$C220=\"\",'PJ - P'!$D220=\"\"),\"\",'PJ - P'!B220)","v":""},{"$f":"IF('PJ - P'!C220=\"\",\"\",'PJ - P'!C220)","v":""},{"$f":"IF('PJ - P'!D220=\"\",\"\",'PJ - P'!D220)","v":""},{"$f":"IF('PJ - P'!H220=\"\",\"\",'PJ - P'!H220)","v":""},{"$f":"IF('PJ - P'!M220=\"\",\"\",'PJ - P'!M220)","v":""},null,{"$f":"IF('PJ - P'!O220=\"\",\"\",'PJ - P'!O220)","v":""}]
[null,{"$f":"IF(AND('PJ - P'!$C221=\"\",'PJ - P'!$D221=\"\"),\"\",'PJ - P'!V221)","v":""},{"$f":"IF(AND('PJ - P'!$C221=\"\",'PJ - P'!$D221=\"\"),\"\",'PJ - P'!B221)","v":""},{"$f":"IF('PJ - P'!C221=\"\",\"\",'PJ - P'!C221)","v":""},{"$f":"IF('PJ - P'!D221=\"\",\"\",'PJ - P'!D221)","v":""},{"$f":"IF('PJ - P'!H221=\"\",\"\",'PJ - P'!H221)","v":""},{"$f":"IF('PJ - P'!M221=\"\",\"\",'PJ - P'!M221)","v":""},null,{"$f":"IF('PJ - P'!O221=\"\",\"\",'PJ - P'!O221)","v":""}]
[null,{"$f":"IF(AND('PJ - P'!$C222=\"\",'PJ - P'!$D222=\"\"),\"\",'PJ - P'!V222)","v":""},{"$f":"IF(AND('PJ - P'!$C222=\"\",'PJ - P'!$D222=\"\"),\"\",'PJ - P'!B222)","v":""},{"$f":"IF('PJ - P'!C222=\"\",\"\",'PJ - P'!C222)","v":""},{"$f":"IF('PJ - P'!D222=\"\",\"\",'PJ - P'!D222)","v":""},{"$f":"IF('PJ - P'!H222=\"\",\"\",'PJ - P'!H222)","v":""},{"$f":"IF('PJ - P'!M222=\"\",\"\",'PJ - P'!M222)","v":""},null,{"$f":"IF('PJ - P'!O222=\"\",\"\",'PJ - P'!O222)","v":""}]
[null,{"$f":"IF(AND('PJ - P'!$C223=\"\",'PJ - P'!$D223=\"\"),\"\",'PJ - P'!V223)","v":""},{"$f":"IF(AND('PJ - P'!$C223=\"\",'PJ - P'!$D223=\"\"),\"\",'PJ - P'!B223)","v":""},{"$f":"IF('PJ - P'!C223=\"\",\"\",'PJ - P'!C223)","v":""},{"$f":"IF('PJ - P'!D223=\"\",\"\",'PJ - P'!D223)","v":""},{"$f":"IF('PJ - P'!H223=\"\",\"\",'PJ - P'!H223)","v":""},{"$f":"IF('PJ - P'!M223=\"\",\"\",'PJ - P'!M223)","v":""},null,{"$f":"IF('PJ - P'!O223=\"\",\"\",'PJ - P'!O223)","v":""}]
[null,{"$f":"IF(AND('PJ - P'!$C224=\"\",'PJ - P'!$D224=\"\"),\"\",'PJ - P'!V224)","v":""},{"$f":"IF(AND('PJ - P'!$C224=\"\",'PJ - P'!$D224=\"\"),\"\",'PJ - P'!B224)","v":""},{"$f":"IF('PJ - P'!C224=\"\",\"\",'PJ - P'!C224)","v":""},{"$f":"IF('PJ - P'!D224=\"\",\"\",'PJ - P'!D224)","v":""},{"$f":"IF('PJ - P'!H224=\"\",\"\",'PJ - P'!H224)","v":""},{"$f":"IF('PJ - P'!M224=\"\",\"\",'PJ - P'!M224)","v":""},null,{"$f":"IF('PJ - P'!O224=\"\",\"\",'PJ - P'!O224)","v":""}]
[null,{"$f":"IF(AND('PJ - P'!$C225=\"\",'PJ - P'!$D225=\"\"),\"\",'PJ - P'!V225)","v":""},{"$f":"IF(AND('PJ - P'!$C225=\"\",'PJ - P'!$D225=\"\"),\"\",'PJ - P'!B225)","v":""},{"$f":"IF('PJ - P'!C225=\"\",\"\",'PJ - P'!C225)","v":""},{"$f":"IF('PJ - P'!D225=\"\",\"\",'PJ - P'!D225)","v":""},{"$f":"IF('PJ - P'!H225=\"\",\"\",'PJ - P'!H225)","v":""},{"$f":"IF('PJ - P'!M225=\"\",\"\",'PJ - P'!M225)","v":""},null,{"$f":"IF('PJ - P'!O225=\"\",\"\",'PJ - P'!O225)","v":""}]
[null,{"$f":"IF(AND('PJ - P'!$C226=\"\",'PJ - P'!$D226=\"\"),\"\",'PJ - P'!V226)","v":""},{"$f":"IF(AND('PJ - P'!$C226=\"\",'PJ - P'!$D226=\"\"),\"\",'PJ - P'!B226)","v":""},{"$f":"IF('PJ - P'!C226=\"\",\"\",'PJ - P'!C226)","v":""},{"$f":"IF('PJ - P'!D226=\"\",\"\",'PJ - P'!D226)","v":""},{"$f":"IF('PJ - P'!H226=\"\",\"\",'PJ - P'!H226)","v":""},{"$f":"IF('PJ - P'!M226=\"\",\"\",'PJ - P'!M226)","v":""},null,{"$f":"IF('PJ - P'!O226=\"\",\"\",'PJ - P'!O226)","v":""}]
[null,{"$f":"IF(AND('PJ - P'!$C227=\"\",'PJ - P'!$D227=\"\"),\"\",'PJ - P'!V227)","v":""},{"$f":"IF(AND('PJ - P'!$C227=\"\",'PJ - P'!$D227=\"\"),\"\",'PJ - P'!B227)","v":""},{"$f":"IF('PJ - P'!C227=\"\",\"\",'PJ - P'!C227)","v":""},{"$f":"IF('PJ - P'!D227=\"\",\"\",'PJ - P'!D227)","v":""},{"$f":"IF('PJ - P'!H227=\"\",\"\",'PJ - P'!H227)","v":""},{"$f":"IF('PJ - P'!M227=\"\",\"\",'PJ - P'!M227)","v":""},null,{"$f":"IF('PJ - P'!O227=\"\",\"\",'PJ - P'!O227)","v":""}]
[null,{"$f":"IF(AND('PJ - P'!$C228=\"\",'PJ - P'!$D228=\"\"),\"\",'PJ - P'!V228)","v":""},{"$f":"IF(AND('PJ - P'!$C228=\"\",'PJ - P'!$D228=\"\"),\"\",'PJ - P'!B228)","v":""},{"$f":"IF('PJ - P'!C228=\"\",\"\",'PJ - P'!C228)","v":""},{"$f":"IF('PJ - P'!D228=\"\",\"\",'PJ - P'!D228)","v":""},{"$f":"IF('PJ - P'!H228=\"\",\"\",'PJ - P'!H228)","v":""},{"$f":"IF('PJ - P'!M228=\"\",\"\",'PJ - P'!M228)","v":""},null,{"$f":"IF('PJ - P'!O228=\"\",\"\",'PJ - P'!O228)","v":""}]
[null,{"$f":"IF(AND('PJ - P'!$C229=\"\",'PJ - P'!$D229=\"\"),\"\",'PJ - P'!V229)","v":""},{"$f":"IF(AND('PJ - P'!$C229=\"\",'PJ - P'!$D229=\"\"),\"\",'PJ - P'!B229)","v":""},{"$f":"IF('PJ - P'!C229=\"\",\"\",'PJ - P'!C229)","v":""},{"$f":"IF('PJ - P'!D229=\"\",\"\",'PJ - P'!D229)","v":""},{"$f":"IF('PJ - P'!H229=\"\",\"\",'PJ - P'!H229)","v":""},{"$f":"IF('PJ - P'!M229=\"\",\"\",'PJ - P'!M229)","v":""},null,{"$f":"IF('PJ - P'!O229=\"\",\"\",'PJ - P'!O229)","v":""}]
[null,{"$f":"IF(AND('PJ - P'!$C230=\"\",'PJ - P'!$D230=\"\"),\"\",'PJ - P'!V230)","v":""},{"$f":"IF(AND('PJ - P'!$C230=\"\",'PJ - P'!$D230=\"\"),\"\",'PJ - P'!B230)","v":""},{"$f":"IF('PJ - P'!C230=\"\",\"\",'PJ - P'!C230)","v":""},{"$f":"IF('PJ - P'!D230=\"\",\"\",'PJ - P'!D230)","v":""},{"$f":"IF('PJ - P'!H230=\"\",\"\",'PJ - P'!H230)","v":""},{"$f":"IF('PJ - P'!M230=\"\",\"\",'PJ - P'!M230)","v":""},null,{"$f":"IF('PJ - P'!O230=\"\",\"\",'PJ - P'!O230)","v":""}]
[null,{"$f":"IF(AND('PJ - P'!$C231=\"\",'PJ - P'!$D231=\"\"),\"\",'PJ - P'!V231)","v":""},{"$f":"IF(AND('PJ - P'!$C231=\"\",'PJ - P'!$D231=\"\"),\"\",'PJ - P'!B231)","v":""},{"$f":"IF('PJ - P'!C231=\"\",\"\",'PJ - P'!C231)","v":""},{"$f":"IF('PJ - P'!D231=\"\",\"\",'PJ - P'!D231)","v":""},{"$f":"IF('PJ - P'!H231=\"\",\"\",'PJ - P'!H231)","v":""},{"$f":"IF('PJ - P'!M231=\"\",\"\",'PJ - P'!M231)","v":""},null,{"$f":"IF('PJ - P'!O231=\"\",\"\",'PJ - P'!O231)","v":""}]
[null,{"$f":"IF(AND('PJ - P'!$C232=\"\",'PJ - P'!$D232=\"\"),\"\",'PJ - P'!V232)","v":""},{"$f":"IF(AND('PJ - P'!$C232=\"\",'PJ - P'!$D232=\"\"),\"\",'PJ - P'!B232)","v":""},{"$f":"IF('PJ - P'!C232=\"\",\"\",'PJ - P'!C232)","v":""},{"$f":"IF('PJ - P'!D232=\"\",\"\",'PJ - P'!D232)","v":""},{"$f":"IF('PJ - P'!H232=\"\",\"\",'PJ - P'!H232)","v":""},{"$f":"IF('PJ - P'!M232=\"\",\"\",'PJ - P'!M232)","v":""},null,{"$f":"IF('PJ - P'!O232=\"\",\"\",'PJ - P'!O232)","v":""}]
[null,{"$f":"IF(AND('PJ - P'!$C233=\"\",'PJ - P'!$D233=\"\"),\"\",'PJ - P'!V233)","v":""},{"$f":"IF(AND('PJ - P'!$C233=\"\",'PJ - P'!$D233=\"\"),\"\",'PJ - P'!B233)","v":""},{"$f":"IF('PJ - P'!C233=\"\",\"\",'PJ - P'!C233)","v":""},{"$f":"IF('PJ - P'!D233=\"\",\"\",'PJ - P'!D233)","v":""},{"$f":"IF('PJ - P'!H233=\"\",\"\",'PJ - P'!H233)","v":""},{"$f":"IF('PJ - P'!M233=\"\",\"\",'PJ - P'!M233)","v":""},null,{"$f":"IF('PJ - P'!O233=\"\",\"\",'PJ - P'!O233)","v":""}]
[null,{"$f":"IF(AND('PJ - P'!$C234=\"\",'PJ - P'!$D234=\"\"),\"\",'PJ - P'!V234)","v":""},{"$f":"IF(AND('PJ - P'!$C234=\"\",'PJ - P'!$D234=\"\"),\"\",'PJ - P'!B234)","v":""},{"$f":"IF('PJ - P'!C234=\"\",\"\",'PJ - P'!C234)","v":""},{"$f":"IF('PJ - P'!D234=\"\",\"\",'PJ - P'!D234)","v":""},{"$f":"IF('PJ - P'!H234=\"\",\"\",'PJ - P'!H234)","v":""},{"$f":"IF('PJ - P'!M234=\"\",\"\",'PJ - P'!M234)","v":""},null,{"$f":"IF('PJ - P'!O234=\"\",\"\",'PJ - P'!O234)","v":""}]
[null,{"$f":"IF(AND('PJ - P'!$C235=\"\",'PJ - P'!$D235=\"\"),\"\",'PJ - P'!V235)","v":""},{"$f":"IF(AND('PJ - P'!$C235=\"\",'PJ - P'!$D235=\"\"),\"\",'PJ - P'!B235)","v":""},{"$f":"IF('PJ - P'!C235=\"\",\"\",'PJ - P'!C235)","v":""},{"$f":"IF('PJ - P'!D235=\"\",\"\",'PJ - P'!D235)","v":""},{"$f":"IF('PJ - P'!H235=\"\",\"\",'PJ - P'!H235)","v":""},{"$f":"IF('PJ - P'!M235=\"\",\"\",'PJ - P'!M235)","v":""},null,{"$f":"IF('PJ - P'!O235=\"\",\"\",'PJ - P'!O235)","v":""}]
[null,{"$f":"IF(AND('PJ - P'!$C236=\"\",'PJ - P'!$D236=\"\"),\"\",'PJ - P'!V236)","v":""},{"$f":"IF(AND('PJ - P'!$C236=\"\",'PJ - P'!$D236=\"\"),\"\",'PJ - P'!B236)","v":""},{"$f":"IF('PJ - P'!C236=\"\",\"\",'PJ - P'!C236)","v":""},{"$f":"IF('PJ - P'!D236=\"\",\"\",'PJ - P'!D236)","v":""},{"$f":"IF('PJ - P'!H236=\"\",\"\",'PJ - P'!H236)","v":""},{"$f":"IF('PJ - P'!M236=\"\",\"\",'PJ - P'!M236)","v":""},null,{"$f":"IF('PJ - P'!O236=\"\",\"\",'PJ - P'!O236)","v":""}]
[null,{"$f":"IF(AND('PJ - P'!$C237=\"\",'PJ - P'!$D237=\"\"),\"\",'PJ - P'!V237)","v":""},{"$f":"IF(AND('PJ - P'!$C237=\"\",'PJ - P'!$D237=\"\"),\"\",'PJ - P'!B237)","v":""},{"$f":"IF('PJ - P'!C237=\"\",\"\",'PJ - P'!C237)","v":""},{"$f":"IF('PJ - P'!D237=\"\",\"\",'PJ - P'!D237)","v":""},{"$f":"IF('PJ - P'!H237=\"\",\"\",'PJ - P'!H237)","v":""},{"$f":"IF('PJ - P'!M237=\"\",\"\",'PJ - P'!M237)","v":""},null,{"$f":"IF('PJ - P'!O237=\"\",\"\",'PJ - P'!O237)","v":""}]
[null,{"$f":"IF(AND('PJ - P'!$C238=\"\",'PJ - P'!$D238=\"\"),\"\",'PJ - P'!V238)","v":""},{"$f":"IF(AND('PJ - P'!$C238=\"\",'PJ - P'!$D238=\"\"),\"\",'PJ - P'!B238)","v":""},{"$f":"IF('PJ - P'!C238=\"\",\"\",'PJ - P'!C238)","v":""},{"$f":"IF('PJ - P'!D238=\"\",\"\",'PJ - P'!D238)","v":""},{"$f":"IF('PJ - P'!H238=\"\",\"\",'PJ - P'!H238)","v":""},{"$f":"IF('PJ - P'!M238=\"\",\"\",'PJ - P'!M238)","v":""},null,{"$f":"IF('PJ - P'!O238=\"\",\"\",'PJ - P'!O238)","v":""}]
[null,{"$f":"IF(AND('PJ - P'!$C239=\"\",'PJ - P'!$D239=\"\"),\"\",'PJ - P'!V239)","v":""},{"$f":"IF(AND('PJ - P'!$C239=\"\",'PJ - P'!$D239=\"\"),\"\",'PJ - P'!B239)","v":""},{"$f":"IF('PJ - P'!C239=\"\",\"\",'PJ - P'!C239)","v":""},{"$f":"IF('PJ - P'!D239=\"\",\"\",'PJ - P'!D239)","v":""},{"$f":"IF('PJ - P'!H239=\"\",\"\",'PJ - P'!H239)","v":""},{"$f":"IF('PJ - P'!M239=\"\",\"\",'PJ - P'!M239)","v":""},null,{"$f":"IF('PJ - P'!O239=\"\",\"\",'PJ - P'!O239)","v":""}]
[null,{"$f":"IF(AND('PJ - P'!$C240=\"\",'PJ - P'!$D240=\"\"),\"\",'PJ - P'!V240)","v":""},{"$f":"IF(AND('PJ - P'!$C240=\"\",'PJ - P'!$D240=\"\"),\"\",'PJ - P'!B240)","v":""},{"$f":"IF('PJ - P'!C240=\"\",\"\",'PJ - P'!C240)","v":""},{"$f":"IF('PJ - P'!D240=\"\",\"\",'PJ - P'!D240)","v":""},{"$f":"IF('PJ - P'!H240=\"\",\"\",'PJ - P'!H240)","v":""},{"$f":"IF('PJ - P'!M240=\"\",\"\",'PJ - P'!M240)","v":""},null,{"$f":"IF('PJ - P'!O240=\"\",\"\",'PJ - P'!O240)","v":""}]
[null,{"$f":"IF(AND('PJ - P'!$C241=\"\",'PJ - P'!$D241=\"\"),\"\",'PJ - P'!V241)","v":""},{"$f":"IF(AND('PJ - P'!$C241=\"\",'PJ - P'!$D241=\"\"),\"\",'PJ - P'!B241)","v":""},{"$f":"IF('PJ - P'!C241=\"\",\"\",'PJ - P'!C241)","v":""},{"$f":"IF('PJ - P'!D241=\"\",\"\",'PJ - P'!D241)","v":""},{"$f":"IF('PJ - P'!H241=\"\",\"\",'PJ - P'!H241)","v":""},{"$f":"IF('PJ - P'!M241=\"\",\"\",'PJ - P'!M241)","v":""},null,{"$f":"IF('PJ - P'!O241=\"\",\"\",'PJ - P'!O241)","v":""}]
[null,{"$f":"IF(AND('PJ - P'!$C242=\"\",'PJ - P'!$D242=\"\"),\"\",'PJ - P'!V242)","v":""},{"$f":"IF(AND('PJ - P'!$C242=\"\",'PJ - P'!$D242=\"\"),\"\",'PJ - P'!B242)","v":""},{"$f":"IF('PJ - P'!C242=\"\",\"\",'PJ - P'!C242)","v":""},{"$f":"IF('PJ - P'!D242=\"\",\"\",'PJ - P'!D242)","v":""},{"$f":"IF('PJ - P'!H242=\"\",\"\",'PJ - P'!H242)","v":""},{"$f":"IF('PJ - P'!M242=\"\",\"\",'PJ - P'!M242)","v":""},null,{"$f":"IF('PJ - P'!O242=\"\",\"\",'PJ - P'!O242)","v":""}]
[null,{"$f":"IF(AND('PJ - P'!$C243=\"\",'PJ - P'!$D243=\"\"),\"\",'PJ - P'!V243)","v":""},{"$f":"IF(AND('PJ - P'!$C243=\"\",'PJ - P'!$D243=\"\"),\"\",'PJ - P'!B243)","v":""},{"$f":"IF('PJ - P'!C243=\"\",\"\",'PJ - P'!C243)","v":""},{"$f":"IF('PJ - P'!D243=\"\",\"\",'PJ - P'!D243)","v":""},{"$f":"IF('PJ - P'!H243=\"\",\"\",'PJ - P'!H243)","v":""},{"$f":"IF('PJ - P'!M243=\"\",\"\",'PJ - P'!M243)","v":""},null,{"$f":"IF('PJ - P'!O243=\"\",\"\",'PJ - P'!O243)","v":""}]
[null,{"$f":"IF(AND('PJ - P'!$C244=\"\",'PJ - P'!$D244=\"\"),\"\",'PJ - P'!V244)","v":""},{"$f":"IF(AND('PJ - P'!$C244=\"\",'PJ - P'!$D244=\"\"),\"\",'PJ - P'!B244)","v":""},{"$f":"IF('PJ - P'!C244=\"\",\"\",'PJ - P'!C244)","v":""},{"$f":"IF('PJ - P'!D244=\"\",\"\",'PJ - P'!D244)","v":""},{"$f":"IF('PJ - P'!H244=\"\",\"\",'PJ - P'!H244)","v":""},{"$f":"IF('PJ - P'!M244=\"\",\"\",'PJ - P'!M244)","v":""},null,{"$f":"IF('PJ - P'!O244=\"\",\"\",'PJ - P'!O244)","v":""}]
[null,{"$f":"IF(AND('PJ - P'!$C245=\"\",'PJ - P'!$D245=\"\"),\"\",'PJ - P'!V245)","v":""},{"$f":"IF(AND('PJ - P'!$C245=\"\",'PJ - P'!$D245=\"\"),\"\",'PJ - P'!B245)","v":""},{"$f":"IF('PJ - P'!C245=\"\",\"\",'PJ - P'!C245)","v":""},{"$f":"IF('PJ - P'!D245=\"\",\"\",'PJ - P'!D245)","v":""},{"$f":"IF('PJ - P'!H245=\"\",\"\",'PJ - P'!H245)","v":""},{"$f":"IF('PJ - P'!M245=\"\",\"\",'PJ - P'!M245)","v":""},null,{"$f":"IF('PJ - P'!O245=\"\",\"\",'PJ - P'!O245)","v":""}]
[null,{"$f":"IF(AND('PJ - P'!$C246=\"\",'PJ - P'!$D246=\"\"),\"\",'PJ - P'!V246)","v":""},{"$f":"IF(AND('PJ - P'!$C246=\"\",'PJ - P'!$D246=\"\"),\"\",'PJ - P'!B246)","v":""},{"$f":"IF('PJ - P'!C246=\"\",\"\",'PJ - P'!C246)","v":""},{"$f":"IF('PJ - P'!D246=\"\",\"\",'PJ - P'!D246)","v":""},{"$f":"IF('PJ - P'!H246=\"\",\"\",'PJ - P'!H246)","v":""},{"$f":"IF('PJ - P'!M246=\"\",\"\",'PJ - P'!M246)","v":""},null,{"$f":"IF('PJ - P'!O246=\"\",\"\",'PJ - P'!O246)","v":""}]
[null,{"$f":"IF(AND('PJ - P'!$C247=\"\",'PJ - P'!$D247=\"\"),\"\",'PJ - P'!V247)","v":""},{"$f":"IF(AND('PJ - P'!$C247=\"\",'PJ - P'!$D247=\"\"),\"\",'PJ - P'!B247)","v":""},{"$f":"IF('PJ - P'!C247=\"\",\"\",'PJ - P'!C247)","v":""},{"$f":"IF('PJ - P'!D247=\"\",\"\",'PJ - P'!D247)","v":""},{"$f":"IF('PJ - P'!H247=\"\",\"\",'PJ - P'!H247)","v":""},{"$f":"IF('PJ - P'!M247=\"\",\"\",'PJ - P'!M247)","v":""},null,{"$f":"IF('PJ - P'!O247=\"\",\"\",'PJ - P'!O247)","v":""}]
[null,{"$f":"IF(AND('PJ - P'!$C248=\"\",'PJ - P'!$D248=\"\"),\"\",'PJ - P'!V248)","v":""},{"$f":"IF(AND('PJ - P'!$C248=\"\",'PJ - P'!$D248=\"\"),\"\",'PJ - P'!B248)","v":""},{"$f":"IF('PJ - P'!C248=\"\",\"\",'PJ - P'!C248)","v":""},{"$f":"IF('PJ - P'!D248=\"\",\"\",'PJ - P'!D248)","v":""},{"$f":"IF('PJ - P'!H248=\"\",\"\",'PJ - P'!H248)","v":""},{"$f":"IF('PJ - P'!M248=\"\",\"\",'PJ - P'!M248)","v":""},null,{"$f":"IF('PJ - P'!O248=\"\",\"\",'PJ - P'!O248)","v":""}]
[null,{"$f":"IF(AND('PJ - P'!$C249=\"\",'PJ - P'!$D249=\"\"),\"\",'PJ - P'!V249)","v":""},{"$f":"IF(AND('PJ - P'!$C249=\"\",'PJ - P'!$D249=\"\"),\"\",'PJ - P'!B249)","v":""},{"$f":"IF('PJ - P'!C249=\"\",\"\",'PJ - P'!C249)","v":""},{"$f":"IF('PJ - P'!D249=\"\",\"\",'PJ - P'!D249)","v":""},{"$f":"IF('PJ - P'!H249=\"\",\"\",'PJ - P'!H249)","v":""},{"$f":"IF('PJ - P'!M249=\"\",\"\",'PJ - P'!M249)","v":""},null,{"$f":"IF('PJ - P'!O249=\"\",\"\",'PJ - P'!O249)","v":""}]
[null,{"$f":"IF(AND('PJ - P'!$C250=\"\",'PJ - P'!$D250=\"\"),\"\",'PJ - P'!V250)","v":""},{"$f":"IF(AND('PJ - P'!$C250=\"\",'PJ - P'!$D250=\"\"),\"\",'PJ - P'!B250)","v":""},{"$f":"IF('PJ - P'!C250=\"\",\"\",'PJ - P'!C250)","v":""},{"$f":"IF('PJ - P'!D250=\"\",\"\",'PJ - P'!D250)","v":""},{"$f":"IF('PJ - P'!H250=\"\",\"\",'PJ - P'!H250)","v":""},{"$f":"IF('PJ - P'!M250=\"\",\"\",'PJ - P'!M250)","v":""},null,{"$f":"IF('PJ - P'!O250=\"\",\"\",'PJ - P'!O250)","v":""}]
[null,{"$f":"IF(AND('PJ - P'!$C251=\"\",'PJ - P'!$D251=\"\"),\"\",'PJ - P'!V251)","v":""},{"$f":"IF(AND('PJ - P'!$C251=\"\",'PJ - P'!$D251=\"\"),\"\",'PJ - P'!B251)","v":""},{"$f":"IF('PJ - P'!C251=\"\",\"\",'PJ - P'!C251)","v":""},{"$f":"IF('PJ - P'!D251=\"\",\"\",'PJ - P'!D251)","v":""},{"$f":"IF('PJ - P'!H251=\"\",\"\",'PJ - P'!H251)","v":""},{"$f":"IF('PJ - P'!M251=\"\",\"\",'PJ - P'!M251)","v":""},null,{"$f":"IF('PJ - P'!O251=\"\",\"\",'PJ - P'!O251)","v":""}]
[null,{"$f":"IF(AND('PJ - P'!$C252=\"\",'PJ - P'!$D252=\"\"),\"\",'PJ - P'!V252)","v":""},{"$f":"IF(AND('PJ - P'!$C252=\"\",'PJ - P'!$D252=\"\"),\"\",'PJ - P'!B252)","v":""},{"$f":"IF('PJ - P'!C252=\"\",\"\",'PJ - P'!C252)","v":""},{"$f":"IF('PJ - P'!D252=\"\",\"\",'PJ - P'!D252)","v":""},{"$f":"IF('PJ - P'!H252=\"\",\"\",'PJ - P'!H252)","v":""},{"$f":"IF('PJ - P'!M252=\"\",\"\",'PJ - P'!M252)","v":""},null,{"$f":"IF('PJ - P'!O252=\"\",\"\",'PJ - P'!O252)","v":""}]
[null,{"$f":"B$1","v":"Běh na 100m s přek. - Pořadí jednotlivců"}]
[]
[null,{"$f":"B$3","v":"Okresní kolo v PS"},null,null,{"$f":"E$3","v":"Chrast 16.6.2024"}]
[]
[null,{"$f":"Start!$C$5","v":"Dorky"}]
[null,"Pořadí","Start. číslo","Jméno","kolektiv","čas             I. pokusu","čas            II. pokusu",null,"Výsledný čas"]
[]
[null,{"$f":"IF(AND('PJ - P'!$C253=\"\",'PJ - P'!$D253=\"\"),\"\",'PJ - P'!V253)","v":""},{"$f":"IF(AND('PJ - P'!$C253=\"\",'PJ - P'!$D253=\"\"),\"\",'PJ - P'!B253)","v":""},{"$f":"IF('PJ - P'!C253=\"\",\"\",'PJ - P'!C253)","v":""},{"$f":"IF('PJ - P'!D253=\"\",\"\",'PJ - P'!D253)","v":""},{"$f":"IF('PJ - P'!H253=\"\",\"\",'PJ - P'!H253)","v":""},{"$f":"IF('PJ - P'!M253=\"\",\"\",'PJ - P'!M253)","v":""},null,{"$f":"IF('PJ - P'!O253=\"\",\"\",'PJ - P'!O253)","v":""}]
[null,{"$f":"IF(AND('PJ - P'!$C254=\"\",'PJ - P'!$D254=\"\"),\"\",'PJ - P'!V254)","v":""},{"$f":"IF(AND('PJ - P'!$C254=\"\",'PJ - P'!$D254=\"\"),\"\",'PJ - P'!B254)","v":""},{"$f":"IF('PJ - P'!C254=\"\",\"\",'PJ - P'!C254)","v":""},{"$f":"IF('PJ - P'!D254=\"\",\"\",'PJ - P'!D254)","v":""},{"$f":"IF('PJ - P'!H254=\"\",\"\",'PJ - P'!H254)","v":""},{"$f":"IF('PJ - P'!M254=\"\",\"\",'PJ - P'!M254)","v":""},null,{"$f":"IF('PJ - P'!O254=\"\",\"\",'PJ - P'!O254)","v":""}]
[null,{"$f":"IF(AND('PJ - P'!$C255=\"\",'PJ - P'!$D255=\"\"),\"\",'PJ - P'!V255)","v":""},{"$f":"IF(AND('PJ - P'!$C255=\"\",'PJ - P'!$D255=\"\"),\"\",'PJ - P'!B255)","v":""},{"$f":"IF('PJ - P'!C255=\"\",\"\",'PJ - P'!C255)","v":""},{"$f":"IF('PJ - P'!D255=\"\",\"\",'PJ - P'!D255)","v":""},{"$f":"IF('PJ - P'!H255=\"\",\"\",'PJ - P'!H255)","v":""},{"$f":"IF('PJ - P'!M255=\"\",\"\",'PJ - P'!M255)","v":""},null,{"$f":"IF('PJ - P'!O255=\"\",\"\",'PJ - P'!O255)","v":""}]
[null,{"$f":"IF(AND('PJ - P'!$C256=\"\",'PJ - P'!$D256=\"\"),\"\",'PJ - P'!V256)","v":""},{"$f":"IF(AND('PJ - P'!$C256=\"\",'PJ - P'!$D256=\"\"),\"\",'PJ - P'!B256)","v":""},{"$f":"IF('PJ - P'!C256=\"\",\"\",'PJ - P'!C256)","v":""},{"$f":"IF('PJ - P'!D256=\"\",\"\",'PJ - P'!D256)","v":""},{"$f":"IF('PJ - P'!H256=\"\",\"\",'PJ - P'!H256)","v":""},{"$f":"IF('PJ - P'!M256=\"\",\"\",'PJ - P'!M256)","v":""},null,{"$f":"IF('PJ - P'!O256=\"\",\"\",'PJ - P'!O256)","v":""}]
[null,{"$f":"IF(AND('PJ - P'!$C257=\"\",'PJ - P'!$D257=\"\"),\"\",'PJ - P'!V257)","v":""},{"$f":"IF(AND('PJ - P'!$C257=\"\",'PJ - P'!$D257=\"\"),\"\",'PJ - P'!B257)","v":""},{"$f":"IF('PJ - P'!C257=\"\",\"\",'PJ - P'!C257)","v":""},{"$f":"IF('PJ - P'!D257=\"\",\"\",'PJ - P'!D257)","v":""},{"$f":"IF('PJ - P'!H257=\"\",\"\",'PJ - P'!H257)","v":""},{"$f":"IF('PJ - P'!M257=\"\",\"\",'PJ - P'!M257)","v":""},null,{"$f":"IF('PJ - P'!O257=\"\",\"\",'PJ - P'!O257)","v":""}]
[null,{"$f":"IF(AND('PJ - P'!$C258=\"\",'PJ - P'!$D258=\"\"),\"\",'PJ - P'!V258)","v":""},{"$f":"IF(AND('PJ - P'!$C258=\"\",'PJ - P'!$D258=\"\"),\"\",'PJ - P'!B258)","v":""},{"$f":"IF('PJ - P'!C258=\"\",\"\",'PJ - P'!C258)","v":""},{"$f":"IF('PJ - P'!D258=\"\",\"\",'PJ - P'!D258)","v":""},{"$f":"IF('PJ - P'!H258=\"\",\"\",'PJ - P'!H258)","v":""},{"$f":"IF('PJ - P'!M258=\"\",\"\",'PJ - P'!M258)","v":""},null,{"$f":"IF('PJ - P'!O258=\"\",\"\",'PJ - P'!O258)","v":""}]
[null,{"$f":"IF(AND('PJ - P'!$C259=\"\",'PJ - P'!$D259=\"\"),\"\",'PJ - P'!V259)","v":""},{"$f":"IF(AND('PJ - P'!$C259=\"\",'PJ - P'!$D259=\"\"),\"\",'PJ - P'!B259)","v":""},{"$f":"IF('PJ - P'!C259=\"\",\"\",'PJ - P'!C259)","v":""},{"$f":"IF('PJ - P'!D259=\"\",\"\",'PJ - P'!D259)","v":""},{"$f":"IF('PJ - P'!H259=\"\",\"\",'PJ - P'!H259)","v":""},{"$f":"IF('PJ - P'!M259=\"\",\"\",'PJ - P'!M259)","v":""},null,{"$f":"IF('PJ - P'!O259=\"\",\"\",'PJ - P'!O259)","v":""}]
[null,{"$f":"IF(AND('PJ - P'!$C260=\"\",'PJ - P'!$D260=\"\"),\"\",'PJ - P'!V260)","v":""},{"$f":"IF(AND('PJ - P'!$C260=\"\",'PJ - P'!$D260=\"\"),\"\",'PJ - P'!B260)","v":""},{"$f":"IF('PJ - P'!C260=\"\",\"\",'PJ - P'!C260)","v":""},{"$f":"IF('PJ - P'!D260=\"\",\"\",'PJ - P'!D260)","v":""},{"$f":"IF('PJ - P'!H260=\"\",\"\",'PJ - P'!H260)","v":""},{"$f":"IF('PJ - P'!M260=\"\",\"\",'PJ - P'!M260)","v":""},null,{"$f":"IF('PJ - P'!O260=\"\",\"\",'PJ - P'!O260)","v":""}]
[null,{"$f":"IF(AND('PJ - P'!$C261=\"\",'PJ - P'!$D261=\"\"),\"\",'PJ - P'!V261)","v":""},{"$f":"IF(AND('PJ - P'!$C261=\"\",'PJ - P'!$D261=\"\"),\"\",'PJ - P'!B261)","v":""},{"$f":"IF('PJ - P'!C261=\"\",\"\",'PJ - P'!C261)","v":""},{"$f":"IF('PJ - P'!D261=\"\",\"\",'PJ - P'!D261)","v":""},{"$f":"IF('PJ - P'!H261=\"\",\"\",'PJ - P'!H261)","v":""},{"$f":"IF('PJ - P'!M261=\"\",\"\",'PJ - P'!M261)","v":""},null,{"$f":"IF('PJ - P'!O261=\"\",\"\",'PJ - P'!O261)","v":""}]
[null,{"$f":"IF(AND('PJ - P'!$C262=\"\",'PJ - P'!$D262=\"\"),\"\",'PJ - P'!V262)","v":""},{"$f":"IF(AND('PJ - P'!$C262=\"\",'PJ - P'!$D262=\"\"),\"\",'PJ - P'!B262)","v":""},{"$f":"IF('PJ - P'!C262=\"\",\"\",'PJ - P'!C262)","v":""},{"$f":"IF('PJ - P'!D262=\"\",\"\",'PJ - P'!D262)","v":""},{"$f":"IF('PJ - P'!H262=\"\",\"\",'PJ - P'!H262)","v":""},{"$f":"IF('PJ - P'!M262=\"\",\"\",'PJ - P'!M262)","v":""},null,{"$f":"IF('PJ - P'!O262=\"\",\"\",'PJ - P'!O262)","v":""}]
[null,{"$f":"IF(AND('PJ - P'!$C263=\"\",'PJ - P'!$D263=\"\"),\"\",'PJ - P'!V263)","v":""},{"$f":"IF(AND('PJ - P'!$C263=\"\",'PJ - P'!$D263=\"\"),\"\",'PJ - P'!B263)","v":""},{"$f":"IF('PJ - P'!C263=\"\",\"\",'PJ - P'!C263)","v":""},{"$f":"IF('PJ - P'!D263=\"\",\"\",'PJ - P'!D263)","v":""},{"$f":"IF('PJ - P'!H263=\"\",\"\",'PJ - P'!H263)","v":""},{"$f":"IF('PJ - P'!M263=\"\",\"\",'PJ - P'!M263)","v":""},null,{"$f":"IF('PJ - P'!O263=\"\",\"\",'PJ - P'!O263)","v":""}]
[null,{"$f":"IF(AND('PJ - P'!$C264=\"\",'PJ - P'!$D264=\"\"),\"\",'PJ - P'!V264)","v":""},{"$f":"IF(AND('PJ - P'!$C264=\"\",'PJ - P'!$D264=\"\"),\"\",'PJ - P'!B264)","v":""},{"$f":"IF('PJ - P'!C264=\"\",\"\",'PJ - P'!C264)","v":""},{"$f":"IF('PJ - P'!D264=\"\",\"\",'PJ - P'!D264)","v":""},{"$f":"IF('PJ - P'!H264=\"\",\"\",'PJ - P'!H264)","v":""},{"$f":"IF('PJ - P'!M264=\"\",\"\",'PJ - P'!M264)","v":""},null,{"$f":"IF('PJ - P'!O264=\"\",\"\",'PJ - P'!O264)","v":""}]
[null,{"$f":"IF(AND('PJ - P'!$C265=\"\",'PJ - P'!$D265=\"\"),\"\",'PJ - P'!V265)","v":""},{"$f":"IF(AND('PJ - P'!$C265=\"\",'PJ - P'!$D265=\"\"),\"\",'PJ - P'!B265)","v":""},{"$f":"IF('PJ - P'!C265=\"\",\"\",'PJ - P'!C265)","v":""},{"$f":"IF('PJ - P'!D265=\"\",\"\",'PJ - P'!D265)","v":""},{"$f":"IF('PJ - P'!H265=\"\",\"\",'PJ - P'!H265)","v":""},{"$f":"IF('PJ - P'!M265=\"\",\"\",'PJ - P'!M265)","v":""},null,{"$f":"IF('PJ - P'!O265=\"\",\"\",'PJ - P'!O265)","v":""}]
[null,{"$f":"IF(AND('PJ - P'!$C266=\"\",'PJ - P'!$D266=\"\"),\"\",'PJ - P'!V266)","v":""},{"$f":"IF(AND('PJ - P'!$C266=\"\",'PJ - P'!$D266=\"\"),\"\",'PJ - P'!B266)","v":""},{"$f":"IF('PJ - P'!C266=\"\",\"\",'PJ - P'!C266)","v":""},{"$f":"IF('PJ - P'!D266=\"\",\"\",'PJ - P'!D266)","v":""},{"$f":"IF('PJ - P'!H266=\"\",\"\",'PJ - P'!H266)","v":""},{"$f":"IF('PJ - P'!M266=\"\",\"\",'PJ - P'!M266)","v":""},null,{"$f":"IF('PJ - P'!O266=\"\",\"\",'PJ - P'!O266)","v":""}]
[null,{"$f":"IF(AND('PJ - P'!$C267=\"\",'PJ - P'!$D267=\"\"),\"\",'PJ - P'!V267)","v":""},{"$f":"IF(AND('PJ - P'!$C267=\"\",'PJ - P'!$D267=\"\"),\"\",'PJ - P'!B267)","v":""},{"$f":"IF('PJ - P'!C267=\"\",\"\",'PJ - P'!C267)","v":""},{"$f":"IF('PJ - P'!D267=\"\",\"\",'PJ - P'!D267)","v":""},{"$f":"IF('PJ - P'!H267=\"\",\"\",'PJ - P'!H267)","v":""},{"$f":"IF('PJ - P'!M267=\"\",\"\",'PJ - P'!M267)","v":""},null,{"$f":"IF('PJ - P'!O267=\"\",\"\",'PJ - P'!O267)","v":""}]
[null,{"$f":"IF(AND('PJ - P'!$C268=\"\",'PJ - P'!$D268=\"\"),\"\",'PJ - P'!V268)","v":""},{"$f":"IF(AND('PJ - P'!$C268=\"\",'PJ - P'!$D268=\"\"),\"\",'PJ - P'!B268)","v":""},{"$f":"IF('PJ - P'!C268=\"\",\"\",'PJ - P'!C268)","v":""},{"$f":"IF('PJ - P'!D268=\"\",\"\",'PJ - P'!D268)","v":""},{"$f":"IF('PJ - P'!H268=\"\",\"\",'PJ - P'!H268)","v":""},{"$f":"IF('PJ - P'!M268=\"\",\"\",'PJ - P'!M268)","v":""},null,{"$f":"IF('PJ - P'!O268=\"\",\"\",'PJ - P'!O268)","v":""}]
[null,{"$f":"IF(AND('PJ - P'!$C269=\"\",'PJ - P'!$D269=\"\"),\"\",'PJ - P'!V269)","v":""},{"$f":"IF(AND('PJ - P'!$C269=\"\",'PJ - P'!$D269=\"\"),\"\",'PJ - P'!B269)","v":""},{"$f":"IF('PJ - P'!C269=\"\",\"\",'PJ - P'!C269)","v":""},{"$f":"IF('PJ - P'!D269=\"\",\"\",'PJ - P'!D269)","v":""},{"$f":"IF('PJ - P'!H269=\"\",\"\",'PJ - P'!H269)","v":""},{"$f":"IF('PJ - P'!M269=\"\",\"\",'PJ - P'!M269)","v":""},null,{"$f":"IF('PJ - P'!O269=\"\",\"\",'PJ - P'!O269)","v":""}]
[null,{"$f":"IF(AND('PJ - P'!$C270=\"\",'PJ - P'!$D270=\"\"),\"\",'PJ - P'!V270)","v":""},{"$f":"IF(AND('PJ - P'!$C270=\"\",'PJ - P'!$D270=\"\"),\"\",'PJ - P'!B270)","v":""},{"$f":"IF('PJ - P'!C270=\"\",\"\",'PJ - P'!C270)","v":""},{"$f":"IF('PJ - P'!D270=\"\",\"\",'PJ - P'!D270)","v":""},{"$f":"IF('PJ - P'!H270=\"\",\"\",'PJ - P'!H270)","v":""},{"$f":"IF('PJ - P'!M270=\"\",\"\",'PJ - P'!M270)","v":""},null,{"$f":"IF('PJ - P'!O270=\"\",\"\",'PJ - P'!O270)","v":""}]
[null,{"$f":"IF(AND('PJ - P'!$C271=\"\",'PJ - P'!$D271=\"\"),\"\",'PJ - P'!V271)","v":""},{"$f":"IF(AND('PJ - P'!$C271=\"\",'PJ - P'!$D271=\"\"),\"\",'PJ - P'!B271)","v":""},{"$f":"IF('PJ - P'!C271=\"\",\"\",'PJ - P'!C271)","v":""},{"$f":"IF('PJ - P'!D271=\"\",\"\",'PJ - P'!D271)","v":""},{"$f":"IF('PJ - P'!H271=\"\",\"\",'PJ - P'!H271)","v":""},{"$f":"IF('PJ - P'!M271=\"\",\"\",'PJ - P'!M271)","v":""},null,{"$f":"IF('PJ - P'!O271=\"\",\"\",'PJ - P'!O271)","v":""}]
[null,{"$f":"IF(AND('PJ - P'!$C272=\"\",'PJ - P'!$D272=\"\"),\"\",'PJ - P'!V272)","v":""},{"$f":"IF(AND('PJ - P'!$C272=\"\",'PJ - P'!$D272=\"\"),\"\",'PJ - P'!B272)","v":""},{"$f":"IF('PJ - P'!C272=\"\",\"\",'PJ - P'!C272)","v":""},{"$f":"IF('PJ - P'!D272=\"\",\"\",'PJ - P'!D272)","v":""},{"$f":"IF('PJ - P'!H272=\"\",\"\",'PJ - P'!H272)","v":""},{"$f":"IF('PJ - P'!M272=\"\",\"\",'PJ - P'!M272)","v":""},null,{"$f":"IF('PJ - P'!O272=\"\",\"\",'PJ - P'!O272)","v":""}]
[null,{"$f":"IF(AND('PJ - P'!$C273=\"\",'PJ - P'!$D273=\"\"),\"\",'PJ - P'!V273)","v":""},{"$f":"IF(AND('PJ - P'!$C273=\"\",'PJ - P'!$D273=\"\"),\"\",'PJ - P'!B273)","v":""},{"$f":"IF('PJ - P'!C273=\"\",\"\",'PJ - P'!C273)","v":""},{"$f":"IF('PJ - P'!D273=\"\",\"\",'PJ - P'!D273)","v":""},{"$f":"IF('PJ - P'!H273=\"\",\"\",'PJ - P'!H273)","v":""},{"$f":"IF('PJ - P'!M273=\"\",\"\",'PJ - P'!M273)","v":""},null,{"$f":"IF('PJ - P'!O273=\"\",\"\",'PJ - P'!O273)","v":""}]
[null,{"$f":"IF(AND('PJ - P'!$C274=\"\",'PJ - P'!$D274=\"\"),\"\",'PJ - P'!V274)","v":""},{"$f":"IF(AND('PJ - P'!$C274=\"\",'PJ - P'!$D274=\"\"),\"\",'PJ - P'!B274)","v":""},{"$f":"IF('PJ - P'!C274=\"\",\"\",'PJ - P'!C274)","v":""},{"$f":"IF('PJ - P'!D274=\"\",\"\",'PJ - P'!D274)","v":""},{"$f":"IF('PJ - P'!H274=\"\",\"\",'PJ - P'!H274)","v":""},{"$f":"IF('PJ - P'!M274=\"\",\"\",'PJ - P'!M274)","v":""},null,{"$f":"IF('PJ - P'!O274=\"\",\"\",'PJ - P'!O274)","v":""}]
[null,{"$f":"IF(AND('PJ - P'!$C275=\"\",'PJ - P'!$D275=\"\"),\"\",'PJ - P'!V275)","v":""},{"$f":"IF(AND('PJ - P'!$C275=\"\",'PJ - P'!$D275=\"\"),\"\",'PJ - P'!B275)","v":""},{"$f":"IF('PJ - P'!C275=\"\",\"\",'PJ - P'!C275)","v":""},{"$f":"IF('PJ - P'!D275=\"\",\"\",'PJ - P'!D275)","v":""},{"$f":"IF('PJ - P'!H275=\"\",\"\",'PJ - P'!H275)","v":""},{"$f":"IF('PJ - P'!M275=\"\",\"\",'PJ - P'!M275)","v":""},null,{"$f":"IF('PJ - P'!O275=\"\",\"\",'PJ - P'!O275)","v":""}]
[null,{"$f":"IF(AND('PJ - P'!$C276=\"\",'PJ - P'!$D276=\"\"),\"\",'PJ - P'!V276)","v":""},{"$f":"IF(AND('PJ - P'!$C276=\"\",'PJ - P'!$D276=\"\"),\"\",'PJ - P'!B276)","v":""},{"$f":"IF('PJ - P'!C276=\"\",\"\",'PJ - P'!C276)","v":""},{"$f":"IF('PJ - P'!D276=\"\",\"\",'PJ - P'!D276)","v":""},{"$f":"IF('PJ - P'!H276=\"\",\"\",'PJ - P'!H276)","v":""},{"$f":"IF('PJ - P'!M276=\"\",\"\",'PJ - P'!M276)","v":""},null,{"$f":"IF('PJ - P'!O276=\"\",\"\",'PJ - P'!O276)","v":""}]
[null,{"$f":"IF(AND('PJ - P'!$C277=\"\",'PJ - P'!$D277=\"\"),\"\",'PJ - P'!V277)","v":""},{"$f":"IF(AND('PJ - P'!$C277=\"\",'PJ - P'!$D277=\"\"),\"\",'PJ - P'!B277)","v":""},{"$f":"IF('PJ - P'!C277=\"\",\"\",'PJ - P'!C277)","v":""},{"$f":"IF('PJ - P'!D277=\"\",\"\",'PJ - P'!D277)","v":""},{"$f":"IF('PJ - P'!H277=\"\",\"\",'PJ - P'!H277)","v":""},{"$f":"IF('PJ - P'!M277=\"\",\"\",'PJ - P'!M277)","v":""},null,{"$f":"IF('PJ - P'!O277=\"\",\"\",'PJ - P'!O277)","v":""}]
[null,{"$f":"IF(AND('PJ - P'!$C278=\"\",'PJ - P'!$D278=\"\"),\"\",'PJ - P'!V278)","v":""},{"$f":"IF(AND('PJ - P'!$C278=\"\",'PJ - P'!$D278=\"\"),\"\",'PJ - P'!B278)","v":""},{"$f":"IF('PJ - P'!C278=\"\",\"\",'PJ - P'!C278)","v":""},{"$f":"IF('PJ - P'!D278=\"\",\"\",'PJ - P'!D278)","v":""},{"$f":"IF('PJ - P'!H278=\"\",\"\",'PJ - P'!H278)","v":""},{"$f":"IF('PJ - P'!M278=\"\",\"\",'PJ - P'!M278)","v":""},null,{"$f":"IF('PJ - P'!O278=\"\",\"\",'PJ - P'!O278)","v":""}]
[null,{"$f":"IF(AND('PJ - P'!$C279=\"\",'PJ - P'!$D279=\"\"),\"\",'PJ - P'!V279)","v":""},{"$f":"IF(AND('PJ - P'!$C279=\"\",'PJ - P'!$D279=\"\"),\"\",'PJ - P'!B279)","v":""},{"$f":"IF('PJ - P'!C279=\"\",\"\",'PJ - P'!C279)","v":""},{"$f":"IF('PJ - P'!D279=\"\",\"\",'PJ - P'!D279)","v":""},{"$f":"IF('PJ - P'!H279=\"\",\"\",'PJ - P'!H279)","v":""},{"$f":"IF('PJ - P'!M279=\"\",\"\",'PJ - P'!M279)","v":""},null,{"$f":"IF('PJ - P'!O279=\"\",\"\",'PJ - P'!O279)","v":""}]
[null,{"$f":"IF(AND('PJ - P'!$C280=\"\",'PJ - P'!$D280=\"\"),\"\",'PJ - P'!V280)","v":""},{"$f":"IF(AND('PJ - P'!$C280=\"\",'PJ - P'!$D280=\"\"),\"\",'PJ - P'!B280)","v":""},{"$f":"IF('PJ - P'!C280=\"\",\"\",'PJ - P'!C280)","v":""},{"$f":"IF('PJ - P'!D280=\"\",\"\",'PJ - P'!D280)","v":""},{"$f":"IF('PJ - P'!H280=\"\",\"\",'PJ - P'!H280)","v":""},{"$f":"IF('PJ - P'!M280=\"\",\"\",'PJ - P'!M280)","v":""},null,{"$f":"IF('PJ - P'!O280=\"\",\"\",'PJ - P'!O280)","v":""}]
[null,{"$f":"IF(AND('PJ - P'!$C281=\"\",'PJ - P'!$D281=\"\"),\"\",'PJ - P'!V281)","v":""},{"$f":"IF(AND('PJ - P'!$C281=\"\",'PJ - P'!$D281=\"\"),\"\",'PJ - P'!B281)","v":""},{"$f":"IF('PJ - P'!C281=\"\",\"\",'PJ - P'!C281)","v":""},{"$f":"IF('PJ - P'!D281=\"\",\"\",'PJ - P'!D281)","v":""},{"$f":"IF('PJ - P'!H281=\"\",\"\",'PJ - P'!H281)","v":""},{"$f":"IF('PJ - P'!M281=\"\",\"\",'PJ - P'!M281)","v":""},null,{"$f":"IF('PJ - P'!O281=\"\",\"\",'PJ - P'!O281)","v":""}]
[null,{"$f":"IF(AND('PJ - P'!$C282=\"\",'PJ - P'!$D282=\"\"),\"\",'PJ - P'!V282)","v":""},{"$f":"IF(AND('PJ - P'!$C282=\"\",'PJ - P'!$D282=\"\"),\"\",'PJ - P'!B282)","v":""},{"$f":"IF('PJ - P'!C282=\"\",\"\",'PJ - P'!C282)","v":""},{"$f":"IF('PJ - P'!D282=\"\",\"\",'PJ - P'!D282)","v":""},{"$f":"IF('PJ - P'!H282=\"\",\"\",'PJ - P'!H282)","v":""},{"$f":"IF('PJ - P'!M282=\"\",\"\",'PJ - P'!M282)","v":""},null,{"$f":"IF('PJ - P'!O282=\"\",\"\",'PJ - P'!O282)","v":""}]
[null,{"$f":"IF(AND('PJ - P'!$C283=\"\",'PJ - P'!$D283=\"\"),\"\",'PJ - P'!V283)","v":""},{"$f":"IF(AND('PJ - P'!$C283=\"\",'PJ - P'!$D283=\"\"),\"\",'PJ - P'!B283)","v":""},{"$f":"IF('PJ - P'!C283=\"\",\"\",'PJ - P'!C283)","v":""},{"$f":"IF('PJ - P'!D283=\"\",\"\",'PJ - P'!D283)","v":""},{"$f":"IF('PJ - P'!H283=\"\",\"\",'PJ - P'!H283)","v":""},{"$f":"IF('PJ - P'!M283=\"\",\"\",'PJ - P'!M283)","v":""},null,{"$f":"IF('PJ - P'!O283=\"\",\"\",'PJ - P'!O283)","v":""}]
[null,{"$f":"IF(AND('PJ - P'!$C284=\"\",'PJ - P'!$D284=\"\"),\"\",'PJ - P'!V284)","v":""},{"$f":"IF(AND('PJ - P'!$C284=\"\",'PJ - P'!$D284=\"\"),\"\",'PJ - P'!B284)","v":""},{"$f":"IF('PJ - P'!C284=\"\",\"\",'PJ - P'!C284)","v":""},{"$f":"IF('PJ - P'!D284=\"\",\"\",'PJ - P'!D284)","v":""},{"$f":"IF('PJ - P'!H284=\"\",\"\",'PJ - P'!H284)","v":""},{"$f":"IF('PJ - P'!M284=\"\",\"\",'PJ - P'!M284)","v":""},null,{"$f":"IF('PJ - P'!O284=\"\",\"\",'PJ - P'!O284)","v":""}]
[null,{"$f":"IF(AND('PJ - P'!$C285=\"\",'PJ - P'!$D285=\"\"),\"\",'PJ - P'!V285)","v":""},{"$f":"IF(AND('PJ - P'!$C285=\"\",'PJ - P'!$D285=\"\"),\"\",'PJ - P'!B285)","v":""},{"$f":"IF('PJ - P'!C285=\"\",\"\",'PJ - P'!C285)","v":""},{"$f":"IF('PJ - P'!D285=\"\",\"\",'PJ - P'!D285)","v":""},{"$f":"IF('PJ - P'!H285=\"\",\"\",'PJ - P'!H285)","v":""},{"$f":"IF('PJ - P'!M285=\"\",\"\",'PJ - P'!M285)","v":""},null,{"$f":"IF('PJ - P'!O285=\"\",\"\",'PJ - P'!O285)","v":""}]
[null,{"$f":"IF(AND('PJ - P'!$C286=\"\",'PJ - P'!$D286=\"\"),\"\",'PJ - P'!V286)","v":""},{"$f":"IF(AND('PJ - P'!$C286=\"\",'PJ - P'!$D286=\"\"),\"\",'PJ - P'!B286)","v":""},{"$f":"IF('PJ - P'!C286=\"\",\"\",'PJ - P'!C286)","v":""},{"$f":"IF('PJ - P'!D286=\"\",\"\",'PJ - P'!D286)","v":""},{"$f":"IF('PJ - P'!H286=\"\",\"\",'PJ - P'!H286)","v":""},{"$f":"IF('PJ - P'!M286=\"\",\"\",'PJ - P'!M286)","v":""},null,{"$f":"IF('PJ - P'!O286=\"\",\"\",'PJ - P'!O286)","v":""}]
[null,{"$f":"IF(AND('PJ - P'!$C287=\"\",'PJ - P'!$D287=\"\"),\"\",'PJ - P'!V287)","v":""},{"$f":"IF(AND('PJ - P'!$C287=\"\",'PJ - P'!$D287=\"\"),\"\",'PJ - P'!B287)","v":""},{"$f":"IF('PJ - P'!C287=\"\",\"\",'PJ - P'!C287)","v":""},{"$f":"IF('PJ - P'!D287=\"\",\"\",'PJ - P'!D287)","v":""},{"$f":"IF('PJ - P'!H287=\"\",\"\",'PJ - P'!H287)","v":""},{"$f":"IF('PJ - P'!M287=\"\",\"\",'PJ - P'!M287)","v":""},null,{"$f":"IF('PJ - P'!O287=\"\",\"\",'PJ - P'!O287)","v":""}]
[null,{"$f":"IF(AND('PJ - P'!$C288=\"\",'PJ - P'!$D288=\"\"),\"\",'PJ - P'!V288)","v":""},{"$f":"IF(AND('PJ - P'!$C288=\"\",'PJ - P'!$D288=\"\"),\"\",'PJ - P'!B288)","v":""},{"$f":"IF('PJ - P'!C288=\"\",\"\",'PJ - P'!C288)","v":""},{"$f":"IF('PJ - P'!D288=\"\",\"\",'PJ - P'!D288)","v":""},{"$f":"IF('PJ - P'!H288=\"\",\"\",'PJ - P'!H288)","v":""},{"$f":"IF('PJ - P'!M288=\"\",\"\",'PJ - P'!M288)","v":""},null,{"$f":"IF('PJ - P'!O288=\"\",\"\",'PJ - P'!O288)","v":""}]
[null,{"$f":"B$1","v":"Běh na 100m s přek. - Pořadí jednotlivců"}]
[]
[null,{"$f":"B$3","v":"Okresní kolo v PS"},null,null,{"$f":"E$3","v":"Chrast 16.6.2024"}]
[]
[null,{"$f":"Start!$C$5","v":"Dorky"}]
[null,"Pořadí","Start. číslo","Jméno","kolektiv","čas             I. pokusu","čas            II. pokusu",null,"Výsledný čas"]
[]
[null,{"$f":"IF(AND('PJ - P'!$C289=\"\",'PJ - P'!$D289=\"\"),\"\",'PJ - P'!V289)","v":""},{"$f":"IF(AND('PJ - P'!$C289=\"\",'PJ - P'!$D289=\"\"),\"\",'PJ - P'!B289)","v":""},{"$f":"IF('PJ - P'!C289=\"\",\"\",'PJ - P'!C289)","v":""},{"$f":"IF('PJ - P'!D289=\"\",\"\",'PJ - P'!D289)","v":""},{"$f":"IF('PJ - P'!H289=\"\",\"\",'PJ - P'!H289)","v":""},{"$f":"IF('PJ - P'!M289=\"\",\"\",'PJ - P'!M289)","v":""},null,{"$f":"IF('PJ - P'!O289=\"\",\"\",'PJ - P'!O289)","v":""}]
[null,{"$f":"IF(AND('PJ - P'!$C290=\"\",'PJ - P'!$D290=\"\"),\"\",'PJ - P'!V290)","v":""},{"$f":"IF(AND('PJ - P'!$C290=\"\",'PJ - P'!$D290=\"\"),\"\",'PJ - P'!B290)","v":""},{"$f":"IF('PJ - P'!C290=\"\",\"\",'PJ - P'!C290)","v":""},{"$f":"IF('PJ - P'!D290=\"\",\"\",'PJ - P'!D290)","v":""},{"$f":"IF('PJ - P'!H290=\"\",\"\",'PJ - P'!H290)","v":""},{"$f":"IF('PJ - P'!M290=\"\",\"\",'PJ - P'!M290)","v":""},null,{"$f":"IF('PJ - P'!O290=\"\",\"\",'PJ - P'!O290)","v":""}]
[null,{"$f":"IF(AND('PJ - P'!$C291=\"\",'PJ - P'!$D291=\"\"),\"\",'PJ - P'!V291)","v":""},{"$f":"IF(AND('PJ - P'!$C291=\"\",'PJ - P'!$D291=\"\"),\"\",'PJ - P'!B291)","v":""},{"$f":"IF('PJ - P'!C291=\"\",\"\",'PJ - P'!C291)","v":""},{"$f":"IF('PJ - P'!D291=\"\",\"\",'PJ - P'!D291)","v":""},{"$f":"IF('PJ - P'!H291=\"\",\"\",'PJ - P'!H291)","v":""},{"$f":"IF('PJ - P'!M291=\"\",\"\",'PJ - P'!M291)","v":""},null,{"$f":"IF('PJ - P'!O291=\"\",\"\",'PJ - P'!O291)","v":""}]
[null,{"$f":"IF(AND('PJ - P'!$C292=\"\",'PJ - P'!$D292=\"\"),\"\",'PJ - P'!V292)","v":""},{"$f":"IF(AND('PJ - P'!$C292=\"\",'PJ - P'!$D292=\"\"),\"\",'PJ - P'!B292)","v":""},{"$f":"IF('PJ - P'!C292=\"\",\"\",'PJ - P'!C292)","v":""},{"$f":"IF('PJ - P'!D292=\"\",\"\",'PJ - P'!D292)","v":""},{"$f":"IF('PJ - P'!H292=\"\",\"\",'PJ - P'!H292)","v":""},{"$f":"IF('PJ - P'!M292=\"\",\"\",'PJ - P'!M292)","v":""},null,{"$f":"IF('PJ - P'!O292=\"\",\"\",'PJ - P'!O292)","v":""}]
[null,{"$f":"IF(AND('PJ - P'!$C293=\"\",'PJ - P'!$D293=\"\"),\"\",'PJ - P'!V293)","v":""},{"$f":"IF(AND('PJ - P'!$C293=\"\",'PJ - P'!$D293=\"\"),\"\",'PJ - P'!B293)","v":""},{"$f":"IF('PJ - P'!C293=\"\",\"\",'PJ - P'!C293)","v":""},{"$f":"IF('PJ - P'!D293=\"\",\"\",'PJ - P'!D293)","v":""},{"$f":"IF('PJ - P'!H293=\"\",\"\",'PJ - P'!H293)","v":""},{"$f":"IF('PJ - P'!M293=\"\",\"\",'PJ - P'!M293)","v":""},null,{"$f":"IF('PJ - P'!O293=\"\",\"\",'PJ - P'!O293)","v":""}]
[null,{"$f":"IF(AND('PJ - P'!$C294=\"\",'PJ - P'!$D294=\"\"),\"\",'PJ - P'!V294)","v":""},{"$f":"IF(AND('PJ - P'!$C294=\"\",'PJ - P'!$D294=\"\"),\"\",'PJ - P'!B294)","v":""},{"$f":"IF('PJ - P'!C294=\"\",\"\",'PJ - P'!C294)","v":""},{"$f":"IF('PJ - P'!D294=\"\",\"\",'PJ - P'!D294)","v":""},{"$f":"IF('PJ - P'!H294=\"\",\"\",'PJ - P'!H294)","v":""},{"$f":"IF('PJ - P'!M294=\"\",\"\",'PJ - P'!M294)","v":""},null,{"$f":"IF('PJ - P'!O294=\"\",\"\",'PJ - P'!O294)","v":""}]
[null,{"$f":"IF(AND('PJ - P'!$C295=\"\",'PJ - P'!$D295=\"\"),\"\",'PJ - P'!V295)","v":""},{"$f":"IF(AND('PJ - P'!$C295=\"\",'PJ - P'!$D295=\"\"),\"\",'PJ - P'!B295)","v":""},{"$f":"IF('PJ - P'!C295=\"\",\"\",'PJ - P'!C295)","v":""},{"$f":"IF('PJ - P'!D295=\"\",\"\",'PJ - P'!D295)","v":""},{"$f":"IF('PJ - P'!H295=\"\",\"\",'PJ - P'!H295)","v":""},{"$f":"IF('PJ - P'!M295=\"\",\"\",'PJ - P'!M295)","v":""},null,{"$f":"IF('PJ - P'!O295=\"\",\"\",'PJ - P'!O295)","v":""}]
[null,{"$f":"IF(AND('PJ - P'!$C296=\"\",'PJ - P'!$D296=\"\"),\"\",'PJ - P'!V296)","v":""},{"$f":"IF(AND('PJ - P'!$C296=\"\",'PJ - P'!$D296=\"\"),\"\",'PJ - P'!B296)","v":""},{"$f":"IF('PJ - P'!C296=\"\",\"\",'PJ - P'!C296)","v":""},{"$f":"IF('PJ - P'!D296=\"\",\"\",'PJ - P'!D296)","v":""},{"$f":"IF('PJ - P'!H296=\"\",\"\",'PJ - P'!H296)","v":""},{"$f":"IF('PJ - P'!M296=\"\",\"\",'PJ - P'!M296)","v":""},null,{"$f":"IF('PJ - P'!O296=\"\",\"\",'PJ - P'!O296)","v":""}]
[null,{"$f":"IF(AND('PJ - P'!$C297=\"\",'PJ - P'!$D297=\"\"),\"\",'PJ - P'!V297)","v":""},{"$f":"IF(AND('PJ - P'!$C297=\"\",'PJ - P'!$D297=\"\"),\"\",'PJ - P'!B297)","v":""},{"$f":"IF('PJ - P'!C297=\"\",\"\",'PJ - P'!C297)","v":""},{"$f":"IF('PJ - P'!D297=\"\",\"\",'PJ - P'!D297)","v":""},{"$f":"IF('PJ - P'!H297=\"\",\"\",'PJ - P'!H297)","v":""},{"$f":"IF('PJ - P'!M297=\"\",\"\",'PJ - P'!M297)","v":""},null,{"$f":"IF('PJ - P'!O297=\"\",\"\",'PJ - P'!O297)","v":""}]
[null,{"$f":"IF(AND('PJ - P'!$C298=\"\",'PJ - P'!$D298=\"\"),\"\",'PJ - P'!V298)","v":""},{"$f":"IF(AND('PJ - P'!$C298=\"\",'PJ - P'!$D298=\"\"),\"\",'PJ - P'!B298)","v":""},{"$f":"IF('PJ - P'!C298=\"\",\"\",'PJ - P'!C298)","v":""},{"$f":"IF('PJ - P'!D298=\"\",\"\",'PJ - P'!D298)","v":""},{"$f":"IF('PJ - P'!H298=\"\",\"\",'PJ - P'!H298)","v":""},{"$f":"IF('PJ - P'!M298=\"\",\"\",'PJ - P'!M298)","v":""},null,{"$f":"IF('PJ - P'!O298=\"\",\"\",'PJ - P'!O298)","v":""}]
[null,{"$f":"IF(AND('PJ - P'!$C299=\"\",'PJ - P'!$D299=\"\"),\"\",'PJ - P'!V299)","v":""},{"$f":"IF(AND('PJ - P'!$C299=\"\",'PJ - P'!$D299=\"\"),\"\",'PJ - P'!B299)","v":""},{"$f":"IF('PJ - P'!C299=\"\",\"\",'PJ - P'!C299)","v":""},{"$f":"IF('PJ - P'!D299=\"\",\"\",'PJ - P'!D299)","v":""},{"$f":"IF('PJ - P'!H299=\"\",\"\",'PJ - P'!H299)","v":""},{"$f":"IF('PJ - P'!M299=\"\",\"\",'PJ - P'!M299)","v":""},null,{"$f":"IF('PJ - P'!O299=\"\",\"\",'PJ - P'!O299)","v":""}]
[null,{"$f":"IF(AND('PJ - P'!$C300=\"\",'PJ - P'!$D300=\"\"),\"\",'PJ - P'!V300)","v":""},{"$f":"IF(AND('PJ - P'!$C300=\"\",'PJ - P'!$D300=\"\"),\"\",'PJ - P'!B300)","v":""},{"$f":"IF('PJ - P'!C300=\"\",\"\",'PJ - P'!C300)","v":""},{"$f":"IF('PJ - P'!D300=\"\",\"\",'PJ - P'!D300)","v":""},{"$f":"IF('PJ - P'!H300=\"\",\"\",'PJ - P'!H300)","v":""},{"$f":"IF('PJ - P'!M300=\"\",\"\",'PJ - P'!M300)","v":""},null,{"$f":"IF('PJ - P'!O300=\"\",\"\",'PJ - P'!O300)","v":""}]
[null,{"$f":"IF(AND('PJ - P'!$C301=\"\",'PJ - P'!$D301=\"\"),\"\",'PJ - P'!V301)","v":""},{"$f":"IF(AND('PJ - P'!$C301=\"\",'PJ - P'!$D301=\"\"),\"\",'PJ - P'!B301)","v":""},{"$f":"IF('PJ - P'!C301=\"\",\"\",'PJ - P'!C301)","v":""},{"$f":"IF('PJ - P'!D301=\"\",\"\",'PJ - P'!D301)","v":""},{"$f":"IF('PJ - P'!H301=\"\",\"\",'PJ - P'!H301)","v":""},{"$f":"IF('PJ - P'!M301=\"\",\"\",'PJ - P'!M301)","v":""},null,{"$f":"IF('PJ - P'!O301=\"\",\"\",'PJ - P'!O301)","v":""}]
[null,{"$f":"IF(AND('PJ - P'!$C302=\"\",'PJ - P'!$D302=\"\"),\"\",'PJ - P'!V302)","v":""},{"$f":"IF(AND('PJ - P'!$C302=\"\",'PJ - P'!$D302=\"\"),\"\",'PJ - P'!B302)","v":""},{"$f":"IF('PJ - P'!C302=\"\",\"\",'PJ - P'!C302)","v":""},{"$f":"IF('PJ - P'!D302=\"\",\"\",'PJ - P'!D302)","v":""},{"$f":"IF('PJ - P'!H302=\"\",\"\",'PJ - P'!H302)","v":""},{"$f":"IF('PJ - P'!M302=\"\",\"\",'PJ - P'!M302)","v":""},null,{"$f":"IF('PJ - P'!O302=\"\",\"\",'PJ - P'!O302)","v":""}]
[null,{"$f":"IF(AND('PJ - P'!$C303=\"\",'PJ - P'!$D303=\"\"),\"\",'PJ - P'!V303)","v":""},{"$f":"IF(AND('PJ - P'!$C303=\"\",'PJ - P'!$D303=\"\"),\"\",'PJ - P'!B303)","v":""},{"$f":"IF('PJ - P'!C303=\"\",\"\",'PJ - P'!C303)","v":""},{"$f":"IF('PJ - P'!D303=\"\",\"\",'PJ - P'!D303)","v":""},{"$f":"IF('PJ - P'!H303=\"\",\"\",'PJ - P'!H303)","v":""},{"$f":"IF('PJ - P'!M303=\"\",\"\",'PJ - P'!M303)","v":""},null,{"$f":"IF('PJ - P'!O303=\"\",\"\",'PJ - P'!O303)","v":""}]
[null,{"$f":"IF(AND('PJ - P'!$C304=\"\",'PJ - P'!$D304=\"\"),\"\",'PJ - P'!V304)","v":""},{"$f":"IF(AND('PJ - P'!$C304=\"\",'PJ - P'!$D304=\"\"),\"\",'PJ - P'!B304)","v":""},{"$f":"IF('PJ - P'!C304=\"\",\"\",'PJ - P'!C304)","v":""},{"$f":"IF('PJ - P'!D304=\"\",\"\",'PJ - P'!D304)","v":""},{"$f":"IF('PJ - P'!H304=\"\",\"\",'PJ - P'!H304)","v":""},{"$f":"IF('PJ - P'!M304=\"\",\"\",'PJ - P'!M304)","v":""},null,{"$f":"IF('PJ - P'!O304=\"\",\"\",'PJ - P'!O304)","v":""}]
[null,{"$f":"IF(AND('PJ - P'!$C305=\"\",'PJ - P'!$D305=\"\"),\"\",'PJ - P'!V305)","v":""},{"$f":"IF(AND('PJ - P'!$C305=\"\",'PJ - P'!$D305=\"\"),\"\",'PJ - P'!B305)","v":""},{"$f":"IF('PJ - P'!C305=\"\",\"\",'PJ - P'!C305)","v":""},{"$f":"IF('PJ - P'!D305=\"\",\"\",'PJ - P'!D305)","v":""},{"$f":"IF('PJ - P'!H305=\"\",\"\",'PJ - P'!H305)","v":""},{"$f":"IF('PJ - P'!M305=\"\",\"\",'PJ - P'!M305)","v":""},null,{"$f":"IF('PJ - P'!O305=\"\",\"\",'PJ - P'!O305)","v":""}]
[null,{"$f":"IF(AND('PJ - P'!$C306=\"\",'PJ - P'!$D306=\"\"),\"\",'PJ - P'!V306)","v":""},{"$f":"IF(AND('PJ - P'!$C306=\"\",'PJ - P'!$D306=\"\"),\"\",'PJ - P'!B306)","v":""},{"$f":"IF('PJ - P'!C306=\"\",\"\",'PJ - P'!C306)","v":""},{"$f":"IF('PJ - P'!D306=\"\",\"\",'PJ - P'!D306)","v":""},{"$f":"IF('PJ - P'!H306=\"\",\"\",'PJ - P'!H306)","v":""},{"$f":"IF('PJ - P'!M306=\"\",\"\",'PJ - P'!M306)","v":""},null,{"$f":"IF('PJ - P'!O306=\"\",\"\",'PJ - P'!O306)","v":""}]
[null,{"$f":"IF(AND('PJ - P'!$C307=\"\",'PJ - P'!$D307=\"\"),\"\",'PJ - P'!V307)","v":""},{"$f":"IF(AND('PJ - P'!$C307=\"\",'PJ - P'!$D307=\"\"),\"\",'PJ - P'!B307)","v":""},{"$f":"IF('PJ - P'!C307=\"\",\"\",'PJ - P'!C307)","v":""},{"$f":"IF('PJ - P'!D307=\"\",\"\",'PJ - P'!D307)","v":""},{"$f":"IF('PJ - P'!H307=\"\",\"\",'PJ - P'!H307)","v":""},{"$f":"IF('PJ - P'!M307=\"\",\"\",'PJ - P'!M307)","v":""},null,{"$f":"IF('PJ - P'!O307=\"\",\"\",'PJ - P'!O307)","v":""}]
[null,{"$f":"IF(AND('PJ - P'!$C308=\"\",'PJ - P'!$D308=\"\"),\"\",'PJ - P'!V308)","v":""},{"$f":"IF(AND('PJ - P'!$C308=\"\",'PJ - P'!$D308=\"\"),\"\",'PJ - P'!B308)","v":""},{"$f":"IF('PJ - P'!C308=\"\",\"\",'PJ - P'!C308)","v":""},{"$f":"IF('PJ - P'!D308=\"\",\"\",'PJ - P'!D308)","v":""},{"$f":"IF('PJ - P'!H308=\"\",\"\",'PJ - P'!H308)","v":""},{"$f":"IF('PJ - P'!M308=\"\",\"\",'PJ - P'!M308)","v":""},null,{"$f":"IF('PJ - P'!O308=\"\",\"\",'PJ - P'!O308)","v":""}]
[null,{"$f":"IF(AND('PJ - P'!$C309=\"\",'PJ - P'!$D309=\"\"),\"\",'PJ - P'!V309)","v":""},{"$f":"IF(AND('PJ - P'!$C309=\"\",'PJ - P'!$D309=\"\"),\"\",'PJ - P'!B309)","v":""},{"$f":"IF('PJ - P'!C309=\"\",\"\",'PJ - P'!C309)","v":""},{"$f":"IF('PJ - P'!D309=\"\",\"\",'PJ - P'!D309)","v":""},{"$f":"IF('PJ - P'!H309=\"\",\"\",'PJ - P'!H309)","v":""},{"$f":"IF('PJ - P'!M309=\"\",\"\",'PJ - P'!M309)","v":""},null,{"$f":"IF('PJ - P'!O309=\"\",\"\",'PJ - P'!O309)","v":""}]
[null,{"$f":"IF(AND('PJ - P'!$C310=\"\",'PJ - P'!$D310=\"\"),\"\",'PJ - P'!V310)","v":""},{"$f":"IF(AND('PJ - P'!$C310=\"\",'PJ - P'!$D310=\"\"),\"\",'PJ - P'!B310)","v":""},{"$f":"IF('PJ - P'!C310=\"\",\"\",'PJ - P'!C310)","v":""},{"$f":"IF('PJ - P'!D310=\"\",\"\",'PJ - P'!D310)","v":""},{"$f":"IF('PJ - P'!H310=\"\",\"\",'PJ - P'!H310)","v":""},{"$f":"IF('PJ - P'!M310=\"\",\"\",'PJ - P'!M310)","v":""},null,{"$f":"IF('PJ - P'!O310=\"\",\"\",'PJ - P'!O310)","v":""}]
[null,{"$f":"IF(AND('PJ - P'!$C311=\"\",'PJ - P'!$D311=\"\"),\"\",'PJ - P'!V311)","v":""},{"$f":"IF(AND('PJ - P'!$C311=\"\",'PJ - P'!$D311=\"\"),\"\",'PJ - P'!B311)","v":""},{"$f":"IF('PJ - P'!C311=\"\",\"\",'PJ - P'!C311)","v":""},{"$f":"IF('PJ - P'!D311=\"\",\"\",'PJ - P'!D311)","v":""},{"$f":"IF('PJ - P'!H311=\"\",\"\",'PJ - P'!H311)","v":""},{"$f":"IF('PJ - P'!M311=\"\",\"\",'PJ - P'!M311)","v":""},null,{"$f":"IF('PJ - P'!O311=\"\",\"\",'PJ - P'!O311)","v":""}]
[null,{"$f":"IF(AND('PJ - P'!$C312=\"\",'PJ - P'!$D312=\"\"),\"\",'PJ - P'!V312)","v":""},{"$f":"IF(AND('PJ - P'!$C312=\"\",'PJ - P'!$D312=\"\"),\"\",'PJ - P'!B312)","v":""},{"$f":"IF('PJ - P'!C312=\"\",\"\",'PJ - P'!C312)","v":""},{"$f":"IF('PJ - P'!D312=\"\",\"\",'PJ - P'!D312)","v":""},{"$f":"IF('PJ - P'!H312=\"\",\"\",'PJ - P'!H312)","v":""},{"$f":"IF('PJ - P'!M312=\"\",\"\",'PJ - P'!M312)","v":""},null,{"$f":"IF('PJ - P'!O312=\"\",\"\",'PJ - P'!O312)","v":""}]
[null,{"$f":"IF(AND('PJ - P'!$C313=\"\",'PJ - P'!$D313=\"\"),\"\",'PJ - P'!V313)","v":""},{"$f":"IF(AND('PJ - P'!$C313=\"\",'PJ - P'!$D313=\"\"),\"\",'PJ - P'!B313)","v":""},{"$f":"IF('PJ - P'!C313=\"\",\"\",'PJ - P'!C313)","v":""},{"$f":"IF('PJ - P'!D313=\"\",\"\",'PJ - P'!D313)","v":""},{"$f":"IF('PJ - P'!H313=\"\",\"\",'PJ - P'!H313)","v":""},{"$f":"IF('PJ - P'!M313=\"\",\"\",'PJ - P'!M313)","v":""},null,{"$f":"IF('PJ - P'!O313=\"\",\"\",'PJ - P'!O313)","v":""}]
[null,{"$f":"IF(AND('PJ - P'!$C314=\"\",'PJ - P'!$D314=\"\"),\"\",'PJ - P'!V314)","v":""},{"$f":"IF(AND('PJ - P'!$C314=\"\",'PJ - P'!$D314=\"\"),\"\",'PJ - P'!B314)","v":""},{"$f":"IF('PJ - P'!C314=\"\",\"\",'PJ - P'!C314)","v":""},{"$f":"IF('PJ - P'!D314=\"\",\"\",'PJ - P'!D314)","v":""},{"$f":"IF('PJ - P'!H314=\"\",\"\",'PJ - P'!H314)","v":""},{"$f":"IF('PJ - P'!M314=\"\",\"\",'PJ - P'!M314)","v":""},null,{"$f":"IF('PJ - P'!O314=\"\",\"\",'PJ - P'!O314)","v":""}]
[null,{"$f":"IF(AND('PJ - P'!$C315=\"\",'PJ - P'!$D315=\"\"),\"\",'PJ - P'!V315)","v":""},{"$f":"IF(AND('PJ - P'!$C315=\"\",'PJ - P'!$D315=\"\"),\"\",'PJ - P'!B315)","v":""},{"$f":"IF('PJ - P'!C315=\"\",\"\",'PJ - P'!C315)","v":""},{"$f":"IF('PJ - P'!D315=\"\",\"\",'PJ - P'!D315)","v":""},{"$f":"IF('PJ - P'!H315=\"\",\"\",'PJ - P'!H315)","v":""},{"$f":"IF('PJ - P'!M315=\"\",\"\",'PJ - P'!M315)","v":""},null,{"$f":"IF('PJ - P'!O315=\"\",\"\",'PJ - P'!O315)","v":""}]
[null,{"$f":"IF(AND('PJ - P'!$C316=\"\",'PJ - P'!$D316=\"\"),\"\",'PJ - P'!V316)","v":""},{"$f":"IF(AND('PJ - P'!$C316=\"\",'PJ - P'!$D316=\"\"),\"\",'PJ - P'!B316)","v":""},{"$f":"IF('PJ - P'!C316=\"\",\"\",'PJ - P'!C316)","v":""},{"$f":"IF('PJ - P'!D316=\"\",\"\",'PJ - P'!D316)","v":""},{"$f":"IF('PJ - P'!H316=\"\",\"\",'PJ - P'!H316)","v":""},{"$f":"IF('PJ - P'!M316=\"\",\"\",'PJ - P'!M316)","v":""},null,{"$f":"IF('PJ - P'!O316=\"\",\"\",'PJ - P'!O316)","v":""}]
[null,{"$f":"IF(AND('PJ - P'!$C317=\"\",'PJ - P'!$D317=\"\"),\"\",'PJ - P'!V317)","v":""},{"$f":"IF(AND('PJ - P'!$C317=\"\",'PJ - P'!$D317=\"\"),\"\",'PJ - P'!B317)","v":""},{"$f":"IF('PJ - P'!C317=\"\",\"\",'PJ - P'!C317)","v":""},{"$f":"IF('PJ - P'!D317=\"\",\"\",'PJ - P'!D317)","v":""},{"$f":"IF('PJ - P'!H317=\"\",\"\",'PJ - P'!H317)","v":""},{"$f":"IF('PJ - P'!M317=\"\",\"\",'PJ - P'!M317)","v":""},null,{"$f":"IF('PJ - P'!O317=\"\",\"\",'PJ - P'!O317)","v":""}]
[null,{"$f":"IF(AND('PJ - P'!$C318=\"\",'PJ - P'!$D318=\"\"),\"\",'PJ - P'!V318)","v":""},{"$f":"IF(AND('PJ - P'!$C318=\"\",'PJ - P'!$D318=\"\"),\"\",'PJ - P'!B318)","v":""},{"$f":"IF('PJ - P'!C318=\"\",\"\",'PJ - P'!C318)","v":""},{"$f":"IF('PJ - P'!D318=\"\",\"\",'PJ - P'!D318)","v":""},{"$f":"IF('PJ - P'!H318=\"\",\"\",'PJ - P'!H318)","v":""},{"$f":"IF('PJ - P'!M318=\"\",\"\",'PJ - P'!M318)","v":""},null,{"$f":"IF('PJ - P'!O318=\"\",\"\",'PJ - P'!O318)","v":""}]
[null,{"$f":"IF(AND('PJ - P'!$C319=\"\",'PJ - P'!$D319=\"\"),\"\",'PJ - P'!V319)","v":""},{"$f":"IF(AND('PJ - P'!$C319=\"\",'PJ - P'!$D319=\"\"),\"\",'PJ - P'!B319)","v":""},{"$f":"IF('PJ - P'!C319=\"\",\"\",'PJ - P'!C319)","v":""},{"$f":"IF('PJ - P'!D319=\"\",\"\",'PJ - P'!D319)","v":""},{"$f":"IF('PJ - P'!H319=\"\",\"\",'PJ - P'!H319)","v":""},{"$f":"IF('PJ - P'!M319=\"\",\"\",'PJ - P'!M319)","v":""},null,{"$f":"IF('PJ - P'!O319=\"\",\"\",'PJ - P'!O319)","v":""}]
[null,{"$f":"IF(AND('PJ - P'!$C320=\"\",'PJ - P'!$D320=\"\"),\"\",'PJ - P'!V320)","v":""},{"$f":"IF(AND('PJ - P'!$C320=\"\",'PJ - P'!$D320=\"\"),\"\",'PJ - P'!B320)","v":""},{"$f":"IF('PJ - P'!C320=\"\",\"\",'PJ - P'!C320)","v":""},{"$f":"IF('PJ - P'!D320=\"\",\"\",'PJ - P'!D320)","v":""},{"$f":"IF('PJ - P'!H320=\"\",\"\",'PJ - P'!H320)","v":""},{"$f":"IF('PJ - P'!M320=\"\",\"\",'PJ - P'!M320)","v":""},null,{"$f":"IF('PJ - P'!O320=\"\",\"\",'PJ - P'!O320)","v":""}]
[null,{"$f":"IF(AND('PJ - P'!$C321=\"\",'PJ - P'!$D321=\"\"),\"\",'PJ - P'!V321)","v":""},{"$f":"IF(AND('PJ - P'!$C321=\"\",'PJ - P'!$D321=\"\"),\"\",'PJ - P'!B321)","v":""},{"$f":"IF('PJ - P'!C321=\"\",\"\",'PJ - P'!C321)","v":""},{"$f":"IF('PJ - P'!D321=\"\",\"\",'PJ - P'!D321)","v":""},{"$f":"IF('PJ - P'!H321=\"\",\"\",'PJ - P'!H321)","v":""},{"$f":"IF('PJ - P'!M321=\"\",\"\",'PJ - P'!M321)","v":""},null,{"$f":"IF('PJ - P'!O321=\"\",\"\",'PJ - P'!O321)","v":""}]
[null,{"$f":"IF(AND('PJ - P'!$C322=\"\",'PJ - P'!$D322=\"\"),\"\",'PJ - P'!V322)","v":""},{"$f":"IF(AND('PJ - P'!$C322=\"\",'PJ - P'!$D322=\"\"),\"\",'PJ - P'!B322)","v":""},{"$f":"IF('PJ - P'!C322=\"\",\"\",'PJ - P'!C322)","v":""},{"$f":"IF('PJ - P'!D322=\"\",\"\",'PJ - P'!D322)","v":""},{"$f":"IF('PJ - P'!H322=\"\",\"\",'PJ - P'!H322)","v":""},{"$f":"IF('PJ - P'!M322=\"\",\"\",'PJ - P'!M322)","v":""},null,{"$f":"IF('PJ - P'!O322=\"\",\"\",'PJ - P'!O322)","v":""}]
[null,{"$f":"IF(AND('PJ - P'!$C323=\"\",'PJ - P'!$D323=\"\"),\"\",'PJ - P'!V323)","v":""},{"$f":"IF(AND('PJ - P'!$C323=\"\",'PJ - P'!$D323=\"\"),\"\",'PJ - P'!B323)","v":""},{"$f":"IF('PJ - P'!C323=\"\",\"\",'PJ - P'!C323)","v":""},{"$f":"IF('PJ - P'!D323=\"\",\"\",'PJ - P'!D323)","v":""},{"$f":"IF('PJ - P'!H323=\"\",\"\",'PJ - P'!H323)","v":""},{"$f":"IF('PJ - P'!M323=\"\",\"\",'PJ - P'!M323)","v":""},null,{"$f":"IF('PJ - P'!O323=\"\",\"\",'PJ - P'!O323)","v":""}]
[null,{"$f":"IF(AND('PJ - P'!$C324=\"\",'PJ - P'!$D324=\"\"),\"\",'PJ - P'!V324)","v":""},{"$f":"IF(AND('PJ - P'!$C324=\"\",'PJ - P'!$D324=\"\"),\"\",'PJ - P'!B324)","v":""},{"$f":"IF('PJ - P'!C324=\"\",\"\",'PJ - P'!C324)","v":""},{"$f":"IF('PJ - P'!D324=\"\",\"\",'PJ - P'!D324)","v":""},{"$f":"IF('PJ - P'!H324=\"\",\"\",'PJ - P'!H324)","v":""},{"$f":"IF('PJ - P'!M324=\"\",\"\",'PJ - P'!M324)","v":""},null,{"$f":"IF('PJ - P'!O324=\"\",\"\",'PJ - P'!O324)","v":""}]
[null,{"$f":"B$1","v":"Běh na 100m s přek. - Pořadí jednotlivců"}]
[]
[null,{"$f":"B$3","v":"Okresní kolo v PS"},null,null,{"$f":"E$3","v":"Chrast 16.6.2024"}]
[]
[null,{"$f":"Start!$C$5","v":"Dorky"}]
[null,"Pořadí","Start. číslo","Jméno","kolektiv","čas             I. pokusu","čas            II. pokusu",null,"Výsledný čas"]
[]
[null,{"$f":"IF(AND('PJ - P'!$C325=\"\",'PJ - P'!$D325=\"\"),\"\",'PJ - P'!V325)","v":""},{"$f":"IF(AND('PJ - P'!$C325=\"\",'PJ - P'!$D325=\"\"),\"\",'PJ - P'!B325)","v":""},{"$f":"IF('PJ - P'!C325=\"\",\"\",'PJ - P'!C325)","v":""},{"$f":"IF('PJ - P'!D325=\"\",\"\",'PJ - P'!D325)","v":""},{"$f":"IF('PJ - P'!H325=\"\",\"\",'PJ - P'!H325)","v":""},{"$f":"IF('PJ - P'!M325=\"\",\"\",'PJ - P'!M325)","v":""},null,{"$f":"IF('PJ - P'!O325=\"\",\"\",'PJ - P'!O325)","v":""}]
[null,{"$f":"IF(AND('PJ - P'!$C326=\"\",'PJ - P'!$D326=\"\"),\"\",'PJ - P'!V326)","v":""},{"$f":"IF(AND('PJ - P'!$C326=\"\",'PJ - P'!$D326=\"\"),\"\",'PJ - P'!B326)","v":""},{"$f":"IF('PJ - P'!C326=\"\",\"\",'PJ - P'!C326)","v":""},{"$f":"IF('PJ - P'!D326=\"\",\"\",'PJ - P'!D326)","v":""},{"$f":"IF('PJ - P'!H326=\"\",\"\",'PJ - P'!H326)","v":""},{"$f":"IF('PJ - P'!M326=\"\",\"\",'PJ - P'!M326)","v":""},null,{"$f":"IF('PJ - P'!O326=\"\",\"\",'PJ - P'!O326)","v":""}]
[null,{"$f":"IF(AND('PJ - P'!$C327=\"\",'PJ - P'!$D327=\"\"),\"\",'PJ - P'!V327)","v":""},{"$f":"IF(AND('PJ - P'!$C327=\"\",'PJ - P'!$D327=\"\"),\"\",'PJ - P'!B327)","v":""},{"$f":"IF('PJ - P'!C327=\"\",\"\",'PJ - P'!C327)","v":""},{"$f":"IF('PJ - P'!D327=\"\",\"\",'PJ - P'!D327)","v":""},{"$f":"IF('PJ - P'!H327=\"\",\"\",'PJ - P'!H327)","v":""},{"$f":"IF('PJ - P'!M327=\"\",\"\",'PJ - P'!M327)","v":""},null,{"$f":"IF('PJ - P'!O327=\"\",\"\",'PJ - P'!O327)","v":""}]
[null,{"$f":"IF(AND('PJ - P'!$C328=\"\",'PJ - P'!$D328=\"\"),\"\",'PJ - P'!V328)","v":""},{"$f":"IF(AND('PJ - P'!$C328=\"\",'PJ - P'!$D328=\"\"),\"\",'PJ - P'!B328)","v":""},{"$f":"IF('PJ - P'!C328=\"\",\"\",'PJ - P'!C328)","v":""},{"$f":"IF('PJ - P'!D328=\"\",\"\",'PJ - P'!D328)","v":""},{"$f":"IF('PJ - P'!H328=\"\",\"\",'PJ - P'!H328)","v":""},{"$f":"IF('PJ - P'!M328=\"\",\"\",'PJ - P'!M328)","v":""},null,{"$f":"IF('PJ - P'!O328=\"\",\"\",'PJ - P'!O328)","v":""}]
[null,{"$f":"IF(AND('PJ - P'!$C329=\"\",'PJ - P'!$D329=\"\"),\"\",'PJ - P'!V329)","v":""},{"$f":"IF(AND('PJ - P'!$C329=\"\",'PJ - P'!$D329=\"\"),\"\",'PJ - P'!B329)","v":""},{"$f":"IF('PJ - P'!C329=\"\",\"\",'PJ - P'!C329)","v":""},{"$f":"IF('PJ - P'!D329=\"\",\"\",'PJ - P'!D329)","v":""},{"$f":"IF('PJ - P'!H329=\"\",\"\",'PJ - P'!H329)","v":""},{"$f":"IF('PJ - P'!M329=\"\",\"\",'PJ - P'!M329)","v":""},null,{"$f":"IF('PJ - P'!O329=\"\",\"\",'PJ - P'!O329)","v":""}]
[null,{"$f":"IF(AND('PJ - P'!$C330=\"\",'PJ - P'!$D330=\"\"),\"\",'PJ - P'!V330)","v":""},{"$f":"IF(AND('PJ - P'!$C330=\"\",'PJ - P'!$D330=\"\"),\"\",'PJ - P'!B330)","v":""},{"$f":"IF('PJ - P'!C330=\"\",\"\",'PJ - P'!C330)","v":""},{"$f":"IF('PJ - P'!D330=\"\",\"\",'PJ - P'!D330)","v":""},{"$f":"IF('PJ - P'!H330=\"\",\"\",'PJ - P'!H330)","v":""},{"$f":"IF('PJ - P'!M330=\"\",\"\",'PJ - P'!M330)","v":""},null,{"$f":"IF('PJ - P'!O330=\"\",\"\",'PJ - P'!O330)","v":""}]
[null,{"$f":"IF(AND('PJ - P'!$C331=\"\",'PJ - P'!$D331=\"\"),\"\",'PJ - P'!V331)","v":""},{"$f":"IF(AND('PJ - P'!$C331=\"\",'PJ - P'!$D331=\"\"),\"\",'PJ - P'!B331)","v":""},{"$f":"IF('PJ - P'!C331=\"\",\"\",'PJ - P'!C331)","v":""},{"$f":"IF('PJ - P'!D331=\"\",\"\",'PJ - P'!D331)","v":""},{"$f":"IF('PJ - P'!H331=\"\",\"\",'PJ - P'!H331)","v":""},{"$f":"IF('PJ - P'!M331=\"\",\"\",'PJ - P'!M331)","v":""},null,{"$f":"IF('PJ - P'!O331=\"\",\"\",'PJ - P'!O331)","v":""}]
[null,{"$f":"IF(AND('PJ - P'!$C332=\"\",'PJ - P'!$D332=\"\"),\"\",'PJ - P'!V332)","v":""},{"$f":"IF(AND('PJ - P'!$C332=\"\",'PJ - P'!$D332=\"\"),\"\",'PJ - P'!B332)","v":""},{"$f":"IF('PJ - P'!C332=\"\",\"\",'PJ - P'!C332)","v":""},{"$f":"IF('PJ - P'!D332=\"\",\"\",'PJ - P'!D332)","v":""},{"$f":"IF('PJ - P'!H332=\"\",\"\",'PJ - P'!H332)","v":""},{"$f":"IF('PJ - P'!M332=\"\",\"\",'PJ - P'!M332)","v":""},null,{"$f":"IF('PJ - P'!O332=\"\",\"\",'PJ - P'!O332)","v":""}]
[null,{"$f":"IF(AND('PJ - P'!$C333=\"\",'PJ - P'!$D333=\"\"),\"\",'PJ - P'!V333)","v":""},{"$f":"IF(AND('PJ - P'!$C333=\"\",'PJ - P'!$D333=\"\"),\"\",'PJ - P'!B333)","v":""},{"$f":"IF('PJ - P'!C333=\"\",\"\",'PJ - P'!C333)","v":""},{"$f":"IF('PJ - P'!D333=\"\",\"\",'PJ - P'!D333)","v":""},{"$f":"IF('PJ - P'!H333=\"\",\"\",'PJ - P'!H333)","v":""},{"$f":"IF('PJ - P'!M333=\"\",\"\",'PJ - P'!M333)","v":""},null,{"$f":"IF('PJ - P'!O333=\"\",\"\",'PJ - P'!O333)","v":""}]
[null,{"$f":"IF(AND('PJ - P'!$C334=\"\",'PJ - P'!$D334=\"\"),\"\",'PJ - P'!V334)","v":""},{"$f":"IF(AND('PJ - P'!$C334=\"\",'PJ - P'!$D334=\"\"),\"\",'PJ - P'!B334)","v":""},{"$f":"IF('PJ - P'!C334=\"\",\"\",'PJ - P'!C334)","v":""},{"$f":"IF('PJ - P'!D334=\"\",\"\",'PJ - P'!D334)","v":""},{"$f":"IF('PJ - P'!H334=\"\",\"\",'PJ - P'!H334)","v":""},{"$f":"IF('PJ - P'!M334=\"\",\"\",'PJ - P'!M334)","v":""},null,{"$f":"IF('PJ - P'!O334=\"\",\"\",'PJ - P'!O334)","v":""}]
[null,{"$f":"IF(AND('PJ - P'!$C335=\"\",'PJ - P'!$D335=\"\"),\"\",'PJ - P'!V335)","v":""},{"$f":"IF(AND('PJ - P'!$C335=\"\",'PJ - P'!$D335=\"\"),\"\",'PJ - P'!B335)","v":""},{"$f":"IF('PJ - P'!C335=\"\",\"\",'PJ - P'!C335)","v":""},{"$f":"IF('PJ - P'!D335=\"\",\"\",'PJ - P'!D335)","v":""},{"$f":"IF('PJ - P'!H335=\"\",\"\",'PJ - P'!H335)","v":""},{"$f":"IF('PJ - P'!M335=\"\",\"\",'PJ - P'!M335)","v":""},null,{"$f":"IF('PJ - P'!O335=\"\",\"\",'PJ - P'!O335)","v":""}]
[null,{"$f":"IF(AND('PJ - P'!$C336=\"\",'PJ - P'!$D336=\"\"),\"\",'PJ - P'!V336)","v":""},{"$f":"IF(AND('PJ - P'!$C336=\"\",'PJ - P'!$D336=\"\"),\"\",'PJ - P'!B336)","v":""},{"$f":"IF('PJ - P'!C336=\"\",\"\",'PJ - P'!C336)","v":""},{"$f":"IF('PJ - P'!D336=\"\",\"\",'PJ - P'!D336)","v":""},{"$f":"IF('PJ - P'!H336=\"\",\"\",'PJ - P'!H336)","v":""},{"$f":"IF('PJ - P'!M336=\"\",\"\",'PJ - P'!M336)","v":""},null,{"$f":"IF('PJ - P'!O336=\"\",\"\",'PJ - P'!O336)","v":""}]
[null,{"$f":"IF(AND('PJ - P'!$C337=\"\",'PJ - P'!$D337=\"\"),\"\",'PJ - P'!V337)","v":""},{"$f":"IF(AND('PJ - P'!$C337=\"\",'PJ - P'!$D337=\"\"),\"\",'PJ - P'!B337)","v":""},{"$f":"IF('PJ - P'!C337=\"\",\"\",'PJ - P'!C337)","v":""},{"$f":"IF('PJ - P'!D337=\"\",\"\",'PJ - P'!D337)","v":""},{"$f":"IF('PJ - P'!H337=\"\",\"\",'PJ - P'!H337)","v":""},{"$f":"IF('PJ - P'!M337=\"\",\"\",'PJ - P'!M337)","v":""},null,{"$f":"IF('PJ - P'!O337=\"\",\"\",'PJ - P'!O337)","v":""}]
[null,{"$f":"IF(AND('PJ - P'!$C338=\"\",'PJ - P'!$D338=\"\"),\"\",'PJ - P'!V338)","v":""},{"$f":"IF(AND('PJ - P'!$C338=\"\",'PJ - P'!$D338=\"\"),\"\",'PJ - P'!B338)","v":""},{"$f":"IF('PJ - P'!C338=\"\",\"\",'PJ - P'!C338)","v":""},{"$f":"IF('PJ - P'!D338=\"\",\"\",'PJ - P'!D338)","v":""},{"$f":"IF('PJ - P'!H338=\"\",\"\",'PJ - P'!H338)","v":""},{"$f":"IF('PJ - P'!M338=\"\",\"\",'PJ - P'!M338)","v":""},null,{"$f":"IF('PJ - P'!O338=\"\",\"\",'PJ - P'!O338)","v":""}]
[null,{"$f":"IF(AND('PJ - P'!$C339=\"\",'PJ - P'!$D339=\"\"),\"\",'PJ - P'!V339)","v":""},{"$f":"IF(AND('PJ - P'!$C339=\"\",'PJ - P'!$D339=\"\"),\"\",'PJ - P'!B339)","v":""},{"$f":"IF('PJ - P'!C339=\"\",\"\",'PJ - P'!C339)","v":""},{"$f":"IF('PJ - P'!D339=\"\",\"\",'PJ - P'!D339)","v":""},{"$f":"IF('PJ - P'!H339=\"\",\"\",'PJ - P'!H339)","v":""},{"$f":"IF('PJ - P'!M339=\"\",\"\",'PJ - P'!M339)","v":""},null,{"$f":"IF('PJ - P'!O339=\"\",\"\",'PJ - P'!O339)","v":""}]
[null,{"$f":"IF(AND('PJ - P'!$C340=\"\",'PJ - P'!$D340=\"\"),\"\",'PJ - P'!V340)","v":""},{"$f":"IF(AND('PJ - P'!$C340=\"\",'PJ - P'!$D340=\"\"),\"\",'PJ - P'!B340)","v":""},{"$f":"IF('PJ - P'!C340=\"\",\"\",'PJ - P'!C340)","v":""},{"$f":"IF('PJ - P'!D340=\"\",\"\",'PJ - P'!D340)","v":""},{"$f":"IF('PJ - P'!H340=\"\",\"\",'PJ - P'!H340)","v":""},{"$f":"IF('PJ - P'!M340=\"\",\"\",'PJ - P'!M340)","v":""},null,{"$f":"IF('PJ - P'!O340=\"\",\"\",'PJ - P'!O340)","v":""}]
[null,{"$f":"IF(AND('PJ - P'!$C341=\"\",'PJ - P'!$D341=\"\"),\"\",'PJ - P'!V341)","v":""},{"$f":"IF(AND('PJ - P'!$C341=\"\",'PJ - P'!$D341=\"\"),\"\",'PJ - P'!B341)","v":""},{"$f":"IF('PJ - P'!C341=\"\",\"\",'PJ - P'!C341)","v":""},{"$f":"IF('PJ - P'!D341=\"\",\"\",'PJ - P'!D341)","v":""},{"$f":"IF('PJ - P'!H341=\"\",\"\",'PJ - P'!H341)","v":""},{"$f":"IF('PJ - P'!M341=\"\",\"\",'PJ - P'!M341)","v":""},null,{"$f":"IF('PJ - P'!O341=\"\",\"\",'PJ - P'!O341)","v":""}]
[null,{"$f":"IF(AND('PJ - P'!$C342=\"\",'PJ - P'!$D342=\"\"),\"\",'PJ - P'!V342)","v":""},{"$f":"IF(AND('PJ - P'!$C342=\"\",'PJ - P'!$D342=\"\"),\"\",'PJ - P'!B342)","v":""},{"$f":"IF('PJ - P'!C342=\"\",\"\",'PJ - P'!C342)","v":""},{"$f":"IF('PJ - P'!D342=\"\",\"\",'PJ - P'!D342)","v":""},{"$f":"IF('PJ - P'!H342=\"\",\"\",'PJ - P'!H342)","v":""},{"$f":"IF('PJ - P'!M342=\"\",\"\",'PJ - P'!M342)","v":""},null,{"$f":"IF('PJ - P'!O342=\"\",\"\",'PJ - P'!O342)","v":""}]
[null,{"$f":"IF(AND('PJ - P'!$C343=\"\",'PJ - P'!$D343=\"\"),\"\",'PJ - P'!V343)","v":""},{"$f":"IF(AND('PJ - P'!$C343=\"\",'PJ - P'!$D343=\"\"),\"\",'PJ - P'!B343)","v":""},{"$f":"IF('PJ - P'!C343=\"\",\"\",'PJ - P'!C343)","v":""},{"$f":"IF('PJ - P'!D343=\"\",\"\",'PJ - P'!D343)","v":""},{"$f":"IF('PJ - P'!H343=\"\",\"\",'PJ - P'!H343)","v":""},{"$f":"IF('PJ - P'!M343=\"\",\"\",'PJ - P'!M343)","v":""},null,{"$f":"IF('PJ - P'!O343=\"\",\"\",'PJ - P'!O343)","v":""}]
[null,{"$f":"IF(AND('PJ - P'!$C344=\"\",'PJ - P'!$D344=\"\"),\"\",'PJ - P'!V344)","v":""},{"$f":"IF(AND('PJ - P'!$C344=\"\",'PJ - P'!$D344=\"\"),\"\",'PJ - P'!B344)","v":""},{"$f":"IF('PJ - P'!C344=\"\",\"\",'PJ - P'!C344)","v":""},{"$f":"IF('PJ - P'!D344=\"\",\"\",'PJ - P'!D344)","v":""},{"$f":"IF('PJ - P'!H344=\"\",\"\",'PJ - P'!H344)","v":""},{"$f":"IF('PJ - P'!M344=\"\",\"\",'PJ - P'!M344)","v":""},null,{"$f":"IF('PJ - P'!O344=\"\",\"\",'PJ - P'!O344)","v":""}]
[null,{"$f":"IF(AND('PJ - P'!$C345=\"\",'PJ - P'!$D345=\"\"),\"\",'PJ - P'!V345)","v":""},{"$f":"IF(AND('PJ - P'!$C345=\"\",'PJ - P'!$D345=\"\"),\"\",'PJ - P'!B345)","v":""},{"$f":"IF('PJ - P'!C345=\"\",\"\",'PJ - P'!C345)","v":""},{"$f":"IF('PJ - P'!D345=\"\",\"\",'PJ - P'!D345)","v":""},{"$f":"IF('PJ - P'!H345=\"\",\"\",'PJ - P'!H345)","v":""},{"$f":"IF('PJ - P'!M345=\"\",\"\",'PJ - P'!M345)","v":""},null,{"$f":"IF('PJ - P'!O345=\"\",\"\",'PJ - P'!O345)","v":""}]
[null,{"$f":"IF(AND('PJ - P'!$C346=\"\",'PJ - P'!$D346=\"\"),\"\",'PJ - P'!V346)","v":""},{"$f":"IF(AND('PJ - P'!$C346=\"\",'PJ - P'!$D346=\"\"),\"\",'PJ - P'!B346)","v":""},{"$f":"IF('PJ - P'!C346=\"\",\"\",'PJ - P'!C346)","v":""},{"$f":"IF('PJ - P'!D346=\"\",\"\",'PJ - P'!D346)","v":""},{"$f":"IF('PJ - P'!H346=\"\",\"\",'PJ - P'!H346)","v":""},{"$f":"IF('PJ - P'!M346=\"\",\"\",'PJ - P'!M346)","v":""},null,{"$f":"IF('PJ - P'!O346=\"\",\"\",'PJ - P'!O346)","v":""}]
[null,{"$f":"IF(AND('PJ - P'!$C347=\"\",'PJ - P'!$D347=\"\"),\"\",'PJ - P'!V347)","v":""},{"$f":"IF(AND('PJ - P'!$C347=\"\",'PJ - P'!$D347=\"\"),\"\",'PJ - P'!B347)","v":""},{"$f":"IF('PJ - P'!C347=\"\",\"\",'PJ - P'!C347)","v":""},{"$f":"IF('PJ - P'!D347=\"\",\"\",'PJ - P'!D347)","v":""},{"$f":"IF('PJ - P'!H347=\"\",\"\",'PJ - P'!H347)","v":""},{"$f":"IF('PJ - P'!M347=\"\",\"\",'PJ - P'!M347)","v":""},null,{"$f":"IF('PJ - P'!O347=\"\",\"\",'PJ - P'!O347)","v":""}]
[null,{"$f":"IF(AND('PJ - P'!$C348=\"\",'PJ - P'!$D348=\"\"),\"\",'PJ - P'!V348)","v":""},{"$f":"IF(AND('PJ - P'!$C348=\"\",'PJ - P'!$D348=\"\"),\"\",'PJ - P'!B348)","v":""},{"$f":"IF('PJ - P'!C348=\"\",\"\",'PJ - P'!C348)","v":""},{"$f":"IF('PJ - P'!D348=\"\",\"\",'PJ - P'!D348)","v":""},{"$f":"IF('PJ - P'!H348=\"\",\"\",'PJ - P'!H348)","v":""},{"$f":"IF('PJ - P'!M348=\"\",\"\",'PJ - P'!M348)","v":""},null,{"$f":"IF('PJ - P'!O348=\"\",\"\",'PJ - P'!O348)","v":""}]
[null,{"$f":"IF(AND('PJ - P'!$C349=\"\",'PJ - P'!$D349=\"\"),\"\",'PJ - P'!V349)","v":""},{"$f":"IF(AND('PJ - P'!$C349=\"\",'PJ - P'!$D349=\"\"),\"\",'PJ - P'!B349)","v":""},{"$f":"IF('PJ - P'!C349=\"\",\"\",'PJ - P'!C349)","v":""},{"$f":"IF('PJ - P'!D349=\"\",\"\",'PJ - P'!D349)","v":""},{"$f":"IF('PJ - P'!H349=\"\",\"\",'PJ - P'!H349)","v":""},{"$f":"IF('PJ - P'!M349=\"\",\"\",'PJ - P'!M349)","v":""},null,{"$f":"IF('PJ - P'!O349=\"\",\"\",'PJ - P'!O349)","v":""}]
[null,{"$f":"IF(AND('PJ - P'!$C350=\"\",'PJ - P'!$D350=\"\"),\"\",'PJ - P'!V350)","v":""},{"$f":"IF(AND('PJ - P'!$C350=\"\",'PJ - P'!$D350=\"\"),\"\",'PJ - P'!B350)","v":""},{"$f":"IF('PJ - P'!C350=\"\",\"\",'PJ - P'!C350)","v":""},{"$f":"IF('PJ - P'!D350=\"\",\"\",'PJ - P'!D350)","v":""},{"$f":"IF('PJ - P'!H350=\"\",\"\",'PJ - P'!H350)","v":""},{"$f":"IF('PJ - P'!M350=\"\",\"\",'PJ - P'!M350)","v":""},null,{"$f":"IF('PJ - P'!O350=\"\",\"\",'PJ - P'!O350)","v":""}]
[null,{"$f":"IF(AND('PJ - P'!$C351=\"\",'PJ - P'!$D351=\"\"),\"\",'PJ - P'!V351)","v":""},{"$f":"IF(AND('PJ - P'!$C351=\"\",'PJ - P'!$D351=\"\"),\"\",'PJ - P'!B351)","v":""},{"$f":"IF('PJ - P'!C351=\"\",\"\",'PJ - P'!C351)","v":""},{"$f":"IF('PJ - P'!D351=\"\",\"\",'PJ - P'!D351)","v":""},{"$f":"IF('PJ - P'!H351=\"\",\"\",'PJ - P'!H351)","v":""},{"$f":"IF('PJ - P'!M351=\"\",\"\",'PJ - P'!M351)","v":""},null,{"$f":"IF('PJ - P'!O351=\"\",\"\",'PJ - P'!O351)","v":""}]
[null,{"$f":"IF(AND('PJ - P'!$C352=\"\",'PJ - P'!$D352=\"\"),\"\",'PJ - P'!V352)","v":""},{"$f":"IF(AND('PJ - P'!$C352=\"\",'PJ - P'!$D352=\"\"),\"\",'PJ - P'!B352)","v":""},{"$f":"IF('PJ - P'!C352=\"\",\"\",'PJ - P'!C352)","v":""},{"$f":"IF('PJ - P'!D352=\"\",\"\",'PJ - P'!D352)","v":""},{"$f":"IF('PJ - P'!H352=\"\",\"\",'PJ - P'!H352)","v":""},{"$f":"IF('PJ - P'!M352=\"\",\"\",'PJ - P'!M352)","v":""},null,{"$f":"IF('PJ - P'!O352=\"\",\"\",'PJ - P'!O352)","v":""}]
[null,{"$f":"IF(AND('PJ - P'!$C353=\"\",'PJ - P'!$D353=\"\"),\"\",'PJ - P'!V353)","v":""},{"$f":"IF(AND('PJ - P'!$C353=\"\",'PJ - P'!$D353=\"\"),\"\",'PJ - P'!B353)","v":""},{"$f":"IF('PJ - P'!C353=\"\",\"\",'PJ - P'!C353)","v":""},{"$f":"IF('PJ - P'!D353=\"\",\"\",'PJ - P'!D353)","v":""},{"$f":"IF('PJ - P'!H353=\"\",\"\",'PJ - P'!H353)","v":""},{"$f":"IF('PJ - P'!M353=\"\",\"\",'PJ - P'!M353)","v":""},null,{"$f":"IF('PJ - P'!O353=\"\",\"\",'PJ - P'!O353)","v":""}]
[null,{"$f":"IF(AND('PJ - P'!$C354=\"\",'PJ - P'!$D354=\"\"),\"\",'PJ - P'!V354)","v":""},{"$f":"IF(AND('PJ - P'!$C354=\"\",'PJ - P'!$D354=\"\"),\"\",'PJ - P'!B354)","v":""},{"$f":"IF('PJ - P'!C354=\"\",\"\",'PJ - P'!C354)","v":""},{"$f":"IF('PJ - P'!D354=\"\",\"\",'PJ - P'!D354)","v":""},{"$f":"IF('PJ - P'!H354=\"\",\"\",'PJ - P'!H354)","v":""},{"$f":"IF('PJ - P'!M354=\"\",\"\",'PJ - P'!M354)","v":""},null,{"$f":"IF('PJ - P'!O354=\"\",\"\",'PJ - P'!O354)","v":""}]
[null,{"$f":"IF(AND('PJ - P'!$C355=\"\",'PJ - P'!$D355=\"\"),\"\",'PJ - P'!V355)","v":""},{"$f":"IF(AND('PJ - P'!$C355=\"\",'PJ - P'!$D355=\"\"),\"\",'PJ - P'!B355)","v":""},{"$f":"IF('PJ - P'!C355=\"\",\"\",'PJ - P'!C355)","v":""},{"$f":"IF('PJ - P'!D355=\"\",\"\",'PJ - P'!D355)","v":""},{"$f":"IF('PJ - P'!H355=\"\",\"\",'PJ - P'!H355)","v":""},{"$f":"IF('PJ - P'!M355=\"\",\"\",'PJ - P'!M355)","v":""},null,{"$f":"IF('PJ - P'!O355=\"\",\"\",'PJ - P'!O355)","v":""}]
[null,{"$f":"IF(AND('PJ - P'!$C356=\"\",'PJ - P'!$D356=\"\"),\"\",'PJ - P'!V356)","v":""},{"$f":"IF(AND('PJ - P'!$C356=\"\",'PJ - P'!$D356=\"\"),\"\",'PJ - P'!B356)","v":""},{"$f":"IF('PJ - P'!C356=\"\",\"\",'PJ - P'!C356)","v":""},{"$f":"IF('PJ - P'!D356=\"\",\"\",'PJ - P'!D356)","v":""},{"$f":"IF('PJ - P'!H356=\"\",\"\",'PJ - P'!H356)","v":""},{"$f":"IF('PJ - P'!M356=\"\",\"\",'PJ - P'!M356)","v":""},null,{"$f":"IF('PJ - P'!O356=\"\",\"\",'PJ - P'!O356)","v":""}]
[null,{"$f":"IF(AND('PJ - P'!$C357=\"\",'PJ - P'!$D357=\"\"),\"\",'PJ - P'!V357)","v":""},{"$f":"IF(AND('PJ - P'!$C357=\"\",'PJ - P'!$D357=\"\"),\"\",'PJ - P'!B357)","v":""},{"$f":"IF('PJ - P'!C357=\"\",\"\",'PJ - P'!C357)","v":""},{"$f":"IF('PJ - P'!D357=\"\",\"\",'PJ - P'!D357)","v":""},{"$f":"IF('PJ - P'!H357=\"\",\"\",'PJ - P'!H357)","v":""},{"$f":"IF('PJ - P'!M357=\"\",\"\",'PJ - P'!M357)","v":""},null,{"$f":"IF('PJ - P'!O357=\"\",\"\",'PJ - P'!O357)","v":""}]
[null,{"$f":"IF(AND('PJ - P'!$C358=\"\",'PJ - P'!$D358=\"\"),\"\",'PJ - P'!V358)","v":""},{"$f":"IF(AND('PJ - P'!$C358=\"\",'PJ - P'!$D358=\"\"),\"\",'PJ - P'!B358)","v":""},{"$f":"IF('PJ - P'!C358=\"\",\"\",'PJ - P'!C358)","v":""},{"$f":"IF('PJ - P'!D358=\"\",\"\",'PJ - P'!D358)","v":""},{"$f":"IF('PJ - P'!H358=\"\",\"\",'PJ - P'!H358)","v":""},{"$f":"IF('PJ - P'!M358=\"\",\"\",'PJ - P'!M358)","v":""},null,{"$f":"IF('PJ - P'!O358=\"\",\"\",'PJ - P'!O358)","v":""}]
[null,{"$f":"IF(AND('PJ - P'!$C359=\"\",'PJ - P'!$D359=\"\"),\"\",'PJ - P'!V359)","v":""},{"$f":"IF(AND('PJ - P'!$C359=\"\",'PJ - P'!$D359=\"\"),\"\",'PJ - P'!B359)","v":""},{"$f":"IF('PJ - P'!C359=\"\",\"\",'PJ - P'!C359)","v":""},{"$f":"IF('PJ - P'!D359=\"\",\"\",'PJ - P'!D359)","v":""},{"$f":"IF('PJ - P'!H359=\"\",\"\",'PJ - P'!H359)","v":""},{"$f":"IF('PJ - P'!M359=\"\",\"\",'PJ - P'!M359)","v":""},null,{"$f":"IF('PJ - P'!O359=\"\",\"\",'PJ - P'!O359)","v":""}]
[null,{"$f":"IF(AND('PJ - P'!$C360=\"\",'PJ - P'!$D360=\"\"),\"\",'PJ - P'!V360)","v":""},{"$f":"IF(AND('PJ - P'!$C360=\"\",'PJ - P'!$D360=\"\"),\"\",'PJ - P'!B360)","v":""},{"$f":"IF('PJ - P'!C360=\"\",\"\",'PJ - P'!C360)","v":""},{"$f":"IF('PJ - P'!D360=\"\",\"\",'PJ - P'!D360)","v":""},{"$f":"IF('PJ - P'!H360=\"\",\"\",'PJ - P'!H360)","v":""},{"$f":"IF('PJ - P'!M360=\"\",\"\",'PJ - P'!M360)","v":""},null,{"$f":"IF('PJ - P'!O360=\"\",\"\",'PJ - P'!O360)","v":""}]
[null,{"$f":"B$1","v":"Běh na 100m s přek. - Pořadí jednotlivců"}]
[]
[null,{"$f":"B$3","v":"Okresní kolo v PS"},null,null,{"$f":"E$3","v":"Chrast 16.6.2024"}]
[]
[null,{"$f":"Start!$C$5","v":"Dorky"}]
[null,"Pořadí","Start. číslo","Jméno","kolektiv","čas             I. pokusu","čas            II. pokusu",null,"Výsledný čas"]
[]
[null,{"$f":"IF(AND('PJ - P'!$C361=\"\",'PJ - P'!$D361=\"\"),\"\",'PJ - P'!V361)","v":""},{"$f":"IF(AND('PJ - P'!$C361=\"\",'PJ - P'!$D361=\"\"),\"\",'PJ - P'!B361)","v":""},{"$f":"IF('PJ - P'!C361=\"\",\"\",'PJ - P'!C361)","v":""},{"$f":"IF('PJ - P'!D361=\"\",\"\",'PJ - P'!D361)","v":""},{"$f":"IF('PJ - P'!H361=\"\",\"\",'PJ - P'!H361)","v":""},{"$f":"IF('PJ - P'!M361=\"\",\"\",'PJ - P'!M361)","v":""},null,{"$f":"IF('PJ - P'!O361=\"\",\"\",'PJ - P'!O361)","v":""}]
[null,{"$f":"IF(AND('PJ - P'!$C362=\"\",'PJ - P'!$D362=\"\"),\"\",'PJ - P'!V362)","v":""},{"$f":"IF(AND('PJ - P'!$C362=\"\",'PJ - P'!$D362=\"\"),\"\",'PJ - P'!B362)","v":""},{"$f":"IF('PJ - P'!C362=\"\",\"\",'PJ - P'!C362)","v":""},{"$f":"IF('PJ - P'!D362=\"\",\"\",'PJ - P'!D362)","v":""},{"$f":"IF('PJ - P'!H362=\"\",\"\",'PJ - P'!H362)","v":""},{"$f":"IF('PJ - P'!M362=\"\",\"\",'PJ - P'!M362)","v":""},null,{"$f":"IF('PJ - P'!O362=\"\",\"\",'PJ - P'!O362)","v":""}]
[null,{"$f":"IF(AND('PJ - P'!$C363=\"\",'PJ - P'!$D363=\"\"),\"\",'PJ - P'!V363)","v":""},{"$f":"IF(AND('PJ - P'!$C363=\"\",'PJ - P'!$D363=\"\"),\"\",'PJ - P'!B363)","v":""},{"$f":"IF('PJ - P'!C363=\"\",\"\",'PJ - P'!C363)","v":""},{"$f":"IF('PJ - P'!D363=\"\",\"\",'PJ - P'!D363)","v":""},{"$f":"IF('PJ - P'!H363=\"\",\"\",'PJ - P'!H363)","v":""},{"$f":"IF('PJ - P'!M363=\"\",\"\",'PJ - P'!M363)","v":""},null,{"$f":"IF('PJ - P'!O363=\"\",\"\",'PJ - P'!O363)","v":""}]
[null,{"$f":"IF(AND('PJ - P'!$C364=\"\",'PJ - P'!$D364=\"\"),\"\",'PJ - P'!V364)","v":""},{"$f":"IF(AND('PJ - P'!$C364=\"\",'PJ - P'!$D364=\"\"),\"\",'PJ - P'!B364)","v":""},{"$f":"IF('PJ - P'!C364=\"\",\"\",'PJ - P'!C364)","v":""},{"$f":"IF('PJ - P'!D364=\"\",\"\",'PJ - P'!D364)","v":""},{"$f":"IF('PJ - P'!H364=\"\",\"\",'PJ - P'!H364)","v":""},{"$f":"IF('PJ - P'!M364=\"\",\"\",'PJ - P'!M364)","v":""},null,{"$f":"IF('PJ - P'!O364=\"\",\"\",'PJ - P'!O364)","v":""}]
[null,{"$f":"IF(AND('PJ - P'!$C365=\"\",'PJ - P'!$D365=\"\"),\"\",'PJ - P'!V365)","v":""},{"$f":"IF(AND('PJ - P'!$C365=\"\",'PJ - P'!$D365=\"\"),\"\",'PJ - P'!B365)","v":""},{"$f":"IF('PJ - P'!C365=\"\",\"\",'PJ - P'!C365)","v":""},{"$f":"IF('PJ - P'!D365=\"\",\"\",'PJ - P'!D365)","v":""},{"$f":"IF('PJ - P'!H365=\"\",\"\",'PJ - P'!H365)","v":""},{"$f":"IF('PJ - P'!M365=\"\",\"\",'PJ - P'!M365)","v":""},null,{"$f":"IF('PJ - P'!O365=\"\",\"\",'PJ - P'!O365)","v":""}]
[null,{"$f":"IF(AND('PJ - P'!$C366=\"\",'PJ - P'!$D366=\"\"),\"\",'PJ - P'!V366)","v":""},{"$f":"IF(AND('PJ - P'!$C366=\"\",'PJ - P'!$D366=\"\"),\"\",'PJ - P'!B366)","v":""},{"$f":"IF('PJ - P'!C366=\"\",\"\",'PJ - P'!C366)","v":""},{"$f":"IF('PJ - P'!D366=\"\",\"\",'PJ - P'!D366)","v":""},{"$f":"IF('PJ - P'!H366=\"\",\"\",'PJ - P'!H366)","v":""},{"$f":"IF('PJ - P'!M366=\"\",\"\",'PJ - P'!M366)","v":""},null,{"$f":"IF('PJ - P'!O366=\"\",\"\",'PJ - P'!O366)","v":""}]
[null,{"$f":"IF(AND('PJ - P'!$C367=\"\",'PJ - P'!$D367=\"\"),\"\",'PJ - P'!V367)","v":""},{"$f":"IF(AND('PJ - P'!$C367=\"\",'PJ - P'!$D367=\"\"),\"\",'PJ - P'!B367)","v":""},{"$f":"IF('PJ - P'!C367=\"\",\"\",'PJ - P'!C367)","v":""},{"$f":"IF('PJ - P'!D367=\"\",\"\",'PJ - P'!D367)","v":""},{"$f":"IF('PJ - P'!H367=\"\",\"\",'PJ - P'!H367)","v":""},{"$f":"IF('PJ - P'!M367=\"\",\"\",'PJ - P'!M367)","v":""},null,{"$f":"IF('PJ - P'!O367=\"\",\"\",'PJ - P'!O367)","v":""}]
[null,{"$f":"IF(AND('PJ - P'!$C368=\"\",'PJ - P'!$D368=\"\"),\"\",'PJ - P'!V368)","v":""},{"$f":"IF(AND('PJ - P'!$C368=\"\",'PJ - P'!$D368=\"\"),\"\",'PJ - P'!B368)","v":""},{"$f":"IF('PJ - P'!C368=\"\",\"\",'PJ - P'!C368)","v":""},{"$f":"IF('PJ - P'!D368=\"\",\"\",'PJ - P'!D368)","v":""},{"$f":"IF('PJ - P'!H368=\"\",\"\",'PJ - P'!H368)","v":""},{"$f":"IF('PJ - P'!M368=\"\",\"\",'PJ - P'!M368)","v":""},null,{"$f":"IF('PJ - P'!O368=\"\",\"\",'PJ - P'!O368)","v":""}]
[null,{"$f":"IF(AND('PJ - P'!$C369=\"\",'PJ - P'!$D369=\"\"),\"\",'PJ - P'!V369)","v":""},{"$f":"IF(AND('PJ - P'!$C369=\"\",'PJ - P'!$D369=\"\"),\"\",'PJ - P'!B369)","v":""},{"$f":"IF('PJ - P'!C369=\"\",\"\",'PJ - P'!C369)","v":""},{"$f":"IF('PJ - P'!D369=\"\",\"\",'PJ - P'!D369)","v":""},{"$f":"IF('PJ - P'!H369=\"\",\"\",'PJ - P'!H369)","v":""},{"$f":"IF('PJ - P'!M369=\"\",\"\",'PJ - P'!M369)","v":""},null,{"$f":"IF('PJ - P'!O369=\"\",\"\",'PJ - P'!O369)","v":""}]
[null,{"$f":"IF(AND('PJ - P'!$C370=\"\",'PJ - P'!$D370=\"\"),\"\",'PJ - P'!V370)","v":""},{"$f":"IF(AND('PJ - P'!$C370=\"\",'PJ - P'!$D370=\"\"),\"\",'PJ - P'!B370)","v":""},{"$f":"IF('PJ - P'!C370=\"\",\"\",'PJ - P'!C370)","v":""},{"$f":"IF('PJ - P'!D370=\"\",\"\",'PJ - P'!D370)","v":""},{"$f":"IF('PJ - P'!H370=\"\",\"\",'PJ - P'!H370)","v":""},{"$f":"IF('PJ - P'!M370=\"\",\"\",'PJ - P'!M370)","v":""},null,{"$f":"IF('PJ - P'!O370=\"\",\"\",'PJ - P'!O370)","v":""}]
[null,{"$f":"IF(AND('PJ - P'!$C371=\"\",'PJ - P'!$D371=\"\"),\"\",'PJ - P'!V371)","v":""},{"$f":"IF(AND('PJ - P'!$C371=\"\",'PJ - P'!$D371=\"\"),\"\",'PJ - P'!B371)","v":""},{"$f":"IF('PJ - P'!C371=\"\",\"\",'PJ - P'!C371)","v":""},{"$f":"IF('PJ - P'!D371=\"\",\"\",'PJ - P'!D371)","v":""},{"$f":"IF('PJ - P'!H371=\"\",\"\",'PJ - P'!H371)","v":""},{"$f":"IF('PJ - P'!M371=\"\",\"\",'PJ - P'!M371)","v":""},null,{"$f":"IF('PJ - P'!O371=\"\",\"\",'PJ - P'!O371)","v":""}]
[null,{"$f":"IF(AND('PJ - P'!$C372=\"\",'PJ - P'!$D372=\"\"),\"\",'PJ - P'!V372)","v":""},{"$f":"IF(AND('PJ - P'!$C372=\"\",'PJ - P'!$D372=\"\"),\"\",'PJ - P'!B372)","v":""},{"$f":"IF('PJ - P'!C372=\"\",\"\",'PJ - P'!C372)","v":""},{"$f":"IF('PJ - P'!D372=\"\",\"\",'PJ - P'!D372)","v":""},{"$f":"IF('PJ - P'!H372=\"\",\"\",'PJ - P'!H372)","v":""},{"$f":"IF('PJ - P'!M372=\"\",\"\",'PJ - P'!M372)","v":""},null,{"$f":"IF('PJ - P'!O372=\"\",\"\",'PJ - P'!O372)","v":""}]
[null,{"$f":"IF(AND('PJ - P'!$C373=\"\",'PJ - P'!$D373=\"\"),\"\",'PJ - P'!V373)","v":""},{"$f":"IF(AND('PJ - P'!$C373=\"\",'PJ - P'!$D373=\"\"),\"\",'PJ - P'!B373)","v":""},{"$f":"IF('PJ - P'!C373=\"\",\"\",'PJ - P'!C373)","v":""},{"$f":"IF('PJ - P'!D373=\"\",\"\",'PJ - P'!D373)","v":""},{"$f":"IF('PJ - P'!H373=\"\",\"\",'PJ - P'!H373)","v":""},{"$f":"IF('PJ - P'!M373=\"\",\"\",'PJ - P'!M373)","v":""},null,{"$f":"IF('PJ - P'!O373=\"\",\"\",'PJ - P'!O373)","v":""}]
[null,{"$f":"IF(AND('PJ - P'!$C374=\"\",'PJ - P'!$D374=\"\"),\"\",'PJ - P'!V374)","v":""},{"$f":"IF(AND('PJ - P'!$C374=\"\",'PJ - P'!$D374=\"\"),\"\",'PJ - P'!B374)","v":""},{"$f":"IF('PJ - P'!C374=\"\",\"\",'PJ - P'!C374)","v":""},{"$f":"IF('PJ - P'!D374=\"\",\"\",'PJ - P'!D374)","v":""},{"$f":"IF('PJ - P'!H374=\"\",\"\",'PJ - P'!H374)","v":""},{"$f":"IF('PJ - P'!M374=\"\",\"\",'PJ - P'!M374)","v":""},null,{"$f":"IF('PJ - P'!O374=\"\",\"\",'PJ - P'!O374)","v":""}]
[null,{"$f":"IF(AND('PJ - P'!$C375=\"\",'PJ - P'!$D375=\"\"),\"\",'PJ - P'!V375)","v":""},{"$f":"IF(AND('PJ - P'!$C375=\"\",'PJ - P'!$D375=\"\"),\"\",'PJ - P'!B375)","v":""},{"$f":"IF('PJ - P'!C375=\"\",\"\",'PJ - P'!C375)","v":""},{"$f":"IF('PJ - P'!D375=\"\",\"\",'PJ - P'!D375)","v":""},{"$f":"IF('PJ - P'!H375=\"\",\"\",'PJ - P'!H375)","v":""},{"$f":"IF('PJ - P'!M375=\"\",\"\",'PJ - P'!M375)","v":""},null,{"$f":"IF('PJ - P'!O375=\"\",\"\",'PJ - P'!O375)","v":""}]
[null,{"$f":"IF(AND('PJ - P'!$C376=\"\",'PJ - P'!$D376=\"\"),\"\",'PJ - P'!V376)","v":""},{"$f":"IF(AND('PJ - P'!$C376=\"\",'PJ - P'!$D376=\"\"),\"\",'PJ - P'!B376)","v":""},{"$f":"IF('PJ - P'!C376=\"\",\"\",'PJ - P'!C376)","v":""},{"$f":"IF('PJ - P'!D376=\"\",\"\",'PJ - P'!D376)","v":""},{"$f":"IF('PJ - P'!H376=\"\",\"\",'PJ - P'!H376)","v":""},{"$f":"IF('PJ - P'!M376=\"\",\"\",'PJ - P'!M376)","v":""},null,{"$f":"IF('PJ - P'!O376=\"\",\"\",'PJ - P'!O376)","v":""}]
[null,{"$f":"IF(AND('PJ - P'!$C377=\"\",'PJ - P'!$D377=\"\"),\"\",'PJ - P'!V377)","v":""},{"$f":"IF(AND('PJ - P'!$C377=\"\",'PJ - P'!$D377=\"\"),\"\",'PJ - P'!B377)","v":""},{"$f":"IF('PJ - P'!C377=\"\",\"\",'PJ - P'!C377)","v":""},{"$f":"IF('PJ - P'!D377=\"\",\"\",'PJ - P'!D377)","v":""},{"$f":"IF('PJ - P'!H377=\"\",\"\",'PJ - P'!H377)","v":""},{"$f":"IF('PJ - P'!M377=\"\",\"\",'PJ - P'!M377)","v":""},null,{"$f":"IF('PJ - P'!O377=\"\",\"\",'PJ - P'!O377)","v":""}]
[null,{"$f":"IF(AND('PJ - P'!$C378=\"\",'PJ - P'!$D378=\"\"),\"\",'PJ - P'!V378)","v":""},{"$f":"IF(AND('PJ - P'!$C378=\"\",'PJ - P'!$D378=\"\"),\"\",'PJ - P'!B378)","v":""},{"$f":"IF('PJ - P'!C378=\"\",\"\",'PJ - P'!C378)","v":""},{"$f":"IF('PJ - P'!D378=\"\",\"\",'PJ - P'!D378)","v":""},{"$f":"IF('PJ - P'!H378=\"\",\"\",'PJ - P'!H378)","v":""},{"$f":"IF('PJ - P'!M378=\"\",\"\",'PJ - P'!M378)","v":""},null,{"$f":"IF('PJ - P'!O378=\"\",\"\",'PJ - P'!O378)","v":""}]
[null,{"$f":"IF(AND('PJ - P'!$C379=\"\",'PJ - P'!$D379=\"\"),\"\",'PJ - P'!V379)","v":""},{"$f":"IF(AND('PJ - P'!$C379=\"\",'PJ - P'!$D379=\"\"),\"\",'PJ - P'!B379)","v":""},{"$f":"IF('PJ - P'!C379=\"\",\"\",'PJ - P'!C379)","v":""},{"$f":"IF('PJ - P'!D379=\"\",\"\",'PJ - P'!D379)","v":""},{"$f":"IF('PJ - P'!H379=\"\",\"\",'PJ - P'!H379)","v":""},{"$f":"IF('PJ - P'!M379=\"\",\"\",'PJ - P'!M379)","v":""},null,{"$f":"IF('PJ - P'!O379=\"\",\"\",'PJ - P'!O379)","v":""}]
[null,{"$f":"IF(AND('PJ - P'!$C380=\"\",'PJ - P'!$D380=\"\"),\"\",'PJ - P'!V380)","v":""},{"$f":"IF(AND('PJ - P'!$C380=\"\",'PJ - P'!$D380=\"\"),\"\",'PJ - P'!B380)","v":""},{"$f":"IF('PJ - P'!C380=\"\",\"\",'PJ - P'!C380)","v":""},{"$f":"IF('PJ - P'!D380=\"\",\"\",'PJ - P'!D380)","v":""},{"$f":"IF('PJ - P'!H380=\"\",\"\",'PJ - P'!H380)","v":""},{"$f":"IF('PJ - P'!M380=\"\",\"\",'PJ - P'!M380)","v":""},null,{"$f":"IF('PJ - P'!O380=\"\",\"\",'PJ - P'!O380)","v":""}]
[null,{"$f":"IF(AND('PJ - P'!$C381=\"\",'PJ - P'!$D381=\"\"),\"\",'PJ - P'!V381)","v":""},{"$f":"IF(AND('PJ - P'!$C381=\"\",'PJ - P'!$D381=\"\"),\"\",'PJ - P'!B381)","v":""},{"$f":"IF('PJ - P'!C381=\"\",\"\",'PJ - P'!C381)","v":""},{"$f":"IF('PJ - P'!D381=\"\",\"\",'PJ - P'!D381)","v":""},{"$f":"IF('PJ - P'!H381=\"\",\"\",'PJ - P'!H381)","v":""},{"$f":"IF('PJ - P'!M381=\"\",\"\",'PJ - P'!M381)","v":""},null,{"$f":"IF('PJ - P'!O381=\"\",\"\",'PJ - P'!O381)","v":""}]
[null,{"$f":"IF(AND('PJ - P'!$C382=\"\",'PJ - P'!$D382=\"\"),\"\",'PJ - P'!V382)","v":""},{"$f":"IF(AND('PJ - P'!$C382=\"\",'PJ - P'!$D382=\"\"),\"\",'PJ - P'!B382)","v":""},{"$f":"IF('PJ - P'!C382=\"\",\"\",'PJ - P'!C382)","v":""},{"$f":"IF('PJ - P'!D382=\"\",\"\",'PJ - P'!D382)","v":""},{"$f":"IF('PJ - P'!H382=\"\",\"\",'PJ - P'!H382)","v":""},{"$f":"IF('PJ - P'!M382=\"\",\"\",'PJ - P'!M382)","v":""},null,{"$f":"IF('PJ - P'!O382=\"\",\"\",'PJ - P'!O382)","v":""}]
[null,{"$f":"IF(AND('PJ - P'!$C383=\"\",'PJ - P'!$D383=\"\"),\"\",'PJ - P'!V383)","v":""},{"$f":"IF(AND('PJ - P'!$C383=\"\",'PJ - P'!$D383=\"\"),\"\",'PJ - P'!B383)","v":""},{"$f":"IF('PJ - P'!C383=\"\",\"\",'PJ - P'!C383)","v":""},{"$f":"IF('PJ - P'!D383=\"\",\"\",'PJ - P'!D383)","v":""},{"$f":"IF('PJ - P'!H383=\"\",\"\",'PJ - P'!H383)","v":""},{"$f":"IF('PJ - P'!M383=\"\",\"\",'PJ - P'!M383)","v":""},null,{"$f":"IF('PJ - P'!O383=\"\",\"\",'PJ - P'!O383)","v":""}]
[null,{"$f":"IF(AND('PJ - P'!$C384=\"\",'PJ - P'!$D384=\"\"),\"\",'PJ - P'!V384)","v":""},{"$f":"IF(AND('PJ - P'!$C384=\"\",'PJ - P'!$D384=\"\"),\"\",'PJ - P'!B384)","v":""},{"$f":"IF('PJ - P'!C384=\"\",\"\",'PJ - P'!C384)","v":""},{"$f":"IF('PJ - P'!D384=\"\",\"\",'PJ - P'!D384)","v":""},{"$f":"IF('PJ - P'!H384=\"\",\"\",'PJ - P'!H384)","v":""},{"$f":"IF('PJ - P'!M384=\"\",\"\",'PJ - P'!M384)","v":""},null,{"$f":"IF('PJ - P'!O384=\"\",\"\",'PJ - P'!O384)","v":""}]
[null,{"$f":"IF(AND('PJ - P'!$C385=\"\",'PJ - P'!$D385=\"\"),\"\",'PJ - P'!V385)","v":""},{"$f":"IF(AND('PJ - P'!$C385=\"\",'PJ - P'!$D385=\"\"),\"\",'PJ - P'!B385)","v":""},{"$f":"IF('PJ - P'!C385=\"\",\"\",'PJ - P'!C385)","v":""},{"$f":"IF('PJ - P'!D385=\"\",\"\",'PJ - P'!D385)","v":""},{"$f":"IF('PJ - P'!H385=\"\",\"\",'PJ - P'!H385)","v":""},{"$f":"IF('PJ - P'!M385=\"\",\"\",'PJ - P'!M385)","v":""},null,{"$f":"IF('PJ - P'!O385=\"\",\"\",'PJ - P'!O385)","v":""}]
[null,{"$f":"IF(AND('PJ - P'!$C386=\"\",'PJ - P'!$D386=\"\"),\"\",'PJ - P'!V386)","v":""},{"$f":"IF(AND('PJ - P'!$C386=\"\",'PJ - P'!$D386=\"\"),\"\",'PJ - P'!B386)","v":""},{"$f":"IF('PJ - P'!C386=\"\",\"\",'PJ - P'!C386)","v":""},{"$f":"IF('PJ - P'!D386=\"\",\"\",'PJ - P'!D386)","v":""},{"$f":"IF('PJ - P'!H386=\"\",\"\",'PJ - P'!H386)","v":""},{"$f":"IF('PJ - P'!M386=\"\",\"\",'PJ - P'!M386)","v":""},null,{"$f":"IF('PJ - P'!O386=\"\",\"\",'PJ - P'!O386)","v":""}]
[null,{"$f":"IF(AND('PJ - P'!$C387=\"\",'PJ - P'!$D387=\"\"),\"\",'PJ - P'!V387)","v":""},{"$f":"IF(AND('PJ - P'!$C387=\"\",'PJ - P'!$D387=\"\"),\"\",'PJ - P'!B387)","v":""},{"$f":"IF('PJ - P'!C387=\"\",\"\",'PJ - P'!C387)","v":""},{"$f":"IF('PJ - P'!D387=\"\",\"\",'PJ - P'!D387)","v":""},{"$f":"IF('PJ - P'!H387=\"\",\"\",'PJ - P'!H387)","v":""},{"$f":"IF('PJ - P'!M387=\"\",\"\",'PJ - P'!M387)","v":""},null,{"$f":"IF('PJ - P'!O387=\"\",\"\",'PJ - P'!O387)","v":""}]
[null,{"$f":"IF(AND('PJ - P'!$C388=\"\",'PJ - P'!$D388=\"\"),\"\",'PJ - P'!V388)","v":""},{"$f":"IF(AND('PJ - P'!$C388=\"\",'PJ - P'!$D388=\"\"),\"\",'PJ - P'!B388)","v":""},{"$f":"IF('PJ - P'!C388=\"\",\"\",'PJ - P'!C388)","v":""},{"$f":"IF('PJ - P'!D388=\"\",\"\",'PJ - P'!D388)","v":""},{"$f":"IF('PJ - P'!H388=\"\",\"\",'PJ - P'!H388)","v":""},{"$f":"IF('PJ - P'!M388=\"\",\"\",'PJ - P'!M388)","v":""},null,{"$f":"IF('PJ - P'!O388=\"\",\"\",'PJ - P'!O388)","v":""}]
[null,{"$f":"IF(AND('PJ - P'!$C389=\"\",'PJ - P'!$D389=\"\"),\"\",'PJ - P'!V389)","v":""},{"$f":"IF(AND('PJ - P'!$C389=\"\",'PJ - P'!$D389=\"\"),\"\",'PJ - P'!B389)","v":""},{"$f":"IF('PJ - P'!C389=\"\",\"\",'PJ - P'!C389)","v":""},{"$f":"IF('PJ - P'!D389=\"\",\"\",'PJ - P'!D389)","v":""},{"$f":"IF('PJ - P'!H389=\"\",\"\",'PJ - P'!H389)","v":""},{"$f":"IF('PJ - P'!M389=\"\",\"\",'PJ - P'!M389)","v":""},null,{"$f":"IF('PJ - P'!O389=\"\",\"\",'PJ - P'!O389)","v":""}]
[null,{"$f":"IF(AND('PJ - P'!$C390=\"\",'PJ - P'!$D390=\"\"),\"\",'PJ - P'!V390)","v":""},{"$f":"IF(AND('PJ - P'!$C390=\"\",'PJ - P'!$D390=\"\"),\"\",'PJ - P'!B390)","v":""},{"$f":"IF('PJ - P'!C390=\"\",\"\",'PJ - P'!C390)","v":""},{"$f":"IF('PJ - P'!D390=\"\",\"\",'PJ - P'!D390)","v":""},{"$f":"IF('PJ - P'!H390=\"\",\"\",'PJ - P'!H390)","v":""},{"$f":"IF('PJ - P'!M390=\"\",\"\",'PJ - P'!M390)","v":""},null,{"$f":"IF('PJ - P'!O390=\"\",\"\",'PJ - P'!O390)","v":""}]
[null,{"$f":"IF(AND('PJ - P'!$C391=\"\",'PJ - P'!$D391=\"\"),\"\",'PJ - P'!V391)","v":""},{"$f":"IF(AND('PJ - P'!$C391=\"\",'PJ - P'!$D391=\"\"),\"\",'PJ - P'!B391)","v":""},{"$f":"IF('PJ - P'!C391=\"\",\"\",'PJ - P'!C391)","v":""},{"$f":"IF('PJ - P'!D391=\"\",\"\",'PJ - P'!D391)","v":""},{"$f":"IF('PJ - P'!H391=\"\",\"\",'PJ - P'!H391)","v":""},{"$f":"IF('PJ - P'!M391=\"\",\"\",'PJ - P'!M391)","v":""},null,{"$f":"IF('PJ - P'!O391=\"\",\"\",'PJ - P'!O391)","v":""}]
[null,{"$f":"IF(AND('PJ - P'!$C392=\"\",'PJ - P'!$D392=\"\"),\"\",'PJ - P'!V392)","v":""},{"$f":"IF(AND('PJ - P'!$C392=\"\",'PJ - P'!$D392=\"\"),\"\",'PJ - P'!B392)","v":""},{"$f":"IF('PJ - P'!C392=\"\",\"\",'PJ - P'!C392)","v":""},{"$f":"IF('PJ - P'!D392=\"\",\"\",'PJ - P'!D392)","v":""},{"$f":"IF('PJ - P'!H392=\"\",\"\",'PJ - P'!H392)","v":""},{"$f":"IF('PJ - P'!M392=\"\",\"\",'PJ - P'!M392)","v":""},null,{"$f":"IF('PJ - P'!O392=\"\",\"\",'PJ - P'!O392)","v":""}]
[null,{"$f":"IF(AND('PJ - P'!$C393=\"\",'PJ - P'!$D393=\"\"),\"\",'PJ - P'!V393)","v":""},{"$f":"IF(AND('PJ - P'!$C393=\"\",'PJ - P'!$D393=\"\"),\"\",'PJ - P'!B393)","v":""},{"$f":"IF('PJ - P'!C393=\"\",\"\",'PJ - P'!C393)","v":""},{"$f":"IF('PJ - P'!D393=\"\",\"\",'PJ - P'!D393)","v":""},{"$f":"IF('PJ - P'!H393=\"\",\"\",'PJ - P'!H393)","v":""},{"$f":"IF('PJ - P'!M393=\"\",\"\",'PJ - P'!M393)","v":""},null,{"$f":"IF('PJ - P'!O393=\"\",\"\",'PJ - P'!O393)","v":""}]
[null,{"$f":"IF(AND('PJ - P'!$C394=\"\",'PJ - P'!$D394=\"\"),\"\",'PJ - P'!V394)","v":""},{"$f":"IF(AND('PJ - P'!$C394=\"\",'PJ - P'!$D394=\"\"),\"\",'PJ - P'!B394)","v":""},{"$f":"IF('PJ - P'!C394=\"\",\"\",'PJ - P'!C394)","v":""},{"$f":"IF('PJ - P'!D394=\"\",\"\",'PJ - P'!D394)","v":""},{"$f":"IF('PJ - P'!H394=\"\",\"\",'PJ - P'!H394)","v":""},{"$f":"IF('PJ - P'!M394=\"\",\"\",'PJ - P'!M394)","v":""},null,{"$f":"IF('PJ - P'!O394=\"\",\"\",'PJ - P'!O394)","v":""}]
[null,{"$f":"IF(AND('PJ - P'!$C395=\"\",'PJ - P'!$D395=\"\"),\"\",'PJ - P'!V395)","v":""},{"$f":"IF(AND('PJ - P'!$C395=\"\",'PJ - P'!$D395=\"\"),\"\",'PJ - P'!B395)","v":""},{"$f":"IF('PJ - P'!C395=\"\",\"\",'PJ - P'!C395)","v":""},{"$f":"IF('PJ - P'!D395=\"\",\"\",'PJ - P'!D395)","v":""},{"$f":"IF('PJ - P'!H395=\"\",\"\",'PJ - P'!H395)","v":""},{"$f":"IF('PJ - P'!M395=\"\",\"\",'PJ - P'!M395)","v":""},null,{"$f":"IF('PJ - P'!O395=\"\",\"\",'PJ - P'!O395)","v":""}]
[null,{"$f":"IF(AND('PJ - P'!$C396=\"\",'PJ - P'!$D396=\"\"),\"\",'PJ - P'!V396)","v":""},{"$f":"IF(AND('PJ - P'!$C396=\"\",'PJ - P'!$D396=\"\"),\"\",'PJ - P'!B396)","v":""},{"$f":"IF('PJ - P'!C396=\"\",\"\",'PJ - P'!C396)","v":""},{"$f":"IF('PJ - P'!D396=\"\",\"\",'PJ - P'!D396)","v":""},{"$f":"IF('PJ - P'!H396=\"\",\"\",'PJ - P'!H396)","v":""},{"$f":"IF('PJ - P'!M396=\"\",\"\",'PJ - P'!M396)","v":""},null,{"$f":"IF('PJ - P'!O396=\"\",\"\",'PJ - P'!O396)","v":""}]
[null,{"$f":"B$1","v":"Běh na 100m s přek. - Pořadí jednotlivců"}]
[]
[null,{"$f":"B$3","v":"Okresní kolo v PS"},null,null,{"$f":"E$3","v":"Chrast 16.6.2024"}]
[]
[null,{"$f":"Start!$C$5","v":"Dorky"}]
[null,"Pořadí","Start. číslo","Jméno","kolektiv","čas             I. pokusu","čas            II. pokusu",null,"Výsledný čas"]
[]
[null,{"$f":"IF(AND('PJ - P'!$C397=\"\",'PJ - P'!$D397=\"\"),\"\",'PJ - P'!V397)","v":""},{"$f":"IF(AND('PJ - P'!$C397=\"\",'PJ - P'!$D397=\"\"),\"\",'PJ - P'!B397)","v":""},{"$f":"IF('PJ - P'!C397=\"\",\"\",'PJ - P'!C397)","v":""},{"$f":"IF('PJ - P'!D397=\"\",\"\",'PJ - P'!D397)","v":""},{"$f":"IF('PJ - P'!H397=\"\",\"\",'PJ - P'!H397)","v":""},{"$f":"IF('PJ - P'!M397=\"\",\"\",'PJ - P'!M397)","v":""},null,{"$f":"IF('PJ - P'!O397=\"\",\"\",'PJ - P'!O397)","v":""}]
[null,{"$f":"IF(AND('PJ - P'!$C398=\"\",'PJ - P'!$D398=\"\"),\"\",'PJ - P'!V398)","v":""},{"$f":"IF(AND('PJ - P'!$C398=\"\",'PJ - P'!$D398=\"\"),\"\",'PJ - P'!B398)","v":""},{"$f":"IF('PJ - P'!C398=\"\",\"\",'PJ - P'!C398)","v":""},{"$f":"IF('PJ - P'!D398=\"\",\"\",'PJ - P'!D398)","v":""},{"$f":"IF('PJ - P'!H398=\"\",\"\",'PJ - P'!H398)","v":""},{"$f":"IF('PJ - P'!M398=\"\",\"\",'PJ - P'!M398)","v":""},null,{"$f":"IF('PJ - P'!O398=\"\",\"\",'PJ - P'!O398)","v":""}]
[null,{"$f":"IF(AND('PJ - P'!$C399=\"\",'PJ - P'!$D399=\"\"),\"\",'PJ - P'!V399)","v":""},{"$f":"IF(AND('PJ - P'!$C399=\"\",'PJ - P'!$D399=\"\"),\"\",'PJ - P'!B399)","v":""},{"$f":"IF('PJ - P'!C399=\"\",\"\",'PJ - P'!C399)","v":""},{"$f":"IF('PJ - P'!D399=\"\",\"\",'PJ - P'!D399)","v":""},{"$f":"IF('PJ - P'!H399=\"\",\"\",'PJ - P'!H399)","v":""},{"$f":"IF('PJ - P'!M399=\"\",\"\",'PJ - P'!M399)","v":""},null,{"$f":"IF('PJ - P'!O399=\"\",\"\",'PJ - P'!O399)","v":""}]
[null,{"$f":"IF(AND('PJ - P'!$C400=\"\",'PJ - P'!$D400=\"\"),\"\",'PJ - P'!V400)","v":""},{"$f":"IF(AND('PJ - P'!$C400=\"\",'PJ - P'!$D400=\"\"),\"\",'PJ - P'!B400)","v":""},{"$f":"IF('PJ - P'!C400=\"\",\"\",'PJ - P'!C400)","v":""},{"$f":"IF('PJ - P'!D400=\"\",\"\",'PJ - P'!D400)","v":""},{"$f":"IF('PJ - P'!H400=\"\",\"\",'PJ - P'!H400)","v":""},{"$f":"IF('PJ - P'!M400=\"\",\"\",'PJ - P'!M400)","v":""},null,{"$f":"IF('PJ - P'!O400=\"\",\"\",'PJ - P'!O400)","v":""}]
[null,{"$f":"IF(AND('PJ - P'!$C401=\"\",'PJ - P'!$D401=\"\"),\"\",'PJ - P'!V401)","v":""},{"$f":"IF(AND('PJ - P'!$C401=\"\",'PJ - P'!$D401=\"\"),\"\",'PJ - P'!B401)","v":""},{"$f":"IF('PJ - P'!C401=\"\",\"\",'PJ - P'!C401)","v":""},{"$f":"IF('PJ - P'!D401=\"\",\"\",'PJ - P'!D401)","v":""},{"$f":"IF('PJ - P'!H401=\"\",\"\",'PJ - P'!H401)","v":""},{"$f":"IF('PJ - P'!M401=\"\",\"\",'PJ - P'!M401)","v":""},null,{"$f":"IF('PJ - P'!O401=\"\",\"\",'PJ - P'!O401)","v":""}]
[null,{"$f":"IF(AND('PJ - P'!$C402=\"\",'PJ - P'!$D402=\"\"),\"\",'PJ - P'!V402)","v":""},{"$f":"IF(AND('PJ - P'!$C402=\"\",'PJ - P'!$D402=\"\"),\"\",'PJ - P'!B402)","v":""},{"$f":"IF('PJ - P'!C402=\"\",\"\",'PJ - P'!C402)","v":""},{"$f":"IF('PJ - P'!D402=\"\",\"\",'PJ - P'!D402)","v":""},{"$f":"IF('PJ - P'!H402=\"\",\"\",'PJ - P'!H402)","v":""},{"$f":"IF('PJ - P'!M402=\"\",\"\",'PJ - P'!M402)","v":""},null,{"$f":"IF('PJ - P'!O402=\"\",\"\",'PJ - P'!O402)","v":""}]
[null,{"$f":"IF(AND('PJ - P'!$C403=\"\",'PJ - P'!$D403=\"\"),\"\",'PJ - P'!V403)","v":""},{"$f":"IF(AND('PJ - P'!$C403=\"\",'PJ - P'!$D403=\"\"),\"\",'PJ - P'!B403)","v":""},{"$f":"IF('PJ - P'!C403=\"\",\"\",'PJ - P'!C403)","v":""},{"$f":"IF('PJ - P'!D403=\"\",\"\",'PJ - P'!D403)","v":""},{"$f":"IF('PJ - P'!H403=\"\",\"\",'PJ - P'!H403)","v":""},{"$f":"IF('PJ - P'!M403=\"\",\"\",'PJ - P'!M403)","v":""},null,{"$f":"IF('PJ - P'!O403=\"\",\"\",'PJ - P'!O403)","v":""}]
[null,{"$f":"IF(AND('PJ - P'!$C404=\"\",'PJ - P'!$D404=\"\"),\"\",'PJ - P'!V404)","v":""},{"$f":"IF(AND('PJ - P'!$C404=\"\",'PJ - P'!$D404=\"\"),\"\",'PJ - P'!B404)","v":""},{"$f":"IF('PJ - P'!C404=\"\",\"\",'PJ - P'!C404)","v":""},{"$f":"IF('PJ - P'!D404=\"\",\"\",'PJ - P'!D404)","v":""},{"$f":"IF('PJ - P'!H404=\"\",\"\",'PJ - P'!H404)","v":""},{"$f":"IF('PJ - P'!M404=\"\",\"\",'PJ - P'!M404)","v":""},null,{"$f":"IF('PJ - P'!O404=\"\",\"\",'PJ - P'!O404)","v":""}]
[null,{"$f":"IF(AND('PJ - P'!$C405=\"\",'PJ - P'!$D405=\"\"),\"\",'PJ - P'!V405)","v":""},{"$f":"IF(AND('PJ - P'!$C405=\"\",'PJ - P'!$D405=\"\"),\"\",'PJ - P'!B405)","v":""},{"$f":"IF('PJ - P'!C405=\"\",\"\",'PJ - P'!C405)","v":""},{"$f":"IF('PJ - P'!D405=\"\",\"\",'PJ - P'!D405)","v":""},{"$f":"IF('PJ - P'!H405=\"\",\"\",'PJ - P'!H405)","v":""},{"$f":"IF('PJ - P'!M405=\"\",\"\",'PJ - P'!M405)","v":""},null,{"$f":"IF('PJ - P'!O405=\"\",\"\",'PJ - P'!O405)","v":""}]
[null,{"$f":"IF(AND('PJ - P'!$C406=\"\",'PJ - P'!$D406=\"\"),\"\",'PJ - P'!V406)","v":""},{"$f":"IF(AND('PJ - P'!$C406=\"\",'PJ - P'!$D406=\"\"),\"\",'PJ - P'!B406)","v":""},{"$f":"IF('PJ - P'!C406=\"\",\"\",'PJ - P'!C406)","v":""},{"$f":"IF('PJ - P'!D406=\"\",\"\",'PJ - P'!D406)","v":""},{"$f":"IF('PJ - P'!H406=\"\",\"\",'PJ - P'!H406)","v":""},{"$f":"IF('PJ - P'!M406=\"\",\"\",'PJ - P'!M406)","v":""},null,{"$f":"IF('PJ - P'!O406=\"\",\"\",'PJ - P'!O406)","v":""}]
[null,{"$f":"IF(AND('PJ - P'!$C407=\"\",'PJ - P'!$D407=\"\"),\"\",'PJ - P'!V407)","v":""},{"$f":"IF(AND('PJ - P'!$C407=\"\",'PJ - P'!$D407=\"\"),\"\",'PJ - P'!B407)","v":""},{"$f":"IF('PJ - P'!C407=\"\",\"\",'PJ - P'!C407)","v":""},{"$f":"IF('PJ - P'!D407=\"\",\"\",'PJ - P'!D407)","v":""},{"$f":"IF('PJ - P'!H407=\"\",\"\",'PJ - P'!H407)","v":""},{"$f":"IF('PJ - P'!M407=\"\",\"\",'PJ - P'!M407)","v":""},null,{"$f":"IF('PJ - P'!O407=\"\",\"\",'PJ - P'!O407)","v":""}]
[null,{"$f":"IF(AND('PJ - P'!$C408=\"\",'PJ - P'!$D408=\"\"),\"\",'PJ - P'!V408)","v":""},{"$f":"IF(AND('PJ - P'!$C408=\"\",'PJ - P'!$D408=\"\"),\"\",'PJ - P'!B408)","v":""},{"$f":"IF('PJ - P'!C408=\"\",\"\",'PJ - P'!C408)","v":""},{"$f":"IF('PJ - P'!D408=\"\",\"\",'PJ - P'!D408)","v":""},{"$f":"IF('PJ - P'!H408=\"\",\"\",'PJ - P'!H408)","v":""},{"$f":"IF('PJ - P'!M408=\"\",\"\",'PJ - P'!M408)","v":""},null,{"$f":"IF('PJ - P'!O408=\"\",\"\",'PJ - P'!O408)","v":""}]
[null,{"$f":"IF(AND('PJ - P'!$C409=\"\",'PJ - P'!$D409=\"\"),\"\",'PJ - P'!V409)","v":""},{"$f":"IF(AND('PJ - P'!$C409=\"\",'PJ - P'!$D409=\"\"),\"\",'PJ - P'!B409)","v":""},{"$f":"IF('PJ - P'!C409=\"\",\"\",'PJ - P'!C409)","v":""},{"$f":"IF('PJ - P'!D409=\"\",\"\",'PJ - P'!D409)","v":""},{"$f":"IF('PJ - P'!H409=\"\",\"\",'PJ - P'!H409)","v":""},{"$f":"IF('PJ - P'!M409=\"\",\"\",'PJ - P'!M409)","v":""},null,{"$f":"IF('PJ - P'!O409=\"\",\"\",'PJ - P'!O409)","v":""}]
[null,{"$f":"IF(AND('PJ - P'!$C410=\"\",'PJ - P'!$D410=\"\"),\"\",'PJ - P'!V410)","v":""},{"$f":"IF(AND('PJ - P'!$C410=\"\",'PJ - P'!$D410=\"\"),\"\",'PJ - P'!B410)","v":""},{"$f":"IF('PJ - P'!C410=\"\",\"\",'PJ - P'!C410)","v":""},{"$f":"IF('PJ - P'!D410=\"\",\"\",'PJ - P'!D410)","v":""},{"$f":"IF('PJ - P'!H410=\"\",\"\",'PJ - P'!H410)","v":""},{"$f":"IF('PJ - P'!M410=\"\",\"\",'PJ - P'!M410)","v":""},null,{"$f":"IF('PJ - P'!O410=\"\",\"\",'PJ - P'!O410)","v":""}]
[null,{"$f":"IF(AND('PJ - P'!$C411=\"\",'PJ - P'!$D411=\"\"),\"\",'PJ - P'!V411)","v":""},{"$f":"IF(AND('PJ - P'!$C411=\"\",'PJ - P'!$D411=\"\"),\"\",'PJ - P'!B411)","v":""},{"$f":"IF('PJ - P'!C411=\"\",\"\",'PJ - P'!C411)","v":""},{"$f":"IF('PJ - P'!D411=\"\",\"\",'PJ - P'!D411)","v":""},{"$f":"IF('PJ - P'!H411=\"\",\"\",'PJ - P'!H411)","v":""},{"$f":"IF('PJ - P'!M411=\"\",\"\",'PJ - P'!M411)","v":""},null,{"$f":"IF('PJ - P'!O411=\"\",\"\",'PJ - P'!O411)","v":""}]
[null,{"$f":"IF(AND('PJ - P'!$C412=\"\",'PJ - P'!$D412=\"\"),\"\",'PJ - P'!V412)","v":""},{"$f":"IF(AND('PJ - P'!$C412=\"\",'PJ - P'!$D412=\"\"),\"\",'PJ - P'!B412)","v":""},{"$f":"IF('PJ - P'!C412=\"\",\"\",'PJ - P'!C412)","v":""},{"$f":"IF('PJ - P'!D412=\"\",\"\",'PJ - P'!D412)","v":""},{"$f":"IF('PJ - P'!H412=\"\",\"\",'PJ - P'!H412)","v":""},{"$f":"IF('PJ - P'!M412=\"\",\"\",'PJ - P'!M412)","v":""},null,{"$f":"IF('PJ - P'!O412=\"\",\"\",'PJ - P'!O412)","v":""}]
[null,{"$f":"IF(AND('PJ - P'!$C413=\"\",'PJ - P'!$D413=\"\"),\"\",'PJ - P'!V413)","v":""},{"$f":"IF(AND('PJ - P'!$C413=\"\",'PJ - P'!$D413=\"\"),\"\",'PJ - P'!B413)","v":""},{"$f":"IF('PJ - P'!C413=\"\",\"\",'PJ - P'!C413)","v":""},{"$f":"IF('PJ - P'!D413=\"\",\"\",'PJ - P'!D413)","v":""},{"$f":"IF('PJ - P'!H413=\"\",\"\",'PJ - P'!H413)","v":""},{"$f":"IF('PJ - P'!M413=\"\",\"\",'PJ - P'!M413)","v":""},null,{"$f":"IF('PJ - P'!O413=\"\",\"\",'PJ - P'!O413)","v":""}]
[null,{"$f":"IF(AND('PJ - P'!$C414=\"\",'PJ - P'!$D414=\"\"),\"\",'PJ - P'!V414)","v":""},{"$f":"IF(AND('PJ - P'!$C414=\"\",'PJ - P'!$D414=\"\"),\"\",'PJ - P'!B414)","v":""},{"$f":"IF('PJ - P'!C414=\"\",\"\",'PJ - P'!C414)","v":""},{"$f":"IF('PJ - P'!D414=\"\",\"\",'PJ - P'!D414)","v":""},{"$f":"IF('PJ - P'!H414=\"\",\"\",'PJ - P'!H414)","v":""},{"$f":"IF('PJ - P'!M414=\"\",\"\",'PJ - P'!M414)","v":""},null,{"$f":"IF('PJ - P'!O414=\"\",\"\",'PJ - P'!O414)","v":""}]
[null,{"$f":"IF(AND('PJ - P'!$C415=\"\",'PJ - P'!$D415=\"\"),\"\",'PJ - P'!V415)","v":""},{"$f":"IF(AND('PJ - P'!$C415=\"\",'PJ - P'!$D415=\"\"),\"\",'PJ - P'!B415)","v":""},{"$f":"IF('PJ - P'!C415=\"\",\"\",'PJ - P'!C415)","v":""},{"$f":"IF('PJ - P'!D415=\"\",\"\",'PJ - P'!D415)","v":""},{"$f":"IF('PJ - P'!H415=\"\",\"\",'PJ - P'!H415)","v":""},{"$f":"IF('PJ - P'!M415=\"\",\"\",'PJ - P'!M415)","v":""},null,{"$f":"IF('PJ - P'!O415=\"\",\"\",'PJ - P'!O415)","v":""}]
[null,{"$f":"IF(AND('PJ - P'!$C416=\"\",'PJ - P'!$D416=\"\"),\"\",'PJ - P'!V416)","v":""},{"$f":"IF(AND('PJ - P'!$C416=\"\",'PJ - P'!$D416=\"\"),\"\",'PJ - P'!B416)","v":""},{"$f":"IF('PJ - P'!C416=\"\",\"\",'PJ - P'!C416)","v":""},{"$f":"IF('PJ - P'!D416=\"\",\"\",'PJ - P'!D416)","v":""},{"$f":"IF('PJ - P'!H416=\"\",\"\",'PJ - P'!H416)","v":""},{"$f":"IF('PJ - P'!M416=\"\",\"\",'PJ - P'!M416)","v":""},null,{"$f":"IF('PJ - P'!O416=\"\",\"\",'PJ - P'!O416)","v":""}]
[null,{"$f":"IF(AND('PJ - P'!$C417=\"\",'PJ - P'!$D417=\"\"),\"\",'PJ - P'!V417)","v":""},{"$f":"IF(AND('PJ - P'!$C417=\"\",'PJ - P'!$D417=\"\"),\"\",'PJ - P'!B417)","v":""},{"$f":"IF('PJ - P'!C417=\"\",\"\",'PJ - P'!C417)","v":""},{"$f":"IF('PJ - P'!D417=\"\",\"\",'PJ - P'!D417)","v":""},{"$f":"IF('PJ - P'!H417=\"\",\"\",'PJ - P'!H417)","v":""},{"$f":"IF('PJ - P'!M417=\"\",\"\",'PJ - P'!M417)","v":""},null,{"$f":"IF('PJ - P'!O417=\"\",\"\",'PJ - P'!O417)","v":""}]
[null,{"$f":"IF(AND('PJ - P'!$C418=\"\",'PJ - P'!$D418=\"\"),\"\",'PJ - P'!V418)","v":""},{"$f":"IF(AND('PJ - P'!$C418=\"\",'PJ - P'!$D418=\"\"),\"\",'PJ - P'!B418)","v":""},{"$f":"IF('PJ - P'!C418=\"\",\"\",'PJ - P'!C418)","v":""},{"$f":"IF('PJ - P'!D418=\"\",\"\",'PJ - P'!D418)","v":""},{"$f":"IF('PJ - P'!H418=\"\",\"\",'PJ - P'!H418)","v":""},{"$f":"IF('PJ - P'!M418=\"\",\"\",'PJ - P'!M418)","v":""},null,{"$f":"IF('PJ - P'!O418=\"\",\"\",'PJ - P'!O418)","v":""}]
[null,{"$f":"IF(AND('PJ - P'!$C419=\"\",'PJ - P'!$D419=\"\"),\"\",'PJ - P'!V419)","v":""},{"$f":"IF(AND('PJ - P'!$C419=\"\",'PJ - P'!$D419=\"\"),\"\",'PJ - P'!B419)","v":""},{"$f":"IF('PJ - P'!C419=\"\",\"\",'PJ - P'!C419)","v":""},{"$f":"IF('PJ - P'!D419=\"\",\"\",'PJ - P'!D419)","v":""},{"$f":"IF('PJ - P'!H419=\"\",\"\",'PJ - P'!H419)","v":""},{"$f":"IF('PJ - P'!M419=\"\",\"\",'PJ - P'!M419)","v":""},null,{"$f":"IF('PJ - P'!O419=\"\",\"\",'PJ - P'!O419)","v":""}]
[null,{"$f":"IF(AND('PJ - P'!$C420=\"\",'PJ - P'!$D420=\"\"),\"\",'PJ - P'!V420)","v":""},{"$f":"IF(AND('PJ - P'!$C420=\"\",'PJ - P'!$D420=\"\"),\"\",'PJ - P'!B420)","v":""},{"$f":"IF('PJ - P'!C420=\"\",\"\",'PJ - P'!C420)","v":""},{"$f":"IF('PJ - P'!D420=\"\",\"\",'PJ - P'!D420)","v":""},{"$f":"IF('PJ - P'!H420=\"\",\"\",'PJ - P'!H420)","v":""},{"$f":"IF('PJ - P'!M420=\"\",\"\",'PJ - P'!M420)","v":""},null,{"$f":"IF('PJ - P'!O420=\"\",\"\",'PJ - P'!O420)","v":""}]
[null,{"$f":"IF(AND('PJ - P'!$C421=\"\",'PJ - P'!$D421=\"\"),\"\",'PJ - P'!V421)","v":""},{"$f":"IF(AND('PJ - P'!$C421=\"\",'PJ - P'!$D421=\"\"),\"\",'PJ - P'!B421)","v":""},{"$f":"IF('PJ - P'!C421=\"\",\"\",'PJ - P'!C421)","v":""},{"$f":"IF('PJ - P'!D421=\"\",\"\",'PJ - P'!D421)","v":""},{"$f":"IF('PJ - P'!H421=\"\",\"\",'PJ - P'!H421)","v":""},{"$f":"IF('PJ - P'!M421=\"\",\"\",'PJ - P'!M421)","v":""},null,{"$f":"IF('PJ - P'!O421=\"\",\"\",'PJ - P'!O421)","v":""}]
[null,{"$f":"IF(AND('PJ - P'!$C422=\"\",'PJ - P'!$D422=\"\"),\"\",'PJ - P'!V422)","v":""},{"$f":"IF(AND('PJ - P'!$C422=\"\",'PJ - P'!$D422=\"\"),\"\",'PJ - P'!B422)","v":""},{"$f":"IF('PJ - P'!C422=\"\",\"\",'PJ - P'!C422)","v":""},{"$f":"IF('PJ - P'!D422=\"\",\"\",'PJ - P'!D422)","v":""},{"$f":"IF('PJ - P'!H422=\"\",\"\",'PJ - P'!H422)","v":""},{"$f":"IF('PJ - P'!M422=\"\",\"\",'PJ - P'!M422)","v":""},null,{"$f":"IF('PJ - P'!O422=\"\",\"\",'PJ - P'!O422)","v":""}]
[null,{"$f":"IF(AND('PJ - P'!$C423=\"\",'PJ - P'!$D423=\"\"),\"\",'PJ - P'!V423)","v":""},{"$f":"IF(AND('PJ - P'!$C423=\"\",'PJ - P'!$D423=\"\"),\"\",'PJ - P'!B423)","v":""},{"$f":"IF('PJ - P'!C423=\"\",\"\",'PJ - P'!C423)","v":""},{"$f":"IF('PJ - P'!D423=\"\",\"\",'PJ - P'!D423)","v":""},{"$f":"IF('PJ - P'!H423=\"\",\"\",'PJ - P'!H423)","v":""},{"$f":"IF('PJ - P'!M423=\"\",\"\",'PJ - P'!M423)","v":""},null,{"$f":"IF('PJ - P'!O423=\"\",\"\",'PJ - P'!O423)","v":""}]
[null,{"$f":"IF(AND('PJ - P'!$C424=\"\",'PJ - P'!$D424=\"\"),\"\",'PJ - P'!V424)","v":""},{"$f":"IF(AND('PJ - P'!$C424=\"\",'PJ - P'!$D424=\"\"),\"\",'PJ - P'!B424)","v":""},{"$f":"IF('PJ - P'!C424=\"\",\"\",'PJ - P'!C424)","v":""},{"$f":"IF('PJ - P'!D424=\"\",\"\",'PJ - P'!D424)","v":""},{"$f":"IF('PJ - P'!H424=\"\",\"\",'PJ - P'!H424)","v":""},{"$f":"IF('PJ - P'!M424=\"\",\"\",'PJ - P'!M424)","v":""},null,{"$f":"IF('PJ - P'!O424=\"\",\"\",'PJ - P'!O424)","v":""}]
[null,{"$f":"IF(AND('PJ - P'!$C425=\"\",'PJ - P'!$D425=\"\"),\"\",'PJ - P'!V425)","v":""},{"$f":"IF(AND('PJ - P'!$C425=\"\",'PJ - P'!$D425=\"\"),\"\",'PJ - P'!B425)","v":""},{"$f":"IF('PJ - P'!C425=\"\",\"\",'PJ - P'!C425)","v":""},{"$f":"IF('PJ - P'!D425=\"\",\"\",'PJ - P'!D425)","v":""},{"$f":"IF('PJ - P'!H425=\"\",\"\",'PJ - P'!H425)","v":""},{"$f":"IF('PJ - P'!M425=\"\",\"\",'PJ - P'!M425)","v":""},null,{"$f":"IF('PJ - P'!O425=\"\",\"\",'PJ - P'!O425)","v":""}]
[null,{"$f":"IF(AND('PJ - P'!$C426=\"\",'PJ - P'!$D426=\"\"),\"\",'PJ - P'!V426)","v":""},{"$f":"IF(AND('PJ - P'!$C426=\"\",'PJ - P'!$D426=\"\"),\"\",'PJ - P'!B426)","v":""},{"$f":"IF('PJ - P'!C426=\"\",\"\",'PJ - P'!C426)","v":""},{"$f":"IF('PJ - P'!D426=\"\",\"\",'PJ - P'!D426)","v":""},{"$f":"IF('PJ - P'!H426=\"\",\"\",'PJ - P'!H426)","v":""},{"$f":"IF('PJ - P'!M426=\"\",\"\",'PJ - P'!M426)","v":""},null,{"$f":"IF('PJ - P'!O426=\"\",\"\",'PJ - P'!O426)","v":""}]
[null,{"$f":"IF(AND('PJ - P'!$C427=\"\",'PJ - P'!$D427=\"\"),\"\",'PJ - P'!V427)","v":""},{"$f":"IF(AND('PJ - P'!$C427=\"\",'PJ - P'!$D427=\"\"),\"\",'PJ - P'!B427)","v":""},{"$f":"IF('PJ - P'!C427=\"\",\"\",'PJ - P'!C427)","v":""},{"$f":"IF('PJ - P'!D427=\"\",\"\",'PJ - P'!D427)","v":""},{"$f":"IF('PJ - P'!H427=\"\",\"\",'PJ - P'!H427)","v":""},{"$f":"IF('PJ - P'!M427=\"\",\"\",'PJ - P'!M427)","v":""},null,{"$f":"IF('PJ - P'!O427=\"\",\"\",'PJ - P'!O427)","v":""}]
[null,{"$f":"IF(AND('PJ - P'!$C428=\"\",'PJ - P'!$D428=\"\"),\"\",'PJ - P'!V428)","v":""},{"$f":"IF(AND('PJ - P'!$C428=\"\",'PJ - P'!$D428=\"\"),\"\",'PJ - P'!B428)","v":""},{"$f":"IF('PJ - P'!C428=\"\",\"\",'PJ - P'!C428)","v":""},{"$f":"IF('PJ - P'!D428=\"\",\"\",'PJ - P'!D428)","v":""},{"$f":"IF('PJ - P'!H428=\"\",\"\",'PJ - P'!H428)","v":""},{"$f":"IF('PJ - P'!M428=\"\",\"\",'PJ - P'!M428)","v":""},null,{"$f":"IF('PJ - P'!O428=\"\",\"\",'PJ - P'!O428)","v":""}]
[null,{"$f":"IF(AND('PJ - P'!$C429=\"\",'PJ - P'!$D429=\"\"),\"\",'PJ - P'!V429)","v":""},{"$f":"IF(AND('PJ - P'!$C429=\"\",'PJ - P'!$D429=\"\"),\"\",'PJ - P'!B429)","v":""},{"$f":"IF('PJ - P'!C429=\"\",\"\",'PJ - P'!C429)","v":""},{"$f":"IF('PJ - P'!D429=\"\",\"\",'PJ - P'!D429)","v":""},{"$f":"IF('PJ - P'!H429=\"\",\"\",'PJ - P'!H429)","v":""},{"$f":"IF('PJ - P'!M429=\"\",\"\",'PJ - P'!M429)","v":""},null,{"$f":"IF('PJ - P'!O429=\"\",\"\",'PJ - P'!O429)","v":""}]
[null,{"$f":"IF(AND('PJ - P'!$C430=\"\",'PJ - P'!$D430=\"\"),\"\",'PJ - P'!V430)","v":""},{"$f":"IF(AND('PJ - P'!$C430=\"\",'PJ - P'!$D430=\"\"),\"\",'PJ - P'!B430)","v":""},{"$f":"IF('PJ - P'!C430=\"\",\"\",'PJ - P'!C430)","v":""},{"$f":"IF('PJ - P'!D430=\"\",\"\",'PJ - P'!D430)","v":""},{"$f":"IF('PJ - P'!H430=\"\",\"\",'PJ - P'!H430)","v":""},{"$f":"IF('PJ - P'!M430=\"\",\"\",'PJ - P'!M430)","v":""},null,{"$f":"IF('PJ - P'!O430=\"\",\"\",'PJ - P'!O430)","v":""}]
[null,{"$f":"IF(AND('PJ - P'!$C431=\"\",'PJ - P'!$D431=\"\"),\"\",'PJ - P'!V431)","v":""},{"$f":"IF(AND('PJ - P'!$C431=\"\",'PJ - P'!$D431=\"\"),\"\",'PJ - P'!B431)","v":""},{"$f":"IF('PJ - P'!C431=\"\",\"\",'PJ - P'!C431)","v":""},{"$f":"IF('PJ - P'!D431=\"\",\"\",'PJ - P'!D431)","v":""},{"$f":"IF('PJ - P'!H431=\"\",\"\",'PJ - P'!H431)","v":""},{"$f":"IF('PJ - P'!M431=\"\",\"\",'PJ - P'!M431)","v":""},null,{"$f":"IF('PJ - P'!O431=\"\",\"\",'PJ - P'!O431)","v":""}]
[null,{"$f":"IF(AND('PJ - P'!$C432=\"\",'PJ - P'!$D432=\"\"),\"\",'PJ - P'!V432)","v":""},{"$f":"IF(AND('PJ - P'!$C432=\"\",'PJ - P'!$D432=\"\"),\"\",'PJ - P'!B432)","v":""},{"$f":"IF('PJ - P'!C432=\"\",\"\",'PJ - P'!C432)","v":""},{"$f":"IF('PJ - P'!D432=\"\",\"\",'PJ - P'!D432)","v":""},{"$f":"IF('PJ - P'!H432=\"\",\"\",'PJ - P'!H432)","v":""},{"$f":"IF('PJ - P'!M432=\"\",\"\",'PJ - P'!M432)","v":""},null,{"$f":"IF('PJ - P'!O432=\"\",\"\",'PJ - P'!O432)","v":""}]
[null,{"$f":"B$1","v":"Běh na 100m s přek. - Pořadí jednotlivců"}]
[]
[null,{"$f":"B$3","v":"Okresní kolo v PS"},null,null,{"$f":"E$3","v":"Chrast 16.6.2024"}]
[]
[null,{"$f":"Start!$C$5","v":"Dorky"}]
[null,"Pořadí","Start. číslo","Jméno","kolektiv","čas             I. pokusu","čas            II. pokusu",null,"Výsledný čas"]
[]
[null,{"$f":"IF(AND('PJ - P'!$C433=\"\",'PJ - P'!$D433=\"\"),\"\",'PJ - P'!V433)","v":""},{"$f":"IF(AND('PJ - P'!$C433=\"\",'PJ - P'!$D433=\"\"),\"\",'PJ - P'!B433)","v":""},{"$f":"IF('PJ - P'!C433=\"\",\"\",'PJ - P'!C433)","v":""},{"$f":"IF('PJ - P'!D433=\"\",\"\",'PJ - P'!D433)","v":""},{"$f":"IF('PJ - P'!H433=\"\",\"\",'PJ - P'!H433)","v":""},{"$f":"IF('PJ - P'!M433=\"\",\"\",'PJ - P'!M433)","v":""},null,{"$f":"IF('PJ - P'!O433=\"\",\"\",'PJ - P'!O433)","v":""}]
[null,{"$f":"IF(AND('PJ - P'!$C434=\"\",'PJ - P'!$D434=\"\"),\"\",'PJ - P'!V434)","v":""},{"$f":"IF(AND('PJ - P'!$C434=\"\",'PJ - P'!$D434=\"\"),\"\",'PJ - P'!B434)","v":""},{"$f":"IF('PJ - P'!C434=\"\",\"\",'PJ - P'!C434)","v":""},{"$f":"IF('PJ - P'!D434=\"\",\"\",'PJ - P'!D434)","v":""},{"$f":"IF('PJ - P'!H434=\"\",\"\",'PJ - P'!H434)","v":""},{"$f":"IF('PJ - P'!M434=\"\",\"\",'PJ - P'!M434)","v":""},null,{"$f":"IF('PJ - P'!O434=\"\",\"\",'PJ - P'!O434)","v":""}]
[null,{"$f":"IF(AND('PJ - P'!$C435=\"\",'PJ - P'!$D435=\"\"),\"\",'PJ - P'!V435)","v":""},{"$f":"IF(AND('PJ - P'!$C435=\"\",'PJ - P'!$D435=\"\"),\"\",'PJ - P'!B435)","v":""},{"$f":"IF('PJ - P'!C435=\"\",\"\",'PJ - P'!C435)","v":""},{"$f":"IF('PJ - P'!D435=\"\",\"\",'PJ - P'!D435)","v":""},{"$f":"IF('PJ - P'!H435=\"\",\"\",'PJ - P'!H435)","v":""},{"$f":"IF('PJ - P'!M435=\"\",\"\",'PJ - P'!M435)","v":""},null,{"$f":"IF('PJ - P'!O435=\"\",\"\",'PJ - P'!O435)","v":""}]
[null,{"$f":"IF(AND('PJ - P'!$C436=\"\",'PJ - P'!$D436=\"\"),\"\",'PJ - P'!V436)","v":""},{"$f":"IF(AND('PJ - P'!$C436=\"\",'PJ - P'!$D436=\"\"),\"\",'PJ - P'!B436)","v":""},{"$f":"IF('PJ - P'!C436=\"\",\"\",'PJ - P'!C436)","v":""},{"$f":"IF('PJ - P'!D436=\"\",\"\",'PJ - P'!D436)","v":""},{"$f":"IF('PJ - P'!H436=\"\",\"\",'PJ - P'!H436)","v":""},{"$f":"IF('PJ - P'!M436=\"\",\"\",'PJ - P'!M436)","v":""},null,{"$f":"IF('PJ - P'!O436=\"\",\"\",'PJ - P'!O436)","v":""}]
[null,{"$f":"IF(AND('PJ - P'!$C437=\"\",'PJ - P'!$D437=\"\"),\"\",'PJ - P'!V437)","v":""},{"$f":"IF(AND('PJ - P'!$C437=\"\",'PJ - P'!$D437=\"\"),\"\",'PJ - P'!B437)","v":""},{"$f":"IF('PJ - P'!C437=\"\",\"\",'PJ - P'!C437)","v":""},{"$f":"IF('PJ - P'!D437=\"\",\"\",'PJ - P'!D437)","v":""},{"$f":"IF('PJ - P'!H437=\"\",\"\",'PJ - P'!H437)","v":""},{"$f":"IF('PJ - P'!M437=\"\",\"\",'PJ - P'!M437)","v":""},null,{"$f":"IF('PJ - P'!O437=\"\",\"\",'PJ - P'!O437)","v":""}]
[null,{"$f":"IF(AND('PJ - P'!$C438=\"\",'PJ - P'!$D438=\"\"),\"\",'PJ - P'!V438)","v":""},{"$f":"IF(AND('PJ - P'!$C438=\"\",'PJ - P'!$D438=\"\"),\"\",'PJ - P'!B438)","v":""},{"$f":"IF('PJ - P'!C438=\"\",\"\",'PJ - P'!C438)","v":""},{"$f":"IF('PJ - P'!D438=\"\",\"\",'PJ - P'!D438)","v":""},{"$f":"IF('PJ - P'!H438=\"\",\"\",'PJ - P'!H438)","v":""},{"$f":"IF('PJ - P'!M438=\"\",\"\",'PJ - P'!M438)","v":""},null,{"$f":"IF('PJ - P'!O438=\"\",\"\",'PJ - P'!O438)","v":""}]
[null,{"$f":"IF(AND('PJ - P'!$C439=\"\",'PJ - P'!$D439=\"\"),\"\",'PJ - P'!V439)","v":""},{"$f":"IF(AND('PJ - P'!$C439=\"\",'PJ - P'!$D439=\"\"),\"\",'PJ - P'!B439)","v":""},{"$f":"IF('PJ - P'!C439=\"\",\"\",'PJ - P'!C439)","v":""},{"$f":"IF('PJ - P'!D439=\"\",\"\",'PJ - P'!D439)","v":""},{"$f":"IF('PJ - P'!H439=\"\",\"\",'PJ - P'!H439)","v":""},{"$f":"IF('PJ - P'!M439=\"\",\"\",'PJ - P'!M439)","v":""},null,{"$f":"IF('PJ - P'!O439=\"\",\"\",'PJ - P'!O439)","v":""}]
[null,{"$f":"IF(AND('PJ - P'!$C440=\"\",'PJ - P'!$D440=\"\"),\"\",'PJ - P'!V440)","v":""},{"$f":"IF(AND('PJ - P'!$C440=\"\",'PJ - P'!$D440=\"\"),\"\",'PJ - P'!B440)","v":""},{"$f":"IF('PJ - P'!C440=\"\",\"\",'PJ - P'!C440)","v":""},{"$f":"IF('PJ - P'!D440=\"\",\"\",'PJ - P'!D440)","v":""},{"$f":"IF('PJ - P'!H440=\"\",\"\",'PJ - P'!H440)","v":""},{"$f":"IF('PJ - P'!M440=\"\",\"\",'PJ - P'!M440)","v":""},null,{"$f":"IF('PJ - P'!O440=\"\",\"\",'PJ - P'!O440)","v":""}]
[null,{"$f":"IF(AND('PJ - P'!$C441=\"\",'PJ - P'!$D441=\"\"),\"\",'PJ - P'!V441)","v":""},{"$f":"IF(AND('PJ - P'!$C441=\"\",'PJ - P'!$D441=\"\"),\"\",'PJ - P'!B441)","v":""},{"$f":"IF('PJ - P'!C441=\"\",\"\",'PJ - P'!C441)","v":""},{"$f":"IF('PJ - P'!D441=\"\",\"\",'PJ - P'!D441)","v":""},{"$f":"IF('PJ - P'!H441=\"\",\"\",'PJ - P'!H441)","v":""},{"$f":"IF('PJ - P'!M441=\"\",\"\",'PJ - P'!M441)","v":""},null,{"$f":"IF('PJ - P'!O441=\"\",\"\",'PJ - P'!O441)","v":""}]
[null,{"$f":"IF(AND('PJ - P'!$C442=\"\",'PJ - P'!$D442=\"\"),\"\",'PJ - P'!V442)","v":""},{"$f":"IF(AND('PJ - P'!$C442=\"\",'PJ - P'!$D442=\"\"),\"\",'PJ - P'!B442)","v":""},{"$f":"IF('PJ - P'!C442=\"\",\"\",'PJ - P'!C442)","v":""},{"$f":"IF('PJ - P'!D442=\"\",\"\",'PJ - P'!D442)","v":""},{"$f":"IF('PJ - P'!H442=\"\",\"\",'PJ - P'!H442)","v":""},{"$f":"IF('PJ - P'!M442=\"\",\"\",'PJ - P'!M442)","v":""},null,{"$f":"IF('PJ - P'!O442=\"\",\"\",'PJ - P'!O442)","v":""}]
[null,{"$f":"IF(AND('PJ - P'!$C443=\"\",'PJ - P'!$D443=\"\"),\"\",'PJ - P'!V443)","v":""},{"$f":"IF(AND('PJ - P'!$C443=\"\",'PJ - P'!$D443=\"\"),\"\",'PJ - P'!B443)","v":""},{"$f":"IF('PJ - P'!C443=\"\",\"\",'PJ - P'!C443)","v":""},{"$f":"IF('PJ - P'!D443=\"\",\"\",'PJ - P'!D443)","v":""},{"$f":"IF('PJ - P'!H443=\"\",\"\",'PJ - P'!H443)","v":""},{"$f":"IF('PJ - P'!M443=\"\",\"\",'PJ - P'!M443)","v":""},null,{"$f":"IF('PJ - P'!O443=\"\",\"\",'PJ - P'!O443)","v":""}]
[null,{"$f":"IF(AND('PJ - P'!$C444=\"\",'PJ - P'!$D444=\"\"),\"\",'PJ - P'!V444)","v":""},{"$f":"IF(AND('PJ - P'!$C444=\"\",'PJ - P'!$D444=\"\"),\"\",'PJ - P'!B444)","v":""},{"$f":"IF('PJ - P'!C444=\"\",\"\",'PJ - P'!C444)","v":""},{"$f":"IF('PJ - P'!D444=\"\",\"\",'PJ - P'!D444)","v":""},{"$f":"IF('PJ - P'!H444=\"\",\"\",'PJ - P'!H444)","v":""},{"$f":"IF('PJ - P'!M444=\"\",\"\",'PJ - P'!M444)","v":""},null,{"$f":"IF('PJ - P'!O444=\"\",\"\",'PJ - P'!O444)","v":""}]
[null,{"$f":"IF(AND('PJ - P'!$C445=\"\",'PJ - P'!$D445=\"\"),\"\",'PJ - P'!V445)","v":""},{"$f":"IF(AND('PJ - P'!$C445=\"\",'PJ - P'!$D445=\"\"),\"\",'PJ - P'!B445)","v":""},{"$f":"IF('PJ - P'!C445=\"\",\"\",'PJ - P'!C445)","v":""},{"$f":"IF('PJ - P'!D445=\"\",\"\",'PJ - P'!D445)","v":""},{"$f":"IF('PJ - P'!H445=\"\",\"\",'PJ - P'!H445)","v":""},{"$f":"IF('PJ - P'!M445=\"\",\"\",'PJ - P'!M445)","v":""},null,{"$f":"IF('PJ - P'!O445=\"\",\"\",'PJ - P'!O445)","v":""}]
[null,{"$f":"IF(AND('PJ - P'!$C446=\"\",'PJ - P'!$D446=\"\"),\"\",'PJ - P'!V446)","v":""},{"$f":"IF(AND('PJ - P'!$C446=\"\",'PJ - P'!$D446=\"\"),\"\",'PJ - P'!B446)","v":""},{"$f":"IF('PJ - P'!C446=\"\",\"\",'PJ - P'!C446)","v":""},{"$f":"IF('PJ - P'!D446=\"\",\"\",'PJ - P'!D446)","v":""},{"$f":"IF('PJ - P'!H446=\"\",\"\",'PJ - P'!H446)","v":""},{"$f":"IF('PJ - P'!M446=\"\",\"\",'PJ - P'!M446)","v":""},null,{"$f":"IF('PJ - P'!O446=\"\",\"\",'PJ - P'!O446)","v":""}]
[null,{"$f":"IF(AND('PJ - P'!$C447=\"\",'PJ - P'!$D447=\"\"),\"\",'PJ - P'!V447)","v":""},{"$f":"IF(AND('PJ - P'!$C447=\"\",'PJ - P'!$D447=\"\"),\"\",'PJ - P'!B447)","v":""},{"$f":"IF('PJ - P'!C447=\"\",\"\",'PJ - P'!C447)","v":""},{"$f":"IF('PJ - P'!D447=\"\",\"\",'PJ - P'!D447)","v":""},{"$f":"IF('PJ - P'!H447=\"\",\"\",'PJ - P'!H447)","v":""},{"$f":"IF('PJ - P'!M447=\"\",\"\",'PJ - P'!M447)","v":""},null,{"$f":"IF('PJ - P'!O447=\"\",\"\",'PJ - P'!O447)","v":""}]
[null,{"$f":"IF(AND('PJ - P'!$C448=\"\",'PJ - P'!$D448=\"\"),\"\",'PJ - P'!V448)","v":""},{"$f":"IF(AND('PJ - P'!$C448=\"\",'PJ - P'!$D448=\"\"),\"\",'PJ - P'!B448)","v":""},{"$f":"IF('PJ - P'!C448=\"\",\"\",'PJ - P'!C448)","v":""},{"$f":"IF('PJ - P'!D448=\"\",\"\",'PJ - P'!D448)","v":""},{"$f":"IF('PJ - P'!H448=\"\",\"\",'PJ - P'!H448)","v":""},{"$f":"IF('PJ - P'!M448=\"\",\"\",'PJ - P'!M448)","v":""},null,{"$f":"IF('PJ - P'!O448=\"\",\"\",'PJ - P'!O448)","v":""}]
[null,{"$f":"IF(AND('PJ - P'!$C449=\"\",'PJ - P'!$D449=\"\"),\"\",'PJ - P'!V449)","v":""},{"$f":"IF(AND('PJ - P'!$C449=\"\",'PJ - P'!$D449=\"\"),\"\",'PJ - P'!B449)","v":""},{"$f":"IF('PJ - P'!C449=\"\",\"\",'PJ - P'!C449)","v":""},{"$f":"IF('PJ - P'!D449=\"\",\"\",'PJ - P'!D449)","v":""},{"$f":"IF('PJ - P'!H449=\"\",\"\",'PJ - P'!H449)","v":""},{"$f":"IF('PJ - P'!M449=\"\",\"\",'PJ - P'!M449)","v":""},null,{"$f":"IF('PJ - P'!O449=\"\",\"\",'PJ - P'!O449)","v":""}]
[null,{"$f":"IF(AND('PJ - P'!$C450=\"\",'PJ - P'!$D450=\"\"),\"\",'PJ - P'!V450)","v":""},{"$f":"IF(AND('PJ - P'!$C450=\"\",'PJ - P'!$D450=\"\"),\"\",'PJ - P'!B450)","v":""},{"$f":"IF('PJ - P'!C450=\"\",\"\",'PJ - P'!C450)","v":""},{"$f":"IF('PJ - P'!D450=\"\",\"\",'PJ - P'!D450)","v":""},{"$f":"IF('PJ - P'!H450=\"\",\"\",'PJ - P'!H450)","v":""},{"$f":"IF('PJ - P'!M450=\"\",\"\",'PJ - P'!M450)","v":""},null,{"$f":"IF('PJ - P'!O450=\"\",\"\",'PJ - P'!O450)","v":""}]
[null,{"$f":"IF(AND('PJ - P'!$C451=\"\",'PJ - P'!$D451=\"\"),\"\",'PJ - P'!V451)","v":""},{"$f":"IF(AND('PJ - P'!$C451=\"\",'PJ - P'!$D451=\"\"),\"\",'PJ - P'!B451)","v":""},{"$f":"IF('PJ - P'!C451=\"\",\"\",'PJ - P'!C451)","v":""},{"$f":"IF('PJ - P'!D451=\"\",\"\",'PJ - P'!D451)","v":""},{"$f":"IF('PJ - P'!H451=\"\",\"\",'PJ - P'!H451)","v":""},{"$f":"IF('PJ - P'!M451=\"\",\"\",'PJ - P'!M451)","v":""},null,{"$f":"IF('PJ - P'!O451=\"\",\"\",'PJ - P'!O451)","v":""}]
[null,{"$f":"IF(AND('PJ - P'!$C452=\"\",'PJ - P'!$D452=\"\"),\"\",'PJ - P'!V452)","v":""},{"$f":"IF(AND('PJ - P'!$C452=\"\",'PJ - P'!$D452=\"\"),\"\",'PJ - P'!B452)","v":""},{"$f":"IF('PJ - P'!C452=\"\",\"\",'PJ - P'!C452)","v":""},{"$f":"IF('PJ - P'!D452=\"\",\"\",'PJ - P'!D452)","v":""},{"$f":"IF('PJ - P'!H452=\"\",\"\",'PJ - P'!H452)","v":""},{"$f":"IF('PJ - P'!M452=\"\",\"\",'PJ - P'!M452)","v":""},null,{"$f":"IF('PJ - P'!O452=\"\",\"\",'PJ - P'!O452)","v":""}]
[null,{"$f":"IF(AND('PJ - P'!$C453=\"\",'PJ - P'!$D453=\"\"),\"\",'PJ - P'!V453)","v":""},{"$f":"IF(AND('PJ - P'!$C453=\"\",'PJ - P'!$D453=\"\"),\"\",'PJ - P'!B453)","v":""},{"$f":"IF('PJ - P'!C453=\"\",\"\",'PJ - P'!C453)","v":""},{"$f":"IF('PJ - P'!D453=\"\",\"\",'PJ - P'!D453)","v":""},{"$f":"IF('PJ - P'!H453=\"\",\"\",'PJ - P'!H453)","v":""},{"$f":"IF('PJ - P'!M453=\"\",\"\",'PJ - P'!M453)","v":""},null,{"$f":"IF('PJ - P'!O453=\"\",\"\",'PJ - P'!O453)","v":""}]
[null,{"$f":"IF(AND('PJ - P'!$C454=\"\",'PJ - P'!$D454=\"\"),\"\",'PJ - P'!V454)","v":""},{"$f":"IF(AND('PJ - P'!$C454=\"\",'PJ - P'!$D454=\"\"),\"\",'PJ - P'!B454)","v":""},{"$f":"IF('PJ - P'!C454=\"\",\"\",'PJ - P'!C454)","v":""},{"$f":"IF('PJ - P'!D454=\"\",\"\",'PJ - P'!D454)","v":""},{"$f":"IF('PJ - P'!H454=\"\",\"\",'PJ - P'!H454)","v":""},{"$f":"IF('PJ - P'!M454=\"\",\"\",'PJ - P'!M454)","v":""},null,{"$f":"IF('PJ - P'!O454=\"\",\"\",'PJ - P'!O454)","v":""}]
[null,{"$f":"IF(AND('PJ - P'!$C455=\"\",'PJ - P'!$D455=\"\"),\"\",'PJ - P'!V455)","v":""},{"$f":"IF(AND('PJ - P'!$C455=\"\",'PJ - P'!$D455=\"\"),\"\",'PJ - P'!B455)","v":""},{"$f":"IF('PJ - P'!C455=\"\",\"\",'PJ - P'!C455)","v":""},{"$f":"IF('PJ - P'!D455=\"\",\"\",'PJ - P'!D455)","v":""},{"$f":"IF('PJ - P'!H455=\"\",\"\",'PJ - P'!H455)","v":""},{"$f":"IF('PJ - P'!M455=\"\",\"\",'PJ - P'!M455)","v":""},null,{"$f":"IF('PJ - P'!O455=\"\",\"\",'PJ - P'!O455)","v":""}]
[null,{"$f":"IF(AND('PJ - P'!$C456=\"\",'PJ - P'!$D456=\"\"),\"\",'PJ - P'!V456)","v":""},{"$f":"IF(AND('PJ - P'!$C456=\"\",'PJ - P'!$D456=\"\"),\"\",'PJ - P'!B456)","v":""},{"$f":"IF('PJ - P'!C456=\"\",\"\",'PJ - P'!C456)","v":""},{"$f":"IF('PJ - P'!D456=\"\",\"\",'PJ - P'!D456)","v":""},{"$f":"IF('PJ - P'!H456=\"\",\"\",'PJ - P'!H456)","v":""},{"$f":"IF('PJ - P'!M456=\"\",\"\",'PJ - P'!M456)","v":""},null,{"$f":"IF('PJ - P'!O456=\"\",\"\",'PJ - P'!O456)","v":""}]
[null,{"$f":"IF(AND('PJ - P'!$C457=\"\",'PJ - P'!$D457=\"\"),\"\",'PJ - P'!V457)","v":""},{"$f":"IF(AND('PJ - P'!$C457=\"\",'PJ - P'!$D457=\"\"),\"\",'PJ - P'!B457)","v":""},{"$f":"IF('PJ - P'!C457=\"\",\"\",'PJ - P'!C457)","v":""},{"$f":"IF('PJ - P'!D457=\"\",\"\",'PJ - P'!D457)","v":""},{"$f":"IF('PJ - P'!H457=\"\",\"\",'PJ - P'!H457)","v":""},{"$f":"IF('PJ - P'!M457=\"\",\"\",'PJ - P'!M457)","v":""},null,{"$f":"IF('PJ - P'!O457=\"\",\"\",'PJ - P'!O457)","v":""}]
[null,{"$f":"IF(AND('PJ - P'!$C458=\"\",'PJ - P'!$D458=\"\"),\"\",'PJ - P'!V458)","v":""},{"$f":"IF(AND('PJ - P'!$C458=\"\",'PJ - P'!$D458=\"\"),\"\",'PJ - P'!B458)","v":""},{"$f":"IF('PJ - P'!C458=\"\",\"\",'PJ - P'!C458)","v":""},{"$f":"IF('PJ - P'!D458=\"\",\"\",'PJ - P'!D458)","v":""},{"$f":"IF('PJ - P'!H458=\"\",\"\",'PJ - P'!H458)","v":""},{"$f":"IF('PJ - P'!M458=\"\",\"\",'PJ - P'!M458)","v":""},null,{"$f":"IF('PJ - P'!O458=\"\",\"\",'PJ - P'!O458)","v":""}]
[null,{"$f":"IF(AND('PJ - P'!$C459=\"\",'PJ - P'!$D459=\"\"),\"\",'PJ - P'!V459)","v":""},{"$f":"IF(AND('PJ - P'!$C459=\"\",'PJ - P'!$D459=\"\"),\"\",'PJ - P'!B459)","v":""},{"$f":"IF('PJ - P'!C459=\"\",\"\",'PJ - P'!C459)","v":""},{"$f":"IF('PJ - P'!D459=\"\",\"\",'PJ - P'!D459)","v":""},{"$f":"IF('PJ - P'!H459=\"\",\"\",'PJ - P'!H459)","v":""},{"$f":"IF('PJ - P'!M459=\"\",\"\",'PJ - P'!M459)","v":""},null,{"$f":"IF('PJ - P'!O459=\"\",\"\",'PJ - P'!O459)","v":""}]
[null,{"$f":"IF(AND('PJ - P'!$C460=\"\",'PJ - P'!$D460=\"\"),\"\",'PJ - P'!V460)","v":""},{"$f":"IF(AND('PJ - P'!$C460=\"\",'PJ - P'!$D460=\"\"),\"\",'PJ - P'!B460)","v":""},{"$f":"IF('PJ - P'!C460=\"\",\"\",'PJ - P'!C460)","v":""},{"$f":"IF('PJ - P'!D460=\"\",\"\",'PJ - P'!D460)","v":""},{"$f":"IF('PJ - P'!H460=\"\",\"\",'PJ - P'!H460)","v":""},{"$f":"IF('PJ - P'!M460=\"\",\"\",'PJ - P'!M460)","v":""},null,{"$f":"IF('PJ - P'!O460=\"\",\"\",'PJ - P'!O460)","v":""}]
[null,{"$f":"IF(AND('PJ - P'!$C461=\"\",'PJ - P'!$D461=\"\"),\"\",'PJ - P'!V461)","v":""},{"$f":"IF(AND('PJ - P'!$C461=\"\",'PJ - P'!$D461=\"\"),\"\",'PJ - P'!B461)","v":""},{"$f":"IF('PJ - P'!C461=\"\",\"\",'PJ - P'!C461)","v":""},{"$f":"IF('PJ - P'!D461=\"\",\"\",'PJ - P'!D461)","v":""},{"$f":"IF('PJ - P'!H461=\"\",\"\",'PJ - P'!H461)","v":""},{"$f":"IF('PJ - P'!M461=\"\",\"\",'PJ - P'!M461)","v":""},null,{"$f":"IF('PJ - P'!O461=\"\",\"\",'PJ - P'!O461)","v":""}]
[null,{"$f":"IF(AND('PJ - P'!$C462=\"\",'PJ - P'!$D462=\"\"),\"\",'PJ - P'!V462)","v":""},{"$f":"IF(AND('PJ - P'!$C462=\"\",'PJ - P'!$D462=\"\"),\"\",'PJ - P'!B462)","v":""},{"$f":"IF('PJ - P'!C462=\"\",\"\",'PJ - P'!C462)","v":""},{"$f":"IF('PJ - P'!D462=\"\",\"\",'PJ - P'!D462)","v":""},{"$f":"IF('PJ - P'!H462=\"\",\"\",'PJ - P'!H462)","v":""},{"$f":"IF('PJ - P'!M462=\"\",\"\",'PJ - P'!M462)","v":""},null,{"$f":"IF('PJ - P'!O462=\"\",\"\",'PJ - P'!O462)","v":""}]
[null,{"$f":"IF(AND('PJ - P'!$C463=\"\",'PJ - P'!$D463=\"\"),\"\",'PJ - P'!V463)","v":""},{"$f":"IF(AND('PJ - P'!$C463=\"\",'PJ - P'!$D463=\"\"),\"\",'PJ - P'!B463)","v":""},{"$f":"IF('PJ - P'!C463=\"\",\"\",'PJ - P'!C463)","v":""},{"$f":"IF('PJ - P'!D463=\"\",\"\",'PJ - P'!D463)","v":""},{"$f":"IF('PJ - P'!H463=\"\",\"\",'PJ - P'!H463)","v":""},{"$f":"IF('PJ - P'!M463=\"\",\"\",'PJ - P'!M463)","v":""},null,{"$f":"IF('PJ - P'!O463=\"\",\"\",'PJ - P'!O463)","v":""}]
[null,{"$f":"IF(AND('PJ - P'!$C464=\"\",'PJ - P'!$D464=\"\"),\"\",'PJ - P'!V464)","v":""},{"$f":"IF(AND('PJ - P'!$C464=\"\",'PJ - P'!$D464=\"\"),\"\",'PJ - P'!B464)","v":""},{"$f":"IF('PJ - P'!C464=\"\",\"\",'PJ - P'!C464)","v":""},{"$f":"IF('PJ - P'!D464=\"\",\"\",'PJ - P'!D464)","v":""},{"$f":"IF('PJ - P'!H464=\"\",\"\",'PJ - P'!H464)","v":""},{"$f":"IF('PJ - P'!M464=\"\",\"\",'PJ - P'!M464)","v":""},null,{"$f":"IF('PJ - P'!O464=\"\",\"\",'PJ - P'!O464)","v":""}]
[null,{"$f":"IF(AND('PJ - P'!$C465=\"\",'PJ - P'!$D465=\"\"),\"\",'PJ - P'!V465)","v":""},{"$f":"IF(AND('PJ - P'!$C465=\"\",'PJ - P'!$D465=\"\"),\"\",'PJ - P'!B465)","v":""},{"$f":"IF('PJ - P'!C465=\"\",\"\",'PJ - P'!C465)","v":""},{"$f":"IF('PJ - P'!D465=\"\",\"\",'PJ - P'!D465)","v":""},{"$f":"IF('PJ - P'!H465=\"\",\"\",'PJ - P'!H465)","v":""},{"$f":"IF('PJ - P'!M465=\"\",\"\",'PJ - P'!M465)","v":""},null,{"$f":"IF('PJ - P'!O465=\"\",\"\",'PJ - P'!O465)","v":""}]
[null,{"$f":"IF(AND('PJ - P'!$C466=\"\",'PJ - P'!$D466=\"\"),\"\",'PJ - P'!V466)","v":""},{"$f":"IF(AND('PJ - P'!$C466=\"\",'PJ - P'!$D466=\"\"),\"\",'PJ - P'!B466)","v":""},{"$f":"IF('PJ - P'!C466=\"\",\"\",'PJ - P'!C466)","v":""},{"$f":"IF('PJ - P'!D466=\"\",\"\",'PJ - P'!D466)","v":""},{"$f":"IF('PJ - P'!H466=\"\",\"\",'PJ - P'!H466)","v":""},{"$f":"IF('PJ - P'!M466=\"\",\"\",'PJ - P'!M466)","v":""},null,{"$f":"IF('PJ - P'!O466=\"\",\"\",'PJ - P'!O466)","v":""}]
[null,{"$f":"IF(AND('PJ - P'!$C467=\"\",'PJ - P'!$D467=\"\"),\"\",'PJ - P'!V467)","v":""},{"$f":"IF(AND('PJ - P'!$C467=\"\",'PJ - P'!$D467=\"\"),\"\",'PJ - P'!B467)","v":""},{"$f":"IF('PJ - P'!C467=\"\",\"\",'PJ - P'!C467)","v":""},{"$f":"IF('PJ - P'!D467=\"\",\"\",'PJ - P'!D467)","v":""},{"$f":"IF('PJ - P'!H467=\"\",\"\",'PJ - P'!H467)","v":""},{"$f":"IF('PJ - P'!M467=\"\",\"\",'PJ - P'!M467)","v":""},null,{"$f":"IF('PJ - P'!O467=\"\",\"\",'PJ - P'!O467)","v":""}]
[null,{"$f":"IF(AND('PJ - P'!$C468=\"\",'PJ - P'!$D468=\"\"),\"\",'PJ - P'!V468)","v":""},{"$f":"IF(AND('PJ - P'!$C468=\"\",'PJ - P'!$D468=\"\"),\"\",'PJ - P'!B468)","v":""},{"$f":"IF('PJ - P'!C468=\"\",\"\",'PJ - P'!C468)","v":""},{"$f":"IF('PJ - P'!D468=\"\",\"\",'PJ - P'!D468)","v":""},{"$f":"IF('PJ - P'!H468=\"\",\"\",'PJ - P'!H468)","v":""},{"$f":"IF('PJ - P'!M468=\"\",\"\",'PJ - P'!M468)","v":""},null,{"$f":"IF('PJ - P'!O468=\"\",\"\",'PJ - P'!O468)","v":""}]

{"sheet":"PJ-C","index":11,"n_rows":170,"n_cols":28,"rows_kept":170,"cut":false,"hidden":false,"merged":[[0,1,0,17],[84,17,86,17],[4,2,6,2],[7,2,9,2],[4,12,6,12],[4,13,6,13],[10,15,12,15],[10,13,12,13],[75,13,77,13],[78,15,80,15],[65,1,67,1],[65,2,67,2],[65,12,67,12],[65,13,67,13],[75,12,77,12],[72,1,74,1],[72,2,74,2],[72,12,74,12],[7,13,9,13],[7,12,9,12],[53,2,55,2],[53,12,55,12],[59,1,61,1],[59,2,61,2],[53,15,55,15],[31,12,33,12],[28,15,30,15],[31,15,33,15],[38,15,40,15],[41,15,43,15],[44,15,46,15],[47,15,49,15],[28,13,30,13],[31,13,33,13],[50,15,52,15],[34,1,34,17],[36,4,36,11],[28,1,30,1],[53,13,55,13],[53,1,55,1],[44,13,46,13],[38,13,40,13],[41,1,43,1],[41,2,43,2],[41,12,43,12],[41,13,43,13],[38,1,40,1],[38,12,40,12],[2,4,2,11],[28,12,30,12],[31,1,33,1],[22,2,24,2],[25,2,27,2],[28,2,30,2],[19,2,21,2],[31,2,33,2],[13,1,15,1],[4,1,6,1],[7,1,9,1],[10,12,12,12],[19,1,21,1],[22,1,24,1],[25,1,27,1],[13,12,15,12],[16,12,18,12],[25,12,27,12],[19,12,21,12],[22,12,24,12],[38,2,40,2],[16,1,18,1],[10,2,12,2],[13,2,15,2],[16,2,18,2],[10,1,12,1],[4,17,6,17],[7,17,9,17],[10,17,12,17],[13,17,15,17],[28,17,30,17],[31,17,33,17],[25,15,27,15],[25,13,27,13],[13,15,15,15],[16,15,18,15],[19,15,21,15],[22,15,24,15],[4,15,6,15],[7,15,9,15],[13,13,15,13],[16,13,18,13],[19,13,21,13],[22,13,24,13],[84,15,86,15],[81,1,83,1],[81,2,83,2],[81,12,83,12],[81,13,83,13],[84,1,86,1],[84,2,86,2],[84,12,86,12],[84,13,86,13],[50,1,52,1],[50,2,52,2],[50,12,52,12],[50,13,52,13],[47,1,49,1],[47,2,49,2],[47,12,49,12],[47,13,49,13],[44,1,46,1],[44,2,46,2],[44,12,46,12],[53,17,55,17],[38,17,40,17],[41,17,43,17],[44,17,46,17],[47,17,49,17],[50,17,52,17],[16,17,18,17],[19,17,21,17],[22,17,24,17],[25,17,27,17],[81,17,83,17],[56,17,58,17],[59,17,61,17],[62,17,64,17],[65,17,67,17],[68,1,68,17],[70,4,70,11],[72,17,74,17],[75,17,77,17],[81,15,83,15],[56,15,58,15],[59,15,61,15],[56,1,58,1],[56,2,58,2],[56,12,58,12],[56,13,58,13],[59,12,61,12],[62,1,64,1],[62,2,64,2],[62,12,64,12],[62,13,64,13],[59,13,61,13],[62,15,64,15],[65,15,67,15],[72,13,74,13],[75,1,77,1],[75,2,77,2],[78,17,80,17],[72,15,74,15],[75,15,77,15],[78,1,80,1],[78,2,80,2],[78,12,80,12],[78,13,80,13],[87,15,89,15],[87,17,89,17],[90,15,92,15],[90,17,92,17],[93,15,95,15],[93,17,95,17],[90,1,92,1],[90,2,92,2],[90,12,92,12],[90,13,92,13],[87,1,89,1],[87,2,89,2],[87,12,89,12],[87,13,89,13],[96,15,98,15],[96,17,98,17],[93,1,95,1],[93,2,95,2],[96,1,98,1],[96,2,98,2],[96,12,98,12],[96,13,98,13],[93,12,95,12],[93,13,95,13],[99,15,101,15],[99,17,101,17],[136,1,136,17],[138,4,138,11],[102,1,102,17],[104,4,104,11],[106,1,108,1],[106,2,108,2],[99,1,101,1],[99,2,101,2],[99,12,101,12],[99,13,101,13],[106,15,108,15],[106,17,108,17],[109,1,111,1],[109,2,111,2],[109,12,111,12],[109,13,111,13],[109,15,111,15],[109,17,111,17],[106,12,108,12],[106,13,108,13],[112,15,114,15],[112,17,114,17],[140,15,142,15],[140,17,142,17],[143,1,145,1],[143,2,145,2],[143,12,145,12],[143,13,145,13],[143,15,145,15],[143,17,145,17],[140,1,142,1],[140,2,142,2],[140,12,142,12],[140,13,142,13],[146,15,148,15],[146,17,148,17],[149,15,151,15],[149,17,151,17],[152,15,154,15],[152,17,154,17],[149,1,151,1],[149,2,151,2],[149,12,151,12],[149,13,151,13],[146,1,148,1],[146,2,148,2],[146,12,148,12],[146,13,148,13],[155,15,157,15],[155,17,157,17],[152,1,154,1],[152,2,154,2],[155,1,157,1],[155,2,157,2],[155,12,157,12],[155,13,157,13],[152,12,154,12],[152,13,154,13],[158,15,160,15],[158,17,160,17],[161,15,163,15],[161,17,163,17],[164,15,166,15],[164,17,166,17],[161,1,163,1],[161,2,163,2],[161,12,163,12],[161,13,163,13],[158,1,160,1],[158,2,160,2],[158,12,160,12],[158,13,160,13],[167,15,169,15],[167,17,169,17],[164,1,166,1],[164,2,166,2],[167,1,169,1],[167,2,169,2],[167,12,169,12],[167,13,169,13],[164,12,166,12],[164,13,166,13],[115,15,117,15],[115,17,117,17],[118,15,120,15],[118,17,120,17],[115,1,117,1],[115,2,117,2],[115,12,117,12],[115,13,117,13],[112,1,114,1],[112,2,114,2],[112,12,114,12],[112,13,114,13],[121,15,123,15],[121,17,123,17],[118,1,120,1],[118,2,120,2],[121,1,123,1],[121,2,123,2],[121,12,123,12],[121,13,123,13],[118,12,120,12],[118,13,120,13],[124,15,126,15],[124,17,126,17],[127,15,129,15],[127,17,129,17],[130,15,132,15],[130,17,132,17],[127,1,129,1],[127,2,129,2],[127,12,129,12],[127,13,129,13],[124,1,126,1],[124,2,126,2],[124,12,126,12],[124,13,126,13],[133,15,135,15],[133,17,135,17],[130,1,132,1],[130,2,132,2],[133,1,135,1],[133,2,135,2],[133,12,135,12],[133,13,135,13],[130,12,132,12],[130,13,132,13],[4,27,6,27],[7,19,9,19],[7,20,9,20],[7,21,9,21],[7,22,9,22],[7,23,9,23],[7,24,9,24],[7,25,9,25],[7,26,9,26],[7,27,9,27],[4,23,6,23],[4,24,6,24],[4,25,6,25],[4,26,6,26],[4,19,6,19],[4,20,6,20],[4,21,6,21],[4,22,6,22],[10,27,12,27],[13,19,15,19],[13,20,15,20],[13,21,15,21],[13,22,15,22],[13,23,15,23],[13,24,15,24],[13,25,15,25],[13,26,15,26],[13,27,15,27],[10,23,12,23],[10,24,12,24],[10,25,12,25],[10,26,12,26],[10,19,12,19],[10,20,12,20],[10,21,12,21],[10,22,12,22],[16,27,18,27],[19,19,21,19],[19,20,21,20],[19,21,21,21],[19,22,21,22],[19,23,21,23],[19,24,21,24],[19,25,21,25],[19,26,21,26],[19,27,21,27],[16,23,18,23],[16,24,18,24],[16,25,18,25],[16,26,18,26],[16,19,18,19],[16,20,18,20],[16,21,18,21],[16,22,18,22],[22,27,24,27],[25,19,27,19],[25,20,27,20],[25,21,27,21],[25,22,27,22],[25,23,27,23],[25,24,27,24],[25,25,27,25],[25,26,27,26],[25,27,27,27],[22,23,24,23],[22,24,24,24],[22,25,24,25],[22,26,24,26],[22,19,24,19],[22,20,24,20],[22,21,24,21],[22,22,24,22],[28,27,30,27],[31,19,33,19],[31,20,33,20],[31,21,33,21],[31,22,33,22],[31,23,33,23],[31,24,33,24],[31,25,33,25],[31,26,33,26],[31,27,33,27],[28,23,30,23],[28,24,30,24],[28,25,30,25],[28,26,30,26],[28,19,30,19],[28,20,30,20],[28,21,30,21],[28,22,30,22],[38,27,40,27],[41,19,43,19],[41,20,43,20],[41,21,43,21],[41,22,43,22],[41,23,43,23],[41,24,43,24],[41,25,43,25],[41,26,43,26],[41,27,43,27],[38,23,40,23],[38,24,40,24],[38,25,40,25],[38,26,40,26],[38,19,40,19],[38,20,40,20],[38,21,40,21],[38,22,40,22],[44,27,46,27],[47,19,49,19],[47,20,49,20],[47,21,49,21],[47,22,49,22],[47,23,49,23],[47,24,49,24],[47,25,49,25],[47,26,49,26],[47,27,49,27],[44,23,46,23],[44,24,46,24],[44,25,46,25],[44,26,46,26],[44,19,46,19],[44,20,46,20],[44,21,46,21],[44,22,46,22],[50,27,52,27],[53,19,55,19],[53,20,55,20],[53,21,55,21],[53,22,55,22],[53,23,55,23],[53,24,55,24],[53,25,55,25],[53,26,55,26],[53,27,55,27],[50,23,52,23],[50,24,52,24],[50,25,52,25],[50,26,52,26],[50,19,52,19],[50,20,52,20],[50,21,52,21],[50,22,52,22],[56,27,58,27],[59,19,61,19],[59,20,61,20],[59,21,61,21],[59,22,61,22],[59,23,61,23],[59,24,61,24],[59,25,61,25],[59,26,61,26],[59,27,61,27],[56,23,58,23],[56,24,58,24],[56,25,58,25],[56,26,58,26],[56,19,58,19],[56,20,58,20],[56,21,58,21],[56,22,58,22],[62,27,64,27],[65,19,67,19],[65,20,67,20],[65,21,67,21],[65,22,67,22],[65,23,67,23],[65,24,67,24],[65,25,67,25],[65,26,67,26],[65,27,67,27],[62,23,64,23],[62,24,64,24],[62,25,64,25],[62,26,64,26],[62,19,64,19],[62,20,64,20],[62,21,64,21],[62,22,64,22],[72,27,74,27],[75,19,77,19],[75,20,77,20],[75,21,77,21],[75,22,77,22],[75,23,77,23],[75,24,77,24],[75,25,77,25],[75,26,77,26],[75,27,77,27],[72,23,74,23],[72,24,74,24],[72,25,74,25],[72,26,74,26],[72,19,74,19],[72,20,74,20],[72,21,74,21],[72,22,74,22],[78,27,80,27],[81,19,83,19],[81,20,83,20],[81,21,83,21],[81,22,83,22],[81,23,83,23],[81,24,83,24],[81,25,83,25],[81,26,83,26],[81,27,83,27],[78,23,80,23],[78,24,80,24],[78,25,80,25],[78,26,80,26],[78,19,80,19],[78,20,80,20],[78,21,80,21],[78,22,80,22],[84,27,86,27],[87,19,89,19],[87,20,89,20],[87,21,89,21],[87,22,89,22],[87,23,89,23],[87,24,89,24],[87,25,89,25],[87,26,89,26],[87,27,89,27],[84,23,86,23],[84,24,86,24],[84,25,86,25],[84,26,86,26],[84,19,86,19],[84,20,86,20],[84,21,86,21],[84,22,86,22],[90,27,92,27],[93,19,95,19],[93,20,95,20],[93,21,95,21],[93,22,95,22],[93,23,95,23],[93,24,95,24],[93,25,95,25],[93,26,95,26],[93,27,95,27],[90,23,92,23],[90,24,92,24],[90,25,92,25],[90,26,92,26],[90,19,92,19],[90,20,92,20],[90,21,92,21],[90,22,92,22],[96,27,98,27],[99,19,101,19],[99,20,101,20],[99,21,101,21],[99,22,101,22],[99,23,101,23],[99,24,101,24],[99,25,101,25],[99,26,101,26],[99,27,101,27],[96,23,98,23],[96,24,98,24],[96,25,98,25],[96,26,98,26],[96,19,98,19],[96,20,98,20],[96,21,98,21],[96,22,98,22],[106,27,108,27],[109,19,111,19],[109,20,111,20],[109,21,111,21],[109,22,111,22],[109,23,111,23],[109,24,111,24],[109,25,111,25],[109,26,111,26],[109,27,111,27],[106,23,108,23],[106,24,108,24],[106,25,108,25],[106,26,108,26],[106,19,108,19],[106,20,108,20],[106,21,108,21],[106,22,108,22],[112,27,114,27],[115,19,117,19],[115,20,117,20],[115,21,117,21],[115,22,117,22],[115,23,117,23],[115,24,117,24],[115,25,117,25],[115,26,117,26],[115,27,117,27],[112,23,114,23],[112,24,114,24],[112,25,114,25],[112,26,114,26],[112,19,114,19],[112,20,114,20],[112,21,114,21],[112,22,114,22],[118,27,120,27],[121,19,123,19],[121,20,123,20],[121,21,123,21],[121,22,123,22],[121,23,123,23],[121,24,123,24],[121,25,123,25],[121,26,123,26],[121,27,123,27],[118,23,120,23],[118,24,120,24],[118,25,120,25],[118,26,120,26],[118,19,120,19],[118,20,120,20],[118,21,120,21],[118,22,120,22],[124,27,126,27],[127,19,129,19],[127,20,129,20],[127,21,129,21],[127,22,129,22],[127,23,129,23],[127,24,129,24],[127,25,129,25],[127,26,129,26],[127,27,129,27],[124,23,126,23],[124,24,126,24],[124,25,126,25],[124,26,126,26],[124,19,126,19],[124,20,126,20],[124,21,126,21],[124,22,126,22],[130,27,132,27],[133,19,135,19],[133,20,135,20],[133,21,135,21],[133,22,135,22],[133,23,135,23],[133,24,135,24],[133,25,135,25],[133,26,135,26],[133,27,135,27],[130,23,132,23],[130,24,132,24],[130,25,132,25],[130,26,132,26],[130,19,132,19],[130,20,132,20],[130,21,132,21],[130,22,132,22],[140,27,142,27],[143,19,145,19],[143,20,145,20],[143,21,145,21],[143,22,145,22],[143,23,145,23],[143,24,145,24],[143,25,145,25],[143,26,145,26],[143,27,145,27],[140,23,142,23],[140,24,142,24],[140,25,142,25],[140,26,142,26],[140,19,142,19],[140,20,142,20],[140,21,142,21],[140,22,142,22],[146,27,148,27],[149,19,151,19],[149,20,151,20],[149,21,151,21],[149,22,151,22],[149,23,151,23],[149,24,151,24],[149,25,151,25],[149,26,151,26],[149,27,151,27],[146,23,148,23],[146,24,148,24],[146,25,148,25],[146,26,148,26],[146,19,148,19],[146,20,148,20],[146,21,148,21],[146,22,148,22],[152,27,154,27],[155,19,157,19],[155,20,157,20],[155,21,157,21],[155,22,157,22],[155,23,157,23],[155,24,157,24],[155,25,157,25],[155,26,157,26],[155,27,157,27],[152,23,154,23],[152,24,154,24],[152,25,154,25],[152,26,154,26],[152,19,154,19],[152,20,154,20],[152,21,154,21],[152,22,154,22],[158,27,160,27],[161,19,163,19],[161,20,163,20],[161,21,163,21],[161,22,163,22],[161,23,163,23],[161,24,163,24],[161,25,163,25],[161,26,163,26],[161,27,163,27],[158,23,160,23],[158,24,160,24],[158,25,160,25],[158,26,160,26],[158,19,160,19],[158,20,160,20],[158,21,160,21],[158,22,160,22],[164,27,166,27],[167,19,169,19],[167,20,169,20],[167,21,169,21],[167,22,169,22],[167,23,169,23],[167,24,169,24],[167,25,169,25],[167,26,169,26],[167,27,169,27],[164,23,166,23],[164,24,166,24],[164,25,166,25],[164,26,166,26],[164,19,166,19],[164,20,166,20],[164,21,166,21],[164,22,166,22]]}
[null,"Běh na 100m s překážkami - Pořadí družstev"]
[null,null,null,null,null,null,null,null,null,null,null,null,5]
[null,null,{"$f":"Start!$C$5","v":"Dorky"},null,"Soutěžící"]
[null,"st.č.","SDH","Pokus",1,2,3,4,5,6,7,8,"P","Suma časů",null,"Poř.",null,"Poř.",null,1,2,3,4,5,6,7,8,9]
[null,{"$f":"Start!B7","v":1},{"$f":"IF(Start!C7=\"\",\"\",Start!C7)","v":"Stéblová"},"1. pokus",19.88,19.809999999999999,19.55,20.5,21.71,22.2,22.55,null,{"$f":"IF(C5=\"\",\"\",COUNT(E7:L7))","v":7},{"$f":"IF(C5=\"\",\"\",IF(AND(M5=0,COUNTIF(E7:L7,\"NP\")=0),\"DNS\",IF(M5<M$2,\"NP\",SUM(T5:AB7))))","v":100.9},null,{"$f":"IF(C5=\"\",\"\",IF(OR(N5=\"NP\",N5=\"DNS\"),Start!$E$5,RANK(N5,N$5:N$168,1)))","v":2},null,{"$f":"IF(D5=\"\",\"\",IF(OR(P5=\"NP\",P5=\"DNS\"),IF(P5=\"NP\",MAX(P$5:P$85)+COUNTIF((P$5:P$85),MAX(P$5:P$85)),MAX(P$5:P$85)+COUNTIF((P$5:P$85),MAX(P$5:P$85))+COUNTIF((P$5:P$85),\"NP\")),P5))","v":2},null,{"$f":"IF($C5=\"\",\"\",IF(T$4>$M$2,0,IF(ISNA(SMALL($E7:$L7,1)),0,SMALL($E7:$L7,1))))","v":19.46},{"$f":"IF($C5=\"\",\"\",IF(U$4>$M$2,0,IF(ISNA(SMALL($E7:$L7,2)),0,SMALL($E7:$L7,2))))","v":19.55},{"$f":"IF($C5=\"\",\"\",IF(V$4>$M$2,0,IF(ISNA(SMALL($E7:$L7,3)),0,SMALL($E7:$L7,3))))","v":19.809999999999999},{"$f":"IF($C5=\"\",\"\",IF(W$4>$M$2,0,IF(ISNA(SMALL($E7:$L7,4)),0,SMALL($E7:$L7,4))))","v":20.5},{"$f":"IF($C5=\"\",\"\",IF(X$4>$M$2,0,IF(ISNA(SMALL($E7:$L7,5)),0,SMALL($E7:$L7,5))))","v":21.58},{"$f":"IF($C5=\"\",\"\",IF(Y$4>$M$2,0,IF(ISNA(SMALL($E7:$L7,6)),0,SMALL($E7:$L7,6))))","v":0},{"$f":"IF($C5=\"\",\"\",IF(Z$4>$M$2,0,IF(ISNA(SMALL($E7:$L7,7)),0,SMALL($E7:$L7,7))))","v":0},{"$f":"IF($C5=\"\",\"\",IF(AA$4>$M$2,0,IF(ISNA(SMALL($E7:$L7,8)),0,SMALL($E7:$L7,8))))","v":0},{"$f":"IF($C5=\"\",\"\",IF(AB$4>$M$2,0,IF(ISNA(SMALL($E7:$L7,9)),0,SMALL($E7:$L7,9))))","v":0}]
[null,null,null,"2. pokus",19.46,"NP",20.59,24.95,21.58,23.25,"NP"]
[null,null,null,"čas",{"$f":"IF(OR($C5=\"\",E5=\"\",E6=\"\"),\"\",IF(OR(AND(E5=\"NP\",E6=\"NP\"),AND(E5=\"DNS\",E6=\"DNS\")),E5,IF(AND(E5=\"NP\",E6=\"DNS\"),E5,IF(AND(E5=\"DNS\",E6=\"NP\"),E6,MIN(E5,E6)))))","v":19.46},19.809999999999999,19.55,20.5,21.58,22.2,22.55,""]
[null,{"$f":"Start!B8","v":2},{"$f":"IF(Start!C8=\"\",\"\",Start!C8)","v":"Lukavice"},"1. pokus",21.1,22.97,20.62,20.329999999999998,21.29,21.37,28.43,null,{"$f":"IF(C8=\"\",\"\",COUNT(E10:L10))","v":7},{"$f":"IF(C8=\"\",\"\",IF(AND(M8=0,COUNTIF(E10:L10,\"NP\")=0),\"DNS\",IF(M8<M$2,\"NP\",SUM(T8:AB10))))","v":103.97},null,{"$f":"IF(C8=\"\",\"\",IF(OR(N8=\"NP\",N8=\"DNS\"),Start!$E$5,RANK(N8,N$5:N$168,1)))","v":3},null,{"$f":"IF(D8=\"\",\"\",IF(OR(P8=\"NP\",P8=\"DNS\"),IF(P8=\"NP\",MAX(P$5:P$85)+COUNTIF((P$5:P$85),MAX(P$5:P$85)),MAX(P$5:P$85)+COUNTIF((P$5:P$85),MAX(P$5:P$85))+COUNTIF((P$5:P$85),\"NP\")),P8))","v":3},null,{"$f":"IF($C8=\"\",\"\",IF(T$4>$M$2,0,IF(ISNA(SMALL($E10:$L10,1)),0,SMALL($E10:$L10,1))))","v":20.23},{"$f":"IF($C8=\"\",\"\",IF(U$4>$M$2,0,IF(ISNA(SMALL($E10:$L10,2)),0,SMALL($E10:$L10,2))))","v":20.62},{"$f":"IF($C8=\"\",\"\",IF(V$4>$M$2,0,IF(ISNA(SMALL($E10:$L10,3)),0,SMALL($E10:$L10,3))))","v":20.78},{"$f":"IF($C8=\"\",\"\",IF(W$4>$M$2,0,IF(ISNA(SMALL($E10:$L10,4)),0,SMALL($E10:$L10,4))))","v":21.1},{"$f":"IF($C8=\"\",\"\",IF(X$4>$M$2,0,IF(ISNA(SMALL($E10:$L10,5)),0,SMALL($E10:$L10,5))))","v":21.24},{"$f":"IF($C8=\"\",\"\",IF(Y$4>$M$2,0,IF(ISNA(SMALL($E10:$L10,6)),0,SMALL($E10:$L10,6))))","v":0},{"$f":"IF($C8=\"\",\"\",IF(Z$4>$M$2,0,IF(ISNA(SMALL($E10:$L10,7)),0,SMALL($E10:$L10,7))))","v":0},{"$f":"IF($C8=\"\",\"\",IF(AA$4>$M$2,0,IF(ISNA(SMALL($E10:$L10,8)),0,SMALL($E10:$L10,8))))","v":0},{"$f":"IF($C8=\"\",\"\",IF(AB$4>$M$2,0,IF(ISNA(SMALL($E10:$L10,9)),0,SMALL($E10:$L10,9))))","v":0}]
[null,null,null,"2. pokus",23.21,"NP","NP",20.23,20.78,21.24,27.63]
[null,null,null,"čas",{"$f":"IF(OR($C8=\"\",E8=\"\",E9=\"\"),\"\",IF(OR(AND(E8=\"NP\",E9=\"NP\"),AND(E8=\"DNS\",E9=\"DNS\")),E8,IF(AND(E8=\"NP\",E9=\"DNS\"),E8,IF(AND(E8=\"DNS\",E9=\"NP\"),E9,MIN(E8,E9)))))","v":21.1},22.97,20.62,20.23,20.78,21.24,27.63,""]
[null,{"$f":"Start!B9","v":3},{"$f":"IF(Start!C9=\"\",\"\",Start!C9)","v":"Skuteč"},"1. pokus",26.03,19.579999999999998,19.02,19.34,20.43,20.38,21.5,null,{"$f":"IF(C11=\"\",\"\",COUNT(E13:L13))","v":7},{"$f":"IF(C11=\"\",\"\",IF(AND(M11=0,COUNTIF(E13:L13,\"NP\")=0),\"DNS\",IF(M11<M$2,\"NP\",SUM(T11:AB13))))","v":97.94},null,{"$f":"IF(C11=\"\",\"\",IF(OR(N11=\"NP\",N11=\"DNS\"),Start!$E$5,RANK(N11,N$5:N$168,1)))","v":1},null,{"$f":"IF(D11=\"\",\"\",IF(OR(P11=\"NP\",P11=\"DNS\"),IF(P11=\"NP\",MAX(P$5:P$85)+COUNTIF((P$5:P$85),MAX(P$5:P$85)),MAX(P$5:P$85)+COUNTIF((P$5:P$85),MAX(P$5:P$85))+COUNTIF((P$5:P$85),\"NP\")),P11))","v":1},null,{"$f":"IF($C11=\"\",\"\",IF(T$4>$M$2,0,IF(ISNA(SMALL($E13:$L13,1)),0,SMALL($E13:$L13,1))))","v":19.02},{"$f":"IF($C11=\"\",\"\",IF(U$4>$M$2,0,IF(ISNA(SMALL($E13:$L13,2)),0,SMALL($E13:$L13,2))))","v":19.34},{"$f":"IF($C11=\"\",\"\",IF(V$4>$M$2,0,IF(ISNA(SMALL($E13:$L13,3)),0,SMALL($E13:$L13,3))))","v":19.579999999999998},{"$f":"IF($C11=\"\",\"\",IF(W$4>$M$2,0,IF(ISNA(SMALL($E13:$L13,4)),0,SMALL($E13:$L13,4))))","v":19.899999999999999},{"$f":"IF($C11=\"\",\"\",IF(X$4>$M$2,0,IF(ISNA(SMALL($E13:$L13,5)),0,SMALL($E13:$L13,5))))","v":20.100000000000001},{"$f":"IF($C11=\"\",\"\",IF(Y$4>$M$2,0,IF(ISNA(SMALL($E13:$L13,6)),0,SMALL($E13:$L13,6))))","v":0},{"$f":"IF($C11=\"\",\"\",IF(Z$4>$M$2,0,IF(ISNA(SMALL($E13:$L13,7)),0,SMALL($E13:$L13,7))))","v":0},{"$f":"IF($C11=\"\",\"\",IF(AA$4>$M$2,0,IF(ISNA(SMALL($E13:$L13,8)),0,SMALL($E13:$L13,8))))","v":0},{"$f":"IF($C11=\"\",\"\",IF(AB$4>$M$2,0,IF(ISNA(SMALL($E13:$L13,9)),0,SMALL($E13:$L13,9))))","v":0}]
[null,null,null,"2. pokus",19.899999999999999,19.71,19.14,23.27,20.100000000000001,"NP",21.05]
[null,null,null,"čas",{"$f":"IF(OR($C11=\"\",E11=\"\",E12=\"\"),\"\",IF(OR(AND(E11=\"NP\",E12=\"NP\"),AND(E11=\"DNS\",E12=\"DNS\")),E11,IF(AND(E11=\"NP\",E12=\"DNS\"),E11,IF(AND(E11=\"DNS\",E12=\"NP\"),E12,MIN(E11,E12)))))","v":19.899999999999999},19.579999999999998,19.02,19.34,20.100000000000001,20.38,21.05,""]
[null,{"$f":"Start!B10","v":4},{"$f":"IF(Start!C10=\"\",\"\",Start!C10)","v":"Desná"},"1. pokus",19.54,22.76,26.73,"NP",21.68,21.14,21.14,null,{"$f":"IF(C14=\"\",\"\",COUNT(E16:L16))","v":7},{"$f":"IF(C14=\"\",\"\",IF(AND(M14=0,COUNTIF(E16:L16,\"NP\")=0),\"DNS\",IF(M14<M$2,\"NP\",SUM(T14:AB16))))","v":105.37000000000002},null,{"$f":"IF(C14=\"\",\"\",IF(OR(N14=\"NP\",N14=\"DNS\"),Start!$E$5,RANK(N14,N$5:N$168,1)))","v":4},null,{"$f":"IF(D14=\"\",\"\",IF(OR(P14=\"NP\",P14=\"DNS\"),IF(P14=\"NP\",MAX(P$5:P$85)+COUNTIF((P$5:P$85),MAX(P$5:P$85)),MAX(P$5:P$85)+COUNTIF((P$5:P$85),MAX(P$5:P$85))+COUNTIF((P$5:P$85),\"NP\")),P14))","v":4},null,{"$f":"IF($C14=\"\",\"\",IF(T$4>$M$2,0,IF(ISNA(SMALL($E16:$L16,1)),0,SMALL($E16:$L16,1))))","v":19.37},{"$f":"IF($C14=\"\",\"\",IF(U$4>$M$2,0,IF(ISNA(SMALL($E16:$L16,2)),0,SMALL($E16:$L16,2))))","v":20.89},{"$f":"IF($C14=\"\",\"\",IF(V$4>$M$2,0,IF(ISNA(SMALL($E16:$L16,3)),0,SMALL($E16:$L16,3))))","v":21.14},{"$f":"IF($C14=\"\",\"\",IF(W$4>$M$2,0,IF(ISNA(SMALL($E16:$L16,4)),0,SMALL($E16:$L16,4))))","v":21.21},{"$f":"IF($C14=\"\",\"\",IF(X$4>$M$2,0,IF(ISNA(SMALL($E16:$L16,5)),0,SMALL($E16:$L16,5))))","v":22.76},{"$f":"IF($C14=\"\",\"\",IF(Y$4>$M$2,0,IF(ISNA(SMALL($E16:$L16,6)),0,SMALL($E16:$L16,6))))","v":0},{"$f":"IF($C14=\"\",\"\",IF(Z$4>$M$2,0,IF(ISNA(SMALL($E16:$L16,7)),0,SMALL($E16:$L16,7))))","v":0},{"$f":"IF($C14=\"\",\"\",IF(AA$4>$M$2,0,IF(ISNA(SMALL($E16:$L16,8)),0,SMALL($E16:$L16,8))))","v":0},{"$f":"IF($C14=\"\",\"\",IF(AB$4>$M$2,0,IF(ISNA(SMALL($E16:$L16,9)),0,SMALL($E16:$L16,9))))","v":0}]
[null,null,null,"2. pokus",19.37,23.4,25.05,25.42,21.21,25.6,20.89]
[null,null,null,"čas",{"$f":"IF(OR($C14=\"\",E14=\"\",E15=\"\"),\"\",IF(OR(AND(E14=\"NP\",E15=\"NP\"),AND(E14=\"DNS\",E15=\"DNS\")),E14,IF(AND(E14=\"NP\",E15=\"DNS\"),E14,IF(AND(E14=\"DNS\",E15=\"NP\"),E15,MIN(E14,E15)))))","v":19.37},22.76,25.05,25.42,21.21,21.14,20.89,""]
[null,{"$f":"Start!B11","v":5},{"$f":"IF(Start!C11=\"\",\"\",Start!C11)","v":""},"1. pokus",null,null,null,null,null,null,null,null,{"$f":"IF(C17=\"\",\"\",COUNT(E19:L19))","v":""},{"$f":"IF(C17=\"\",\"\",IF(AND(M17=0,COUNTIF(E19:L19,\"NP\")=0),\"DNS\",IF(M17<M$2,\"NP\",SUM(T17:AB19))))","v":""},null,{"$f":"IF(C17=\"\",\"\",IF(OR(N17=\"NP\",N17=\"DNS\"),Start!$E$5,RANK(N17,N$5:N$168,1)))","v":""},null,{"$f":"IF(D17=\"\",\"\",IF(OR(P17=\"NP\",P17=\"DNS\"),IF(P17=\"NP\",MAX(P$5:P$85)+COUNTIF((P$5:P$85),MAX(P$5:P$85)),MAX(P$5:P$85)+COUNTIF((P$5:P$85),MAX(P$5:P$85))+COUNTIF((P$5:P$85),\"NP\")),P17))","v":""},null,{"$f":"IF($C17=\"\",\"\",IF(T$4>$M$2,0,IF(ISNA(SMALL($E19:$L19,1)),0,SMALL($E19:$L19,1))))","v":""},{"$f":"IF($C17=\"\",\"\",IF(U$4>$M$2,0,IF(ISNA(SMALL($E19:$L19,2)),0,SMALL($E19:$L19,2))))","v":""},{"$f":"IF($C17=\"\",\"\",IF(V$4>$M$2,0,IF(ISNA(SMALL($E19:$L19,3)),0,SMALL($E19:$L19,3))))","v":""},{"$f":"IF($C17=\"\",\"\",IF(W$4>$M$2,0,IF(ISNA(SMALL($E19:$L19,4)),0,SMALL($E19:$L19,4))))","v":""},{"$f":"IF($C17=\"\",\"\",IF(X$4>$M$2,0,IF(ISNA(SMALL($E19:$L19,5)),0,SMALL($E19:$L19,5))))","v":""},{"$f":"IF($C17=\"\",\"\",IF(Y$4>$M$2,0,IF(ISNA(SMALL($E19:$L19,6)),0,SMALL($E19:$L19,6))))","v":""},{"$f":"IF($C17=\"\",\"\",IF(Z$4>$M$2,0,IF(ISNA(SMALL($E19:$L19,7)),0,SMALL($E19:$L19,7))))","v":""},{"$f":"IF($C17=\"\",\"\",IF(AA$4>$M$2,0,IF(ISNA(SMALL($E19:$L19,8)),0,SMALL($E19:$L19,8))))","v":""},{"$f":"IF($C17=\"\",\"\",IF(AB$4>$M$2,0,IF(ISNA(SMALL($E19:$L19,9)),0,SMALL($E19:$L19,9))))","v":""}]
[null,null,null,"2. pokus"]
[null,null,null,"čas",{"$f":"IF(OR($C17=\"\",E17=\"\",E18=\"\"),\"\",IF(OR(AND(E17=\"NP\",E18=\"NP\"),AND(E17=\"DNS\",E18=\"DNS\")),E17,IF(AND(E17=\"NP\",E18=\"DNS\"),E17,IF(AND(E17=\"DNS\",E18=\"NP\"),E18,MIN(E17,E18)))))","v":""},"","","","","","",""]
[null,{"$f":"Start!B12","v":6},{"$f":"IF(Start!C12=\"\",\"\",Start!C12)","v":""},"1. pokus",null,null,null,null,null,null,null,null,{"$f":"IF(C20=\"\",\"\",COUNT(E22:L22))","v":""},{"$f":"IF(C20=\"\",\"\",IF(AND(M20=0,COUNTIF(E22:L22,\"NP\")=0),\"DNS\",IF(M20<M$2,\"NP\",SUM(T20:AB22))))","v":""},null,{"$f":"IF(C20=\"\",\"\",IF(OR(N20=\"NP\",N20=\"DNS\"),Start!$E$5,RANK(N20,N$5:N$168,1)))","v":""},null,{"$f":"IF(D20=\"\",\"\",IF(OR(P20=\"NP\",P20=\"DNS\"),IF(P20=\"NP\",MAX(P$5:P$85)+COUNTIF((P$5:P$85),MAX(P$5:P$85)),MAX(P$5:P$85)+COUNTIF((P$5:P$85),MAX(P$5:P$85))+COUNTIF((P$5:P$85),\"NP\")),P20))","v":""},null,{"$f":"IF($C20=\"\",\"\",IF(T$4>$M$2,0,IF(ISNA(SMALL($E22:$L22,1)),0,SMALL($E22:$L22,1))))","v":""},{"$f":"IF($C20=\"\",\"\",IF(U$4>$M$2,0,IF(ISNA(SMALL($E22:$L22,2)),0,SMALL($E22:$L22,2))))","v":""},{"$f":"IF($C20=\"\",\"\",IF(V$4>$M$2,0,IF(ISNA(SMALL($E22:$L22,3)),0,SMALL($E22:$L22,3))))","v":""},{"$f":"IF($C20=\"\",\"\",IF(W$4>$M$2,0,IF(ISNA(SMALL($E22:$L22,4)),0,SMALL($E22:$L22,4))))","v":""},{"$f":"IF($C20=\"\",\"\",IF(X$4>$M$2,0,IF(ISNA(SMALL($E22:$L22,5)),0,SMALL($E22:$L22,5))))","v":""},{"$f":"IF($C20=\"\",\"\",IF(Y$4>$M$2,0,IF(ISNA(SMALL($E22:$L22,6)),0,SMALL($E22:$L22,6))))","v":""},{"$f":"IF($C20=\"\",\"\",IF(Z$4>$M$2,0,IF(ISNA(SMALL($E22:$L22,7)),0,SMALL($E22:$L22,7))))","v":""},{"$f":"IF($C20=\"\",\"\",IF(AA$4>$M$2,0,IF(ISNA(SMALL($E22:$L22,8)),0,SMALL($E22:$L22,8))))","v":""},{"$f":"IF($C20=\"\",\"\",IF(AB$4>$M$2,0,IF(ISNA(SMALL($E22:$L22,9)),0,SMALL($E22:$L22,9))))","v":""}]
[null,null,null,"2. pokus"]
[null,null,null,"čas",{"$f":"IF(OR($C20=\"\",E20=\"\",E21=\"\"),\"\",IF(OR(AND(E20=\"NP\",E21=\"NP\"),AND(E20=\"DNS\",E21=\"DNS\")),E20,IF(AND(E20=\"NP\",E21=\"DNS\"),E20,IF(AND(E20=\"DNS\",E21=\"NP\"),E21,MIN(E20,E21)))))","v":""},"","","","","","",""]
[null,{"$f":"Start!B13","v":7},{"$f":"IF(Start!C13=\"\",\"\",Start!C13)","v":""},"1. pokus",null,null,null,null,null,null,null,null,{"$f":"IF(C23=\"\",\"\",COUNT(E25:L25))","v":""},{"$f":"IF(C23=\"\",\"\",IF(AND(M23=0,COUNTIF(E25:L25,\"NP\")=0),\"DNS\",IF(M23<M$2,\"NP\",SUM(T23:AB25))))","v":""},null,{"$f":"IF(C23=\"\",\"\",IF(OR(N23=\"NP\",N23=\"DNS\"),Start!$E$5,RANK(N23,N$5:N$168,1)))","v":""},null,{"$f":"IF(D23=\"\",\"\",IF(OR(P23=\"NP\",P23=\"DNS\"),IF(P23=\"NP\",MAX(P$5:P$85)+COUNTIF((P$5:P$85),MAX(P$5:P$85)),MAX(P$5:P$85)+COUNTIF((P$5:P$85),MAX(P$5:P$85))+COUNTIF((P$5:P$85),\"NP\")),P23))","v":""},null,{"$f":"IF($C23=\"\",\"\",IF(T$4>$M$2,0,IF(ISNA(SMALL($E25:$L25,1)),0,SMALL($E25:$L25,1))))","v":""},{"$f":"IF($C23=\"\",\"\",IF(U$4>$M$2,0,IF(ISNA(SMALL($E25:$L25,2)),0,SMALL($E25:$L25,2))))","v":""},{"$f":"IF($C23=\"\",\"\",IF(V$4>$M$2,0,IF(ISNA(SMALL($E25:$L25,3)),0,SMALL($E25:$L25,3))))","v":""},{"$f":"IF($C23=\"\",\"\",IF(W$4>$M$2,0,IF(ISNA(SMALL($E25:$L25,4)),0,SMALL($E25:$L25,4))))","v":""},{"$f":"IF($C23=\"\",\"\",IF(X$4>$M$2,0,IF(ISNA(SMALL($E25:$L25,5)),0,SMALL($E25:$L25,5))))","v":""},{"$f":"IF($C23=\"\",\"\",IF(Y$4>$M$2,0,IF(ISNA(SMALL($E25:$L25,6)),0,SMALL($E25:$L25,6))))","v":""},{"$f":"IF($C23=\"\",\"\",IF(Z$4>$M$2,0,IF(ISNA(SMALL($E25:$L25,7)),0,SMALL($E25:$L25,7))))","v":""},{"$f":"IF($C23=\"\",\"\",IF(AA$4>$M$2,0,IF(ISNA(SMALL($E25:$L25,8)),0,SMALL($E25:$L25,8))))","v":""},{"$f":"IF($C23=\"\",\"\",IF(AB$4>$M$2,0,IF(ISNA(SMALL($E25:$L25,9)),0,SMALL($E25:$L25,9))))","v":""}]
[null,null,null,"2. pokus"]
[null,null,null,"čas",{"$f":"IF(OR($C23=\"\",E23=\"\",E24=\"\"),\"\",IF(OR(AND(E23=\"NP\",E24=\"NP\"),AND(E23=\"DNS\",E24=\"DNS\")),E23,IF(AND(E23=\"NP\",E24=\"DNS\"),E23,IF(AND(E23=\"DNS\",E24=\"NP\"),E24,MIN(E23,E24)))))","v":""},"","","","","","",""]
[null,{"$f":"Start!B14","v":8},{"$f":"IF(Start!C14=\"\",\"\",Start!C14)","v":""},"1. pokus",null,null,null,null,null,null,null,null,{"$f":"IF(C26=\"\",\"\",COUNT(E28:L28))","v":""},{"$f":"IF(C26=\"\",\"\",IF(AND(M26=0,COUNTIF(E28:L28,\"NP\")=0),\"DNS\",IF(M26<M$2,\"NP\",SUM(T26:AB28))))","v":""},null,{"$f":"IF(C26=\"\",\"\",IF(OR(N26=\"NP\",N26=\"DNS\"),Start!$E$5,RANK(N26,N$5:N$168,1)))","v":""},null,{"$f":"IF(D26=\"\",\"\",IF(OR(P26=\"NP\",P26=\"DNS\"),IF(P26=\"NP\",MAX(P$5:P$85)+COUNTIF((P$5:P$85),MAX(P$5:P$85)),MAX(P$5:P$85)+COUNTIF((P$5:P$85),MAX(P$5:P$85))+COUNTIF((P$5:P$85),\"NP\")),P26))","v":""},null,{"$f":"IF($C26=\"\",\"\",IF(T$4>$M$2,0,IF(ISNA(SMALL($E28:$L28,1)),0,SMALL($E28:$L28,1))))","v":""},{"$f":"IF($C26=\"\",\"\",IF(U$4>$M$2,0,IF(ISNA(SMALL($E28:$L28,2)),0,SMALL($E28:$L28,2))))","v":""},{"$f":"IF($C26=\"\",\"\",IF(V$4>$M$2,0,IF(ISNA(SMALL($E28:$L28,3)),0,SMALL($E28:$L28,3))))","v":""},{"$f":"IF($C26=\"\",\"\",IF(W$4>$M$2,0,IF(ISNA(SMALL($E28:$L28,4)),0,SMALL($E28:$L28,4))))","v":""},{"$f":"IF($C26=\"\",\"\",IF(X$4>$M$2,0,IF(ISNA(SMALL($E28:$L28,5)),0,SMALL($E28:$L28,5))))","v":""},{"$f":"IF($C26=\"\",\"\",IF(Y$4>$M$2,0,IF(ISNA(SMALL($E28:$L28,6)),0,SMALL($E28:$L28,6))))","v":""},{"$f":"IF($C26=\"\",\"\",IF(Z$4>$M$2,0,IF(ISNA(SMALL($E28:$L28,7)),0,SMALL($E28:$L28,7))))","v":""},{"$f":"IF($C26=\"\",\"\",IF(AA$4>$M$2,0,IF(ISNA(SMALL($E28:$L28,8)),0,SMALL($E28:$L28,8))))","v":""},{"$f":"IF($C26=\"\",\"\",IF(AB$4>$M$2,0,IF(ISNA(SMALL($E28:$L28,9)),0,SMALL($E28:$L28,9))))","v":""}]
[null,null,null,"2. pokus"]
[null,null,null,"čas",{"$f":"IF(OR($C26=\"\",E26=\"\",E27=\"\"),\"\",IF(OR(AND(E26=\"NP\",E27=\"NP\"),AND(E26=\"DNS\",E27=\"DNS\")),E26,IF(AND(E26=\"NP\",E27=\"DNS\"),E26,IF(AND(E26=\"DNS\",E27=\"NP\"),E27,MIN(E26,E27)))))","v":""},"","","","","","",""]
[null,{"$f":"Start!B15","v":9},{"$f":"IF(Start!C15=\"\",\"\",Start!C15)","v":""},"1. pokus",null,null,null,null,null,null,null,null,{"$f":"IF(C29=\"\",\"\",COUNT(E31:L31))","v":""},{"$f":"IF(C29=\"\",\"\",IF(AND(M29=0,COUNTIF(E31:L31,\"NP\")=0),\"DNS\",IF(M29<M$2,\"NP\",SUM(T29:AB31))))","v":""},null,{"$f":"IF(C29=\"\",\"\",IF(OR(N29=\"NP\",N29=\"DNS\"),Start!$E$5,RANK(N29,N$5:N$168,1)))","v":""},null,{"$f":"IF(D29=\"\",\"\",IF(OR(P29=\"NP\",P29=\"DNS\"),IF(P29=\"NP\",MAX(P$5:P$85)+COUNTIF((P$5:P$85),MAX(P$5:P$85)),MAX(P$5:P$85)+COUNTIF((P$5:P$85),MAX(P$5:P$85))+COUNTIF((P$5:P$85),\"NP\")),P29))","v":""},null,{"$f":"IF($C29=\"\",\"\",IF(T$4>$M$2,0,IF(ISNA(SMALL($E31:$L31,1)),0,SMALL($E31:$L31,1))))","v":""},{"$f":"IF($C29=\"\",\"\",IF(U$4>$M$2,0,IF(ISNA(SMALL($E31:$L31,2)),0,SMALL($E31:$L31,2))))","v":""},{"$f":"IF($C29=\"\",\"\",IF(V$4>$M$2,0,IF(ISNA(SMALL($E31:$L31,3)),0,SMALL($E31:$L31,3))))","v":""},{"$f":"IF($C29=\"\",\"\",IF(W$4>$M$2,0,IF(ISNA(SMALL($E31:$L31,4)),0,SMALL($E31:$L31,4))))","v":""},{"$f":"IF($C29=\"\",\"\",IF(X$4>$M$2,0,IF(ISNA(SMALL($E31:$L31,5)),0,SMALL($E31:$L31,5))))","v":""},{"$f":"IF($C29=\"\",\"\",IF(Y$4>$M$2,0,IF(ISNA(SMALL($E31:$L31,6)),0,SMALL($E31:$L31,6))))","v":""},{"$f":"IF($C29=\"\",\"\",IF(Z$4>$M$2,0,IF(ISNA(SMALL($E31:$L31,7)),0,SMALL($E31:$L31,7))))","v":""},{"$f":"IF($C29=\"\",\"\",IF(AA$4>$M$2,0,IF(ISNA(SMALL($E31:$L31,8)),0,SMALL($E31:$L31,8))))","v":""},{"$f":"IF($C29=\"\",\"\",IF(AB$4>$M$2,0,IF(ISNA(SMALL($E31:$L31,9)),0,SMALL($E31:$L31,9))))","v":""}]
[null,null,null,"2. pokus"]
[null,null,null,"čas",{"$f":"IF(OR($C29=\"\",E29=\"\",E30=\"\"),\"\",IF(OR(AND(E29=\"NP\",E30=\"NP\"),AND(E29=\"DNS\",E30=\"DNS\")),E29,IF(AND(E29=\"NP\",E30=\"DNS\"),E29,IF(AND(E29=\"DNS\",E30=\"NP\"),E30,MIN(E29,E30)))))","v":""},"","","","","","",""]
[null,{"$f":"Start!B16","v":10},{"$f":"IF(Start!C16=\"\",\"\",Start!C16)","v":""},"1. pokus",null,null,null,null,null,null,null,null,{"$f":"IF(C32=\"\",\"\",COUNT(E34:L34))","v":""},{"$f":"IF(C32=\"\",\"\",IF(AND(M32=0,COUNTIF(E34:L34,\"NP\")=0),\"DNS\",IF(M32<M$2,\"NP\",SUM(T32:AB34))))","v":""},null,{"$f":"IF(C32=\"\",\"\",IF(OR(N32=\"NP\",N32=\"DNS\"),Start!$E$5,RANK(N32,N$5:N$168,1)))","v":""},null,{"$f":"IF(D32=\"\",\"\",IF(OR(P32=\"NP\",P32=\"DNS\"),IF(P32=\"NP\",MAX(P$5:P$85)+COUNTIF((P$5:P$85),MAX(P$5:P$85)),MAX(P$5:P$85)+COUNTIF((P$5:P$85),MAX(P$5:P$85))+COUNTIF((P$5:P$85),\"NP\")),P32))","v":""},null,{"$f":"IF($C32=\"\",\"\",IF(T$4>$M$2,0,IF(ISNA(SMALL($E34:$L34,1)),0,SMALL($E34:$L34,1))))","v":""},{"$f":"IF($C32=\"\",\"\",IF(U$4>$M$2,0,IF(ISNA(SMALL($E34:$L34,2)),0,SMALL($E34:$L34,2))))","v":""},{"$f":"IF($C32=\"\",\"\",IF(V$4>$M$2,0,IF(ISNA(SMALL($E34:$L34,3)),0,SMALL($E34:$L34,3))))","v":""},{"$f":"IF($C32=\"\",\"\",IF(W$4>$M$2,0,IF(ISNA(SMALL($E34:$L34,4)),0,SMALL($E34:$L34,4))))","v":""},{"$f":"IF($C32=\"\",\"\",IF(X$4>$M$2,0,IF(ISNA(SMALL($E34:$L34,5)),0,SMALL($E34:$L34,5))))","v":""},{"$f":"IF($C32=\"\",\"\",IF(Y$4>$M$2,0,IF(ISNA(SMALL($E34:$L34,6)),0,SMALL($E34:$L34,6))))","v":""},{"$f":"IF($C32=\"\",\"\",IF(Z$4>$M$2,0,IF(ISNA(SMALL($E34:$L34,7)),0,SMALL($E34:$L34,7))))","v":""},{"$f":"IF($C32=\"\",\"\",IF(AA$4>$M$2,0,IF(ISNA(SMALL($E34:$L34,8)),0,SMALL($E34:$L34,8))))","v":""},{"$f":"IF($C32=\"\",\"\",IF(AB$4>$M$2,0,IF(ISNA(SMALL($E34:$L34,9)),0,SMALL($E34:$L34,9))))","v":""}]
[null,null,null,"2. pokus"]
[null,null,null,"čas",{"$f":"IF(OR($C32=\"\",E32=\"\",E33=\"\"),\"\",IF(OR(AND(E32=\"NP\",E33=\"NP\"),AND(E32=\"DNS\",E33=\"DNS\")),E32,IF(AND(E32=\"NP\",E33=\"DNS\"),E32,IF(AND(E32=\"DNS\",E33=\"NP\"),E33,MIN(E32,E33)))))","v":""},"","","","","","",""]
[null,{"$f":"B1","v":"Běh na 100m s překážkami - Pořadí družstev"}]
[]
[null,null,{"$f":"Start!$C$5","v":"Dorky"},null,"Soutěžící"]
[null,"st.č.","SDH","Pokus",1,2,3,4,5,6,7,8,"P","C.čas",null,"Poř.",null,"Body"]
[null,{"$f":"Start!B17","v":11},{"$f":"IF(Start!C17=\"\",\"\",Start!C17)","v":""},"1. pokus",null,null,null,null,null,null,null,null,{"$f":"IF(C39=\"\",\"\",COUNT(E41:L41))","v":""},{"$f":"IF(C39=\"\",\"\",IF(AND(M39=0,COUNTIF(E41:L41,\"NP\")=0),\"DNS\",IF(M39<M$2,\"NP\",SUM(T39:AB41))))","v":""},null,{"$f":"IF(C39=\"\",\"\",IF(OR(N39=\"NP\",N39=\"DNS\"),Start!$E$5,RANK(N39,N$5:N$168,1)))","v":""},null,{"$f":"IF(D39=\"\",\"\",IF(OR(P39=\"NP\",P39=\"DNS\"),IF(P39=\"NP\",MAX(P$5:P$85)+COUNTIF((P$5:P$85),MAX(P$5:P$85)),MAX(P$5:P$85)+COUNTIF((P$5:P$85),MAX(P$5:P$85))+COUNTIF((P$5:P$85),\"NP\")),P39))","v":""},null,{"$f":"IF($C39=\"\",\"\",IF(T$4>$M$2,0,IF(ISNA(SMALL($E41:$L41,1)),0,SMALL($E41:$L41,1))))","v":""},{"$f":"IF($C39=\"\",\"\",IF(U$4>$M$2,0,IF(ISNA(SMALL($E41:$L41,2)),0,SMALL($E41:$L41,2))))","v":""},{"$f":"IF($C39=\"\",\"\",IF(V$4>$M$2,0,IF(ISNA(SMALL($E41:$L41,3)),0,SMALL($E41:$L41,3))))","v":""},{"$f":"IF($C39=\"\",\"\",IF(W$4>$M$2,0,IF(ISNA(SMALL($E41:$L41,4)),0,SMALL($E41:$L41,4))))","v":""},{"$f":"IF($C39=\"\",\"\",IF(X$4>$M$2,0,IF(ISNA(SMALL($E41:$L41,5)),0,SMALL($E41:$L41,5))))","v":""},{"$f":"IF($C39=\"\",\"\",IF(Y$4>$M$2,0,IF(ISNA(SMALL($E41:$L41,6)),0,SMALL($E41:$L41,6))))","v":""},{"$f":"IF($C39=\"\",\"\",IF(Z$4>$M$2,0,IF(ISNA(SMALL($E41:$L41,7)),0,SMALL($E41:$L41,7))))","v":""},{"$f":"IF($C39=\"\",\"\",IF(AA$4>$M$2,0,IF(ISNA(SMALL($E41:$L41,8)),0,SMALL($E41:$L41,8))))","v":""},{"$f":"IF($C39=\"\",\"\",IF(AB$4>$M$2,0,IF(ISNA(SMALL($E41:$L41,9)),0,SMALL($E41:$L41,9))))","v":""}]
[null,null,null,"2. pokus"]
[null,null,null,"čas",{"$f":"IF(OR($C39=\"\",E39=\"\",E40=\"\"),\"\",IF(OR(AND(E39=\"NP\",E40=\"NP\"),AND(E39=\"DNS\",E40=\"DNS\")),E39,IF(AND(E39=\"NP\",E40=\"DNS\"),E39,IF(AND(E39=\"DNS\",E40=\"NP\"),E40,MIN(E39,E40)))))","v":""},"","","","","","",""]
[null,{"$f":"Start!B18","v":12},{"$f":"IF(Start!C18=\"\",\"\",Start!C18)","v":""},"1. pokus",null,null,null,null,null,null,null,null,{"$f":"IF(C42=\"\",\"\",COUNT(E44:L44))","v":""},{"$f":"IF(C42=\"\",\"\",IF(AND(M42=0,COUNTIF(E44:L44,\"NP\")=0),\"DNS\",IF(M42<M$2,\"NP\",SUM(T42:AB44))))","v":""},null,{"$f":"IF(C42=\"\",\"\",IF(OR(N42=\"NP\",N42=\"DNS\"),Start!$E$5,RANK(N42,N$5:N$168,1)))","v":""},null,{"$f":"IF(D42=\"\",\"\",IF(OR(P42=\"NP\",P42=\"DNS\"),IF(P42=\"NP\",MAX(P$5:P$85)+COUNTIF((P$5:P$85),MAX(P$5:P$85)),MAX(P$5:P$85)+COUNTIF((P$5:P$85),MAX(P$5:P$85))+COUNTIF((P$5:P$85),\"NP\")),P42))","v":""},null,{"$f":"IF($C42=\"\",\"\",IF(T$4>$M$2,0,IF(ISNA(SMALL($E44:$L44,1)),0,SMALL($E44:$L44,1))))","v":""},{"$f":"IF($C42=\"\",\"\",IF(U$4>$M$2,0,IF(ISNA(SMALL($E44:$L44,2)),0,SMALL($E44:$L44,2))))","v":""},{"$f":"IF($C42=\"\",\"\",IF(V$4>$M$2,0,IF(ISNA(SMALL($E44:$L44,3)),0,SMALL($E44:$L44,3))))","v":""},{"$f":"IF($C42=\"\",\"\",IF(W$4>$M$2,0,IF(ISNA(SMALL($E44:$L44,4)),0,SMALL($E44:$L44,4))))","v":""},{"$f":"IF($C42=\"\",\"\",IF(X$4>$M$2,0,IF(ISNA(SMALL($E44:$L44,5)),0,SMALL($E44:$L44,5))))","v":""},{"$f":"IF($C42=\"\",\"\",IF(Y$4>$M$2,0,IF(ISNA(SMALL($E44:$L44,6)),0,SMALL($E44:$L44,6))))","v":""},{"$f":"IF($C42=\"\",\"\",IF(Z$4>$M$2,0,IF(ISNA(SMALL($E44:$L44,7)),0,SMALL($E44:$L44,7))))","v":""},{"$f":"IF($C42=\"\",\"\",IF(AA$4>$M$2,0,IF(ISNA(SMALL($E44:$L44,8)),0,SMALL($E44:$L44,8))))","v":""},{"$f":"IF($C42=\"\",\"\",IF(AB$4>$M$2,0,IF(ISNA(SMALL($E44:$L44,9)),0,SMALL($E44:$L44,9))))","v":""}]
[null,null,null,"2. pokus"]
[null,null,null,"čas",{"$f":"IF(OR($C42=\"\",E42=\"\",E43=\"\"),\"\",IF(OR(AND(E42=\"NP\",E43=\"NP\"),AND(E42=\"DNS\",E43=\"DNS\")),E42,IF(AND(E42=\"NP\",E43=\"DNS\"),E42,IF(AND(E42=\"DNS\",E43=\"NP\"),E43,MIN(E42,E43)))))","v":""},"","","","","","",""]
[null,{"$f":"Start!B19","v":13},{"$f":"IF(Start!C19=\"\",\"\",Start!C19)","v":""},"1. pokus",null,null,null,null,null,null,null,null,{"$f":"IF(C45=\"\",\"\",COUNT(E47:L47))","v":""},{"$f":"IF(C45=\"\",\"\",IF(AND(M45=0,COUNTIF(E47:L47,\"NP\")=0),\"DNS\",IF(M45<M$2,\"NP\",SUM(T45:AB47))))","v":""},null,{"$f":"IF(C45=\"\",\"\",IF(OR(N45=\"NP\",N45=\"DNS\"),Start!$E$5,RANK(N45,N$5:N$168,1)))","v":""},null,{"$f":"IF(D45=\"\",\"\",IF(OR(P45=\"NP\",P45=\"DNS\"),IF(P45=\"NP\",MAX(P$5:P$85)+COUNTIF((P$5:P$85),MAX(P$5:P$85)),MAX(P$5:P$85)+COUNTIF((P$5:P$85),MAX(P$5:P$85))+COUNTIF((P$5:P$85),\"NP\")),P45))","v":""},null,{"$f":"IF($C45=\"\",\"\",IF(T$4>$M$2,0,IF(ISNA(SMALL($E47:$L47,1)),0,SMALL($E47:$L47,1))))","v":""},{"$f":"IF($C45=\"\",\"\",IF(U$4>$M$2,0,IF(ISNA(SMALL($E47:$L47,2)),0,SMALL($E47:$L47,2))))","v":""},{"$f":"IF($C45=\"\",\"\",IF(V$4>$M$2,0,IF(ISNA(SMALL($E47:$L47,3)),0,SMALL($E47:$L47,3))))","v":""},{"$f":"IF($C45=\"\",\"\",IF(W$4>$M$2,0,IF(ISNA(SMALL($E47:$L47,4)),0,SMALL($E47:$L47,4))))","v":""},{"$f":"IF($C45=\"\",\"\",IF(X$4>$M$2,0,IF(ISNA(SMALL($E47:$L47,5)),0,SMALL($E47:$L47,5))))","v":""},{"$f":"IF($C45=\"\",\"\",IF(Y$4>$M$2,0,IF(ISNA(SMALL($E47:$L47,6)),0,SMALL($E47:$L47,6))))","v":""},{"$f":"IF($C45=\"\",\"\",IF(Z$4>$M$2,0,IF(ISNA(SMALL($E47:$L47,7)),0,SMALL($E47:$L47,7))))","v":""},{"$f":"IF($C45=\"\",\"\",IF(AA$4>$M$2,0,IF(ISNA(SMALL($E47:$L47,8)),0,SMALL($E47:$L47,8))))","v":""},{"$f":"IF($C45=\"\",\"\",IF(AB$4>$M$2,0,IF(ISNA(SMALL($E47:$L47,9)),0,SMALL($E47:$L47,9))))","v":""}]
[null,null,null,"2. pokus"]
[null,null,null,"čas",{"$f":"IF(OR($C45=\"\",E45=\"\",E46=\"\"),\"\",IF(OR(AND(E45=\"NP\",E46=\"NP\"),AND(E45=\"DNS\",E46=\"DNS\")),E45,IF(AND(E45=\"NP\",E46=\"DNS\"),E45,IF(AND(E45=\"DNS\",E46=\"NP\"),E46,MIN(E45,E46)))))","v":""},"","","","","","",""]
[null,{"$f":"Start!B20","v":14},{"$f":"IF(Start!C20=\"\",\"\",Start!C20)","v":""},"1. pokus",null,null,null,null,null,null,null,null,{"$f":"IF(C48=\"\",\"\",COUNT(E50:L50))","v":""},{"$f":"IF(C48=\"\",\"\",IF(AND(M48=0,COUNTIF(E50:L50,\"NP\")=0),\"DNS\",IF(M48<M$2,\"NP\",SUM(T48:AB50))))","v":""},null,{"$f":"IF(C48=\"\",\"\",IF(OR(N48=\"NP\",N48=\"DNS\"),Start!$E$5,RANK(N48,N$5:N$168,1)))","v":""},null,{"$f":"IF(D48=\"\",\"\",IF(OR(P48=\"NP\",P48=\"DNS\"),IF(P48=\"NP\",MAX(P$5:P$85)+COUNTIF((P$5:P$85),MAX(P$5:P$85)),MAX(P$5:P$85)+COUNTIF((P$5:P$85),MAX(P$5:P$85))+COUNTIF((P$5:P$85),\"NP\")),P48))","v":""},null,{"$f":"IF($C48=\"\",\"\",IF(T$4>$M$2,0,IF(ISNA(SMALL($E50:$L50,1)),0,SMALL($E50:$L50,1))))","v":""},{"$f":"IF($C48=\"\",\"\",IF(U$4>$M$2,0,IF(ISNA(SMALL($E50:$L50,2)),0,SMALL($E50:$L50,2))))","v":""},{"$f":"IF($C48=\"\",\"\",IF(V$4>$M$2,0,IF(ISNA(SMALL($E50:$L50,3)),0,SMALL($E50:$L50,3))))","v":""},{"$f":"IF($C48=\"\",\"\",IF(W$4>$M$2,0,IF(ISNA(SMALL($E50:$L50,4)),0,SMALL($E50:$L50,4))))","v":""},{"$f":"IF($C48=\"\",\"\",IF(X$4>$M$2,0,IF(ISNA(SMALL($E50:$L50,5)),0,SMALL($E50:$L50,5))))","v":""},{"$f":"IF($C48=\"\",\"\",IF(Y$4>$M$2,0,IF(ISNA(SMALL($E50:$L50,6)),0,SMALL($E50:$L50,6))))","v":""},{"$f":"IF($C48=\"\",\"\",IF(Z$4>$M$2,0,IF(ISNA(SMALL($E50:$L50,7)),0,SMALL($E50:$L50,7))))","v":""},{"$f":"IF($C48=\"\",\"\",IF(AA$4>$M$2,0,IF(ISNA(SMALL($E50:$L50,8)),0,SMALL($E50:$L50,8))))","v":""},{"$f":"IF($C48=\"\",\"\",IF(AB$4>$M$2,0,IF(ISNA(SMALL($E50:$L50,9)),0,SMALL($E50:$L50,9))))","v":""}]
[null,null,null,"2. pokus"]
[null,null,null,"čas",{"$f":"IF(OR($C48=\"\",E48=\"\",E49=\"\"),\"\",IF(OR(AND(E48=\"NP\",E49=\"NP\"),AND(E48=\"DNS\",E49=\"DNS\")),E48,IF(AND(E48=\"NP\",E49=\"DNS\"),E48,IF(AND(E48=\"DNS\",E49=\"NP\"),E49,MIN(E48,E49)))))","v":""},"","","","","","",""]
[null,{"$f":"Start!B21","v":15},{"$f":"IF(Start!C21=\"\",\"\",Start!C21)","v":""},"1. pokus",null,null,null,null,null,null,null,null,{"$f":"IF(C51=\"\",\"\",COUNT(E53:L53))","v":""},{"$f":"IF(C51=\"\",\"\",IF(AND(M51=0,COUNTIF(E53:L53,\"NP\")=0),\"DNS\",IF(M51<M$2,\"NP\",SUM(T51:AB53))))","v":""},null,{"$f":"IF(C51=\"\",\"\",IF(OR(N51=\"NP\",N51=\"DNS\"),Start!$E$5,RANK(N51,N$5:N$168,1)))","v":""},null,{"$f":"IF(D51=\"\",\"\",IF(OR(P51=\"NP\",P51=\"DNS\"),IF(P51=\"NP\",MAX(P$5:P$85)+COUNTIF((P$5:P$85),MAX(P$5:P$85)),MAX(P$5:P$85)+COUNTIF((P$5:P$85),MAX(P$5:P$85))+COUNTIF((P$5:P$85),\"NP\")),P51))","v":""},null,{"$f":"IF($C51=\"\",\"\",IF(T$4>$M$2,0,IF(ISNA(SMALL($E53:$L53,1)),0,SMALL($E53:$L53,1))))","v":""},{"$f":"IF($C51=\"\",\"\",IF(U$4>$M$2,0,IF(ISNA(SMALL($E53:$L53,2)),0,SMALL($E53:$L53,2))))","v":""},{"$f":"IF($C51=\"\",\"\",IF(V$4>$M$2,0,IF(ISNA(SMALL($E53:$L53,3)),0,SMALL($E53:$L53,3))))","v":""},{"$f":"IF($C51=\"\",\"\",IF(W$4>$M$2,0,IF(ISNA(SMALL($E53:$L53,4)),0,SMALL($E53:$L53,4))))","v":""},{"$f":"IF($C51=\"\",\"\",IF(X$4>$M$2,0,IF(ISNA(SMALL($E53:$L53,5)),0,SMALL($E53:$L53,5))))","v":""},{"$f":"IF($C51=\"\",\"\",IF(Y$4>$M$2,0,IF(ISNA(SMALL($E53:$L53,6)),0,SMALL($E53:$L53,6))))","v":""},{"$f":"IF($C51=\"\",\"\",IF(Z$4>$M$2,0,IF(ISNA(SMALL($E53:$L53,7)),0,SMALL($E53:$L53,7))))","v":""},{"$f":"IF($C51=\"\",\"\",IF(AA$4>$M$2,0,IF(ISNA(SMALL($E53:$L53,8)),0,SMALL($E53:$L53,8))))","v":""},{"$f":"IF($C51=\"\",\"\",IF(AB$4>$M$2,0,IF(ISNA(SMALL($E53:$L53,9)),0,SMALL($E53:$L53,9))))","v":""}]
[null,null,null,"2. pokus"]
[null,null,null,"čas",{"$f":"IF(OR($C51=\"\",E51=\"\",E52=\"\"),\"\",IF(OR(AND(E51=\"NP\",E52=\"NP\"),AND(E51=\"DNS\",E52=\"DNS\")),E51,IF(AND(E51=\"NP\",E52=\"DNS\"),E51,IF(AND(E51=\"DNS\",E52=\"NP\"),E52,MIN(E51,E52)))))","v":""},"","","","","","",""]
[null,{"$f":"Start!B22","v":16},{"$f":"IF(Start!C22=\"\",\"\",Start!C22)","v":""},"1. pokus",null,null,null,null,null,null,null,null,{"$f":"IF(C54=\"\",\"\",COUNT(E56:L56))","v":""},{"$f":"IF(C54=\"\",\"\",IF(AND(M54=0,COUNTIF(E56:L56,\"NP\")=0),\"DNS\",IF(M54<M$2,\"NP\",SUM(T54:AB56))))","v":""},null,{"$f":"IF(C54=\"\",\"\",IF(OR(N54=\"NP\",N54=\"DNS\"),Start!$E$5,RANK(N54,N$5:N$168,1)))","v":""},null,{"$f":"IF(D54=\"\",\"\",IF(OR(P54=\"NP\",P54=\"DNS\"),IF(P54=\"NP\",MAX(P$5:P$85)+COUNTIF((P$5:P$85),MAX(P$5:P$85)),MAX(P$5:P$85)+COUNTIF((P$5:P$85),MAX(P$5:P$85))+COUNTIF((P$5:P$85),\"NP\")),P54))","v":""},null,{"$f":"IF($C54=\"\",\"\",IF(T$4>$M$2,0,IF(ISNA(SMALL($E56:$L56,1)),0,SMALL($E56:$L56,1))))","v":""},{"$f":"IF($C54=\"\",\"\",IF(U$4>$M$2,0,IF(ISNA(SMALL($E56:$L56,2)),0,SMALL($E56:$L56,2))))","v":""},{"$f":"IF($C54=\"\",\"\",IF(V$4>$M$2,0,IF(ISNA(SMALL($E56:$L56,3)),0,SMALL($E56:$L56,3))))","v":""},{"$f":"IF($C54=\"\",\"\",IF(W$4>$M$2,0,IF(ISNA(SMALL($E56:$L56,4)),0,SMALL($E56:$L56,4))))","v":""},{"$f":"IF($C54=\"\",\"\",IF(X$4>$M$2,0,IF(ISNA(SMALL($E56:$L56,5)),0,SMALL($E56:$L56,5))))","v":""},{"$f":"IF($C54=\"\",\"\",IF(Y$4>$M$2,0,IF(ISNA(SMALL($E56:$L56,6)),0,SMALL($E56:$L56,6))))","v":""},{"$f":"IF($C54=\"\",\"\",IF(Z$4>$M$2,0,IF(ISNA(SMALL($E56:$L56,7)),0,SMALL($E56:$L56,7))))","v":""},{"$f":"IF($C54=\"\",\"\",IF(AA$4>$M$2,0,IF(ISNA(SMALL($E56:$L56,8)),0,SMALL($E56:$L56,8))))","v":""},{"$f":"IF($C54=\"\",\"\",IF(AB$4>$M$2,0,IF(ISNA(SMALL($E56:$L56,9)),0,SMALL($E56:$L56,9))))","v":""}]
[null,null,null,"2. pokus"]
[null,null,null,"čas",{"$f":"IF(OR($C54=\"\",E54=\"\",E55=\"\"),\"\",IF(OR(AND(E54=\"NP\",E55=\"NP\"),AND(E54=\"DNS\",E55=\"DNS\")),E54,IF(AND(E54=\"NP\",E55=\"DNS\"),E54,IF(AND(E54=\"DNS\",E55=\"NP\"),E55,MIN(E54,E55)))))","v":""},"","","","","","",""]
[null,{"$f":"Start!B23","v":17},{"$f":"IF(Start!C23=\"\",\"\",Start!C23)","v":""},"1. pokus",null,null,null,null,null,null,null,null,{"$f":"IF(C57=\"\",\"\",COUNT(E59:L59))","v":""},{"$f":"IF(C57=\"\",\"\",IF(AND(M57=0,COUNTIF(E59:L59,\"NP\")=0),\"DNS\",IF(M57<M$2,\"NP\",SUM(T57:AB59))))","v":""},null,{"$f":"IF(C57=\"\",\"\",IF(OR(N57=\"NP\",N57=\"DNS\"),Start!$E$5,RANK(N57,N$5:N$168,1)))","v":""},null,{"$f":"IF(D57=\"\",\"\",IF(OR(P57=\"NP\",P57=\"DNS\"),IF(P57=\"NP\",MAX(P$5:P$85)+COUNTIF((P$5:P$85),MAX(P$5:P$85)),MAX(P$5:P$85)+COUNTIF((P$5:P$85),MAX(P$5:P$85))+COUNTIF((P$5:P$85),\"NP\")),P57))","v":""},null,{"$f":"IF($C57=\"\",\"\",IF(T$4>$M$2,0,IF(ISNA(SMALL($E59:$L59,1)),0,SMALL($E59:$L59,1))))","v":""},{"$f":"IF($C57=\"\",\"\",IF(U$4>$M$2,0,IF(ISNA(SMALL($E59:$L59,2)),0,SMALL($E59:$L59,2))))","v":""},{"$f":"IF($C57=\"\",\"\",IF(V$4>$M$2,0,IF(ISNA(SMALL($E59:$L59,3)),0,SMALL($E59:$L59,3))))","v":""},{"$f":"IF($C57=\"\",\"\",IF(W$4>$M$2,0,IF(ISNA(SMALL($E59:$L59,4)),0,SMALL($E59:$L59,4))))","v":""},{"$f":"IF($C57=\"\",\"\",IF(X$4>$M$2,0,IF(ISNA(SMALL($E59:$L59,5)),0,SMALL($E59:$L59,5))))","v":""},{"$f":"IF($C57=\"\",\"\",IF(Y$4>$M$2,0,IF(ISNA(SMALL($E59:$L59,6)),0,SMALL($E59:$L59,6))))","v":""},{"$f":"IF($C57=\"\",\"\",IF(Z$4>$M$2,0,IF(ISNA(SMALL($E59:$L59,7)),0,SMALL($E59:$L59,7))))","v":""},{"$f":"IF($C57=\"\",\"\",IF(AA$4>$M$2,0,IF(ISNA(SMALL($E59:$L59,8)),0,SMALL($E59:$L59,8))))","v":""},{"$f":"IF($C57=\"\",\"\",IF(AB$4>$M$2,0,IF(ISNA(SMALL($E59:$L59,9)),0,SMALL($E59:$L59,9))))","v":""}]
[null,null,null,"2. pokus"]
[null,null,null,"čas",{"$f":"IF(OR($C57=\"\",E57=\"\",E58=\"\"),\"\",IF(OR(AND(E57=\"NP\",E58=\"NP\"),AND(E57=\"DNS\",E58=\"DNS\")),E57,IF(AND(E57=\"NP\",E58=\"DNS\"),E57,IF(AND(E57=\"DNS\",E58=\"NP\"),E58,MIN(E57,E58)))))","v":""},"","","","","","",""]
[null,{"$f":"Start!B24","v":18},{"$f":"IF(Start!C24=\"\",\"\",Start!C24)","v":""},"1. pokus",null,null,null,null,null,null,null,null,{"$f":"IF(C60=\"\",\"\",COUNT(E62:L62))","v":""},{"$f":"IF(C60=\"\",\"\",IF(AND(M60=0,COUNTIF(E62:L62,\"NP\")=0),\"DNS\",IF(M60<M$2,\"NP\",SUM(T60:AB62))))","v":""},null,{"$f":"IF(C60=\"\",\"\",IF(OR(N60=\"NP\",N60=\"DNS\"),Start!$E$5,RANK(N60,N$5:N$168,1)))","v":""},null,{"$f":"IF(D60=\"\",\"\",IF(OR(P60=\"NP\",P60=\"DNS\"),IF(P60=\"NP\",MAX(P$5:P$85)+COUNTIF((P$5:P$85),MAX(P$5:P$85)),MAX(P$5:P$85)+COUNTIF((P$5:P$85),MAX(P$5:P$85))+COUNTIF((P$5:P$85),\"NP\")),P60))","v":""},null,{"$f":"IF($C60=\"\",\"\",IF(T$4>$M$2,0,IF(ISNA(SMALL($E62:$L62,1)),0,SMALL($E62:$L62,1))))","v":""},{"$f":"IF($C60=\"\",\"\",IF(U$4>$M$2,0,IF(ISNA(SMALL($E62:$L62,2)),0,SMALL($E62:$L62,2))))","v":""},{"$f":"IF($C60=\"\",\"\",IF(V$4>$M$2,0,IF(ISNA(SMALL($E62:$L62,3)),0,SMALL($E62:$L62,3))))","v":""},{"$f":"IF($C60=\"\",\"\",IF(W$4>$M$2,0,IF(ISNA(SMALL($E62:$L62,4)),0,SMALL($E62:$L62,4))))","v":""},{"$f":"IF($C60=\"\",\"\",IF(X$4>$M$2,0,IF(ISNA(SMALL($E62:$L62,5)),0,SMALL($E62:$L62,5))))","v":""},{"$f":"IF($C60=\"\",\"\",IF(Y$4>$M$2,0,IF(ISNA(SMALL($E62:$L62,6)),0,SMALL($E62:$L62,6))))","v":""},{"$f":"IF($C60=\"\",\"\",IF(Z$4>$M$2,0,IF(ISNA(SMALL($E62:$L62,7)),0,SMALL($E62:$L62,7))))","v":""},{"$f":"IF($C60=\"\",\"\",IF(AA$4>$M$2,0,IF(ISNA(SMALL($E62:$L62,8)),0,SMALL($E62:$L62,8))))","v":""},{"$f":"IF($C60=\"\",\"\",IF(AB$4>$M$2,0,IF(ISNA(SMALL($E62:$L62,9)),0,SMALL($E62:$L62,9))))","v":""}]
[null,null,null,"2. pokus"]
[null,null,null,"čas",{"$f":"IF(OR($C60=\"\",E60=\"\",E61=\"\"),\"\",IF(OR(AND(E60=\"NP\",E61=\"NP\"),AND(E60=\"DNS\",E61=\"DNS\")),E60,IF(AND(E60=\"NP\",E61=\"DNS\"),E60,IF(AND(E60=\"DNS\",E61=\"NP\"),E61,MIN(E60,E61)))))","v":""},"","","","","","",""]
[null,{"$f":"Start!B25","v":19},{"$f":"IF(Start!C25=\"\",\"\",Start!C25)","v":""},"1. pokus",null,null,null,null,null,null,null,null,{"$f":"IF(C63=\"\",\"\",COUNT(E65:L65))","v":""},{"$f":"IF(C63=\"\",\"\",IF(AND(M63=0,COUNTIF(E65:L65,\"NP\")=0),\"DNS\",IF(M63<M$2,\"NP\",SUM(T63:AB65))))","v":""},null,{"$f":"IF(C63=\"\",\"\",IF(OR(N63=\"NP\",N63=\"DNS\"),Start!$E$5,RANK(N63,N$5:N$168,1)))","v":""},null,{"$f":"IF(D63=\"\",\"\",IF(OR(P63=\"NP\",P63=\"DNS\"),IF(P63=\"NP\",MAX(P$5:P$85)+COUNTIF((P$5:P$85),MAX(P$5:P$85)),MAX(P$5:P$85)+COUNTIF((P$5:P$85),MAX(P$5:P$85))+COUNTIF((P$5:P$85),\"NP\")),P63))","v":""},null,{"$f":"IF($C63=\"\",\"\",IF(T$4>$M$2,0,IF(ISNA(SMALL($E65:$L65,1)),0,SMALL($E65:$L65,1))))","v":""},{"$f":"IF($C63=\"\",\"\",IF(U$4>$M$2,0,IF(ISNA(SMALL($E65:$L65,2)),0,SMALL($E65:$L65,2))))","v":""},{"$f":"IF($C63=\"\",\"\",IF(V$4>$M$2,0,IF(ISNA(SMALL($E65:$L65,3)),0,SMALL($E65:$L65,3))))","v":""},{"$f":"IF($C63=\"\",\"\",IF(W$4>$M$2,0,IF(ISNA(SMALL($E65:$L65,4)),0,SMALL($E65:$L65,4))))","v":""},{"$f":"IF($C63=\"\",\"\",IF(X$4>$M$2,0,IF(ISNA(SMALL($E65:$L65,5)),0,SMALL($E65:$L65,5))))","v":""},{"$f":"IF($C63=\"\",\"\",IF(Y$4>$M$2,0,IF(ISNA(SMALL($E65:$L65,6)),0,SMALL($E65:$L65,6))))","v":""},{"$f":"IF($C63=\"\",\"\",IF(Z$4>$M$2,0,IF(ISNA(SMALL($E65:$L65,7)),0,SMALL($E65:$L65,7))))","v":""},{"$f":"IF($C63=\"\",\"\",IF(AA$4>$M$2,0,IF(ISNA(SMALL($E65:$L65,8)),0,SMALL($E65:$L65,8))))","v":""},{"$f":"IF($C63=\"\",\"\",IF(AB$4>$M$2,0,IF(ISNA(SMALL($E65:$L65,9)),0,SMALL($E65:$L65,9))))","v":""}]
[null,null,null,"2. pokus"]
[null,null,null,"čas",{"$f":"IF(OR($C63=\"\",E63=\"\",E64=\"\"),\"\",IF(OR(AND(E63=\"NP\",E64=\"NP\"),AND(E63=\"DNS\",E64=\"DNS\")),E63,IF(AND(E63=\"NP\",E64=\"DNS\"),E63,IF(AND(E63=\"DNS\",E64=\"NP\"),E64,MIN(E63,E64)))))","v":""},"","","","","","",""]
[null,{"$f":"Start!B26","v":20},{"$f":"IF(Start!C26=\"\",\"\",Start!C26)","v":""},"1. pokus",null,null,null,null,null,null,null,null,{"$f":"IF(C66=\"\",\"\",COUNT(E68:L68))","v":""},{"$f":"IF(C66=\"\",\"\",IF(AND(M66=0,COUNTIF(E68:L68,\"NP\")=0),\"DNS\",IF(M66<M$2,\"NP\",SUM(T66:AB68))))","v":""},null,{"$f":"IF(C66=\"\",\"\",IF(OR(N66=\"NP\",N66=\"DNS\"),Start!$E$5,RANK(N66,N$5:N$168,1)))","v":""},null,{"$f":"IF(D66=\"\",\"\",IF(OR(P66=\"NP\",P66=\"DNS\"),IF(P66=\"NP\",MAX(P$5:P$85)+COUNTIF((P$5:P$85),MAX(P$5:P$85)),MAX(P$5:P$85)+COUNTIF((P$5:P$85),MAX(P$5:P$85))+COUNTIF((P$5:P$85),\"NP\")),P66))","v":""},null,{"$f":"IF($C66=\"\",\"\",IF(T$4>$M$2,0,IF(ISNA(SMALL($E68:$L68,1)),0,SMALL($E68:$L68,1))))","v":""},{"$f":"IF($C66=\"\",\"\",IF(U$4>$M$2,0,IF(ISNA(SMALL($E68:$L68,2)),0,SMALL($E68:$L68,2))))","v":""},{"$f":"IF($C66=\"\",\"\",IF(V$4>$M$2,0,IF(ISNA(SMALL($E68:$L68,3)),0,SMALL($E68:$L68,3))))","v":""},{"$f":"IF($C66=\"\",\"\",IF(W$4>$M$2,0,IF(ISNA(SMALL($E68:$L68,4)),0,SMALL($E68:$L68,4))))","v":""},{"$f":"IF($C66=\"\",\"\",IF(X$4>$M$2,0,IF(ISNA(SMALL($E68:$L68,5)),0,SMALL($E68:$L68,5))))","v":""},{"$f":"IF($C66=\"\",\"\",IF(Y$4>$M$2,0,IF(ISNA(SMALL($E68:$L68,6)),0,SMALL($E68:$L68,6))))","v":""},{"$f":"IF($C66=\"\",\"\",IF(Z$4>$M$2,0,IF(ISNA(SMALL($E68:$L68,7)),0,SMALL($E68:$L68,7))))","v":""},{"$f":"IF($C66=\"\",\"\",IF(AA$4>$M$2,0,IF(ISNA(SMALL($E68:$L68,8)),0,SMALL($E68:$L68,8))))","v":""},{"$f":"IF($C66=\"\",\"\",IF(AB$4>$M$2,0,IF(ISNA(SMALL($E68:$L68,9)),0,SMALL($E68:$L68,9))))","v":""}]
[null,null,null,"2. pokus"]
[null,null,null,"čas",{"$f":"IF(OR($C66=\"\",E66=\"\",E67=\"\"),\"\",IF(OR(AND(E66=\"NP\",E67=\"NP\"),AND(E66=\"DNS\",E67=\"DNS\")),E66,IF(AND(E66=\"NP\",E67=\"DNS\"),E66,IF(AND(E66=\"DNS\",E67=\"NP\"),E67,MIN(E66,E67)))))","v":""},"","","","","","",""]
[null,{"$f":"B35","v":"Běh na 100m s překážkami - Pořadí družstev"}]
[]
[null,null,{"$f":"Start!$C$5","v":"Dorky"},null,"Soutěžící"]
[null,"st.č.","SDH","Pokus",1,2,3,4,5,6,7,8,"P","C.čas",null,"Poř.",null,"Body"]
[null,{"$f":"Start!B27","v":21},{"$f":"IF(Start!C27=\"\",\"\",Start!C27)","v":""},"1. pokus",null,null,null,null,null,null,null,null,{"$f":"IF(C73=\"\",\"\",COUNT(E75:L75))","v":""},{"$f":"IF(C73=\"\",\"\",IF(AND(M73=0,COUNTIF(E75:L75,\"NP\")=0),\"DNS\",IF(M73<M$2,\"NP\",SUM(T73:AB75))))","v":""},null,{"$f":"IF(C73=\"\",\"\",IF(OR(N73=\"NP\",N73=\"DNS\"),Start!$E$5,RANK(N73,N$5:N$168,1)))","v":""},null,{"$f":"IF(D73=\"\",\"\",IF(OR(P73=\"NP\",P73=\"DNS\"),IF(P73=\"NP\",MAX(P$5:P$85)+COUNTIF((P$5:P$85),MAX(P$5:P$85)),MAX(P$5:P$85)+COUNTIF((P$5:P$85),MAX(P$5:P$85))+COUNTIF((P$5:P$85),\"NP\")),P73))","v":""},null,{"$f":"IF($C73=\"\",\"\",IF(T$4>$M$2,0,IF(ISNA(SMALL($E75:$L75,1)),0,SMALL($E75:$L75,1))))","v":""},{"$f":"IF($C73=\"\",\"\",IF(U$4>$M$2,0,IF(ISNA(SMALL($E75:$L75,2)),0,SMALL($E75:$L75,2))))","v":""},{"$f":"IF($C73=\"\",\"\",IF(V$4>$M$2,0,IF(ISNA(SMALL($E75:$L75,3)),0,SMALL($E75:$L75,3))))","v":""},{"$f":"IF($C73=\"\",\"\",IF(W$4>$M$2,0,IF(ISNA(SMALL($E75:$L75,4)),0,SMALL($E75:$L75,4))))","v":""},{"$f":"IF($C73=\"\",\"\",IF(X$4>$M$2,0,IF(ISNA(SMALL($E75:$L75,5)),0,SMALL($E75:$L75,5))))","v":""},{"$f":"IF($C73=\"\",\"\",IF(Y$4>$M$2,0,IF(ISNA(SMALL($E75:$L75,6)),0,SMALL($E75:$L75,6))))","v":""},{"$f":"IF($C73=\"\",\"\",IF(Z$4>$M$2,0,IF(ISNA(SMALL($E75:$L75,7)),0,SMALL($E75:$L75,7))))","v":""},{"$f":"IF($C73=\"\",\"\",IF(AA$4>$M$2,0,IF(ISNA(SMALL($E75:$L75,8)),0,SMALL($E75:$L75,8))))","v":""},{"$f":"IF($C73=\"\",\"\",IF(AB$4>$M$2,0,IF(ISNA(SMALL($E75:$L75,9)),0,SMALL($E75:$L75,9))))","v":""}]
[null,null,null,"2. pokus"]
[null,null,null,"čas",{"$f":"IF(OR($C73=\"\",E73=\"\",E74=\"\"),\"\",IF(OR(AND(E73=\"NP\",E74=\"NP\"),AND(E73=\"DNS\",E74=\"DNS\")),E73,IF(AND(E73=\"NP\",E74=\"DNS\"),E73,IF(AND(E73=\"DNS\",E74=\"NP\"),E74,MIN(E73,E74)))))","v":""},"","","","","","",""]
[null,{"$f":"Start!B28","v":22},{"$f":"IF(Start!C28=\"\",\"\",Start!C28)","v":""},"1. pokus",null,null,null,null,null,null,null,null,{"$f":"IF(C76=\"\",\"\",COUNT(E78:L78))","v":""},{"$f":"IF(C76=\"\",\"\",IF(AND(M76=0,COUNTIF(E78:L78,\"NP\")=0),\"DNS\",IF(M76<M$2,\"NP\",SUM(T76:AB78))))","v":""},null,{"$f":"IF(C76=\"\",\"\",IF(OR(N76=\"NP\",N76=\"DNS\"),Start!$E$5,RANK(N76,N$5:N$168,1)))","v":""},null,{"$f":"IF(D76=\"\",\"\",IF(OR(P76=\"NP\",P76=\"DNS\"),IF(P76=\"NP\",MAX(P$5:P$85)+COUNTIF((P$5:P$85),MAX(P$5:P$85)),MAX(P$5:P$85)+COUNTIF((P$5:P$85),MAX(P$5:P$85))+COUNTIF((P$5:P$85),\"NP\")),P76))","v":""},null,{"$f":"IF($C76=\"\",\"\",IF(T$4>$M$2,0,IF(ISNA(SMALL($E78:$L78,1)),0,SMALL($E78:$L78,1))))","v":""},{"$f":"IF($C76=\"\",\"\",IF(U$4>$M$2,0,IF(ISNA(SMALL($E78:$L78,2)),0,SMALL($E78:$L78,2))))","v":""},{"$f":"IF($C76=\"\",\"\",IF(V$4>$M$2,0,IF(ISNA(SMALL($E78:$L78,3)),0,SMALL($E78:$L78,3))))","v":""},{"$f":"IF($C76=\"\",\"\",IF(W$4>$M$2,0,IF(ISNA(SMALL($E78:$L78,4)),0,SMALL($E78:$L78,4))))","v":""},{"$f":"IF($C76=\"\",\"\",IF(X$4>$M$2,0,IF(ISNA(SMALL($E78:$L78,5)),0,SMALL($E78:$L78,5))))","v":""},{"$f":"IF($C76=\"\",\"\",IF(Y$4>$M$2,0,IF(ISNA(SMALL($E78:$L78,6)),0,SMALL($E78:$L78,6))))","v":""},{"$f":"IF($C76=\"\",\"\",IF(Z$4>$M$2,0,IF(ISNA(SMALL($E78:$L78,7)),0,SMALL($E78:$L78,7))))","v":""},{"$f":"IF($C76=\"\",\"\",IF(AA$4>$M$2,0,IF(ISNA(SMALL($E78:$L78,8)),0,SMALL($E78:$L78,8))))","v":""},{"$f":"IF($C76=\"\",\"\",IF(AB$4>$M$2,0,IF(ISNA(SMALL($E78:$L78,9)),0,SMALL($E78:$L78,9))))","v":""}]
[null,null,null,"2. pokus"]
[null,null,null,"čas",{"$f":"IF(OR($C76=\"\",E76=\"\",E77=\"\"),\"\",IF(OR(AND(E76=\"NP\",E77=\"NP\"),AND(E76=\"DNS\",E77=\"DNS\")),E76,IF(AND(E76=\"NP\",E77=\"DNS\"),E76,IF(AND(E76=\"DNS\",E77=\"NP\"),E77,MIN(E76,E77)))))","v":""},"","","","","","",""]
[null,{"$f":"Start!B29","v":23},{"$f":"IF(Start!C29=\"\",\"\",Start!C29)","v":""},"1. pokus",null,null,null,null,null,null,null,null,{"$f":"IF(C79=\"\",\"\",COUNT(E81:L81))","v":""},{"$f":"IF(C79=\"\",\"\",IF(AND(M79=0,COUNTIF(E81:L81,\"NP\")=0),\"DNS\",IF(M79<M$2,\"NP\",SUM(T79:AB81))))","v":""},null,{"$f":"IF(C79=\"\",\"\",IF(OR(N79=\"NP\",N79=\"DNS\"),Start!$E$5,RANK(N79,N$5:N$168,1)))","v":""},null,{"$f":"IF(D79=\"\",\"\",IF(OR(P79=\"NP\",P79=\"DNS\"),IF(P79=\"NP\",MAX(P$5:P$85)+COUNTIF((P$5:P$85),MAX(P$5:P$85)),MAX(P$5:P$85)+COUNTIF((P$5:P$85),MAX(P$5:P$85))+COUNTIF((P$5:P$85),\"NP\")),P79))","v":""},null,{"$f":"IF($C79=\"\",\"\",IF(T$4>$M$2,0,IF(ISNA(SMALL($E81:$L81,1)),0,SMALL($E81:$L81,1))))","v":""},{"$f":"IF($C79=\"\",\"\",IF(U$4>$M$2,0,IF(ISNA(SMALL($E81:$L81,2)),0,SMALL($E81:$L81,2))))","v":""},{"$f":"IF($C79=\"\",\"\",IF(V$4>$M$2,0,IF(ISNA(SMALL($E81:$L81,3)),0,SMALL($E81:$L81,3))))","v":""},{"$f":"IF($C79=\"\",\"\",IF(W$4>$M$2,0,IF(ISNA(SMALL($E81:$L81,4)),0,SMALL($E81:$L81,4))))","v":""},{"$f":"IF($C79=\"\",\"\",IF(X$4>$M$2,0,IF(ISNA(SMALL($E81:$L81,5)),0,SMALL($E81:$L81,5))))","v":""},{"$f":"IF($C79=\"\",\"\",IF(Y$4>$M$2,0,IF(ISNA(SMALL($E81:$L81,6)),0,SMALL($E81:$L81,6))))","v":""},{"$f":"IF($C79=\"\",\"\",IF(Z$4>$M$2,0,IF(ISNA(SMALL($E81:$L81,7)),0,SMALL($E81:$L81,7))))","v":""},{"$f":"IF($C79=\"\",\"\",IF(AA$4>$M$2,0,IF(ISNA(SMALL($E81:$L81,8)),0,SMALL($E81:$L81,8))))","v":""},{"$f":"IF($C79=\"\",\"\",IF(AB$4>$M$2,0,IF(ISNA(SMALL($E81:$L81,9)),0,SMALL($E81:$L81,9))))","v":""}]
[null,null,null,"2. pokus"]
[null,null,null,"čas",{"$f":"IF(OR($C79=\"\",E79=\"\",E80=\"\"),\"\",IF(OR(AND(E79=\"NP\",E80=\"NP\"),AND(E79=\"DNS\",E80=\"DNS\")),E79,IF(AND(E79=\"NP\",E80=\"DNS\"),E79,IF(AND(E79=\"DNS\",E80=\"NP\"),E80,MIN(E79,E80)))))","v":""},"","","","","","",""]
[null,{"$f":"Start!B30","v":24},{"$f":"IF(Start!C30=\"\",\"\",Start!C30)","v":""},"1. pokus",null,null,null,null,null,null,null,null,{"$f":"IF(C82=\"\",\"\",COUNT(E84:L84))","v":""},{"$f":"IF(C82=\"\",\"\",IF(AND(M82=0,COUNTIF(E84:L84,\"NP\")=0),\"DNS\",IF(M82<M$2,\"NP\",SUM(T82:AB84))))","v":""},null,{"$f":"IF(C82=\"\",\"\",IF(OR(N82=\"NP\",N82=\"DNS\"),Start!$E$5,RANK(N82,N$5:N$168,1)))","v":""},null,{"$f":"IF(D82=\"\",\"\",IF(OR(P82=\"NP\",P82=\"DNS\"),IF(P82=\"NP\",MAX(P$5:P$85)+COUNTIF((P$5:P$85),MAX(P$5:P$85)),MAX(P$5:P$85)+COUNTIF((P$5:P$85),MAX(P$5:P$85))+COUNTIF((P$5:P$85),\"NP\")),P82))","v":""},null,{"$f":"IF($C82=\"\",\"\",IF(T$4>$M$2,0,IF(ISNA(SMALL($E84:$L84,1)),0,SMALL($E84:$L84,1))))","v":""},{"$f":"IF($C82=\"\",\"\",IF(U$4>$M$2,0,IF(ISNA(SMALL($E84:$L84,2)),0,SMALL($E84:$L84,2))))","v":""},{"$f":"IF($C82=\"\",\"\",IF(V$4>$M$2,0,IF(ISNA(SMALL($E84:$L84,3)),0,SMALL($E84:$L84,3))))","v":""},{"$f":"IF($C82=\"\",\"\",IF(W$4>$M$2,0,IF(ISNA(SMALL($E84:$L84,4)),0,SMALL($E84:$L84,4))))","v":""},{"$f":"IF($C82=\"\",\"\",IF(X$4>$M$2,0,IF(ISNA(SMALL($E84:$L84,5)),0,SMALL($E84:$L84,5))))","v":""},{"$f":"IF($C82=\"\",\"\",IF(Y$4>$M$2,0,IF(ISNA(SMALL($E84:$L84,6)),0,SMALL($E84:$L84,6))))","v":""},{"$f":"IF($C82=\"\",\"\",IF(Z$4>$M$2,0,IF(ISNA(SMALL($E84:$L84,7)),0,SMALL($E84:$L84,7))))","v":""},{"$f":"IF($C82=\"\",\"\",IF(AA$4>$M$2,0,IF(ISNA(SMALL($E84:$L84,8)),0,SMALL($E84:$L84,8))))","v":""},{"$f":"IF($C82=\"\",\"\",IF(AB$4>$M$2,0,IF(ISNA(SMALL($E84:$L84,9)),0,SMALL($E84:$L84,9))))","v":""}]
[null,null,null,"2. pokus"]
[null,null,null,"čas",{"$f":"IF(OR($C82=\"\",E82=\"\",E83=\"\"),\"\",IF(OR(AND(E82=\"NP\",E83=\"NP\"),AND(E82=\"DNS\",E83=\"DNS\")),E82,IF(AND(E82=\"NP\",E83=\"DNS\"),E82,IF(AND(E82=\"DNS\",E83=\"NP\"),E83,MIN(E82,E83)))))","v":""},"","","","","","",""]
[null,{"$f":"Start!B31","v":25},{"$f":"IF(Start!C31=\"\",\"\",Start!C31)","v":""},"1. pokus",null,null,null,null,null,null,null,null,{"$f":"IF(C85=\"\",\"\",COUNT(E87:L87))","v":""},{"$f":"IF(C85=\"\",\"\",IF(AND(M85=0,COUNTIF(E87:L87,\"NP\")=0),\"DNS\",IF(M85<M$2,\"NP\",SUM(T85:AB87))))","v":""},null,{"$f":"IF(C85=\"\",\"\",IF(OR(N85=\"NP\",N85=\"DNS\"),Start!$E$5,RANK(N85,N$5:N$168,1)))","v":""},null,{"$f":"IF(D85=\"\",\"\",IF(OR(P85=\"NP\",P85=\"DNS\"),IF(P85=\"NP\",MAX(P$5:P$85)+COUNTIF((P$5:P$85),MAX(P$5:P$85)),MAX(P$5:P$85)+COUNTIF((P$5:P$85),MAX(P$5:P$85))+COUNTIF((P$5:P$85),\"NP\")),P85))","v":""},null,{"$f":"IF($C85=\"\",\"\",IF(T$4>$M$2,0,IF(ISNA(SMALL($E87:$L87,1)),0,SMALL($E87:$L87,1))))","v":""},{"$f":"IF($C85=\"\",\"\",IF(U$4>$M$2,0,IF(ISNA(SMALL($E87:$L87,2)),0,SMALL($E87:$L87,2))))","v":""},{"$f":"IF($C85=\"\",\"\",IF(V$4>$M$2,0,IF(ISNA(SMALL($E87:$L87,3)),0,SMALL($E87:$L87,3))))","v":""},{"$f":"IF($C85=\"\",\"\",IF(W$4>$M$2,0,IF(ISNA(SMALL($E87:$L87,4)),0,SMALL($E87:$L87,4))))","v":""},{"$f":"IF($C85=\"\",\"\",IF(X$4>$M$2,0,IF(ISNA(SMALL($E87:$L87,5)),0,SMALL($E87:$L87,5))))","v":""},{"$f":"IF($C85=\"\",\"\",IF(Y$4>$M$2,0,IF(ISNA(SMALL($E87:$L87,6)),0,SMALL($E87:$L87,6))))","v":""},{"$f":"IF($C85=\"\",\"\",IF(Z$4>$M$2,0,IF(ISNA(SMALL($E87:$L87,7)),0,SMALL($E87:$L87,7))))","v":""},{"$f":"IF($C85=\"\",\"\",IF(AA$4>$M$2,0,IF(ISNA(SMALL($E87:$L87,8)),0,SMALL($E87:$L87,8))))","v":""},{"$f":"IF($C85=\"\",\"\",IF(AB$4>$M$2,0,IF(ISNA(SMALL($E87:$L87,9)),0,SMALL($E87:$L87,9))))","v":""}]
[null,null,null,"2. pokus"]
[null,null,null,"čas",{"$f":"IF(OR($C85=\"\",E85=\"\",E86=\"\"),\"\",IF(OR(AND(E85=\"NP\",E86=\"NP\"),AND(E85=\"DNS\",E86=\"DNS\")),E85,IF(AND(E85=\"NP\",E86=\"DNS\"),E85,IF(AND(E85=\"DNS\",E86=\"NP\"),E86,MIN(E85,E86)))))","v":""},"","","","","","",""]
[null,{"$f":"Start!F7","v":26},{"$f":"IF(Start!G7=\"\",\"\",Start!G7)","v":""},"1. pokus",null,null,null,null,null,null,null,null,{"$f":"IF(C88=\"\",\"\",COUNT(E90:L90))","v":""},{"$f":"IF(C88=\"\",\"\",IF(AND(M88=0,COUNTIF(E90:L90,\"NP\")=0),\"DNS\",IF(M88<M$2,\"NP\",SUM(T88:AB90))))","v":""},null,{"$f":"IF(C88=\"\",\"\",IF(OR(N88=\"NP\",N88=\"DNS\"),Start!$E$5,RANK(N88,N$5:N$168,1)))","v":""},null,{"$f":"IF(D88=\"\",\"\",IF(OR(P88=\"NP\",P88=\"DNS\"),IF(P88=\"NP\",MAX(P$5:P$85)+COUNTIF((P$5:P$85),MAX(P$5:P$85)),MAX(P$5:P$85)+COUNTIF((P$5:P$85),MAX(P$5:P$85))+COUNTIF((P$5:P$85),\"NP\")),P88))","v":""},null,{"$f":"IF($C88=\"\",\"\",IF(T$4>$M$2,0,IF(ISNA(SMALL($E90:$L90,1)),0,SMALL($E90:$L90,1))))","v":""},{"$f":"IF($C88=\"\",\"\",IF(U$4>$M$2,0,IF(ISNA(SMALL($E90:$L90,2)),0,SMALL($E90:$L90,2))))","v":""},{"$f":"IF($C88=\"\",\"\",IF(V$4>$M$2,0,IF(ISNA(SMALL($E90:$L90,3)),0,SMALL($E90:$L90,3))))","v":""},{"$f":"IF($C88=\"\",\"\",IF(W$4>$M$2,0,IF(ISNA(SMALL($E90:$L90,4)),0,SMALL($E90:$L90,4))))","v":""},{"$f":"IF($C88=\"\",\"\",IF(X$4>$M$2,0,IF(ISNA(SMALL($E90:$L90,5)),0,SMALL($E90:$L90,5))))","v":""},{"$f":"IF($C88=\"\",\"\",IF(Y$4>$M$2,0,IF(ISNA(SMALL($E90:$L90,6)),0,SMALL($E90:$L90,6))))","v":""},{"$f":"IF($C88=\"\",\"\",IF(Z$4>$M$2,0,IF(ISNA(SMALL($E90:$L90,7)),0,SMALL($E90:$L90,7))))","v":""},{"$f":"IF($C88=\"\",\"\",IF(AA$4>$M$2,0,IF(ISNA(SMALL($E90:$L90,8)),0,SMALL($E90:$L90,8))))","v":""},{"$f":"IF($C88=\"\",\"\",IF(AB$4>$M$2,0,IF(ISNA(SMALL($E90:$L90,9)),0,SMALL($E90:$L90,9))))","v":""}]
[null,null,null,"2. pokus"]
[null,null,null,"čas",{"$f":"IF(OR($C88=\"\",E88=\"\",E89=\"\"),\"\",IF(OR(AND(E88=\"NP\",E89=\"NP\"),AND(E88=\"DNS\",E89=\"DNS\")),E88,IF(AND(E88=\"NP\",E89=\"DNS\"),E88,IF(AND(E88=\"DNS\",E89=\"NP\"),E89,MIN(E88,E89)))))","v":""},"","","","","","",""]
[null,{"$f":"Start!F8","v":27},{"$f":"IF(Start!G8=\"\",\"\",Start!G8)","v":""},"1. pokus",null,null,null,null,null,null,null,null,{"$f":"IF(C91=\"\",\"\",COUNT(E93:L93))","v":""},{"$f":"IF(C91=\"\",\"\",IF(AND(M91=0,COUNTIF(E93:L93,\"NP\")=0),\"DNS\",IF(M91<M$2,\"NP\",SUM(T91:AB93))))","v":""},null,{"$f":"IF(C91=\"\",\"\",IF(OR(N91=\"NP\",N91=\"DNS\"),Start!$E$5,RANK(N91,N$5:N$168,1)))","v":""},null,{"$f":"IF(D91=\"\",\"\",IF(OR(P91=\"NP\",P91=\"DNS\"),IF(P91=\"NP\",MAX(P$5:P$85)+COUNTIF((P$5:P$85),MAX(P$5:P$85)),MAX(P$5:P$85)+COUNTIF((P$5:P$85),MAX(P$5:P$85))+COUNTIF((P$5:P$85),\"NP\")),P91))","v":""},null,{"$f":"IF($C91=\"\",\"\",IF(T$4>$M$2,0,IF(ISNA(SMALL($E93:$L93,1)),0,SMALL($E93:$L93,1))))","v":""},{"$f":"IF($C91=\"\",\"\",IF(U$4>$M$2,0,IF(ISNA(SMALL($E93:$L93,2)),0,SMALL($E93:$L93,2))))","v":""},{"$f":"IF($C91=\"\",\"\",IF(V$4>$M$2,0,IF(ISNA(SMALL($E93:$L93,3)),0,SMALL($E93:$L93,3))))","v":""},{"$f":"IF($C91=\"\",\"\",IF(W$4>$M$2,0,IF(ISNA(SMALL($E93:$L93,4)),0,SMALL($E93:$L93,4))))","v":""},{"$f":"IF($C91=\"\",\"\",IF(X$4>$M$2,0,IF(ISNA(SMALL($E93:$L93,5)),0,SMALL($E93:$L93,5))))","v":""},{"$f":"IF($C91=\"\",\"\",IF(Y$4>$M$2,0,IF(ISNA(SMALL($E93:$L93,6)),0,SMALL($E93:$L93,6))))","v":""},{"$f":"IF($C91=\"\",\"\",IF(Z$4>$M$2,0,IF(ISNA(SMALL($E93:$L93,7)),0,SMALL($E93:$L93,7))))","v":""},{"$f":"IF($C91=\"\",\"\",IF(AA$4>$M$2,0,IF(ISNA(SMALL($E93:$L93,8)),0,SMALL($E93:$L93,8))))","v":""},{"$f":"IF($C91=\"\",\"\",IF(AB$4>$M$2,0,IF(ISNA(SMALL($E93:$L93,9)),0,SMALL($E93:$L93,9))))","v":""}]
[null,null,null,"2. pokus"]
[null,null,null,"čas",{"$f":"IF(OR($C91=\"\",E91=\"\",E92=\"\"),\"\",IF(OR(AND(E91=\"NP\",E92=\"NP\"),AND(E91=\"DNS\",E92=\"DNS\")),E91,IF(AND(E91=\"NP\",E92=\"DNS\"),E91,IF(AND(E91=\"DNS\",E92=\"NP\"),E92,MIN(E91,E92)))))","v":""},"","","","","","",""]
[null,{"$f":"Start!F9","v":28},{"$f":"IF(Start!G9=\"\",\"\",Start!G9)","v":""},"1. pokus",null,null,null,null,null,null,null,null,{"$f":"IF(C94=\"\",\"\",COUNT(E96:L96))","v":""},{"$f":"IF(C94=\"\",\"\",IF(AND(M94=0,COUNTIF(E96:L96,\"NP\")=0),\"DNS\",IF(M94<M$2,\"NP\",SUM(T94:AB96))))","v":""},null,{"$f":"IF(C94=\"\",\"\",IF(OR(N94=\"NP\",N94=\"DNS\"),Start!$E$5,RANK(N94,N$5:N$168,1)))","v":""},null,{"$f":"IF(D94=\"\",\"\",IF(OR(P94=\"NP\",P94=\"DNS\"),IF(P94=\"NP\",MAX(P$5:P$85)+COUNTIF((P$5:P$85),MAX(P$5:P$85)),MAX(P$5:P$85)+COUNTIF((P$5:P$85),MAX(P$5:P$85))+COUNTIF((P$5:P$85),\"NP\")),P94))","v":""},null,{"$f":"IF($C94=\"\",\"\",IF(T$4>$M$2,0,IF(ISNA(SMALL($E96:$L96,1)),0,SMALL($E96:$L96,1))))","v":""},{"$f":"IF($C94=\"\",\"\",IF(U$4>$M$2,0,IF(ISNA(SMALL($E96:$L96,2)),0,SMALL($E96:$L96,2))))","v":""},{"$f":"IF($C94=\"\",\"\",IF(V$4>$M$2,0,IF(ISNA(SMALL($E96:$L96,3)),0,SMALL($E96:$L96,3))))","v":""},{"$f":"IF($C94=\"\",\"\",IF(W$4>$M$2,0,IF(ISNA(SMALL($E96:$L96,4)),0,SMALL($E96:$L96,4))))","v":""},{"$f":"IF($C94=\"\",\"\",IF(X$4>$M$2,0,IF(ISNA(SMALL($E96:$L96,5)),0,SMALL($E96:$L96,5))))","v":""},{"$f":"IF($C94=\"\",\"\",IF(Y$4>$M$2,0,IF(ISNA(SMALL($E96:$L96,6)),0,SMALL($E96:$L96,6))))","v":""},{"$f":"IF($C94=\"\",\"\",IF(Z$4>$M$2,0,IF(ISNA(SMALL($E96:$L96,7)),0,SMALL($E96:$L96,7))))","v":""},{"$f":"IF($C94=\"\",\"\",IF(AA$4>$M$2,0,IF(ISNA(SMALL($E96:$L96,8)),0,SMALL($E96:$L96,8))))","v":""},{"$f":"IF($C94=\"\",\"\",IF(AB$4>$M$2,0,IF(ISNA(SMALL($E96:$L96,9)),0,SMALL($E96:$L96,9))))","v":""}]
[null,null,null,"2. pokus"]
[null,null,null,"čas",{"$f":"IF(OR($C94=\"\",E94=\"\",E95=\"\"),\"\",IF(OR(AND(E94=\"NP\",E95=\"NP\"),AND(E94=\"DNS\",E95=\"DNS\")),E94,IF(AND(E94=\"NP\",E95=\"DNS\"),E94,IF(AND(E94=\"DNS\",E95=\"NP\"),E95,MIN(E94,E95)))))","v":""},"","","","","","",""]
[null,{"$f":"Start!F10","v":29},{"$f":"IF(Start!G10=\"\",\"\",Start!G10)","v":""},"1. pokus",null,null,null,null,null,null,null,null,{"$f":"IF(C97=\"\",\"\",COUNT(E99:L99))","v":""},{"$f":"IF(C97=\"\",\"\",IF(AND(M97=0,COUNTIF(E99:L99,\"NP\")=0),\"DNS\",IF(M97<M$2,\"NP\",SUM(T97:AB99))))","v":""},null,{"$f":"IF(C97=\"\",\"\",IF(OR(N97=\"NP\",N97=\"DNS\"),Start!$E$5,RANK(N97,N$5:N$168,1)))","v":""},null,{"$f":"IF(D97=\"\",\"\",IF(OR(P97=\"NP\",P97=\"DNS\"),IF(P97=\"NP\",MAX(P$5:P$85)+COUNTIF((P$5:P$85),MAX(P$5:P$85)),MAX(P$5:P$85)+COUNTIF((P$5:P$85),MAX(P$5:P$85))+COUNTIF((P$5:P$85),\"NP\")),P97))","v":""},null,{"$f":"IF($C97=\"\",\"\",IF(T$4>$M$2,0,IF(ISNA(SMALL($E99:$L99,1)),0,SMALL($E99:$L99,1))))","v":""},{"$f":"IF($C97=\"\",\"\",IF(U$4>$M$2,0,IF(ISNA(SMALL($E99:$L99,2)),0,SMALL($E99:$L99,2))))","v":""},{"$f":"IF($C97=\"\",\"\",IF(V$4>$M$2,0,IF(ISNA(SMALL($E99:$L99,3)),0,SMALL($E99:$L99,3))))","v":""},{"$f":"IF($C97=\"\",\"\",IF(W$4>$M$2,0,IF(ISNA(SMALL($E99:$L99,4)),0,SMALL($E99:$L99,4))))","v":""},{"$f":"IF($C97=\"\",\"\",IF(X$4>$M$2,0,IF(ISNA(SMALL($E99:$L99,5)),0,SMALL($E99:$L99,5))))","v":""},{"$f":"IF($C97=\"\",\"\",IF(Y$4>$M$2,0,IF(ISNA(SMALL($E99:$L99,6)),0,SMALL($E99:$L99,6))))","v":""},{"$f":"IF($C97=\"\",\"\",IF(Z$4>$M$2,0,IF(ISNA(SMALL($E99:$L99,7)),0,SMALL($E99:$L99,7))))","v":""},{"$f":"IF($C97=\"\",\"\",IF(AA$4>$M$2,0,IF(ISNA(SMALL($E99:$L99,8)),0,SMALL($E99:$L99,8))))","v":""},{"$f":"IF($C97=\"\",\"\",IF(AB$4>$M$2,0,IF(ISNA(SMALL($E99:$L99,9)),0,SMALL($E99:$L99,9))))","v":""}]
[null,null,null,"2. pokus"]
[null,null,null,"čas",{"$f":"IF(OR($C97=\"\",E97=\"\",E98=\"\"),\"\",IF(OR(AND(E97=\"NP\",E98=\"NP\"),AND(E97=\"DNS\",E98=\"DNS\")),E97,IF(AND(E97=\"NP\",E98=\"DNS\"),E97,IF(AND(E97=\"DNS\",E98=\"NP\"),E98,MIN(E97,E98)))))","v":""},"","","","","","",""]
[null,{"$f":"Start!F11","v":30},{"$f":"IF(Start!G11=\"\",\"\",Start!G11)","v":""},"1. pokus",null,null,null,null,null,null,null,null,{"$f":"IF(C100=\"\",\"\",COUNT(E102:L102))","v":""},{"$f":"IF(C100=\"\",\"\",IF(AND(M100=0,COUNTIF(E102:L102,\"NP\")=0),\"DNS\",IF(M100<M$2,\"NP\",SUM(T100:AB102))))","v":""},null,{"$f":"IF(C100=\"\",\"\",IF(OR(N100=\"NP\",N100=\"DNS\"),Start!$E$5,RANK(N100,N$5:N$168,1)))","v":""},null,{"$f":"IF(D100=\"\",\"\",IF(OR(P100=\"NP\",P100=\"DNS\"),IF(P100=\"NP\",MAX(P$5:P$85)+COUNTIF((P$5:P$85),MAX(P$5:P$85)),MAX(P$5:P$85)+COUNTIF((P$5:P$85),MAX(P$5:P$85))+COUNTIF((P$5:P$85),\"NP\")),P100))","v":""},null,{"$f":"IF($C100=\"\",\"\",IF(T$4>$M$2,0,IF(ISNA(SMALL($E102:$L102,1)),0,SMALL($E102:$L102,1))))","v":""},{"$f":"IF($C100=\"\",\"\",IF(U$4>$M$2,0,IF(ISNA(SMALL($E102:$L102,2)),0,SMALL($E102:$L102,2))))","v":""},{"$f":"IF($C100=\"\",\"\",IF(V$4>$M$2,0,IF(ISNA(SMALL($E102:$L102,3)),0,SMALL($E102:$L102,3))))","v":""},{"$f":"IF($C100=\"\",\"\",IF(W$4>$M$2,0,IF(ISNA(SMALL($E102:$L102,4)),0,SMALL($E102:$L102,4))))","v":""},{"$f":"IF($C100=\"\",\"\",IF(X$4>$M$2,0,IF(ISNA(SMALL($E102:$L102,5)),0,SMALL($E102:$L102,5))))","v":""},{"$f":"IF($C100=\"\",\"\",IF(Y$4>$M$2,0,IF(ISNA(SMALL($E102:$L102,6)),0,SMALL($E102:$L102,6))))","v":""},{"$f":"IF($C100=\"\",\"\",IF(Z$4>$M$2,0,IF(ISNA(SMALL($E102:$L102,7)),0,SMALL($E102:$L102,7))))","v":""},{"$f":"IF($C100=\"\",\"\",IF(AA$4>$M$2,0,IF(ISNA(SMALL($E102:$L102,8)),0,SMALL($E102:$L102,8))))","v":""},{"$f":"IF($C100=\"\",\"\",IF(AB$4>$M$2,0,IF(ISNA(SMALL($E102:$L102,9)),0,SMALL($E102:$L102,9))))","v":""}]
[null,null,null,"2. pokus"]
[null,null,null,"čas",{"$f":"IF(OR($C100=\"\",E100=\"\",E101=\"\"),\"\",IF(OR(AND(E100=\"NP\",E101=\"NP\"),AND(E100=\"DNS\",E101=\"DNS\")),E100,IF(AND(E100=\"NP\",E101=\"DNS\"),E100,IF(AND(E100=\"DNS\",E101=\"NP\"),E101,MIN(E100,E101)))))","v":""},"","","","","","",""]
[null,{"$f":"B35","v":"Běh na 100m s překážkami - Pořadí družstev"}]
[]
[null,null,{"$f":"Start!$C$5","v":"Dorky"},null,"Soutěžící"]
[null,"st.č.","SDH","Pokus",1,2,3,4,5,6,7,8,"P","C.čas",null,"Poř.",null,"Body"]
[null,{"$f":"Start!F12","v":31},{"$f":"IF(Start!G12=\"\",\"\",Start!G12)","v":""},"1. pokus",null,null,null,null,null,null,null,null,{"$f":"IF(C107=\"\",\"\",COUNT(E109:L109))","v":""},{"$f":"IF(C107=\"\",\"\",IF(AND(M107=0,COUNTIF(E109:L109,\"NP\")=0),\"DNS\",IF(M107<M$2,\"NP\",SUM(T107:AB109))))","v":""},null,{"$f":"IF(C107=\"\",\"\",IF(OR(N107=\"NP\",N107=\"DNS\"),Start!$E$5,RANK(N107,N$5:N$168,1)))","v":""},null,{"$f":"IF(D107=\"\",\"\",IF(OR(P107=\"NP\",P107=\"DNS\"),IF(P107=\"NP\",MAX(P$5:P$85)+COUNTIF((P$5:P$85),MAX(P$5:P$85)),MAX(P$5:P$85)+COUNTIF((P$5:P$85),MAX(P$5:P$85))+COUNTIF((P$5:P$85),\"NP\")),P107))","v":""},null,{"$f":"IF($C107=\"\",\"\",IF(T$4>$M$2,0,IF(ISNA(SMALL($E109:$L109,1)),0,SMALL($E109:$L109,1))))","v":""},{"$f":"IF($C107=\"\",\"\",IF(U$4>$M$2,0,IF(ISNA(SMALL($E109:$L109,2)),0,SMALL($E109:$L109,2))))","v":""},{"$f":"IF($C107=\"\",\"\",IF(V$4>$M$2,0,IF(ISNA(SMALL($E109:$L109,3)),0,SMALL($E109:$L109,3))))","v":""},{"$f":"IF($C107=\"\",\"\",IF(W$4>$M$2,0,IF(ISNA(SMALL($E109:$L109,4)),0,SMALL($E109:$L109,4))))","v":""},{"$f":"IF($C107=\"\",\"\",IF(X$4>$M$2,0,IF(ISNA(SMALL($E109:$L109,5)),0,SMALL($E109:$L109,5))))","v":""},{"$f":"IF($C107=\"\",\"\",IF(Y$4>$M$2,0,IF(ISNA(SMALL($E109:$L109,6)),0,SMALL($E109:$L109,6))))","v":""},{"$f":"IF($C107=\"\",\"\",IF(Z$4>$M$2,0,IF(ISNA(SMALL($E109:$L109,7)),0,SMALL($E109:$L109,7))))","v":""},{"$f":"IF($C107=\"\",\"\",IF(AA$4>$M$2,0,IF(ISNA(SMALL($E109:$L109,8)),0,SMALL($E109:$L109,8))))","v":""},{"$f":"IF($C107=\"\",\"\",IF(AB$4>$M$2,0,IF(ISNA(SMALL($E109:$L109,9)),0,SMALL($E109:$L109,9))))","v":""}]
[null,null,null,"2. pokus"]
[null,null,null,"čas",{"$f":"IF(OR($C107=\"\",E107=\"\",E108=\"\"),\"\",IF(OR(AND(E107=\"NP\",E108=\"NP\"),AND(E107=\"DNS\",E108=\"DNS\")),E107,IF(AND(E107=\"NP\",E108=\"DNS\"),E107,IF(AND(E107=\"DNS\",E108=\"NP\"),E108,MIN(E107,E108)))))","v":""},"","","","","","",""]
[null,{"$f":"Start!F13","v":32},{"$f":"IF(Start!G13=\"\",\"\",Start!G13)","v":""},"1. pokus",null,null,null,null,null,null,null,null,{"$f":"IF(C110=\"\",\"\",COUNT(E112:L112))","v":""},{"$f":"IF(C110=\"\",\"\",IF(AND(M110=0,COUNTIF(E112:L112,\"NP\")=0),\"DNS\",IF(M110<M$2,\"NP\",SUM(T110:AB112))))","v":""},null,{"$f":"IF(C110=\"\",\"\",IF(OR(N110=\"NP\",N110=\"DNS\"),Start!$E$5,RANK(N110,N$5:N$168,1)))","v":""},null,{"$f":"IF(D110=\"\",\"\",IF(OR(P110=\"NP\",P110=\"DNS\"),IF(P110=\"NP\",MAX(P$5:P$85)+COUNTIF((P$5:P$85),MAX(P$5:P$85)),MAX(P$5:P$85)+COUNTIF((P$5:P$85),MAX(P$5:P$85))+COUNTIF((P$5:P$85),\"NP\")),P110))","v":""},null,{"$f":"IF($C110=\"\",\"\",IF(T$4>$M$2,0,IF(ISNA(SMALL($E112:$L112,1)),0,SMALL($E112:$L112,1))))","v":""},{"$f":"IF($C110=\"\",\"\",IF(U$4>$M$2,0,IF(ISNA(SMALL($E112:$L112,2)),0,SMALL($E112:$L112,2))))","v":""},{"$f":"IF($C110=\"\",\"\",IF(V$4>$M$2,0,IF(ISNA(SMALL($E112:$L112,3)),0,SMALL($E112:$L112,3))))","v":""},{"$f":"IF($C110=\"\",\"\",IF(W$4>$M$2,0,IF(ISNA(SMALL($E112:$L112,4)),0,SMALL($E112:$L112,4))))","v":""},{"$f":"IF($C110=\"\",\"\",IF(X$4>$M$2,0,IF(ISNA(SMALL($E112:$L112,5)),0,SMALL($E112:$L112,5))))","v":""},{"$f":"IF($C110=\"\",\"\",IF(Y$4>$M$2,0,IF(ISNA(SMALL($E112:$L112,6)),0,SMALL($E112:$L112,6))))","v":""},{"$f":"IF($C110=\"\",\"\",IF(Z$4>$M$2,0,IF(ISNA(SMALL($E112:$L112,7)),0,SMALL($E112:$L112,7))))","v":""},{"$f":"IF($C110=\"\",\"\",IF(AA$4>$M$2,0,IF(ISNA(SMALL($E112:$L112,8)),0,SMALL($E112:$L112,8))))","v":""},{"$f":"IF($C110=\"\",\"\",IF(AB$4>$M$2,0,IF(ISNA(SMALL($E112:$L112,9)),0,SMALL($E112:$L112,9))))","v":""}]
[null,null,null,"2. pokus"]
[null,null,null,"čas",{"$f":"IF(OR($C110=\"\",E110=\"\",E111=\"\"),\"\",IF(OR(AND(E110=\"NP\",E111=\"NP\"),AND(E110=\"DNS\",E111=\"DNS\")),E110,IF(AND(E110=\"NP\",E111=\"DNS\"),E110,IF(AND(E110=\"DNS\",E111=\"NP\"),E111,MIN(E110,E111)))))","v":""},"","","","","","",""]
[null,{"$f":"Start!F14","v":33},{"$f":"IF(Start!G14=\"\",\"\",Start!G14)","v":""},"1. pokus",null,null,null,null,null,null,null,null,{"$f":"IF(C113=\"\",\"\",COUNT(E115:L115))","v":""},{"$f":"IF(C113=\"\",\"\",IF(AND(M113=0,COUNTIF(E115:L115,\"NP\")=0),\"DNS\",IF(M113<M$2,\"NP\",SUM(T113:AB115))))","v":""},null,{"$f":"IF(C113=\"\",\"\",IF(OR(N113=\"NP\",N113=\"DNS\"),Start!$E$5,RANK(N113,N$5:N$168,1)))","v":""},null,{"$f":"IF(D113=\"\",\"\",IF(OR(P113=\"NP\",P113=\"DNS\"),IF(P113=\"NP\",MAX(P$5:P$85)+COUNTIF((P$5:P$85),MAX(P$5:P$85)),MAX(P$5:P$85)+COUNTIF((P$5:P$85),MAX(P$5:P$85))+COUNTIF((P$5:P$85),\"NP\")),P113))","v":""},null,{"$f":"IF($C113=\"\",\"\",IF(T$4>$M$2,0,IF(ISNA(SMALL($E115:$L115,1)),0,SMALL($E115:$L115,1))))","v":""},{"$f":"IF($C113=\"\",\"\",IF(U$4>$M$2,0,IF(ISNA(SMALL($E115:$L115,2)),0,SMALL($E115:$L115,2))))","v":""},{"$f":"IF($C113=\"\",\"\",IF(V$4>$M$2,0,IF(ISNA(SMALL($E115:$L115,3)),0,SMALL($E115:$L115,3))))","v":""},{"$f":"IF($C113=\"\",\"\",IF(W$4>$M$2,0,IF(ISNA(SMALL($E115:$L115,4)),0,SMALL($E115:$L115,4))))","v":""},{"$f":"IF($C113=\"\",\"\",IF(X$4>$M$2,0,IF(ISNA(SMALL($E115:$L115,5)),0,SMALL($E115:$L115,5))))","v":""},{"$f":"IF($C113=\"\",\"\",IF(Y$4>$M$2,0,IF(ISNA(SMALL($E115:$L115,6)),0,SMALL($E115:$L115,6))))","v":""},{"$f":"IF($C113=\"\",\"\",IF(Z$4>$M$2,0,IF(ISNA(SMALL($E115:$L115,7)),0,SMALL($E115:$L115,7))))","v":""},{"$f":"IF($C113=\"\",\"\",IF(AA$4>$M$2,0,IF(ISNA(SMALL($E115:$L115,8)),0,SMALL($E115:$L115,8))))","v":""},{"$f":"IF($C113=\"\",\"\",IF(AB$4>$M$2,0,IF(ISNA(SMALL($E115:$L115,9)),0,SMALL($E115:$L115,9))))","v":""}]
[null,null,null,"2. pokus"]
[null,null,null,"čas",{"$f":"IF(OR($C113=\"\",E113=\"\",E114=\"\"),\"\",IF(OR(AND(E113=\"NP\",E114=\"NP\"),AND(E113=\"DNS\",E114=\"DNS\")),E113,IF(AND(E113=\"NP\",E114=\"DNS\"),E113,IF(AND(E113=\"DNS\",E114=\"NP\"),E114,MIN(E113,E114)))))","v":""},"","","","","","",""]
[null,{"$f":"Start!F15","v":34},{"$f":"IF(Start!G15=\"\",\"\",Start!G15)","v":""},"1. pokus",null,null,null,null,null,null,null,null,{"$f":"IF(C116=\"\",\"\",COUNT(E118:L118))","v":""},{"$f":"IF(C116=\"\",\"\",IF(AND(M116=0,COUNTIF(E118:L118,\"NP\")=0),\"DNS\",IF(M116<M$2,\"NP\",SUM(T116:AB118))))","v":""},null,{"$f":"IF(C116=\"\",\"\",IF(OR(N116=\"NP\",N116=\"DNS\"),Start!$E$5,RANK(N116,N$5:N$168,1)))","v":""},null,{"$f":"IF(D116=\"\",\"\",IF(OR(P116=\"NP\",P116=\"DNS\"),IF(P116=\"NP\",MAX(P$5:P$85)+COUNTIF((P$5:P$85),MAX(P$5:P$85)),MAX(P$5:P$85)+COUNTIF((P$5:P$85),MAX(P$5:P$85))+COUNTIF((P$5:P$85),\"NP\")),P116))","v":""},null,{"$f":"IF($C116=\"\",\"\",IF(T$4>$M$2,0,IF(ISNA(SMALL($E118:$L118,1)),0,SMALL($E118:$L118,1))))","v":""},{"$f":"IF($C116=\"\",\"\",IF(U$4>$M$2,0,IF(ISNA(SMALL($E118:$L118,2)),0,SMALL($E118:$L118,2))))","v":""},{"$f":"IF($C116=\"\",\"\",IF(V$4>$M$2,0,IF(ISNA(SMALL($E118:$L118,3)),0,SMALL($E118:$L118,3))))","v":""},{"$f":"IF($C116=\"\",\"\",IF(W$4>$M$2,0,IF(ISNA(SMALL($E118:$L118,4)),0,SMALL($E118:$L118,4))))","v":""},{"$f":"IF($C116=\"\",\"\",IF(X$4>$M$2,0,IF(ISNA(SMALL($E118:$L118,5)),0,SMALL($E118:$L118,5))))","v":""},{"$f":"IF($C116=\"\",\"\",IF(Y$4>$M$2,0,IF(ISNA(SMALL($E118:$L118,6)),0,SMALL($E118:$L118,6))))","v":""},{"$f":"IF($C116=\"\",\"\",IF(Z$4>$M$2,0,IF(ISNA(SMALL($E118:$L118,7)),0,SMALL($E118:$L118,7))))","v":""},{"$f":"IF($C116=\"\",\"\",IF(AA$4>$M$2,0,IF(ISNA(SMALL($E118:$L118,8)),0,SMALL($E118:$L118,8))))","v":""},{"$f":"IF($C116=\"\",\"\",IF(AB$4>$M$2,0,IF(ISNA(SMALL($E118:$L118,9)),0,SMALL($E118:$L118,9))))","v":""}]
[null,null,null,"2. pokus"]
[null,null,null,"čas",{"$f":"IF(OR($C116=\"\",E116=\"\",E117=\"\"),\"\",IF(OR(AND(E116=\"NP\",E117=\"NP\"),AND(E116=\"DNS\",E117=\"DNS\")),E116,IF(AND(E116=\"NP\",E117=\"DNS\"),E116,IF(AND(E116=\"DNS\",E117=\"NP\"),E117,MIN(E116,E117)))))","v":""},"","","","","","",""]
[null,{"$f":"Start!F16","v":35},{"$f":"IF(Start!G16=\"\",\"\",Start!G16)","v":""},"1. pokus",null,null,null,null,null,null,null,null,{"$f":"IF(C119=\"\",\"\",COUNT(E121:L121))","v":""},{"$f":"IF(C119=\"\",\"\",IF(AND(M119=0,COUNTIF(E121:L121,\"NP\")=0),\"DNS\",IF(M119<M$2,\"NP\",SUM(T119:AB121))))","v":""},null,{"$f":"IF(C119=\"\",\"\",IF(OR(N119=\"NP\",N119=\"DNS\"),Start!$E$5,RANK(N119,N$5:N$168,1)))","v":""},null,{"$f":"IF(D119=\"\",\"\",IF(OR(P119=\"NP\",P119=\"DNS\"),IF(P119=\"NP\",MAX(P$5:P$85)+COUNTIF((P$5:P$85),MAX(P$5:P$85)),MAX(P$5:P$85)+COUNTIF((P$5:P$85),MAX(P$5:P$85))+COUNTIF((P$5:P$85),\"NP\")),P119))","v":""},null,{"$f":"IF($C119=\"\",\"\",IF(T$4>$M$2,0,IF(ISNA(SMALL($E121:$L121,1)),0,SMALL($E121:$L121,1))))","v":""},{"$f":"IF($C119=\"\",\"\",IF(U$4>$M$2,0,IF(ISNA(SMALL($E121:$L121,2)),0,SMALL($E121:$L121,2))))","v":""},{"$f":"IF($C119=\"\",\"\",IF(V$4>$M$2,0,IF(ISNA(SMALL($E121:$L121,3)),0,SMALL($E121:$L121,3))))","v":""},{"$f":"IF($C119=\"\",\"\",IF(W$4>$M$2,0,IF(ISNA(SMALL($E121:$L121,4)),0,SMALL($E121:$L121,4))))","v":""},{"$f":"IF($C119=\"\",\"\",IF(X$4>$M$2,0,IF(ISNA(SMALL($E121:$L121,5)),0,SMALL($E121:$L121,5))))","v":""},{"$f":"IF($C119=\"\",\"\",IF(Y$4>$M$2,0,IF(ISNA(SMALL($E121:$L121,6)),0,SMALL($E121:$L121,6))))","v":""},{"$f":"IF($C119=\"\",\"\",IF(Z$4>$M$2,0,IF(ISNA(SMALL($E121:$L121,7)),0,SMALL($E121:$L121,7))))","v":""},{"$f":"IF($C119=\"\",\"\",IF(AA$4>$M$2,0,IF(ISNA(SMALL($E121:$L121,8)),0,SMALL($E121:$L121,8))))","v":""},{"$f":"IF($C119=\"\",\"\",IF(AB$4>$M$2,0,IF(ISNA(SMALL($E121:$L121,9)),0,SMALL($E121:$L121,9))))","v":""}]
[null,null,null,"2. pokus"]
[null,null,null,"čas",{"$f":"IF(OR($C119=\"\",E119=\"\",E120=\"\"),\"\",IF(OR(AND(E119=\"NP\",E120=\"NP\"),AND(E119=\"DNS\",E120=\"DNS\")),E119,IF(AND(E119=\"NP\",E120=\"DNS\"),E119,IF(AND(E119=\"DNS\",E120=\"NP\"),E120,MIN(E119,E120)))))","v":""},"","","","","","",""]
[null,{"$f":"Start!F17","v":36},{"$f":"IF(Start!G17=\"\",\"\",Start!G17)","v":""},"1. pokus",null,null,null,null,null,null,null,null,{"$f":"IF(C122=\"\",\"\",COUNT(E124:L124))","v":""},{"$f":"IF(C122=\"\",\"\",IF(AND(M122=0,COUNTIF(E124:L124,\"NP\")=0),\"DNS\",IF(M122<M$2,\"NP\",SUM(T122:AB124))))","v":""},null,{"$f":"IF(C122=\"\",\"\",IF(OR(N122=\"NP\",N122=\"DNS\"),Start!$E$5,RANK(N122,N$5:N$168,1)))","v":""},null,{"$f":"IF(D122=\"\",\"\",IF(OR(P122=\"NP\",P122=\"DNS\"),IF(P122=\"NP\",MAX(P$5:P$85)+COUNTIF((P$5:P$85),MAX(P$5:P$85)),MAX(P$5:P$85)+COUNTIF((P$5:P$85),MAX(P$5:P$85))+COUNTIF((P$5:P$85),\"NP\")),P122))","v":""},null,{"$f":"IF($C122=\"\",\"\",IF(T$4>$M$2,0,IF(ISNA(SMALL($E124:$L124,1)),0,SMALL($E124:$L124,1))))","v":""},{"$f":"IF($C122=\"\",\"\",IF(U$4>$M$2,0,IF(ISNA(SMALL($E124:$L124,2)),0,SMALL($E124:$L124,2))))","v":""},{"$f":"IF($C122=\"\",\"\",IF(V$4>$M$2,0,IF(ISNA(SMALL($E124:$L124,3)),0,SMALL($E124:$L124,3))))","v":""},{"$f":"IF($C122=\"\",\"\",IF(W$4>$M$2,0,IF(ISNA(SMALL($E124:$L124,4)),0,SMALL($E124:$L124,4))))","v":""},{"$f":"IF($C122=\"\",\"\",IF(X$4>$M$2,0,IF(ISNA(SMALL($E124:$L124,5)),0,SMALL($E124:$L124,5))))","v":""},{"$f":"IF($C122=\"\",\"\",IF(Y$4>$M$2,0,IF(ISNA(SMALL($E124:$L124,6)),0,SMALL($E124:$L124,6))))","v":""},{"$f":"IF($C122=\"\",\"\",IF(Z$4>$M$2,0,IF(ISNA(SMALL($E124:$L124,7)),0,SMALL($E124:$L124,7))))","v":""},{"$f":"IF($C122=\"\",\"\",IF(AA$4>$M$2,0,IF(ISNA(SMALL($E124:$L124,8)),0,SMALL($E124:$L124,8))))","v":""},{"$f":"IF($C122=\"\",\"\",IF(AB$4>$M$2,0,IF(ISNA(SMALL($E124:$L124,9)),0,SMALL($E124:$L124,9))))","v":""}]
[null,null,null,"2. pokus"]
[null,null,null,"čas",{"$f":"IF(OR($C122=\"\",E122=\"\",E123=\"\"),\"\",IF(OR(AND(E122=\"NP\",E123=\"NP\"),AND(E122=\"DNS\",E123=\"DNS\")),E122,IF(AND(E122=\"NP\",E123=\"DNS\"),E122,IF(AND(E122=\"DNS\",E123=\"NP\"),E123,MIN(E122,E123)))))","v":""},"","","","","","",""]
[null,{"$f":"Start!F18","v":37},{"$f":"IF(Start!G18=\"\",\"\",Start!G18)","v":""},"1. pokus",null,null,null,null,null,null,null,null,{"$f":"IF(C125=\"\",\"\",COUNT(E127:L127))","v":""},{"$f":"IF(C125=\"\",\"\",IF(AND(M125=0,COUNTIF(E127:L127,\"NP\")=0),\"DNS\",IF(M125<M$2,\"NP\",SUM(T125:AB127))))","v":""},null,{"$f":"IF(C125=\"\",\"\",IF(OR(N125=\"NP\",N125=\"DNS\"),Start!$E$5,RANK(N125,N$5:N$168,1)))","v":""},null,{"$f":"IF(D125=\"\",\"\",IF(OR(P125=\"NP\",P125=\"DNS\"),IF(P125=\"NP\",MAX(P$5:P$85)+COUNTIF((P$5:P$85),MAX(P$5:P$85)),MAX(P$5:P$85)+COUNTIF((P$5:P$85),MAX(P$5:P$85))+COUNTIF((P$5:P$85),\"NP\")),P125))","v":""},null,{"$f":"IF($C125=\"\",\"\",IF(T$4>$M$2,0,IF(ISNA(SMALL($E127:$L127,1)),0,SMALL($E127:$L127,1))))","v":""},{"$f":"IF($C125=\"\",\"\",IF(U$4>$M$2,0,IF(ISNA(SMALL($E127:$L127,2)),0,SMALL($E127:$L127,2))))","v":""},{"$f":"IF($C125=\"\",\"\",IF(V$4>$M$2,0,IF(ISNA(SMALL($E127:$L127,3)),0,SMALL($E127:$L127,3))))","v":""},{"$f":"IF($C125=\"\",\"\",IF(W$4>$M$2,0,IF(ISNA(SMALL($E127:$L127,4)),0,SMALL($E127:$L127,4))))","v":""},{"$f":"IF($C125=\"\",\"\",IF(X$4>$M$2,0,IF(ISNA(SMALL($E127:$L127,5)),0,SMALL($E127:$L127,5))))","v":""},{"$f":"IF($C125=\"\",\"\",IF(Y$4>$M$2,0,IF(ISNA(SMALL($E127:$L127,6)),0,SMALL($E127:$L127,6))))","v":""},{"$f":"IF($C125=\"\",\"\",IF(Z$4>$M$2,0,IF(ISNA(SMALL($E127:$L127,7)),0,SMALL($E127:$L127,7))))","v":""},{"$f":"IF($C125=\"\",\"\",IF(AA$4>$M$2,0,IF(ISNA(SMALL($E127:$L127,8)),0,SMALL($E127:$L127,8))))","v":""},{"$f":"IF($C125=\"\",\"\",IF(AB$4>$M$2,0,IF(ISNA(SMALL($E127:$L127,9)),0,SMALL($E127:$L127,9))))","v":""}]
[null,null,null,"2. pokus"]
[null,null,null,"čas",{"$f":"IF(OR($C125=\"\",E125=\"\",E126=\"\"),\"\",IF(OR(AND(E125=\"NP\",E126=\"NP\"),AND(E125=\"DNS\",E126=\"DNS\")),E125,IF(AND(E125=\"NP\",E126=\"DNS\"),E125,IF(AND(E125=\"DNS\",E126=\"NP\"),E126,MIN(E125,E126)))))","v":""},"","","","","","",""]
[null,{"$f":"Start!F19","v":38},{"$f":"IF(Start!G19=\"\",\"\",Start!G19)","v":""},"1. pokus",null,null,null,null,null,null,null,null,{"$f":"IF(C128=\"\",\"\",COUNT(E130:L130))","v":""},{"$f":"IF(C128=\"\",\"\",IF(AND(M128=0,COUNTIF(E130:L130,\"NP\")=0),\"DNS\",IF(M128<M$2,\"NP\",SUM(T128:AB130))))","v":""},null,{"$f":"IF(C128=\"\",\"\",IF(OR(N128=\"NP\",N128=\"DNS\"),Start!$E$5,RANK(N128,N$5:N$168,1)))","v":""},null,{"$f":"IF(D128=\"\",\"\",IF(OR(P128=\"NP\",P128=\"DNS\"),IF(P128=\"NP\",MAX(P$5:P$85)+COUNTIF((P$5:P$85),MAX(P$5:P$85)),MAX(P$5:P$85)+COUNTIF((P$5:P$85),MAX(P$5:P$85))+COUNTIF((P$5:P$85),\"NP\")),P128))","v":""},null,{"$f":"IF($C128=\"\",\"\",IF(T$4>$M$2,0,IF(ISNA(SMALL($E130:$L130,1)),0,SMALL($E130:$L130,1))))","v":""},{"$f":"IF($C128=\"\",\"\",IF(U$4>$M$2,0,IF(ISNA(SMALL($E130:$L130,2)),0,SMALL($E130:$L130,2))))","v":""},{"$f":"IF($C128=\"\",\"\",IF(V$4>$M$2,0,IF(ISNA(SMALL($E130:$L130,3)),0,SMALL($E130:$L130,3))))","v":""},{"$f":"IF($C128=\"\",\"\",IF(W$4>$M$2,0,IF(ISNA(SMALL($E130:$L130,4)),0,SMALL($E130:$L130,4))))","v":""},{"$f":"IF($C128=\"\",\"\",IF(X$4>$M$2,0,IF(ISNA(SMALL($E130:$L130,5)),0,SMALL($E130:$L130,5))))","v":""},{"$f":"IF($C128=\"\",\"\",IF(Y$4>$M$2,0,IF(ISNA(SMALL($E130:$L130,6)),0,SMALL($E130:$L130,6))))","v":""},{"$f":"IF($C128=\"\",\"\",IF(Z$4>$M$2,0,IF(ISNA(SMALL($E130:$L130,7)),0,SMALL($E130:$L130,7))))","v":""},{"$f":"IF($C128=\"\",\"\",IF(AA$4>$M$2,0,IF(ISNA(SMALL($E130:$L130,8)),0,SMALL($E130:$L130,8))))","v":""},{"$f":"IF($C128=\"\",\"\",IF(AB$4>$M$2,0,IF(ISNA(SMALL($E130:$L130,9)),0,SMALL($E130:$L130,9))))","v":""}]
[null,null,null,"2. pokus"]
[null,null,null,"čas",{"$f":"IF(OR($C128=\"\",E128=\"\",E129=\"\"),\"\",IF(OR(AND(E128=\"NP\",E129=\"NP\"),AND(E128=\"DNS\",E129=\"DNS\")),E128,IF(AND(E128=\"NP\",E129=\"DNS\"),E128,IF(AND(E128=\"DNS\",E129=\"NP\"),E129,MIN(E128,E129)))))","v":""},"","","","","","",""]
[null,{"$f":"Start!F20","v":39},{"$f":"IF(Start!G20=\"\",\"\",Start!G20)","v":""},"1. pokus",null,null,null,null,null,null,null,null,{"$f":"IF(C131=\"\",\"\",COUNT(E133:L133))","v":""},{"$f":"IF(C131=\"\",\"\",IF(AND(M131=0,COUNTIF(E133:L133,\"NP\")=0),\"DNS\",IF(M131<M$2,\"NP\",SUM(T131:AB133))))","v":""},null,{"$f":"IF(C131=\"\",\"\",IF(OR(N131=\"NP\",N131=\"DNS\"),Start!$E$5,RANK(N131,N$5:N$168,1)))","v":""},null,{"$f":"IF(D131=\"\",\"\",IF(OR(P131=\"NP\",P131=\"DNS\"),IF(P131=\"NP\",MAX(P$5:P$85)+COUNTIF((P$5:P$85),MAX(P$5:P$85)),MAX(P$5:P$85)+COUNTIF((P$5:P$85),MAX(P$5:P$85))+COUNTIF((P$5:P$85),\"NP\")),P131))","v":""},null,{"$f":"IF($C131=\"\",\"\",IF(T$4>$M$2,0,IF(ISNA(SMALL($E133:$L133,1)),0,SMALL($E133:$L133,1))))","v":""},{"$f":"IF($C131=\"\",\"\",IF(U$4>$M$2,0,IF(ISNA(SMALL($E133:$L133,2)),0,SMALL($E133:$L133,2))))","v":""},{"$f":"IF($C131=\"\",\"\",IF(V$4>$M$2,0,IF(ISNA(SMALL($E133:$L133,3)),0,SMALL($E133:$L133,3))))","v":""},{"$f":"IF($C131=\"\",\"\",IF(W$4>$M$2,0,IF(ISNA(SMALL($E133:$L133,4)),0,SMALL($E133:$L133,4))))","v":""},{"$f":"IF($C131=\"\",\"\",IF(X$4>$M$2,0,IF(ISNA(SMALL($E133:$L133,5)),0,SMALL($E133:$L133,5))))","v":""},{"$f":"IF($C131=\"\",\"\",IF(Y$4>$M$2,0,IF(ISNA(SMALL($E133:$L133,6)),0,SMALL($E133:$L133,6))))","v":""},{"$f":"IF($C131=\"\",\"\",IF(Z$4>$M$2,0,IF(ISNA(SMALL($E133:$L133,7)),0,SMALL($E133:$L133,7))))","v":""},{"$f":"IF($C131=\"\",\"\",IF(AA$4>$M$2,0,IF(ISNA(SMALL($E133:$L133,8)),0,SMALL($E133:$L133,8))))","v":""},{"$f":"IF($C131=\"\",\"\",IF(AB$4>$M$2,0,IF(ISNA(SMALL($E133:$L133,9)),0,SMALL($E133:$L133,9))))","v":""}]
[null,null,null,"2. pokus"]
[null,null,null,"čas",{"$f":"IF(OR($C131=\"\",E131=\"\",E132=\"\"),\"\",IF(OR(AND(E131=\"NP\",E132=\"NP\"),AND(E131=\"DNS\",E132=\"DNS\")),E131,IF(AND(E131=\"NP\",E132=\"DNS\"),E131,IF(AND(E131=\"DNS\",E132=\"NP\"),E132,MIN(E131,E132)))))","v":""},"","","","","","",""]
[null,{"$f":"Start!F21","v":40},{"$f":"IF(Start!G21=\"\",\"\",Start!G21)","v":""},"1. pokus",null,null,null,null,null,null,null,null,{"$f":"IF(C134=\"\",\"\",COUNT(E136:L136))","v":""},{"$f":"IF(C134=\"\",\"\",IF(AND(M134=0,COUNTIF(E136:L136,\"NP\")=0),\"DNS\",IF(M134<M$2,\"NP\",SUM(T134:AB136))))","v":""},null,{"$f":"IF(C134=\"\",\"\",IF(OR(N134=\"NP\",N134=\"DNS\"),Start!$E$5,RANK(N134,N$5:N$168,1)))","v":""},null,{"$f":"IF(D134=\"\",\"\",IF(OR(P134=\"NP\",P134=\"DNS\"),IF(P134=\"NP\",MAX(P$5:P$85)+COUNTIF((P$5:P$85),MAX(P$5:P$85)),MAX(P$5:P$85)+COUNTIF((P$5:P$85),MAX(P$5:P$85))+COUNTIF((P$5:P$85),\"NP\")),P134))","v":""},null,{"$f":"IF($C134=\"\",\"\",IF(T$4>$M$2,0,IF(ISNA(SMALL($E136:$L136,1)),0,SMALL($E136:$L136,1))))","v":""},{"$f":"IF($C134=\"\",\"\",IF(U$4>$M$2,0,IF(ISNA(SMALL($E136:$L136,2)),0,SMALL($E136:$L136,2))))","v":""},{"$f":"IF($C134=\"\",\"\",IF(V$4>$M$2,0,IF(ISNA(SMALL($E136:$L136,3)),0,SMALL($E136:$L136,3))))","v":""},{"$f":"IF($C134=\"\",\"\",IF(W$4>$M$2,0,IF(ISNA(SMALL($E136:$L136,4)),0,SMALL($E136:$L136,4))))","v":""},{"$f":"IF($C134=\"\",\"\",IF(X$4>$M$2,0,IF(ISNA(SMALL($E136:$L136,5)),0,SMALL($E136:$L136,5))))","v":""},{"$f":"IF($C134=\"\",\"\",IF(Y$4>$M$2,0,IF(ISNA(SMALL($E136:$L136,6)),0,SMALL($E136:$L136,6))))","v":""},{"$f":"IF($C134=\"\",\"\",IF(Z$4>$M$2,0,IF(ISNA(SMALL($E136:$L136,7)),0,SMALL($E136:$L136,7))))","v":""},{"$f":"IF($C134=\"\",\"\",IF(AA$4>$M$2,0,IF(ISNA(SMALL($E136:$L136,8)),0,SMALL($E136:$L136,8))))","v":""},{"$f":"IF($C134=\"\",\"\",IF(AB$4>$M$2,0,IF(ISNA(SMALL($E136:$L136,9)),0,SMALL($E136:$L136,9))))","v":""}]
[null,null,null,"2. pokus"]
[null,null,null,"čas",{"$f":"IF(OR($C134=\"\",E134=\"\",E135=\"\"),\"\",IF(OR(AND(E134=\"NP\",E135=\"NP\"),AND(E134=\"DNS\",E135=\"DNS\")),E134,IF(AND(E134=\"NP\",E135=\"DNS\"),E134,IF(AND(E134=\"DNS\",E135=\"NP\"),E135,MIN(E134,E135)))))","v":""},"","","","","","",""]
[null,{"$f":"B69","v":"Běh na 100m s překážkami - Pořadí družstev"}]
[]
[null,null,{"$f":"Start!$C$5","v":"Dorky"},null,"Soutěžící"]
[null,"st.č.","SDH","Pokus",1,2,3,4,5,6,7,8,"P","C.čas",null,"Poř.",null,"Body"]
[null,{"$f":"Start!F22","v":41},{"$f":"IF(Start!G22=\"\",\"\",Start!G22)","v":""},"1. pokus",null,null,null,null,null,null,null,null,{"$f":"IF(C141=\"\",\"\",COUNT(E143:L143))","v":""},{"$f":"IF(C141=\"\",\"\",IF(AND(M141=0,COUNTIF(E143:L143,\"NP\")=0),\"DNS\",IF(M141<M$2,\"NP\",SUM(T141:AB143))))","v":""},null,{"$f":"IF(C141=\"\",\"\",IF(OR(N141=\"NP\",N141=\"DNS\"),Start!$E$5,RANK(N141,N$5:N$168,1)))","v":""},null,{"$f":"IF(D141=\"\",\"\",IF(OR(P141=\"NP\",P141=\"DNS\"),IF(P141=\"NP\",MAX(P$5:P$85)+COUNTIF((P$5:P$85),MAX(P$5:P$85)),MAX(P$5:P$85)+COUNTIF((P$5:P$85),MAX(P$5:P$85))+COUNTIF((P$5:P$85),\"NP\")),P141))","v":""},null,{"$f":"IF($C141=\"\",\"\",IF(T$4>$M$2,0,IF(ISNA(SMALL($E143:$L143,1)),0,SMALL($E143:$L143,1))))","v":""},{"$f":"IF($C141=\"\",\"\",IF(U$4>$M$2,0,IF(ISNA(SMALL($E143:$L143,2)),0,SMALL($E143:$L143,2))))","v":""},{"$f":"IF($C141=\"\",\"\",IF(V$4>$M$2,0,IF(ISNA(SMALL($E143:$L143,3)),0,SMALL($E143:$L143,3))))","v":""},{"$f":"IF($C141=\"\",\"\",IF(W$4>$M$2,0,IF(ISNA(SMALL($E143:$L143,4)),0,SMALL($E143:$L143,4))))","v":""},{"$f":"IF($C141=\"\",\"\",IF(X$4>$M$2,0,IF(ISNA(SMALL($E143:$L143,5)),0,SMALL($E143:$L143,5))))","v":""},{"$f":"IF($C141=\"\",\"\",IF(Y$4>$M$2,0,IF(ISNA(SMALL($E143:$L143,6)),0,SMALL($E143:$L143,6))))","v":""},{"$f":"IF($C141=\"\",\"\",IF(Z$4>$M$2,0,IF(ISNA(SMALL($E143:$L143,7)),0,SMALL($E143:$L143,7))))","v":""},{"$f":"IF($C141=\"\",\"\",IF(AA$4>$M$2,0,IF(ISNA(SMALL($E143:$L143,8)),0,SMALL($E143:$L143,8))))","v":""},{"$f":"IF($C141=\"\",\"\",IF(AB$4>$M$2,0,IF(ISNA(SMALL($E143:$L143,9)),0,SMALL($E143:$L143,9))))","v":""}]
[null,null,null,"2. pokus"]
[null,null,null,"čas",{"$f":"IF(OR($C141=\"\",E141=\"\",E142=\"\"),\"\",IF(OR(AND(E141=\"NP\",E142=\"NP\"),AND(E141=\"DNS\",E142=\"DNS\")),E141,IF(AND(E141=\"NP\",E142=\"DNS\"),E141,IF(AND(E141=\"DNS\",E142=\"NP\"),E142,MIN(E141,E142)))))","v":""},"","","","","","",""]
[null,{"$f":"Start!F23","v":42},{"$f":"IF(Start!G23=\"\",\"\",Start!G23)","v":""},"1. pokus",null,null,null,null,null,null,null,null,{"$f":"IF(C144=\"\",\"\",COUNT(E146:L146))","v":""},{"$f":"IF(C144=\"\",\"\",IF(AND(M144=0,COUNTIF(E146:L146,\"NP\")=0),\"DNS\",IF(M144<M$2,\"NP\",SUM(T144:AB146))))","v":""},null,{"$f":"IF(C144=\"\",\"\",IF(OR(N144=\"NP\",N144=\"DNS\"),Start!$E$5,RANK(N144,N$5:N$168,1)))","v":""},null,{"$f":"IF(D144=\"\",\"\",IF(OR(P144=\"NP\",P144=\"DNS\"),IF(P144=\"NP\",MAX(P$5:P$85)+COUNTIF((P$5:P$85),MAX(P$5:P$85)),MAX(P$5:P$85)+COUNTIF((P$5:P$85),MAX(P$5:P$85))+COUNTIF((P$5:P$85),\"NP\")),P144))","v":""},null,{"$f":"IF($C144=\"\",\"\",IF(T$4>$M$2,0,IF(ISNA(SMALL($E146:$L146,1)),0,SMALL($E146:$L146,1))))","v":""},{"$f":"IF($C144=\"\",\"\",IF(U$4>$M$2,0,IF(ISNA(SMALL($E146:$L146,2)),0,SMALL($E146:$L146,2))))","v":""},{"$f":"IF($C144=\"\",\"\",IF(V$4>$M$2,0,IF(ISNA(SMALL($E146:$L146,3)),0,SMALL($E146:$L146,3))))","v":""},{"$f":"IF($C144=\"\",\"\",IF(W$4>$M$2,0,IF(ISNA(SMALL($E146:$L146,4)),0,SMALL($E146:$L146,4))))","v":""},{"$f":"IF($C144=\"\",\"\",IF(X$4>$M$2,0,IF(ISNA(SMALL($E146:$L146,5)),0,SMALL($E146:$L146,5))))","v":""},{"$f":"IF($C144=\"\",\"\",IF(Y$4>$M$2,0,IF(ISNA(SMALL($E146:$L146,6)),0,SMALL($E146:$L146,6))))","v":""},{"$f":"IF($C144=\"\",\"\",IF(Z$4>$M$2,0,IF(ISNA(SMALL($E146:$L146,7)),0,SMALL($E146:$L146,7))))","v":""},{"$f":"IF($C144=\"\",\"\",IF(AA$4>$M$2,0,IF(ISNA(SMALL($E146:$L146,8)),0,SMALL($E146:$L146,8))))","v":""},{"$f":"IF($C144=\"\",\"\",IF(AB$4>$M$2,0,IF(ISNA(SMALL($E146:$L146,9)),0,SMALL($E146:$L146,9))))","v":""}]
[null,null,null,"2. pokus"]
[null,null,null,"čas",{"$f":"IF(OR($C144=\"\",E144=\"\",E145=\"\"),\"\",IF(OR(AND(E144=\"NP\",E145=\"NP\"),AND(E144=\"DNS\",E145=\"DNS\")),E144,IF(AND(E144=\"NP\",E145=\"DNS\"),E144,IF(AND(E144=\"DNS\",E145=\"NP\"),E145,MIN(E144,E145)))))","v":""},"","","","","","",""]
[null,{"$f":"Start!F24","v":43},{"$f":"IF(Start!G24=\"\",\"\",Start!G24)","v":""},"1. pokus",null,null,null,null,null,null,null,null,{"$f":"IF(C147=\"\",\"\",COUNT(E149:L149))","v":""},{"$f":"IF(C147=\"\",\"\",IF(AND(M147=0,COUNTIF(E149:L149,\"NP\")=0),\"DNS\",IF(M147<M$2,\"NP\",SUM(T147:AB149))))","v":""},null,{"$f":"IF(C147=\"\",\"\",IF(OR(N147=\"NP\",N147=\"DNS\"),Start!$E$5,RANK(N147,N$5:N$168,1)))","v":""},null,{"$f":"IF(D147=\"\",\"\",IF(OR(P147=\"NP\",P147=\"DNS\"),IF(P147=\"NP\",MAX(P$5:P$85)+COUNTIF((P$5:P$85),MAX(P$5:P$85)),MAX(P$5:P$85)+COUNTIF((P$5:P$85),MAX(P$5:P$85))+COUNTIF((P$5:P$85),\"NP\")),P147))","v":""},null,{"$f":"IF($C147=\"\",\"\",IF(T$4>$M$2,0,IF(ISNA(SMALL($E149:$L149,1)),0,SMALL($E149:$L149,1))))","v":""},{"$f":"IF($C147=\"\",\"\",IF(U$4>$M$2,0,IF(ISNA(SMALL($E149:$L149,2)),0,SMALL($E149:$L149,2))))","v":""},{"$f":"IF($C147=\"\",\"\",IF(V$4>$M$2,0,IF(ISNA(SMALL($E149:$L149,3)),0,SMALL($E149:$L149,3))))","v":""},{"$f":"IF($C147=\"\",\"\",IF(W$4>$M$2,0,IF(ISNA(SMALL($E149:$L149,4)),0,SMALL($E149:$L149,4))))","v":""},{"$f":"IF($C147=\"\",\"\",IF(X$4>$M$2,0,IF(ISNA(SMALL($E149:$L149,5)),0,SMALL($E149:$L149,5))))","v":""},{"$f":"IF($C147=\"\",\"\",IF(Y$4>$M$2,0,IF(ISNA(SMALL($E149:$L149,6)),0,SMALL($E149:$L149,6))))","v":""},{"$f":"IF($C147=\"\",\"\",IF(Z$4>$M$2,0,IF(ISNA(SMALL($E149:$L149,7)),0,SMALL($E149:$L149,7))))","v":""},{"$f":"IF($C147=\"\",\"\",IF(AA$4>$M$2,0,IF(ISNA(SMALL($E149:$L149,8)),0,SMALL($E149:$L149,8))))","v":""},{"$f":"IF($C147=\"\",\"\",IF(AB$4>$M$2,0,IF(ISNA(SMALL($E149:$L149,9)),0,SMALL($E149:$L149,9))))","v":""}]
[null,null,null,"2. pokus"]
[null,null,null,"čas",{"$f":"IF(OR($C147=\"\",E147=\"\",E148=\"\"),\"\",IF(OR(AND(E147=\"NP\",E148=\"NP\"),AND(E147=\"DNS\",E148=\"DNS\")),E147,IF(AND(E147=\"NP\",E148=\"DNS\"),E147,IF(AND(E147=\"DNS\",E148=\"NP\"),E148,MIN(E147,E148)))))","v":""},"","","","","","",""]
[null,{"$f":"Start!F25","v":44},{"$f":"IF(Start!G25=\"\",\"\",Start!G25)","v":""},"1. pokus",null,null,null,null,null,null,null,null,{"$f":"IF(C150=\"\",\"\",COUNT(E152:L152))","v":""},{"$f":"IF(C150=\"\",\"\",IF(AND(M150=0,COUNTIF(E152:L152,\"NP\")=0),\"DNS\",IF(M150<M$2,\"NP\",SUM(T150:AB152))))","v":""},null,{"$f":"IF(C150=\"\",\"\",IF(OR(N150=\"NP\",N150=\"DNS\"),Start!$E$5,RANK(N150,N$5:N$168,1)))","v":""},null,{"$f":"IF(D150=\"\",\"\",IF(OR(P150=\"NP\",P150=\"DNS\"),IF(P150=\"NP\",MAX(P$5:P$85)+COUNTIF((P$5:P$85),MAX(P$5:P$85)),MAX(P$5:P$85)+COUNTIF((P$5:P$85),MAX(P$5:P$85))+COUNTIF((P$5:P$85),\"NP\")),P150))","v":""},null,{"$f":"IF($C150=\"\",\"\",IF(T$4>$M$2,0,IF(ISNA(SMALL($E152:$L152,1)),0,SMALL($E152:$L152,1))))","v":""},{"$f":"IF($C150=\"\",\"\",IF(U$4>$M$2,0,IF(ISNA(SMALL($E152:$L152,2)),0,SMALL($E152:$L152,2))))","v":""},{"$f":"IF($C150=\"\",\"\",IF(V$4>$M$2,0,IF(ISNA(SMALL($E152:$L152,3)),0,SMALL($E152:$L152,3))))","v":""},{"$f":"IF($C150=\"\",\"\",IF(W$4>$M$2,0,IF(ISNA(SMALL($E152:$L152,4)),0,SMALL($E152:$L152,4))))","v":""},{"$f":"IF($C150=\"\",\"\",IF(X$4>$M$2,0,IF(ISNA(SMALL($E152:$L152,5)),0,SMALL($E152:$L152,5))))","v":""},{"$f":"IF($C150=\"\",\"\",IF(Y$4>$M$2,0,IF(ISNA(SMALL($E152:$L152,6)),0,SMALL($E152:$L152,6))))","v":""},{"$f":"IF($C150=\"\",\"\",IF(Z$4>$M$2,0,IF(ISNA(SMALL($E152:$L152,7)),0,SMALL($E152:$L152,7))))","v":""},{"$f":"IF($C150=\"\",\"\",IF(AA$4>$M$2,0,IF(ISNA(SMALL($E152:$L152,8)),0,SMALL($E152:$L152,8))))","v":""},{"$f":"IF($C150=\"\",\"\",IF(AB$4>$M$2,0,IF(ISNA(SMALL($E152:$L152,9)),0,SMALL($E152:$L152,9))))","v":""}]
[null,null,null,"2. pokus"]
[null,null,null,"čas",{"$f":"IF(OR($C150=\"\",E150=\"\",E151=\"\"),\"\",IF(OR(AND(E150=\"NP\",E151=\"NP\"),AND(E150=\"DNS\",E151=\"DNS\")),E150,IF(AND(E150=\"NP\",E151=\"DNS\"),E150,IF(AND(E150=\"DNS\",E151=\"NP\"),E151,MIN(E150,E151)))))","v":""},"","","","","","",""]
[null,{"$f":"Start!F26","v":45},{"$f":"IF(Start!G26=\"\",\"\",Start!G26)","v":""},"1. pokus",null,null,null,null,null,null,null,null,{"$f":"IF(C153=\"\",\"\",COUNT(E155:L155))","v":""},{"$f":"IF(C153=\"\",\"\",IF(AND(M153=0,COUNTIF(E155:L155,\"NP\")=0),\"DNS\",IF(M153<M$2,\"NP\",SUM(T153:AB155))))","v":""},null,{"$f":"IF(C153=\"\",\"\",IF(OR(N153=\"NP\",N153=\"DNS\"),Start!$E$5,RANK(N153,N$5:N$168,1)))","v":""},null,{"$f":"IF(D153=\"\",\"\",IF(OR(P153=\"NP\",P153=\"DNS\"),IF(P153=\"NP\",MAX(P$5:P$85)+COUNTIF((P$5:P$85),MAX(P$5:P$85)),MAX(P$5:P$85)+COUNTIF((P$5:P$85),MAX(P$5:P$85))+COUNTIF((P$5:P$85),\"NP\")),P153))","v":""},null,{"$f":"IF($C153=\"\",\"\",IF(T$4>$M$2,0,IF(ISNA(SMALL($E155:$L155,1)),0,SMALL($E155:$L155,1))))","v":""},{"$f":"IF($C153=\"\",\"\",IF(U$4>$M$2,0,IF(ISNA(SMALL($E155:$L155,2)),0,SMALL($E155:$L155,2))))","v":""},{"$f":"IF($C153=\"\",\"\",IF(V$4>$M$2,0,IF(ISNA(SMALL($E155:$L155,3)),0,SMALL($E155:$L155,3))))","v":""},{"$f":"IF($C153=\"\",\"\",IF(W$4>$M$2,0,IF(ISNA(SMALL($E155:$L155,4)),0,SMALL($E155:$L155,4))))","v":""},{"$f":"IF($C153=\"\",\"\",IF(X$4>$M$2,0,IF(ISNA(SMALL($E155:$L155,5)),0,SMALL($E155:$L155,5))))","v":""},{"$f":"IF($C153=\"\",\"\",IF(Y$4>$M$2,0,IF(ISNA(SMALL($E155:$L155,6)),0,SMALL($E155:$L155,6))))","v":""},{"$f":"IF($C153=\"\",\"\",IF(Z$4>$M$2,0,IF(ISNA(SMALL($E155:$L155,7)),0,SMALL($E155:$L155,7))))","v":""},{"$f":"IF($C153=\"\",\"\",IF(AA$4>$M$2,0,IF(ISNA(SMALL($E155:$L155,8)),0,SMALL($E155:$L155,8))))","v":""},{"$f":"IF($C153=\"\",\"\",IF(AB$4>$M$2,0,IF(ISNA(SMALL($E155:$L155,9)),0,SMALL($E155:$L155,9))))","v":""}]
[null,null,null,"2. pokus"]
[null,null,null,"čas",{"$f":"IF(OR($C153=\"\",E153=\"\",E154=\"\"),\"\",IF(OR(AND(E153=\"NP\",E154=\"NP\"),AND(E153=\"DNS\",E154=\"DNS\")),E153,IF(AND(E153=\"NP\",E154=\"DNS\"),E153,IF(AND(E153=\"DNS\",E154=\"NP\"),E154,MIN(E153,E154)))))","v":""},"","","","","","",""]
[null,{"$f":"Start!F27","v":46},{"$f":"IF(Start!G27=\"\",\"\",Start!G27)","v":""},"1. pokus",null,null,null,null,null,null,null,null,{"$f":"IF(C156=\"\",\"\",COUNT(E158:L158))","v":""},{"$f":"IF(C156=\"\",\"\",IF(AND(M156=0,COUNTIF(E158:L158,\"NP\")=0),\"DNS\",IF(M156<M$2,\"NP\",SUM(T156:AB158))))","v":""},null,{"$f":"IF(C156=\"\",\"\",IF(OR(N156=\"NP\",N156=\"DNS\"),Start!$E$5,RANK(N156,N$5:N$168,1)))","v":""},null,{"$f":"IF(D156=\"\",\"\",IF(OR(P156=\"NP\",P156=\"DNS\"),IF(P156=\"NP\",MAX(P$5:P$85)+COUNTIF((P$5:P$85),MAX(P$5:P$85)),MAX(P$5:P$85)+COUNTIF((P$5:P$85),MAX(P$5:P$85))+COUNTIF((P$5:P$85),\"NP\")),P156))","v":""},null,{"$f":"IF($C156=\"\",\"\",IF(T$4>$M$2,0,IF(ISNA(SMALL($E158:$L158,1)),0,SMALL($E158:$L158,1))))","v":""},{"$f":"IF($C156=\"\",\"\",IF(U$4>$M$2,0,IF(ISNA(SMALL($E158:$L158,2)),0,SMALL($E158:$L158,2))))","v":""},{"$f":"IF($C156=\"\",\"\",IF(V$4>$M$2,0,IF(ISNA(SMALL($E158:$L158,3)),0,SMALL($E158:$L158,3))))","v":""},{"$f":"IF($C156=\"\",\"\",IF(W$4>$M$2,0,IF(ISNA(SMALL($E158:$L158,4)),0,SMALL($E158:$L158,4))))","v":""},{"$f":"IF($C156=\"\",\"\",IF(X$4>$M$2,0,IF(ISNA(SMALL($E158:$L158,5)),0,SMALL($E158:$L158,5))))","v":""},{"$f":"IF($C156=\"\",\"\",IF(Y$4>$M$2,0,IF(ISNA(SMALL($E158:$L158,6)),0,SMALL($E158:$L158,6))))","v":""},{"$f":"IF($C156=\"\",\"\",IF(Z$4>$M$2,0,IF(ISNA(SMALL($E158:$L158,7)),0,SMALL($E158:$L158,7))))","v":""},{"$f":"IF($C156=\"\",\"\",IF(AA$4>$M$2,0,IF(ISNA(SMALL($E158:$L158,8)),0,SMALL($E158:$L158,8))))","v":""},{"$f":"IF($C156=\"\",\"\",IF(AB$4>$M$2,0,IF(ISNA(SMALL($E158:$L158,9)),0,SMALL($E158:$L158,9))))","v":""}]
[null,null,null,"2. pokus"]
[null,null,null,"čas",{"$f":"IF(OR($C156=\"\",E156=\"\",E157=\"\"),\"\",IF(OR(AND(E156=\"NP\",E157=\"NP\"),AND(E156=\"DNS\",E157=\"DNS\")),E156,IF(AND(E156=\"NP\",E157=\"DNS\"),E156,IF(AND(E156=\"DNS\",E157=\"NP\"),E157,MIN(E156,E157)))))","v":""},"","","","","","",""]
[null,{"$f":"Start!F28","v":47},{"$f":"IF(Start!G28=\"\",\"\",Start!G28)","v":""},"1. pokus",null,null,null,null,null,null,null,null,{"$f":"IF(C159=\"\",\"\",COUNT(E161:L161))","v":""},{"$f":"IF(C159=\"\",\"\",IF(AND(M159=0,COUNTIF(E161:L161,\"NP\")=0),\"DNS\",IF(M159<M$2,\"NP\",SUM(T159:AB161))))","v":""},null,{"$f":"IF(C159=\"\",\"\",IF(OR(N159=\"NP\",N159=\"DNS\"),Start!$E$5,RANK(N159,N$5:N$168,1)))","v":""},null,{"$f":"IF(D159=\"\",\"\",IF(OR(P159=\"NP\",P159=\"DNS\"),IF(P159=\"NP\",MAX(P$5:P$85)+COUNTIF((P$5:P$85),MAX(P$5:P$85)),MAX(P$5:P$85)+COUNTIF((P$5:P$85),MAX(P$5:P$85))+COUNTIF((P$5:P$85),\"NP\")),P159))","v":""},null,{"$f":"IF($C159=\"\",\"\",IF(T$4>$M$2,0,IF(ISNA(SMALL($E161:$L161,1)),0,SMALL($E161:$L161,1))))","v":""},{"$f":"IF($C159=\"\",\"\",IF(U$4>$M$2,0,IF(ISNA(SMALL($E161:$L161,2)),0,SMALL($E161:$L161,2))))","v":""},{"$f":"IF($C159=\"\",\"\",IF(V$4>$M$2,0,IF(ISNA(SMALL($E161:$L161,3)),0,SMALL($E161:$L161,3))))","v":""},{"$f":"IF($C159=\"\",\"\",IF(W$4>$M$2,0,IF(ISNA(SMALL($E161:$L161,4)),0,SMALL($E161:$L161,4))))","v":""},{"$f":"IF($C159=\"\",\"\",IF(X$4>$M$2,0,IF(ISNA(SMALL($E161:$L161,5)),0,SMALL($E161:$L161,5))))","v":""},{"$f":"IF($C159=\"\",\"\",IF(Y$4>$M$2,0,IF(ISNA(SMALL($E161:$L161,6)),0,SMALL($E161:$L161,6))))","v":""},{"$f":"IF($C159=\"\",\"\",IF(Z$4>$M$2,0,IF(ISNA(SMALL($E161:$L161,7)),0,SMALL($E161:$L161,7))))","v":""},{"$f":"IF($C159=\"\",\"\",IF(AA$4>$M$2,0,IF(ISNA(SMALL($E161:$L161,8)),0,SMALL($E161:$L161,8))))","v":""},{"$f":"IF($C159=\"\",\"\",IF(AB$4>$M$2,0,IF(ISNA(SMALL($E161:$L161,9)),0,SMALL($E161:$L161,9))))","v":""}]
[null,null,null,"2. pokus"]
[null,null,null,"čas",{"$f":"IF(OR($C159=\"\",E159=\"\",E160=\"\"),\"\",IF(OR(AND(E159=\"NP\",E160=\"NP\"),AND(E159=\"DNS\",E160=\"DNS\")),E159,IF(AND(E159=\"NP\",E160=\"DNS\"),E159,IF(AND(E159=\"DNS\",E160=\"NP\"),E160,MIN(E159,E160)))))","v":""},"","","","","","",""]
[null,{"$f":"Start!F29","v":48},{"$f":"IF(Start!G29=\"\",\"\",Start!G29)","v":""},"1. pokus",null,null,null,null,null,null,null,null,{"$f":"IF(C162=\"\",\"\",COUNT(E164:L164))","v":""},{"$f":"IF(C162=\"\",\"\",IF(AND(M162=0,COUNTIF(E164:L164,\"NP\")=0),\"DNS\",IF(M162<M$2,\"NP\",SUM(T162:AB164))))","v":""},null,{"$f":"IF(C162=\"\",\"\",IF(OR(N162=\"NP\",N162=\"DNS\"),Start!$E$5,RANK(N162,N$5:N$168,1)))","v":""},null,{"$f":"IF(D162=\"\",\"\",IF(OR(P162=\"NP\",P162=\"DNS\"),IF(P162=\"NP\",MAX(P$5:P$85)+COUNTIF((P$5:P$85),MAX(P$5:P$85)),MAX(P$5:P$85)+COUNTIF((P$5:P$85),MAX(P$5:P$85))+COUNTIF((P$5:P$85),\"NP\")),P162))","v":""},null,{"$f":"IF($C162=\"\",\"\",IF(T$4>$M$2,0,IF(ISNA(SMALL($E164:$L164,1)),0,SMALL($E164:$L164,1))))","v":""},{"$f":"IF($C162=\"\",\"\",IF(U$4>$M$2,0,IF(ISNA(SMALL($E164:$L164,2)),0,SMALL($E164:$L164,2))))","v":""},{"$f":"IF($C162=\"\",\"\",IF(V$4>$M$2,0,IF(ISNA(SMALL($E164:$L164,3)),0,SMALL($E164:$L164,3))))","v":""},{"$f":"IF($C162=\"\",\"\",IF(W$4>$M$2,0,IF(ISNA(SMALL($E164:$L164,4)),0,SMALL($E164:$L164,4))))","v":""},{"$f":"IF($C162=\"\",\"\",IF(X$4>$M$2,0,IF(ISNA(SMALL($E164:$L164,5)),0,SMALL($E164:$L164,5))))","v":""},{"$f":"IF($C162=\"\",\"\",IF(Y$4>$M$2,0,IF(ISNA(SMALL($E164:$L164,6)),0,SMALL($E164:$L164,6))))","v":""},{"$f":"IF($C162=\"\",\"\",IF(Z$4>$M$2,0,IF(ISNA(SMALL($E164:$L164,7)),0,SMALL($E164:$L164,7))))","v":""},{"$f":"IF($C162=\"\",\"\",IF(AA$4>$M$2,0,IF(ISNA(SMALL($E164:$L164,8)),0,SMALL($E164:$L164,8))))","v":""},{"$f":"IF($C162=\"\",\"\",IF(AB$4>$M$2,0,IF(ISNA(SMALL($E164:$L164,9)),0,SMALL($E164:$L164,9))))","v":""}]
[null,null,null,"2. pokus"]
[null,null,null,"čas",{"$f":"IF(OR($C162=\"\",E162=\"\",E163=\"\"),\"\",IF(OR(AND(E162=\"NP\",E163=\"NP\"),AND(E162=\"DNS\",E163=\"DNS\")),E162,IF(AND(E162=\"NP\",E163=\"DNS\"),E162,IF(AND(E162=\"DNS\",E163=\"NP\"),E163,MIN(E162,E163)))))","v":""},"","","","","","",""]
[null,{"$f":"Start!F30","v":49},{"$f":"IF(Start!G30=\"\",\"\",Start!G30)","v":""},"1. pokus",null,null,null,null,null,null,null,null,{"$f":"IF(C165=\"\",\"\",COUNT(E167:L167))","v":""},{"$f":"IF(C165=\"\",\"\",IF(AND(M165=0,COUNTIF(E167:L167,\"NP\")=0),\"DNS\",IF(M165<M$2,\"NP\",SUM(T165:AB167))))","v":""},null,{"$f":"IF(C165=\"\",\"\",IF(OR(N165=\"NP\",N165=\"DNS\"),Start!$E$5,RANK(N165,N$5:N$168,1)))","v":""},null,{"$f":"IF(D165=\"\",\"\",IF(OR(P165=\"NP\",P165=\"DNS\"),IF(P165=\"NP\",MAX(P$5:P$85)+COUNTIF((P$5:P$85),MAX(P$5:P$85)),MAX(P$5:P$85)+COUNTIF((P$5:P$85),MAX(P$5:P$85))+COUNTIF((P$5:P$85),\"NP\")),P165))","v":""},null,{"$f":"IF($C165=\"\",\"\",IF(T$4>$M$2,0,IF(ISNA(SMALL($E167:$L167,1)),0,SMALL($E167:$L167,1))))","v":""},{"$f":"IF($C165=\"\",\"\",IF(U$4>$M$2,0,IF(ISNA(SMALL($E167:$L167,2)),0,SMALL($E167:$L167,2))))","v":""},{"$f":"IF($C165=\"\",\"\",IF(V$4>$M$2,0,IF(ISNA(SMALL($E167:$L167,3)),0,SMALL($E167:$L167,3))))","v":""},{"$f":"IF($C165=\"\",\"\",IF(W$4>$M$2,0,IF(ISNA(SMALL($E167:$L167,4)),0,SMALL($E167:$L167,4))))","v":""},{"$f":"IF($C165=\"\",\"\",IF(X$4>$M$2,0,IF(ISNA(SMALL($E167:$L167,5)),0,SMALL($E167:$L167,5))))","v":""},{"$f":"IF($C165=\"\",\"\",IF(Y$4>$M$2,0,IF(ISNA(SMALL($E167:$L167,6)),0,SMALL($E167:$L167,6))))","v":""},{"$f":"IF($C165=\"\",\"\",IF(Z$4>$M$2,0,IF(ISNA(SMALL($E167:$L167,7)),0,SMALL($E167:$L167,7))))","v":""},{"$f":"IF($C165=\"\",\"\",IF(AA$4>$M$2,0,IF(ISNA(SMALL($E167:$L167,8)),0,SMALL($E167:$L167,8))))","v":""},{"$f":"IF($C165=\"\",\"\",IF(AB$4>$M$2,0,IF(ISNA(SMALL($E167:$L167,9)),0,SMALL($E167:$L167,9))))","v":""}]
[null,null,null,"2. pokus"]
[null,null,null,"čas",{"$f":"IF(OR($C165=\"\",E165=\"\",E166=\"\"),\"\",IF(OR(AND(E165=\"NP\",E166=\"NP\"),AND(E165=\"DNS\",E166=\"DNS\")),E165,IF(AND(E165=\"NP\",E166=\"DNS\"),E165,IF(AND(E165=\"DNS\",E166=\"NP\"),E166,MIN(E165,E166)))))","v":""},"","","","","","",""]
[null,{"$f":"Start!F31","v":50},{"$f":"IF(Start!G31=\"\",\"\",Start!G31)","v":""},"1. pokus",null,null,null,null,null,null,null,null,{"$f":"IF(C168=\"\",\"\",COUNT(E170:L170))","v":""},{"$f":"IF(C168=\"\",\"\",IF(AND(M168=0,COUNTIF(E170:L170,\"NP\")=0),\"DNS\",IF(M168<M$2,\"NP\",SUM(T168:AB170))))","v":""},null,{"$f":"IF(C168=\"\",\"\",IF(OR(N168=\"NP\",N168=\"DNS\"),Start!$E$5,RANK(N168,N$5:N$168,1)))","v":""},null,{"$f":"IF(D168=\"\",\"\",IF(OR(P168=\"NP\",P168=\"DNS\"),IF(P168=\"NP\",MAX(P$5:P$85)+COUNTIF((P$5:P$85),MAX(P$5:P$85)),MAX(P$5:P$85)+COUNTIF((P$5:P$85),MAX(P$5:P$85))+COUNTIF((P$5:P$85),\"NP\")),P168))","v":""},null,{"$f":"IF($C168=\"\",\"\",IF(T$4>$M$2,0,IF(ISNA(SMALL($E170:$L170,1)),0,SMALL($E170:$L170,1))))","v":""},{"$f":"IF($C168=\"\",\"\",IF(U$4>$M$2,0,IF(ISNA(SMALL($E170:$L170,2)),0,SMALL($E170:$L170,2))))","v":""},{"$f":"IF($C168=\"\",\"\",IF(V$4>$M$2,0,IF(ISNA(SMALL($E170:$L170,3)),0,SMALL($E170:$L170,3))))","v":""},{"$f":"IF($C168=\"\",\"\",IF(W$4>$M$2,0,IF(ISNA(SMALL($E170:$L170,4)),0,SMALL($E170:$L170,4))))","v":""},{"$f":"IF($C168=\"\",\"\",IF(X$4>$M$2,0,IF(ISNA(SMALL($E170:$L170,5)),0,SMALL($E170:$L170,5))))","v":""},{"$f":"IF($C168=\"\",\"\",IF(Y$4>$M$2,0,IF(ISNA(SMALL($E170:$L170,6)),0,SMALL($E170:$L170,6))))","v":""},{"$f":"IF($C168=\"\",\"\",IF(Z$4>$M$2,0,IF(ISNA(SMALL($E170:$L170,7)),0,SMALL($E170:$L170,7))))","v":""},{"$f":"IF($C168=\"\",\"\",IF(AA$4>$M$2,0,IF(ISNA(SMALL($E170:$L170,8)),0,SMALL($E170:$L170,8))))","v":""},{"$f":"IF($C168=\"\",\"\",IF(AB$4>$M$2,0,IF(ISNA(SMALL($E170:$L170,9)),0,SMALL($E170:$L170,9))))","v":""}]
[null,null,null,"2. pokus"]
[null,null,null,"čas",{"$f":"IF(OR($C168=\"\",E168=\"\",E169=\"\"),\"\",IF(OR(AND(E168=\"NP\",E169=\"NP\"),AND(E168=\"DNS\",E169=\"DNS\")),E168,IF(AND(E168=\"NP\",E169=\"DNS\"),E168,IF(AND(E168=\"DNS\",E169=\"NP\"),E169,MIN(E168,E169)))))","v":""},"","","","","","",""]

{"sheet":"PÚ","index":12,"n_rows":54,"n_cols":19,"rows_kept":54,"cut":false,"hidden":false,"merged":[[2,3,2,6],[2,7,2,10],[0,1,0,13],[1,3,1,11]]}
[null,"Požární útok"]
[null,null,null,"Upozornění: Pořadí je platné pouze při vstupu na stránku či kliknutí na zelené tlačítko"]
[null,null,{"$f":"Start!$C$5","v":"Dorky"},"I.p.",null,null,null,"II.p."]
[null,"st.č.","SDH",1,2,3,"čas",1,2,3,"čas","C.čas",null,"Poř.",null,"Poř.","I.p.","II.p.","P.čas"]
[null,{"$f":"Start!B7","v":1},{"$f":"IF(Start!C7=\"\",\"\",Start!C7)","v":"Stéblová"},27.67,null,null,{"$f":"IF($C5=\"\",\"\",IF(OR($D5=\"DNS\",$E5=\"DNS\",$F5=\"DNS\",AND($D5=\"\",$E5=\"\",$F5=\"\")),\"DNS\",IF(OR($D5=\"NP\",$E5=\"NP\",$F5=\"NP\"),\"NP\",IF(ISERROR(MEDIAN($D5:$F5)),\"DNS\",IF(OR($D5=\"X\",$E5=\"X\",$F5=\"X\",$D5=\"\",$E5=\"\",$F5=\"\",$D5=\"x\",$E5=\"x\",$F5=\"x\"),MAX($D5:$F5),MEDIAN($D5:$F5))))))","v":27.67},32.32,null,null,{"$f":"IF($C5=\"\",\"\",IF(OR($H5=\"DNS\",$I5=\"DNS\",$J5=\"DNS\",AND($H5=\"\",$I5=\"\",$J5=\"\")),\"DNS\",IF(OR($H5=\"NP\",$I5=\"NP\",$J5=\"NP\"),\"NP\",IF(ISERROR(MEDIAN($H5:$J5)),\"DNS\",IF(OR($H5=\"X\",$I5=\"X\",$J5=\"X\",$H5=\"\",$I5=\"\",$J5=\"\",$H5=\"x\",$I5=\"x\",$J5=\"x\"),MAX($H5:$J5),MEDIAN($H5:$J5))))))","v":32.32},{"$f":"IF(C5=\"\",\"\",IF(OR(AND(G5=\"NP\",K5=\"NP\"),AND(G5=\"DNS\",K5=\"DNS\")),G5,IF(AND(G5=\"NP\",K5=\"DNS\"),G5,IF(AND(G5=\"DNS\",K5=\"NP\"),K5,MIN(G5,K5)))))","v":27.67},null,1,null,{"$f":"IF(C5=\"\",\"\",IF(OR(L5=\"NP\",L5=\"DNS\"),Start!$E$5,RANK(L5,L$5:L$54,1)))","v":1},{"$f":"IF($C5=\"\",\"\",IF(OR($G5=\"NP\",$G5=\"DNS\"),9000,$G5))","v":27.67},{"$f":"IF($C5=\"\",\"\",IF(OR($K5=\"NP\",$K5=\"DNS\"),9000,$K5))","v":32.32},{"$f":"IF($C5=\"\",\"\",SUM($Q5:$R5))","v":59.99}]
[null,{"$f":"Start!B8","v":2},{"$f":"IF(Start!C8=\"\",\"\",Start!C8)","v":"Lukavice"},"NP",null,null,"NP",33.35,null,null,33.35,33.35,null,3,null,{"$f":"IF(C6=\"\",\"\",IF(OR(L6=\"NP\",L6=\"DNS\"),Start!$E$5,RANK(L6,L$5:L$54,1)))","v":3},9000,33.35,9033.35]
[null,{"$f":"Start!B9","v":3},{"$f":"IF(Start!C9=\"\",\"\",Start!C9)","v":"Skuteč"},27.73,null,null,27.73,31.06,null,null,31.06,27.73,null,2,null,{"$f":"IF(C7=\"\",\"\",IF(OR(L7=\"NP\",L7=\"DNS\"),Start!$E$5,RANK(L7,L$5:L$54,1)))","v":2},27.73,31.06,58.79]
[null,{"$f":"Start!B10","v":4},{"$f":"IF(Start!C10=\"\",\"\",Start!C10)","v":"Desná"},34.33,null,null,34.33,33.44,null,null,33.44,33.44,null,4,null,{"$f":"IF(C8=\"\",\"\",IF(OR(L8=\"NP\",L8=\"DNS\"),Start!$E$5,RANK(L8,L$5:L$54,1)))","v":4},34.33,33.44,67.77]
[null,{"$f":"Start!B11","v":5},{"$f":"IF(Start!C11=\"\",\"\",Start!C11)","v":""},null,null,null,"",null,null,null,"","",null,null,null,{"$f":"IF(C9=\"\",\"\",IF(OR(L9=\"NP\",L9=\"DNS\"),Start!$E$5,RANK(L9,L$5:L$54,1)))","v":""},"","",""]
[null,{"$f":"Start!B12","v":6},{"$f":"IF(Start!C12=\"\",\"\",Start!C12)","v":""},null,null,null,"",null,null,null,"","",null,null,null,{"$f":"IF(C10=\"\",\"\",IF(OR(L10=\"NP\",L10=\"DNS\"),Start!$E$5,RANK(L10,L$5:L$54,1)))","v":""},"","",""]
[null,{"$f":"Start!B13","v":7},{"$f":"IF(Start!C13=\"\",\"\",Start!C13)","v":""},null,null,null,"",null,null,null,"","",null,null,null,{"$f":"IF(C11=\"\",\"\",IF(OR(L11=\"NP\",L11=\"DNS\"),Start!$E$5,RANK(L11,L$5:L$54,1)))","v":""},"","",""]
[null,{"$f":"Start!B14","v":8},{"$f":"IF(Start!C14=\"\",\"\",Start!C14)","v":""},null,null,null,"",null,null,null,"","",null,null,null,{"$f":"IF(C12=\"\",\"\",IF(OR(L12=\"NP\",L12=\"DNS\"),Start!$E$5,RANK(L12,L$5:L$54,1)))","v":""},"","",""]
[null,{"$f":"Start!B15","v":9},{"$f":"IF(Start!C15=\"\",\"\",Start!C15)","v":""},null,null,null,"",null,null,null,"","",null,null,null,{"$f":"IF(C13=\"\",\"\",IF(OR(L13=\"NP\",L13=\"DNS\"),Start!$E$5,RANK(L13,L$5:L$54,1)))","v":""},"","",""]
[null,{"$f":"Start!B16","v":10},{"$f":"IF(Start!C16=\"\",\"\",Start!C16)","v":""},null,null,null,"",null,null,null,"","",null,null,null,{"$f":"IF(C14=\"\",\"\",IF(OR(L14=\"NP\",L14=\"DNS\"),Start!$E$5,RANK(L14,L$5:L$54,1)))","v":""},"","",""]
[null,{"$f":"Start!B17","v":11},{"$f":"IF(Start!C17=\"\",\"\",Start!C17)","v":""},null,null,null,"",null,null,null,"","",null,null,null,{"$f":"IF(C15=\"\",\"\",IF(OR(L15=\"NP\",L15=\"DNS\"),Start!$E$5,RANK(L15,L$5:L$54,1)))","v":""},"","",""]
[null,{"$f":"Start!B18","v":12},{"$f":"IF(Start!C18=\"\",\"\",Start!C18)","v":""},null,null,null,"",null,null,null,"","",null,null,null,{"$f":"IF(C16=\"\",\"\",IF(OR(L16=\"NP\",L16=\"DNS\"),Start!$E$5,RANK(L16,L$5:L$54,1)))","v":""},"","",""]
[null,{"$f":"Start!B19","v":13},{"$f":"IF(Start!C19=\"\",\"\",Start!C19)","v":""},null,null,null,"",null,null,null,"","",null,null,null,{"$f":"IF(C17=\"\",\"\",IF(OR(L17=\"NP\",L17=\"DNS\"),Start!$E$5,RANK(L17,L$5:L$54,1)))","v":""},"","",""]
[null,{"$f":"Start!B20","v":14},{"$f":"IF(Start!C20=\"\",\"\",Start!C20)","v":""},null,null,null,"",null,null,null,"","",null,null,null,{"$f":"IF(C18=\"\",\"\",IF(OR(L18=\"NP\",L18=\"DNS\"),Start!$E$5,RANK(L18,L$5:L$54,1)))","v":""},"","",""]
[null,{"$f":"Start!B21","v":15},{"$f":"IF(Start!C21=\"\",\"\",Start!C21)","v":""},null,null,null,"",null,null,null,"","",null,null,null,{"$f":"IF(C19=\"\",\"\",IF(OR(L19=\"NP\",L19=\"DNS\"),Start!$E$5,RANK(L19,L$5:L$54,1)))","v":""},"","",""]
[null,{"$f":"Start!B22","v":16},{"$f":"IF(Start!C22=\"\",\"\",Start!C22)","v":""},null,null,null,"",null,null,null,"","",null,null,null,{"$f":"IF(C20=\"\",\"\",IF(OR(L20=\"NP\",L20=\"DNS\"),Start!$E$5,RANK(L20,L$5:L$54,1)))","v":""},"","",""]
[null,{"$f":"Start!B23","v":17},{"$f":"IF(Start!C23=\"\",\"\",Start!C23)","v":""},null,null,null,"",null,null,null,"","",null,null,null,{"$f":"IF(C21=\"\",\"\",IF(OR(L21=\"NP\",L21=\"DNS\"),Start!$E$5,RANK(L21,L$5:L$54,1)))","v":""},"","",""]
[null,{"$f":"Start!B24","v":18},{"$f":"IF(Start!C24=\"\",\"\",Start!C24)","v":""},null,null,null,"",null,null,null,"","",null,null,null,{"$f":"IF(C22=\"\",\"\",IF(OR(L22=\"NP\",L22=\"DNS\"),Start!$E$5,RANK(L22,L$5:L$54,1)))","v":""},"","",""]
[null,{"$f":"Start!B25","v":19},{"$f":"IF(Start!C25=\"\",\"\",Start!C25)","v":""},null,null,null,"",null,null,null,"","",null,null,null,{"$f":"IF(C23=\"\",\"\",IF(OR(L23=\"NP\",L23=\"DNS\"),Start!$E$5,RANK(L23,L$5:L$54,1)))","v":""},"","",""]
[null,{"$f":"Start!B26","v":20},{"$f":"IF(Start!C26=\"\",\"\",Start!C26)","v":""},null,null,null,"",null,null,null,"","",null,null,null,{"$f":"IF(C24=\"\",\"\",IF(OR(L24=\"NP\",L24=\"DNS\"),Start!$E$5,RANK(L24,L$5:L$54,1)))","v":""},"","",""]
[null,{"$f":"Start!B27","v":21},{"$f":"IF(Start!C27=\"\",\"\",Start!C27)","v":""},null,null,null,"",null,null,null,"","",null,null,null,{"$f":"IF(C25=\"\",\"\",IF(OR(L25=\"NP\",L25=\"DNS\"),Start!$E$5,RANK(L25,L$5:L$54,1)))","v":""},"","",""]
[null,{"$f":"Start!B28","v":22},{"$f":"IF(Start!C28=\"\",\"\",Start!C28)","v":""},null,null,null,"",null,null,null,"","",null,null,null,{"$f":"IF(C26=\"\",\"\",IF(OR(L26=\"NP\",L26=\"DNS\"),Start!$E$5,RANK(L26,L$5:L$54,1)))","v":""},"","",""]
[null,{"$f":"Start!B29","v":23},{"$f":"IF(Start!C29=\"\",\"\",Start!C29)","v":""},null,null,null,"",null,null,null,"","",null,null,null,{"$f":"IF(C27=\"\",\"\",IF(OR(L27=\"NP\",L27=\"DNS\"),Start!$E$5,RANK(L27,L$5:L$54,1)))","v":""},"","",""]
[null,{"$f":"Start!B30","v":24},{"$f":"IF(Start!C30=\"\",\"\",Start!C30)","v":""},null,null,null,"",null,null,null,"","",null,null,null,{"$f":"IF(C28=\"\",\"\",IF(OR(L28=\"NP\",L28=\"DNS\"),Start!$E$5,RANK(L28,L$5:L$54,1)))","v":""},"","",""]
[null,{"$f":"Start!B31","v":25},{"$f":"IF(Start!C31=\"\",\"\",Start!C31)","v":""},null,null,null,"",null,null,null,"","",null,null,null,{"$f":"IF(C29=\"\",\"\",IF(OR(L29=\"NP\",L29=\"DNS\"),Start!$E$5,RANK(L29,L$5:L$54,1)))","v":""},"","",""]
[null,{"$f":"Start!F7","v":26},{"$f":"IF(Start!G7=\"\",\"\",Start!G7)","v":""},null,null,null,"",null,null,null,"","",null,null,null,{"$f":"IF(C30=\"\",\"\",IF(OR(L30=\"NP\",L30=\"DNS\"),Start!$E$5,RANK(L30,L$5:L$54,1)))","v":""},"","",""]
[null,{"$f":"Start!F8","v":27},{"$f":"IF(Start!G8=\"\",\"\",Start!G8)","v":""},null,null,null,"",null,null,null,"","",null,null,null,{"$f":"IF(C31=\"\",\"\",IF(OR(L31=\"NP\",L31=\"DNS\"),Start!$E$5,RANK(L31,L$5:L$54,1)))","v":""},"","",""]
[null,{"$f":"Start!F9","v":28},{"$f":"IF(Start!G9=\"\",\"\",Start!G9)","v":""},null,null,null,"",null,null,null,"","",null,null,null,{"$f":"IF(C32=\"\",\"\",IF(OR(L32=\"NP\",L32=\"DNS\"),Start!$E$5,RANK(L32,L$5:L$54,1)))","v":""},"","",""]
[null,{"$f":"Start!F10","v":29},{"$f":"IF(Start!G10=\"\",\"\",Start!G10)","v":""},null,null,null,"",null,null,null,"","",null,null,null,{"$f":"IF(C33=\"\",\"\",IF(OR(L33=\"NP\",L33=\"DNS\"),Start!$E$5,RANK(L33,L$5:L$54,1)))","v":""},"","",""]
[null,{"$f":"Start!F11","v":30},{"$f":"IF(Start!G11=\"\",\"\",Start!G11)","v":""},null,null,null,"",null,null,null,"","",null,null,null,{"$f":"IF(C34=\"\",\"\",IF(OR(L34=\"NP\",L34=\"DNS\"),Start!$E$5,RANK(L34,L$5:L$54,1)))","v":""},"","",""]
[null,{"$f":"Start!F12","v":31},{"$f":"IF(Start!G12=\"\",\"\",Start!G12)","v":""},null,null,null,"",null,null,null,"","",null,null,null,{"$f":"IF(C35=\"\",\"\",IF(OR(L35=\"NP\",L35=\"DNS\"),Start!$E$5,RANK(L35,L$5:L$54,1)))","v":""},"","",""]
[null,{"$f":"Start!F13","v":32},{"$f":"IF(Start!G13=\"\",\"\",Start!G13)","v":""},null,null,null,"",null,null,null,"","",null,null,null,{"$f":"IF(C36=\"\",\"\",IF(OR(L36=\"NP\",L36=\"DNS\"),Start!$E$5,RANK(L36,L$5:L$54,1)))","v":""},"","",""]
[null,{"$f":"Start!F14","v":33},{"$f":"IF(Start!G14=\"\",\"\",Start!G14)","v":""},null,null,null,{"$f":"IF($C37=\"\",\"\",IF(OR($D37=\"DNS\",$E37=\"DNS\",$F37=\"DNS\",AND($D37=\"\",$E37=\"\",$F37=\"\")),\"DNS\",IF(OR($D37=\"NP\",$E37=\"NP\",$F37=\"NP\"),\"NP\",IF(ISERROR(MEDIAN($D37:$F37)),\"DNS\",IF(OR($D37=\"X\",$E37=\"X\",$F37=\"X\",$D37=\"\",$E37=\"\",$F37=\"\",$D37=\"x\",$E37=\"x\",$F37=\"x\"),MAX($D37:$F37),MEDIAN($D37:$F37))))))","v":""},null,null,null,{"$f":"IF($C37=\"\",\"\",IF(OR($H37=\"DNS\",$I37=\"DNS\",$J37=\"DNS\",AND($H37=\"\",$I37=\"\",$J37=\"\")),\"DNS\",IF(OR($H37=\"NP\",$I37=\"NP\",$J37=\"NP\"),\"NP\",IF(ISERROR(MEDIAN($H37:$J37)),\"DNS\",IF(OR($H37=\"X\",$I37=\"X\",$J37=\"X\",$H37=\"\",$I37=\"\",$J37=\"\",$H37=\"x\",$I37=\"x\",$J37=\"x\"),MAX($H37:$J37),MEDIAN($H37:$J37))))))","v":""},{"$f":"IF(C37=\"\",\"\",IF(OR(AND(G37=\"NP\",K37=\"NP\"),AND(G37=\"DNS\",K37=\"DNS\")),G37,IF(AND(G37=\"NP\",K37=\"DNS\"),G37,IF(AND(G37=\"DNS\",K37=\"NP\"),K37,MIN(G37,K37)))))","v":""},null,null,null,{"$f":"IF(C37=\"\",\"\",IF(OR(L37=\"NP\",L37=\"DNS\"),Start!$E$5,RANK(L37,L$5:L$54,1)))","v":""},{"$f":"IF($C37=\"\",\"\",IF(OR($G37=\"NP\",$G37=\"DNS\"),9000,$G37))","v":""},{"$f":"IF($C37=\"\",\"\",IF(OR($K37=\"NP\",$K37=\"DNS\"),9000,$K37))","v":""},{"$f":"IF($C37=\"\",\"\",SUM($Q37:$R37))","v":""}]
[null,{"$f":"Start!F15","v":34},{"$f":"IF(Start!G15=\"\",\"\",Start!G15)","v":""},null,null,null,"",null,null,null,"","",null,null,null,{"$f":"IF(C38=\"\",\"\",IF(OR(L38=\"NP\",L38=\"DNS\"),Start!$E$5,RANK(L38,L$5:L$54,1)))","v":""},"","",""]
[null,{"$f":"Start!F16","v":35},{"$f":"IF(Start!G16=\"\",\"\",Start!G16)","v":""},null,null,null,"",null,null,null,"","",null,null,null,{"$f":"IF(C39=\"\",\"\",IF(OR(L39=\"NP\",L39=\"DNS\"),Start!$E$5,RANK(L39,L$5:L$54,1)))","v":""},"","",""]
[null,{"$f":"Start!F17","v":36},{"$f":"IF(Start!G17=\"\",\"\",Start!G17)","v":""},null,null,null,"",null,null,null,"","",null,null,null,{"$f":"IF(C40=\"\",\"\",IF(OR(L40=\"NP\",L40=\"DNS\"),Start!$E$5,RANK(L40,L$5:L$54,1)))","v":""},"","",""]
[null,{"$f":"Start!F18","v":37},{"$f":"IF(Start!G18=\"\",\"\",Start!G18)","v":""},null,null,null,"",null,null,null,"","",null,null,null,{"$f":"IF(C41=\"\",\"\",IF(OR(L41=\"NP\",L41=\"DNS\"),Start!$E$5,RANK(L41,L$5:L$54,1)))","v":""},"","",""]
[null,{"$f":"Start!F19","v":38},{"$f":"IF(Start!G19=\"\",\"\",Start!G19)","v":""},null,null,null,"",null,null,null,"","",null,null,null,{"$f":"IF(C42=\"\",\"\",IF(OR(L42=\"NP\",L42=\"DNS\"),Start!$E$5,RANK(L42,L$5:L$54,1)))","v":""},"","",""]
[null,{"$f":"Start!F20","v":39},{"$f":"IF(Start!G20=\"\",\"\",Start!G20)","v":""},null,null,null,"",null,null,null,"","",null,null,null,{"$f":"IF(C43=\"\",\"\",IF(OR(L43=\"NP\",L43=\"DNS\"),Start!$E$5,RANK(L43,L$5:L$54,1)))","v":""},"","",""]
[null,{"$f":"Start!F21","v":40},{"$f":"IF(Start!G21=\"\",\"\",Start!G21)","v":""},null,null,null,"",null,null,null,"","",null,null,null,{"$f":"IF(C44=\"\",\"\",IF(OR(L44=\"NP\",L44=\"DNS\"),Start!$E$5,RANK(L44,L$5:L$54,1)))","v":""},"","",""]
[null,{"$f":"Start!F22","v":41},{"$f":"IF(Start!G22=\"\",\"\",Start!G22)","v":""},null,null,null,"",null,null,null,"","",null,null,null,{"$f":"IF(C45=\"\",\"\",IF(OR(L45=\"NP\",L45=\"DNS\"),Start!$E$5,RANK(L45,L$5:L$54,1)))","v":""},"","",""]
[null,{"$f":"Start!F23","v":42},{"$f":"IF(Start!G23=\"\",\"\",Start!G23)","v":""},null,null,null,"",null,null,null,"","",null,null,null,{"$f":"IF(C46=\"\",\"\",IF(OR(L46=\"NP\",L46=\"DNS\"),Start!$E$5,RANK(L46,L$5:L$54,1)))","v":""},"","",""]
[null,{"$f":"Start!F24","v":43},{"$f":"IF(Start!G24=\"\",\"\",Start!G24)","v":""},null,null,null,"",null,null,null,"","",null,null,null,{"$f":"IF(C47=\"\",\"\",IF(OR(L47=\"NP\",L47=\"DNS\"),Start!$E$5,RANK(L47,L$5:L$54,1)))","v":""},"","",""]
[null,{"$f":"Start!F25","v":44},{"$f":"IF(Start!G25=\"\",\"\",Start!G25)","v":""},null,null,null,"",null,null,null,"","",null,null,null,{"$f":"IF(C48=\"\",\"\",IF(OR(L48=\"NP\",L48=\"DNS\"),Start!$E$5,RANK(L48,L$5:L$54,1)))","v":""},"","",""]
[null,{"$f":"Start!F26","v":45},{"$f":"IF(Start!G26=\"\",\"\",Start!G26)","v":""},null,null,null,"",null,null,null,"","",null,null,null,{"$f":"IF(C49=\"\",\"\",IF(OR(L49=\"NP\",L49=\"DNS\"),Start!$E$5,RANK(L49,L$5:L$54,1)))","v":""},"","",""]
[null,{"$f":"Start!F27","v":46},{"$f":"IF(Start!G27=\"\",\"\",Start!G27)","v":""},null,null,null,"",null,null,null,"","",null,null,null,{"$f":"IF(C50=\"\",\"\",IF(OR(L50=\"NP\",L50=\"DNS\"),Start!$E$5,RANK(L50,L$5:L$54,1)))","v":""},"","",""]
[null,{"$f":"Start!F28","v":47},{"$f":"IF(Start!G28=\"\",\"\",Start!G28)","v":""},null,null,null,"",null,null,null,"","",null,null,null,{"$f":"IF(C51=\"\",\"\",IF(OR(L51=\"NP\",L51=\"DNS\"),Start!$E$5,RANK(L51,L$5:L$54,1)))","v":""},"","",""]
[null,{"$f":"Start!F29","v":48},{"$f":"IF(Start!G29=\"\",\"\",Start!G29)","v":""},null,null,null,"",null,null,null,"","",null,null,null,{"$f":"IF(C52=\"\",\"\",IF(OR(L52=\"NP\",L52=\"DNS\"),Start!$E$5,RANK(L52,L$5:L$54,1)))","v":""},"","",""]
[null,{"$f":"Start!F30","v":49},{"$f":"IF(Start!G30=\"\",\"\",Start!G30)","v":""},null,null,null,"",null,null,null,"","",null,null,null,{"$f":"IF(C53=\"\",\"\",IF(OR(L53=\"NP\",L53=\"DNS\"),Start!$E$5,RANK(L53,L$5:L$54,1)))","v":""},"","",""]
[null,{"$f":"Start!F31","v":50},{"$f":"IF(Start!G31=\"\",\"\",Start!G31)","v":""},null,null,null,"",null,null,null,"","",null,null,null,{"$f":"IF(C54=\"\",\"\",IF(OR(L54=\"NP\",L54=\"DNS\"),Start!$E$5,RANK(L54,L$5:L$54,1)))","v":""},"","",""]

{"sheet":"PÚ - P","index":13,"n_rows":54,"n_cols":19,"rows_kept":54,"cut":false,"hidden":false,"merged":[[0,1,0,13],[2,3,2,6],[2,7,2,10],[1,3,1,11]]}
[null,"Požární útok"]
[null,null,null,"Upozornění: Pořadí je platné pouze při vstupu na stránku či kliknutí na zelené tlačítko"]
[null,null,{"$f":"Start!$C$5","v":"Dorky"},"I.p.",null,null,null,"II.p."]
[null,"st.č.","SDH",1,2,3,"čas",1,2,3,"čas","C.čas",null,"Poř.",null,"Poř.","I.p.","II.p.","P.čas"]
[null,{"$f":"Start!B7","v":1},"Stéblová",27.67,null,null,27.67,32.32,null,null,32.32,27.67,null,1,null,1,27.67,32.32,59.99]
[null,{"$f":"Start!B8","v":2},"Lukavice","NP",null,null,"NP",33.35,null,null,33.35,33.35,null,3,null,3,9000,33.35,9033.35]
[null,{"$f":"Start!B9","v":3},"Skuteč",27.73,null,null,27.73,31.06,null,null,31.06,27.73,null,2,null,2,27.73,31.06,58.79]
[null,{"$f":"Start!B10","v":4},"Desná",34.33,null,null,34.33,33.44,null,null,33.44,33.44,null,4,null,4,34.33,33.44,67.77]
[null,{"$f":"Start!B11","v":5},"",null,null,null,"",null,null,null,"","",null,null,null,"","","",""]
[null,{"$f":"Start!B12","v":6},"",null,null,null,"",null,null,null,"","",null,null,null,"","","",""]
[null,{"$f":"Start!B13","v":7},"",null,null,null,"",null,null,null,"","",null,null,null,"","","",""]
[null,{"$f":"Start!B14","v":8},"",null,null,null,"",null,null,null,"","",null,null,null,"","","",""]
[null,{"$f":"Start!B15","v":9},"",null,null,null,"",null,null,null,"","",null,null,null,"","","",""]
[null,{"$f":"Start!B16","v":10},"",null,null,null,"",null,null,null,"","",null,null,null,"","","",""]
[null,{"$f":"Start!B17","v":11},"",null,null,null,"",null,null,null,"","",null,null,null,"","","",""]
[null,{"$f":"Start!B18","v":12},"",null,null,null,"",null,null,null,"","",null,null,null,"","","",""]
[null,{"$f":"Start!B19","v":13},"",null,null,null,"",null,null,null,"","",null,null,null,"","","",""]
[null,{"$f":"Start!B20","v":14},"",null,null,null,"",null,null,null,"","",null,null,null,"","","",""]
[null,{"$f":"Start!B21","v":15},"",null,null,null,"",null,null,null,"","",null,null,null,"","","",""]
[null,{"$f":"Start!B22","v":16},"",null,null,null,"",null,null,null,"","",null,null,null,"","","",""]
[null,{"$f":"Start!B23","v":17},"",null,null,null,"",null,null,null,"","",null,null,null,"","","",""]
[null,{"$f":"Start!B24","v":18},"",null,null,null,"",null,null,null,"","",null,null,null,"","","",""]
[null,{"$f":"Start!B25","v":19},"",null,null,null,"",null,null,null,"","",null,null,null,"","","",""]
[null,{"$f":"Start!B26","v":20},"",null,null,null,"",null,null,null,"","",null,null,null,"","","",""]
[null,{"$f":"Start!B27","v":21},"",null,null,null,"",null,null,null,"","",null,null,null,"","","",""]
[null,{"$f":"Start!B28","v":22},"",null,null,null,"",null,null,null,"","",null,null,null,"","","",""]
[null,{"$f":"Start!B29","v":23},"",null,null,null,"",null,null,null,"","",null,null,null,"","","",""]
[null,{"$f":"Start!B30","v":24},"",null,null,null,"",null,null,null,"","",null,null,null,"","","",""]
[null,{"$f":"Start!B31","v":25},"",null,null,null,"",null,null,null,"","",null,null,null,"","","",""]
[null,{"$f":"Start!F7","v":26},"",null,null,null,"",null,null,null,"","",null,null,null,"","","",""]
[null,{"$f":"Start!F8","v":27},"",null,null,null,"",null,null,null,"","",null,null,null,"","","",""]
[null,{"$f":"Start!F9","v":28},"",null,null,null,"",null,null,null,"","",null,null,null,"","","",""]
[null,{"$f":"Start!F10","v":29},"",null,null,null,"",null,null,null,"","",null,null,null,"","","",""]
[null,{"$f":"Start!F11","v":30},"",null,null,null,"",null,null,null,"","",null,null,null,"","","",""]
[null,{"$f":"Start!F12","v":31},"",null,null,null,"",null,null,null,"","",null,null,null,"","","",""]
[null,{"$f":"Start!F13","v":32},"",null,null,null,"",null,null,null,"","",null,null,null,"","","",""]
[null,{"$f":"Start!F14","v":33},"",null,null,null,"",null,null,null,"","",null,null,null,"","","",""]
[null,{"$f":"Start!F15","v":34},"",null,null,null,"",null,null,null,"","",null,null,null,"","","",""]
[null,{"$f":"Start!F16","v":35},"",null,null,null,"",null,null,null,"","",null,null,null,"","","",""]
[null,{"$f":"Start!F17","v":36},"",null,null,null,"",null,null,null,"","",null,null,null,"","","",""]
[null,{"$f":"Start!F18","v":37},"",null,null,null,"",null,null,null,"","",null,null,null,"","","",""]
[null,{"$f":"Start!F19","v":38},"",null,null,null,"",null,null,null,"","",null,null,null,"","","",""]
[null,{"$f":"Start!F20","v":39},"",null,null,null,"",null,null,null,"","",null,null,null,"","","",""]
[null,{"$f":"Start!F21","v":40},"",null,null,null,"",null,null,null,"","",null,null,null,"","","",""]
[null,{"$f":"Start!F22","v":41},"",null,null,null,"",null,null,null,"","",null,null,null,"","","",""]
[null,{"$f":"Start!F23","v":42},"",null,null,null,"",null,null,null,"","",null,null,null,"","","",""]
[null,{"$f":"Start!F24","v":43},"",null,null,null,"",null,null,null,"","",null,null,null,"","","",""]
[null,{"$f":"Start!F25","v":44},"",null,null,null,"",null,null,null,"","",null,null,null,"","","",""]
[null,{"$f":"Start!F26","v":45},"",null,null,null,"",null,null,null,"","",null,null,null,"","","",""]
[null,{"$f":"Start!F27","v":46},"",null,null,null,"",null,null,null,"","",null,null,null,"","","",""]
[null,{"$f":"Start!F28","v":47},"",null,null,null,"",null,null,null,"","",null,null,null,"","","",""]
[null,{"$f":"Start!F29","v":48},"",null,null,null,"",null,null,null,"","",null,null,null,"","","",""]
[null,{"$f":"Start!F30","v":49},"",null,null,null,"",null,null,null,"","",null,null,null,"","","",""]
[null,{"$f":"Start!F31","v":50},"",null,null,null,"",null,null,null,"","",null,null,null,"","","",""]

{"sheet":"Výsledky3","index":14,"n_rows":56,"n_cols":18,"rows_kept":56,"cut":false,"hidden":false,"merged":[[0,1,0,18],[2,2,2,7],[2,11,2,17],[5,7,5,8],[5,17,5,18]]}
[null,"Celkové výsledky"]
[]
[null,null,{"$f":"Start!B2","v":"Kraj "},null,null,null,null,null,null,null,null,{"$f":"Start!B3","v":"Chrast 16.6.2024"}]
[]
[null,null,{"$f":"Start!$C$5","v":"Dorky"}]
[null," startovní číslo"," SDH"," PÚ"," Štafeta 4 x 100 m","Běh na 100 m",null,"Celkový součet",null,null,null," Celokvé pořadí "," SDH"," PÚ"," Štafeta 4 x 100 m","Běh na 100 m",null,"Celkový součet"]
[null,{"$f":"Start!B7","v":1},{"$f":"IF(Start!C7=\"\",\"\",Start!C7)","v":"Stéblová"},{"$f":"IF(C7=\"\",\"\",PÚ!$N5)","v":1},{"$f":"IF(C7=\"\",\"\",'4x100m'!$N5)","v":1},{"$f":"IF(C7=\"\",\"\",'PJ-C'!$P5)","v":2},null,{"$f":"IF(OR(A7=\"x\",A7=\"X\"),\"\",IF(C7=\"\",\"\",SUM(D7:G7)))","v":4},{"$f":"IF(C7=\"\",\"\",IF(OR(COUNTIF(D7:G7,\"NP\")>0,COUNTIF(D7:G7,\"DNF\")>0),\"X\",\"\"))","v":""},null,null,1,"Stéblová",1,1,2,null,4]
[null,{"$f":"Start!B8","v":2},{"$f":"IF(Start!C8=\"\",\"\",Start!C8)","v":"Lukavice"},{"$f":"IF(C8=\"\",\"\",PÚ!$N6)","v":3},{"$f":"IF(C8=\"\",\"\",'4x100m'!$N6)","v":4},{"$f":"IF(C8=\"\",\"\",'PJ-C'!$P8)","v":3},null,{"$f":"IF(OR(A8=\"x\",A8=\"X\"),\"\",IF(C8=\"\",\"\",SUM(D8:G8)))","v":10},{"$f":"IF(C8=\"\",\"\",IF(OR(COUNTIF(D8:G8,\"NP\")>0,COUNTIF(D8:G8,\"DNF\")>0),\"X\",\"\"))","v":""},null,null,2,"Skuteč",2,2,1,null,5]
[null,{"$f":"Start!B9","v":3},{"$f":"IF(Start!C9=\"\",\"\",Start!C9)","v":"Skuteč"},{"$f":"IF(C9=\"\",\"\",PÚ!$N7)","v":2},{"$f":"IF(C9=\"\",\"\",'4x100m'!$N7)","v":2},{"$f":"IF(C9=\"\",\"\",'PJ-C'!$P11)","v":1},null,{"$f":"IF(OR(A9=\"x\",A9=\"X\"),\"\",IF(C9=\"\",\"\",SUM(D9:G9)))","v":5},"",null,null,3,"Lukavice",3,4,3,null,10]
[null,{"$f":"Start!B10","v":4},{"$f":"IF(Start!C10=\"\",\"\",Start!C10)","v":"Desná"},{"$f":"IF(C10=\"\",\"\",PÚ!$N8)","v":4},{"$f":"IF(C10=\"\",\"\",'4x100m'!$N8)","v":3},{"$f":"IF(C10=\"\",\"\",'PJ-C'!$P14)","v":4},null,11,"",null,null,4,"Desná",4,3,4,null,11]
[null,{"$f":"Start!B11","v":5},{"$f":"IF(Start!C11=\"\",\"\",Start!C11)","v":""},{"$f":"IF(C11=\"\",\"\",PÚ!$N9)","v":""},{"$f":"IF(C11=\"\",\"\",'4x100m'!$N9)","v":""},{"$f":"IF(C11=\"\",\"\",'PJ-C'!$P17)","v":""},null,"",""]
[null,{"$f":"Start!B12","v":6},{"$f":"IF(Start!C12=\"\",\"\",Start!C12)","v":""},{"$f":"IF(C12=\"\",\"\",PÚ!$N10)","v":""},{"$f":"IF(C12=\"\",\"\",'4x100m'!$N10)","v":""},{"$f":"IF(C12=\"\",\"\",'PJ-C'!$P20)","v":""},null,"",""]
[null,{"$f":"Start!B13","v":7},{"$f":"IF(Start!C13=\"\",\"\",Start!C13)","v":""},{"$f":"IF(C13=\"\",\"\",PÚ!$N11)","v":""},{"$f":"IF(C13=\"\",\"\",'4x100m'!$N11)","v":""},{"$f":"IF(C13=\"\",\"\",'PJ-C'!$P23)","v":""},null,"",""]
[null,{"$f":"Start!B14","v":8},{"$f":"IF(Start!C14=\"\",\"\",Start!C14)","v":""},{"$f":"IF(C14=\"\",\"\",PÚ!$N12)","v":""},{"$f":"IF(C14=\"\",\"\",'4x100m'!$N12)","v":""},{"$f":"IF(C14=\"\",\"\",'PJ-C'!$P26)","v":""},null,"",""]
[null,{"$f":"Start!B15","v":9},{"$f":"IF(Start!C15=\"\",\"\",Start!C15)","v":""},{"$f":"IF(C15=\"\",\"\",PÚ!$N13)","v":""},{"$f":"IF(C15=\"\",\"\",'4x100m'!$N13)","v":""},{"$f":"IF(C15=\"\",\"\",'PJ-C'!$P29)","v":""},null,"",""]
[null,{"$f":"Start!B16","v":10},{"$f":"IF(Start!C16=\"\",\"\",Start!C16)","v":""},{"$f":"IF(C16=\"\",\"\",PÚ!$N14)","v":""},{"$f":"IF(C16=\"\",\"\",'4x100m'!$N14)","v":""},{"$f":"IF(C16=\"\",\"\",'PJ-C'!$P32)","v":""},null,"",""]
[null,{"$f":"Start!B17","v":11},{"$f":"IF(Start!C17=\"\",\"\",Start!C17)","v":""},{"$f":"IF(C17=\"\",\"\",PÚ!$N15)","v":""},{"$f":"IF(C17=\"\",\"\",'4x100m'!$N15)","v":""},{"$f":"IF(C17=\"\",\"\",'PJ-C'!$P39)","v":""},null,"",""]
[null,{"$f":"Start!B18","v":12},{"$f":"IF(Start!C18=\"\",\"\",Start!C18)","v":""},{"$f":"IF(C18=\"\",\"\",PÚ!$N16)","v":""},{"$f":"IF(C18=\"\",\"\",'4x100m'!$N16)","v":""},{"$f":"IF(C18=\"\",\"\",'PJ-C'!$P42)","v":""},null,"",""]
[null,{"$f":"Start!B19","v":13},{"$f":"IF(Start!C19=\"\",\"\",Start!C19)","v":""},{"$f":"IF(C19=\"\",\"\",PÚ!$N17)","v":""},{"$f":"IF(C19=\"\",\"\",'4x100m'!$N17)","v":""},{"$f":"IF(C19=\"\",\"\",'PJ-C'!$P45)","v":""},null,"",""]
[null,{"$f":"Start!B20","v":14},{"$f":"IF(Start!C20=\"\",\"\",Start!C20)","v":""},{"$f":"IF(C20=\"\",\"\",PÚ!$N18)","v":""},{"$f":"IF(C20=\"\",\"\",'4x100m'!$N18)","v":""},{"$f":"IF(C20=\"\",\"\",'PJ-C'!$P48)","v":""},null,"",""]
[null,{"$f":"Start!B21","v":15},{"$f":"IF(Start!C21=\"\",\"\",Start!C21)","v":""},{"$f":"IF(C21=\"\",\"\",PÚ!$N19)","v":""},{"$f":"IF(C21=\"\",\"\",'4x100m'!$N19)","v":""},{"$f":"IF(C21=\"\",\"\",'PJ-C'!$P51)","v":""},null,"",""]
[null,{"$f":"Start!B22","v":16},{"$f":"IF(Start!C22=\"\",\"\",Start!C22)","v":""},{"$f":"IF(C22=\"\",\"\",PÚ!$N20)","v":""},{"$f":"IF(C22=\"\",\"\",'4x100m'!$N20)","v":""},{"$f":"IF(C22=\"\",\"\",'PJ-C'!$P54)","v":""},null,"",""]
[null,{"$f":"Start!B23","v":17},{"$f":"IF(Start!C23=\"\",\"\",Start!C23)","v":""},{"$f":"IF(C23=\"\",\"\",PÚ!$N21)","v":""},{"$f":"IF(C23=\"\",\"\",'4x100m'!$N21)","v":""},{"$f":"IF(C23=\"\",\"\",'PJ-C'!$P57)","v":""},null,"",""]
[null,{"$f":"Start!B24","v":18},{"$f":"IF(Start!C24=\"\",\"\",Start!C24)","v":""},{"$f":"IF(C24=\"\",\"\",PÚ!$N22)","v":""},{"$f":"IF(C24=\"\",\"\",'4x100m'!$N22)","v":""},{"$f":"IF(C24=\"\",\"\",'PJ-C'!$P60)","v":""},null,"",""]
[null,{"$f":"Start!B25","v":19},{"$f":"IF(Start!C25=\"\",\"\",Start!C25)","v":""},{"$f":"IF(C25=\"\",\"\",PÚ!$N23)","v":""},{"$f":"IF(C25=\"\",\"\",'4x100m'!$N23)","v":""},{"$f":"IF(C25=\"\",\"\",'PJ-C'!$P63)","v":""},null,"",""]
[null,{"$f":"Start!B26","v":20},{"$f":"IF(Start!C26=\"\",\"\",Start!C26)","v":""},{"$f":"IF(C26=\"\",\"\",PÚ!$N24)","v":""},{"$f":"IF(C26=\"\",\"\",'4x100m'!$N24)","v":""},{"$f":"IF(C26=\"\",\"\",'PJ-C'!$P66)","v":""},null,"",""]
[null,{"$f":"Start!B27","v":21},{"$f":"IF(Start!C27=\"\",\"\",Start!C27)","v":""},{"$f":"IF(C27=\"\",\"\",PÚ!$N25)","v":""},{"$f":"IF(C27=\"\",\"\",'4x100m'!$N25)","v":""},{"$f":"IF(C27=\"\",\"\",'PJ-C'!$P73)","v":""},null,"",""]
[null,{"$f":"Start!B28","v":22},{"$f":"IF(Start!C28=\"\",\"\",Start!C28)","v":""},{"$f":"IF(C28=\"\",\"\",PÚ!$N26)","v":""},{"$f":"IF(C28=\"\",\"\",'4x100m'!$N26)","v":""},{"$f":"IF(C28=\"\",\"\",'PJ-C'!$P76)","v":""},null,"",""]
[null,{"$f":"Start!B29","v":23},{"$f":"IF(Start!C29=\"\",\"\",Start!C29)","v":""},{"$f":"IF(C29=\"\",\"\",PÚ!$N27)","v":""},{"$f":"IF(C29=\"\",\"\",'4x100m'!$N27)","v":""},{"$f":"IF(C29=\"\",\"\",'PJ-C'!$P79)","v":""},null,"",""]
[null,{"$f":"Start!B30","v":24},{"$f":"IF(Start!C30=\"\",\"\",Start!C30)","v":""},{"$f":"IF(C30=\"\",\"\",PÚ!$N28)","v":""},{"$f":"IF(C30=\"\",\"\",'4x100m'!$N28)","v":""},{"$f":"IF(C30=\"\",\"\",'PJ-C'!$P82)","v":""},null,"",""]
[null,{"$f":"Start!B31","v":25},{"$f":"IF(Start!C31=\"\",\"\",Start!C31)","v":""},{"$f":"IF(C31=\"\",\"\",PÚ!$N29)","v":""},{"$f":"IF(C31=\"\",\"\",'4x100m'!$N29)","v":""},{"$f":"IF(C31=\"\",\"\",'PJ-C'!$P85)","v":""},null,"",""]
[null,{"$f":"Start!F7","v":26},{"$f":"IF(Start!G7=\"\",\"\",Start!G7)","v":""},{"$f":"IF(C32=\"\",\"\",PÚ!$N30)","v":""},{"$f":"IF(C32=\"\",\"\",'4x100m'!$N30)","v":""},{"$f":"IF(C32=\"\",\"\",'PJ-C'!$P88)","v":""},null,"",""]
[null,{"$f":"Start!F8","v":27},{"$f":"IF(Start!G8=\"\",\"\",Start!G8)","v":""},{"$f":"IF(C33=\"\",\"\",PÚ!$N31)","v":""},{"$f":"IF(C33=\"\",\"\",'4x100m'!$N31)","v":""},{"$f":"IF(C33=\"\",\"\",'PJ-C'!$P91)","v":""},null,"",""]
[null,{"$f":"Start!F9","v":28},{"$f":"IF(Start!G9=\"\",\"\",Start!G9)","v":""},{"$f":"IF(C34=\"\",\"\",PÚ!$N32)","v":""},{"$f":"IF(C34=\"\",\"\",'4x100m'!$N32)","v":""},{"$f":"IF(C34=\"\",\"\",'PJ-C'!$P94)","v":""},null,"",""]
[null,{"$f":"Start!F10","v":29},{"$f":"IF(Start!G10=\"\",\"\",Start!G10)","v":""},{"$f":"IF(C35=\"\",\"\",PÚ!$N33)","v":""},{"$f":"IF(C35=\"\",\"\",'4x100m'!$N33)","v":""},{"$f":"IF(C35=\"\",\"\",'PJ-C'!$P97)","v":""},null,"",""]
[null,{"$f":"Start!F11","v":30},{"$f":"IF(Start!G11=\"\",\"\",Start!G11)","v":""},{"$f":"IF(C36=\"\",\"\",PÚ!$N34)","v":""},{"$f":"IF(C36=\"\",\"\",'4x100m'!$N34)","v":""},{"$f":"IF(C36=\"\",\"\",'PJ-C'!$P100)","v":""},null,"",""]
[null,{"$f":"Start!F12","v":31},{"$f":"IF(Start!G12=\"\",\"\",Start!G12)","v":""},{"$f":"IF(C37=\"\",\"\",PÚ!$N35)","v":""},{"$f":"IF(C37=\"\",\"\",'4x100m'!$N35)","v":""},{"$f":"IF(C37=\"\",\"\",'PJ-C'!$P107)","v":""},null,"",""]
[null,{"$f":"Start!F13","v":32},{"$f":"IF(Start!G13=\"\",\"\",Start!G13)","v":""},{"$f":"IF(C38=\"\",\"\",PÚ!$N36)","v":""},{"$f":"IF(C38=\"\",\"\",'4x100m'!$N36)","v":""},{"$f":"IF(C38=\"\",\"\",'PJ-C'!$P110)","v":""},null,"",""]
[null,{"$f":"Start!F14","v":33},{"$f":"IF(Start!G14=\"\",\"\",Start!G14)","v":""},{"$f":"IF(C39=\"\",\"\",PÚ!$N37)","v":""},{"$f":"IF(C39=\"\",\"\",'4x100m'!$N37)","v":""},{"$f":"IF(C39=\"\",\"\",'PJ-C'!$P113)","v":""},null,"",""]
[null,{"$f":"Start!F15","v":34},{"$f":"IF(Start!G15=\"\",\"\",Start!G15)","v":""},{"$f":"IF(C40=\"\",\"\",PÚ!$N38)","v":""},{"$f":"IF(C40=\"\",\"\",'4x100m'!$N38)","v":""},{"$f":"IF(C40=\"\",\"\",'PJ-C'!$P116)","v":""},null,"",""]
[null,{"$f":"Start!F16","v":35},{"$f":"IF(Start!G16=\"\",\"\",Start!G16)","v":""},{"$f":"IF(C41=\"\",\"\",PÚ!$N39)","v":""},{"$f":"IF(C41=\"\",\"\",'4x100m'!$N39)","v":""},{"$f":"IF(C41=\"\",\"\",'PJ-C'!$P119)","v":""},null,"",""]
[null,{"$f":"Start!F17","v":36},{"$f":"IF(Start!G17=\"\",\"\",Start!G17)","v":""},{"$f":"IF(C42=\"\",\"\",PÚ!$N40)","v":""},{"$f":"IF(C42=\"\",\"\",'4x100m'!$N40)","v":""},{"$f":"IF(C42=\"\",\"\",'PJ-C'!$P122)","v":""},null,"",""]
[null,{"$f":"Start!F18","v":37},{"$f":"IF(Start!G18=\"\",\"\",Start!G18)","v":""},{"$f":"IF(C43=\"\",\"\",PÚ!$N41)","v":""},{"$f":"IF(C43=\"\",\"\",'4x100m'!$N41)","v":""},{"$f":"IF(C43=\"\",\"\",'PJ-C'!$P125)","v":""},null,"",""]
[null,{"$f":"Start!F19","v":38},{"$f":"IF(Start!G19=\"\",\"\",Start!G19)","v":""},{"$f":"IF(C44=\"\",\"\",PÚ!$N42)","v":""},{"$f":"IF(C44=\"\",\"\",'4x100m'!$N42)","v":""},{"$f":"IF(C44=\"\",\"\",'PJ-C'!$P128)","v":""},null,"",""]
[null,{"$f":"Start!F20","v":39},{"$f":"IF(Start!G20=\"\",\"\",Start!G20)","v":""},{"$f":"IF(C45=\"\",\"\",PÚ!$N43)","v":""},{"$f":"IF(C45=\"\",\"\",'4x100m'!$N43)","v":""},{"$f":"IF(C45=\"\",\"\",'PJ-C'!$P131)","v":""},null,"",""]
[null,{"$f":"Start!F21","v":40},{"$f":"IF(Start!G21=\"\",\"\",Start!G21)","v":""},{"$f":"IF(C46=\"\",\"\",PÚ!$N44)","v":""},{"$f":"IF(C46=\"\",\"\",'4x100m'!$N44)","v":""},{"$f":"IF(C46=\"\",\"\",'PJ-C'!$P134)","v":""},null,"",""]
[null,{"$f":"Start!F22","v":41},{"$f":"IF(Start!G22=\"\",\"\",Start!G22)","v":""},{"$f":"IF(C47=\"\",\"\",PÚ!$N45)","v":""},{"$f":"IF(C47=\"\",\"\",'4x100m'!$N45)","v":""},{"$f":"IF(C47=\"\",\"\",'PJ-C'!$P141)","v":""},null,"",""]
[null,{"$f":"Start!F23","v":42},{"$f":"IF(Start!G23=\"\",\"\",Start!G23)","v":""},{"$f":"IF(C48=\"\",\"\",PÚ!$N46)","v":""},{"$f":"IF(C48=\"\",\"\",'4x100m'!$N46)","v":""},{"$f":"IF(C48=\"\",\"\",'PJ-C'!$P144)","v":""},null,"",""]
[null,{"$f":"Start!F24","v":43},{"$f":"IF(Start!G24=\"\",\"\",Start!G24)","v":""},{"$f":"IF(C49=\"\",\"\",PÚ!$N47)","v":""},{"$f":"IF(C49=\"\",\"\",'4x100m'!$N47)","v":""},{"$f":"IF(C49=\"\",\"\",'PJ-C'!$P147)","v":""},null,"",""]
[null,{"$f":"Start!F25","v":44},{"$f":"IF(Start!G25=\"\",\"\",Start!G25)","v":""},{"$f":"IF(C50=\"\",\"\",PÚ!$N48)","v":""},{"$f":"IF(C50=\"\",\"\",'4x100m'!$N48)","v":""},{"$f":"IF(C50=\"\",\"\",'PJ-C'!$P150)","v":""},null,"",""]
[null,{"$f":"Start!F26","v":45},{"$f":"IF(Start!G26=\"\",\"\",Start!G26)","v":""},{"$f":"IF(C51=\"\",\"\",PÚ!$N49)","v":""},{"$f":"IF(C51=\"\",\"\",'4x100m'!$N49)","v":""},{"$f":"IF(C51=\"\",\"\",'PJ-C'!$P153)","v":""},null,"",""]
[null,{"$f":"Start!F27","v":46},{"$f":"IF(Start!G27=\"\",\"\",Start!G27)","v":""},{"$f":"IF(C52=\"\",\"\",PÚ!$N50)","v":""},{"$f":"IF(C52=\"\",\"\",'4x100m'!$N50)","v":""},{"$f":"IF(C52=\"\",\"\",'PJ-C'!$P156)","v":""},null,"",""]
[null,{"$f":"Start!F28","v":47},{"$f":"IF(Start!G28=\"\",\"\",Start!G28)","v":""},{"$f":"IF(C53=\"\",\"\",PÚ!$N51)","v":""},{"$f":"IF(C53=\"\",\"\",'4x100m'!$N51)","v":""},{"$f":"IF(C53=\"\",\"\",'PJ-C'!$P159)","v":""},null,"",""]
[null,{"$f":"Start!F29","v":48},{"$f":"IF(Start!G29=\"\",\"\",Start!G29)","v":""},{"$f":"IF(C54=\"\",\"\",PÚ!$N52)","v":""},{"$f":"IF(C54=\"\",\"\",'4x100m'!$N52)","v":""},{"$f":"IF(C54=\"\",\"\",'PJ-C'!$P162)","v":""},null,"",""]
[null,{"$f":"Start!F30","v":49},{"$f":"IF(Start!G30=\"\",\"\",Start!G30)","v":""},{"$f":"IF(C55=\"\",\"\",PÚ!$N53)","v":""},{"$f":"IF(C55=\"\",\"\",'4x100m'!$N53)","v":""},{"$f":"IF(C55=\"\",\"\",'PJ-C'!$P165)","v":""},null,"",""]
[null,{"$f":"Start!F31","v":50},{"$f":"IF(Start!G31=\"\",\"\",Start!G31)","v":""},{"$f":"IF(C56=\"\",\"\",PÚ!$N54)","v":""},{"$f":"IF(C56=\"\",\"\",'4x100m'!$N54)","v":""},{"$f":"IF(C56=\"\",\"\",'PJ-C'!$P168)","v":""},null,"",""]

{"sheet":"Tisk-v1","index":15,"n_rows":168,"n_cols":10,"rows_kept":168,"cut":false,"hidden":false,"merged":[[112,1,112,10],[117,2,167,2],[114,2,114,9],[115,1,115,4],[115,5,115,10],[0,1,0,10],[3,1,3,4],[61,2,111,2],[3,5,3,10],[58,2,58,9],[59,1,59,4],[59,5,59,10],[56,1,56,10],[5,2,55,2],[2,2,2,9]]}
[null,"Tisková sestava"]
[]
[null,null,{"$f":"Start!$B$2","v":"Kraj "}]
[null,{"$f":"\"Kategorie: \"&Start!$C$5","v":"Kategorie: Dorky"},null,null,null,{"$f":"Start!B3","v":"Chrast 16.6.2024"}]
[]
[null,null,"Požární útok","st.č.","SDH","1.pokus","2.pokus","čas",null,"Poř."]
[null,null,null,{"$f":"Start!$B$7","v":1},{"$f":"IF(Start!$C$7=\"\",\"\",Start!$C$7)","v":"Stéblová"},{"$f":"IF(E7=\"\",\"\",PÚ!$G5)","v":27.67},{"$f":"IF(E7=\"\",\"\",PÚ!$K5)","v":32.32},{"$f":"IF(E7=\"\",\"\",PÚ!$L5)","v":27.67},null,{"$f":"IF(E7=\"\",\"\",PÚ!$N5)","v":1}]
[null,null,null,{"$f":"Start!$B$8","v":2},{"$f":"IF(Start!$C$8=\"\",\"\",Start!$C$8)","v":"Lukavice"},{"$f":"IF(E8=\"\",\"\",PÚ!$G6)","v":"NP"},{"$f":"IF(E8=\"\",\"\",PÚ!$K6)","v":33.35},{"$f":"IF(E8=\"\",\"\",PÚ!$L6)","v":33.35},null,{"$f":"IF(E8=\"\",\"\",PÚ!$N6)","v":3}]
[null,null,null,{"$f":"Start!$B$9","v":3},{"$f":"IF(Start!$C$9=\"\",\"\",Start!$C$9)","v":"Skuteč"},{"$f":"IF(E9=\"\",\"\",PÚ!$G7)","v":27.73},{"$f":"IF(E9=\"\",\"\",PÚ!$K7)","v":31.06},{"$f":"IF(E9=\"\",\"\",PÚ!$L7)","v":27.73},null,{"$f":"IF(E9=\"\",\"\",PÚ!$N7)","v":2}]
[null,null,null,{"$f":"Start!$B$10","v":4},{"$f":"IF(Start!$C$10=\"\",\"\",Start!$C$10)","v":"Desná"},{"$f":"IF(E10=\"\",\"\",PÚ!$G8)","v":34.33},{"$f":"IF(E10=\"\",\"\",PÚ!$K8)","v":33.44},{"$f":"IF(E10=\"\",\"\",PÚ!$L8)","v":33.44},null,{"$f":"IF(E10=\"\",\"\",PÚ!$N8)","v":4}]
[null,null,null,{"$f":"Start!$B$11","v":5},{"$f":"IF(Start!$C$11=\"\",\"\",Start!$C$11)","v":""},{"$f":"IF(E11=\"\",\"\",PÚ!$G9)","v":""},{"$f":"IF(E11=\"\",\"\",PÚ!$K9)","v":""},{"$f":"IF(E11=\"\",\"\",PÚ!$L9)","v":""},null,{"$f":"IF(E11=\"\",\"\",PÚ!$N9)","v":""}]
[null,null,null,{"$f":"Start!$B$12","v":6},{"$f":"IF(Start!$C$12=\"\",\"\",Start!$C$12)","v":""},{"$f":"IF(E12=\"\",\"\",PÚ!$G10)","v":""},{"$f":"IF(E12=\"\",\"\",PÚ!$K10)","v":""},{"$f":"IF(E12=\"\",\"\",PÚ!$L10)","v":""},null,{"$f":"IF(E12=\"\",\"\",PÚ!$N10)","v":""}]
[null,null,null,{"$f":"Start!$B$13","v":7},{"$f":"IF(Start!$C$13=\"\",\"\",Start!$C$13)","v":""},{"$f":"IF(E13=\"\",\"\",PÚ!$G11)","v":""},{"$f":"IF(E13=\"\",\"\",PÚ!$K11)","v":""},{"$f":"IF(E13=\"\",\"\",PÚ!$L11)","v":""},null,{"$f":"IF(E13=\"\",\"\",PÚ!$N11)","v":""}]
[null,null,null,{"$f":"Start!$B$14","v":8},{"$f":"IF(Start!$C$14=\"\",\"\",Start!$C$14)","v":""},{"$f":"IF(E14=\"\",\"\",PÚ!$G12)","v":""},{"$f":"IF(E14=\"\",\"\",PÚ!$K12)","v":""},{"$f":"IF(E14=\"\",\"\",PÚ!$L12)","v":""},null,{"$f":"IF(E14=\"\",\"\",PÚ!$N12)","v":""}]
[null,null,null,{"$f":"Start!$B$15","v":9},{"$f":"IF(Start!$C$15=\"\",\"\",Start!$C$15)","v":""},{"$f":"IF(E15=\"\",\"\",PÚ!$G13)","v":""},{"$f":"IF(E15=\"\",\"\",PÚ!$K13)","v":""},{"$f":"IF(E15=\"\",\"\",PÚ!$L13)","v":""},null,{"$f":"IF(E15=\"\",\"\",PÚ!$N13)","v":""}]
[null,null,null,{"$f":"Start!$B$16","v":10},{"$f":"IF(Start!$C$16=\"\",\"\",Start!$C$16)","v":""},{"$f":"IF(E16=\"\",\"\",PÚ!$G14)","v":""},{"$f":"IF(E16=\"\",\"\",PÚ!$K14)","v":""},{"$f":"IF(E16=\"\",\"\",PÚ!$L14)","v":""},null,{"$f":"IF(E16=\"\",\"\",PÚ!$N14)","v":""}]
[null,null,null,{"$f":"Start!$B$17","v":11},{"$f":"IF(Start!$C$17=\"\",\"\",Start!$C$17)","v":""},{"$f":"IF(E17=\"\",\"\",PÚ!$G15)","v":""},{"$f":"IF(E17=\"\",\"\",PÚ!$K15)","v":""},{"$f":"IF(E17=\"\",\"\",PÚ!$L15)","v":""},null,{"$f":"IF(E17=\"\",\"\",PÚ!$N15)","v":""}]
[null,null,null,{"$f":"Start!$B$18","v":12},{"$f":"IF(Start!$C$18=\"\",\"\",Start!$C$18)","v":""},{"$f":"IF(E18=\"\",\"\",PÚ!$G16)","v":""},{"$f":"IF(E18=\"\",\"\",PÚ!$K16)","v":""},{"$f":"IF(E18=\"\",\"\",PÚ!$L16)","v":""},null,{"$f":"IF(E18=\"\",\"\",PÚ!$N16)","v":""}]
[null,null,null,{"$f":"Start!$B$19","v":13},{"$f":"IF(Start!$C$19=\"\",\"\",Start!$C$19)","v":""},{"$f":"IF(E19=\"\",\"\",PÚ!$G17)","v":""},{"$f":"IF(E19=\"\",\"\",PÚ!$K17)","v":""},{"$f":"IF(E19=\"\",\"\",PÚ!$L17)","v":""},null,{"$f":"IF(E19=\"\",\"\",PÚ!$N17)","v":""}]
[null,null,null,{"$f":"Start!$B$20","v":14},{"$f":"IF(Start!$C$20=\"\",\"\",Start!$C$20)","v":""},{"$f":"IF(E20=\"\",\"\",PÚ!$G18)","v":""},{"$f":"IF(E20=\"\",\"\",PÚ!$K18)","v":""},{"$f":"IF(E20=\"\",\"\",PÚ!$L18)","v":""},null,{"$f":"IF(E20=\"\",\"\",PÚ!$N18)","v":""}]
[null,null,null,{"$f":"Start!$B$21","v":15},{"$f":"IF(Start!$C$21=\"\",\"\",Start!$C$21)","v":""},{"$f":"IF(E21=\"\",\"\",PÚ!$G19)","v":""},{"$f":"IF(E21=\"\",\"\",PÚ!$K19)","v":""},{"$f":"IF(E21=\"\",\"\",PÚ!$L19)","v":""},null,{"$f":"IF(E21=\"\",\"\",PÚ!$N19)","v":""}]
[null,null,null,{"$f":"Start!$B$22","v":16},{"$f":"IF(Start!$C$22=\"\",\"\",Start!$C$22)","v":""},{"$f":"IF(E22=\"\",\"\",PÚ!$G20)","v":""},{"$f":"IF(E22=\"\",\"\",PÚ!$K20)","v":""},{"$f":"IF(E22=\"\",\"\",PÚ!$L20)","v":""},null,{"$f":"IF(E22=\"\",\"\",PÚ!$N20)","v":""}]
[null,null,null,{"$f":"Start!$B$23","v":17},{"$f":"IF(Start!$C$23=\"\",\"\",Start!$C$23)","v":""},{"$f":"IF(E23=\"\",\"\",PÚ!$G21)","v":""},{"$f":"IF(E23=\"\",\"\",PÚ!$K21)","v":""},{"$f":"IF(E23=\"\",\"\",PÚ!$L21)","v":""},null,{"$f":"IF(E23=\"\",\"\",PÚ!$N21)","v":""}]
[null,null,null,{"$f":"Start!$B$24","v":18},{"$f":"IF(Start!$C$24=\"\",\"\",Start!$C$24)","v":""},{"$f":"IF(E24=\"\",\"\",PÚ!$G22)","v":""},{"$f":"IF(E24=\"\",\"\",PÚ!$K22)","v":""},{"$f":"IF(E24=\"\",\"\",PÚ!$L22)","v":""},null,{"$f":"IF(E24=\"\",\"\",PÚ!$N22)","v":""}]
[null,null,null,{"$f":"Start!$B$25","v":19},{"$f":"IF(Start!$C$25=\"\",\"\",Start!$C$25)","v":""},{"$f":"IF(E25=\"\",\"\",PÚ!$G23)","v":""},{"$f":"IF(E25=\"\",\"\",PÚ!$K23)","v":""},{"$f":"IF(E25=\"\",\"\",PÚ!$L23)","v":""},null,{"$f":"IF(E25=\"\",\"\",PÚ!$N23)","v":""}]
[null,null,null,{"$f":"Start!$B$26","v":20},{"$f":"IF(Start!$C$26=\"\",\"\",Start!$C$26)","v":""},{"$f":"IF(E26=\"\",\"\",PÚ!$G24)","v":""},{"$f":"IF(E26=\"\",\"\",PÚ!$K24)","v":""},{"$f":"IF(E26=\"\",\"\",PÚ!$L24)","v":""},null,{"$f":"IF(E26=\"\",\"\",PÚ!$N24)","v":""}]
[null,null,null,{"$f":"Start!$B$27","v":21},{"$f":"IF(Start!$C$27=\"\",\"\",Start!$C$27)","v":""},{"$f":"IF(E27=\"\",\"\",PÚ!$G25)","v":""},{"$f":"IF(E27=\"\",\"\",PÚ!$K25)","v":""},{"$f":"IF(E27=\"\",\"\",PÚ!$L25)","v":""},null,{"$f":"IF(E27=\"\",\"\",PÚ!$N25)","v":""}]
[null,null,null,{"$f":"Start!$B$28","v":22},{"$f":"IF(Start!$C$28=\"\",\"\",Start!$C$28)","v":""},{"$f":"IF(E28=\"\",\"\",PÚ!$G26)","v":""},{"$f":"IF(E28=\"\",\"\",PÚ!$K26)","v":""},{"$f":"IF(E28=\"\",\"\",PÚ!$L26)","v":""},null,{"$f":"IF(E28=\"\",\"\",PÚ!$N26)","v":""}]
[null,null,null,{"$f":"Start!$B$29","v":23},{"$f":"IF(Start!$C$29=\"\",\"\",Start!$C$29)","v":""},{"$f":"IF(E29=\"\",\"\",PÚ!$G27)","v":""},{"$f":"IF(E29=\"\",\"\",PÚ!$K27)","v":""},{"$f":"IF(E29=\"\",\"\",PÚ!$L27)","v":""},null,{"$f":"IF(E29=\"\",\"\",PÚ!$N27)","v":""}]
[null,null,null,{"$f":"Start!$B$30","v":24},{"$f":"IF(Start!$C$30=\"\",\"\",Start!$C$30)","v":""},{"$f":"IF(E30=\"\",\"\",PÚ!$G28)","v":""},{"$f":"IF(E30=\"\",\"\",PÚ!$K28)","v":""},{"$f":"IF(E30=\"\",\"\",PÚ!$L28)","v":""},null,{"$f":"IF(E30=\"\",\"\",PÚ!$N28)","v":""}]
[null,null,null,{"$f":"Start!$B$31","v":25},{"$f":"IF(Start!$C$31=\"\",\"\",Start!$C$31)","v":""},{"$f":"IF(E31=\"\",\"\",PÚ!$G29)","v":""},{"$f":"IF(E31=\"\",\"\",PÚ!$K29)","v":""},{"$f":"IF(E31=\"\",\"\",PÚ!$L29)","v":""},null,{"$f":"IF(E31=\"\",\"\",PÚ!$N29)","v":""}]
[null,null,null,{"$f":"Start!$F$7","v":26},{"$f":"IF(Start!$G$7=\"\",\"\",Start!$G$7)","v":""},{"$f":"IF(E32=\"\",\"\",PÚ!$G30)","v":""},{"$f":"IF(E32=\"\",\"\",PÚ!$K30)","v":""},{"$f":"IF(E32=\"\",\"\",PÚ!$L30)","v":""},null,{"$f":"IF(E32=\"\",\"\",PÚ!$N30)","v":""}]
[null,null,null,{"$f":"Start!$F$8","v":27},{"$f":"IF(Start!$G$8=\"\",\"\",Start!$G$8)","v":""},{"$f":"IF(E33=\"\",\"\",PÚ!$G31)","v":""},{"$f":"IF(E33=\"\",\"\",PÚ!$K31)","v":""},{"$f":"IF(E33=\"\",\"\",PÚ!$L31)","v":""},null,{"$f":"IF(E33=\"\",\"\",PÚ!$N31)","v":""}]
[null,null,null,{"$f":"Start!$F$9","v":28},{"$f":"IF(Start!$G$9=\"\",\"\",Start!$G$9)","v":""},{"$f":"IF(E34=\"\",\"\",PÚ!$G32)","v":""},{"$f":"IF(E34=\"\",\"\",PÚ!$K32)","v":""},{"$f":"IF(E34=\"\",\"\",PÚ!$L32)","v":""},null,{"$f":"IF(E34=\"\",\"\",PÚ!$N32)","v":""}]
[null,null,null,{"$f":"Start!$F$10","v":29},{"$f":"IF(Start!$G$10=\"\",\"\",Start!$G$10)","v":""},{"$f":"IF(E35=\"\",\"\",PÚ!$G33)","v":""},{"$f":"IF(E35=\"\",\"\",PÚ!$K33)","v":""},{"$f":"IF(E35=\"\",\"\",PÚ!$L33)","v":""},null,{"$f":"IF(E35=\"\",\"\",PÚ!$N33)","v":""}]
[null,null,null,{"$f":"Start!$F$11","v":30},{"$f":"IF(Start!$G$11=\"\",\"\",Start!$G$11)","v":""},{"$f":"IF(E36=\"\",\"\",PÚ!$G34)","v":""},{"$f":"IF(E36=\"\",\"\",PÚ!$K34)","v":""},{"$f":"IF(E36=\"\",\"\",PÚ!$L34)","v":""},null,{"$f":"IF(E36=\"\",\"\",PÚ!$N34)","v":""}]
[null,null,null,{"$f":"Start!$F$12","v":31},{"$f":"IF(Start!$G$12=\"\",\"\",Start!$G$12)","v":""},{"$f":"IF(E37=\"\",\"\",PÚ!$G35)","v":""},{"$f":"IF(E37=\"\",\"\",PÚ!$K35)","v":""},{"$f":"IF(E37=\"\",\"\",PÚ!$L35)","v":""},null,{"$f":"IF(E37=\"\",\"\",PÚ!$N35)","v":""}]
[null,null,null,{"$f":"Start!$F$13","v":32},{"$f":"IF(Start!$G$13=\"\",\"\",Start!$G$13)","v":""},{"$f":"IF(E38=\"\",\"\",PÚ!$G36)","v":""},{"$f":"IF(E38=\"\",\"\",PÚ!$K36)","v":""},{"$f":"IF(E38=\"\",\"\",PÚ!$L36)","v":""},null,{"$f":"IF(E38=\"\",\"\",PÚ!$N36)","v":""}]
[null,null,null,{"$f":"Start!$F$14","v":33},{"$f":"IF(Start!$G$14=\"\",\"\",Start!$G$14)","v":""},{"$f":"IF(E39=\"\",\"\",PÚ!$G37)","v":""},{"$f":"IF(E39=\"\",\"\",PÚ!$K37)","v":""},{"$f":"IF(E39=\"\",\"\",PÚ!$L37)","v":""},null,{"$f":"IF(E39=\"\",\"\",PÚ!$N37)","v":""}]
[null,null,null,{"$f":"Start!$F$15","v":34},{"$f":"IF(Start!$G$15=\"\",\"\",Start!$G$15)","v":""},{"$f":"IF(E40=\"\",\"\",PÚ!$G38)","v":""},{"$f":"IF(E40=\"\",\"\",PÚ!$K38)","v":""},{"$f":"IF(E40=\"\",\"\",PÚ!$L38)","v":""},null,{"$f":"IF(E40=\"\",\"\",PÚ!$N38)","v":""}]
[null,null,null,{"$f":"Start!$F$16","v":35},{"$f":"IF(Start!$G$16=\"\",\"\",Start!$G$16)","v":""},{"$f":"IF(E41=\"\",\"\",PÚ!$G39)","v":""},{"$f":"IF(E41=\"\",\"\",PÚ!$K39)","v":""},{"$f":"IF(E41=\"\",\"\",PÚ!$L39)","v":""},null,{"$f":"IF(E41=\"\",\"\",PÚ!$N39)","v":""}]
[null,null,null,{"$f":"Start!$F$17","v":36},{"$f":"IF(Start!$G$17=\"\",\"\",Start!$G$17)","v":""},{"$f":"IF(E42=\"\",\"\",PÚ!$G40)","v":""},{"$f":"IF(E42=\"\",\"\",PÚ!$K40)","v":""},{"$f":"IF(E42=\"\",\"\",PÚ!$L40)","v":""},null,{"$f":"IF(E42=\"\",\"\",PÚ!$N40)","v":""}]
[null,null,null,{"$f":"Start!$F$18","v":37},{"$f":"IF(Start!$G$18=\"\",\"\",Start!$G$18)","v":""},{"$f":"IF(E43=\"\",\"\",PÚ!$G41)","v":""},{"$f":"IF(E43=\"\",\"\",PÚ!$K41)","v":""},{"$f":"IF(E43=\"\",\"\",PÚ!$L41)","v":""},null,{"$f":"IF(E43=\"\",\"\",PÚ!$N41)","v":""}]
[null,null,null,{"$f":"Start!$F$19","v":38},{"$f":"IF(Start!$G$19=\"\",\"\",Start!$G$19)","v":""},{"$f":"IF(E44=\"\",\"\",PÚ!$G42)","v":""},{"$f":"IF(E44=\"\",\"\",PÚ!$K42)","v":""},{"$f":"IF(E44=\"\",\"\",PÚ!$L42)","v":""},null,{"$f":"IF(E44=\"\",\"\",PÚ!$N42)","v":""}]
[null,null,null,{"$f":"Start!$F$20","v":39},{"$f":"IF(Start!$G$20=\"\",\"\",Start!$G$20)","v":""},{"$f":"IF(E45=\"\",\"\",PÚ!$G43)","v":""},{"$f":"IF(E45=\"\",\"\",PÚ!$K43)","v":""},{"$f":"IF(E45=\"\",\"\",PÚ!$L43)","v":""},null,{"$f":"IF(E45=\"\",\"\",PÚ!$N43)","v":""}]
[null,null,null,{"$f":"Start!$F$21","v":40},{"$f":"IF(Start!$G$21=\"\",\"\",Start!$G$21)","v":""},{"$f":"IF(E46=\"\",\"\",PÚ!$G44)","v":""},{"$f":"IF(E46=\"\",\"\",PÚ!$K44)","v":""},{"$f":"IF(E46=\"\",\"\",PÚ!$L44)","v":""},null,{"$f":"IF(E46=\"\",\"\",PÚ!$N44)","v":""}]
[null,null,null,{"$f":"Start!$F$22","v":41},{"$f":"IF(Start!$G$22=\"\",\"\",Start!$G$22)","v":""},{"$f":"IF(E47=\"\",\"\",PÚ!$G45)","v":""},{"$f":"IF(E47=\"\",\"\",PÚ!$K45)","v":""},{"$f":"IF(E47=\"\",\"\",PÚ!$L45)","v":""},null,{"$f":"IF(E47=\"\",\"\",PÚ!$N45)","v":""}]
[null,null,null,{"$f":"Start!$F$23","v":42},{"$f":"IF(Start!$G$23=\"\",\"\",Start!$G$23)","v":""},{"$f":"IF(E48=\"\",\"\",PÚ!$G46)","v":""},{"$f":"IF(E48=\"\",\"\",PÚ!$K46)","v":""},{"$f":"IF(E48=\"\",\"\",PÚ!$L46)","v":""},null,{"$f":"IF(E48=\"\",\"\",PÚ!$N46)","v":""}]
[null,null,null,{"$f":"Start!$F$24","v":43},{"$f":"IF(Start!$G$24=\"\",\"\",Start!$G$24)","v":""},{"$f":"IF(E49=\"\",\"\",PÚ!$G47)","v":""},{"$f":"IF(E49=\"\",\"\",PÚ!$K47)","v":""},{"$f":"IF(E49=\"\",\"\",PÚ!$L47)","v":""},null,{"$f":"IF(E49=\"\",\"\",PÚ!$N47)","v":""}]
[null,null,null,{"$f":"Start!$F$25","v":44},{"$f":"IF(Start!$G$25=\"\",\"\",Start!$G$25)","v":""},{"$f":"IF(E50=\"\",\"\",PÚ!$G48)","v":""},{"$f":"IF(E50=\"\",\"\",PÚ!$K48)","v":""},{"$f":"IF(E50=\"\",\"\",PÚ!$L48)","v":""},null,{"$f":"IF(E50=\"\",\"\",PÚ!$N48)","v":""}]
[null,null,null,{"$f":"Start!$F$26","v":45},{"$f":"IF(Start!$G$26=\"\",\"\",Start!$G$26)","v":""},{"$f":"IF(E51=\"\",\"\",PÚ!$G49)","v":""},{"$f":"IF(E51=\"\",\"\",PÚ!$K49)","v":""},{"$f":"IF(E51=\"\",\"\",PÚ!$L49)","v":""},null,{"$f":"IF(E51=\"\",\"\",PÚ!$N49)","v":""}]
[null,null,null,{"$f":"Start!$F$27","v":46},{"$f":"IF(Start!$G$27=\"\",\"\",Start!$G$27)","v":""},{"$f":"IF(E52=\"\",\"\",PÚ!$G50)","v":""},{"$f":"IF(E52=\"\",\"\",PÚ!$K50)","v":""},{"$f":"IF(E52=\"\",\"\",PÚ!$L50)","v":""},null,{"$f":"IF(E52=\"\",\"\",PÚ!$N50)","v":""}]
[null,null,null,{"$f":"Start!$F$28","v":47},{"$f":"IF(Start!$G$28=\"\",\"\",Start!$G$28)","v":""},{"$f":"IF(E53=\"\",\"\",PÚ!$G51)","v":""},{"$f":"IF(E53=\"\",\"\",PÚ!$K51)","v":""},{"$f":"IF(E53=\"\",\"\",PÚ!$L51)","v":""},null,{"$f":"IF(E53=\"\",\"\",PÚ!$N51)","v":""}]
[null,null,null,{"$f":"Start!$F$29","v":48},{"$f":"IF(Start!$G$29=\"\",\"\",Start!$G$29)","v":""},{"$f":"IF(E54=\"\",\"\",PÚ!$G52)","v":""},{"$f":"IF(E54=\"\",\"\",PÚ!$K52)","v":""},{"$f":"IF(E54=\"\",\"\",PÚ!$L52)","v":""},null,{"$f":"IF(E54=\"\",\"\",PÚ!$N52)","v":""}]
[null,null,null,{"$f":"Start!$F$30","v":49},{"$f":"IF(Start!$G$30=\"\",\"\",Start!$G$30)","v":""},{"$f":"IF(E55=\"\",\"\",PÚ!$G53)","v":""},{"$f":"IF(E55=\"\",\"\",PÚ!$K53)","v":""},{"$f":"IF(E55=\"\",\"\",PÚ!$L53)","v":""},null,{"$f":"IF(E55=\"\",\"\",PÚ!$N53)","v":""}]
[null,null,null,{"$f":"Start!$F$31","v":50},{"$f":"IF(Start!$G$31=\"\",\"\",Start!$G$31)","v":""},{"$f":"IF(E56=\"\",\"\",PÚ!$G54)","v":""},{"$f":"IF(E56=\"\",\"\",PÚ!$K54)","v":""},{"$f":"IF(E56=\"\",\"\",PÚ!$L54)","v":""},null,{"$f":"IF(E56=\"\",\"\",PÚ!$N54)","v":""}]
[null,"Tisková sestava"]
[]
[null,null,{"$f":"Start!$B$2","v":"Kraj "}]
[null,{"$f":"\"Kategorie: \"&Start!$C$5","v":"Kategorie: Dorky"},null,null,null,{"$f":"F$4","v":"Chrast 16.6.2024"}]
[]
[null,null,"Štafeta 4 x 100 m","st.č.","SDH","1.pokus","2.pokus","čas",null,"Poř."]
[null,null,null,{"$f":"Start!$B$7","v":1},{"$f":"IF(Start!$C$7=\"\",\"\",Start!$C$7)","v":"Stéblová"},{"$f":"IF(E63=\"\",\"\",'4x100m'!$G$5)","v":"NP"},{"$f":"IF(E63=\"\",\"\",'4x100m'!$K$5)","v":71.88},{"$f":"IF(E63=\"\",\"\",'4x100m'!$L$5)","v":71.88},null,{"$f":"IF(E63=\"\",\"\",'4x100m'!N5)","v":1}]
[null,null,null,{"$f":"Start!$B$8","v":2},{"$f":"IF(Start!$C$8=\"\",\"\",Start!$C$8)","v":"Lukavice"},{"$f":"IF(E64=\"\",\"\",'4x100m'!$G$6)","v":76.09},{"$f":"IF(E64=\"\",\"\",'4x100m'!$K$6)","v":75.930000000000007},{"$f":"IF(E64=\"\",\"\",'4x100m'!$L$6)","v":75.930000000000007},null,{"$f":"IF(E64=\"\",\"\",'4x100m'!N6)","v":4}]
[null,null,null,{"$f":"Start!$B$9","v":3},{"$f":"IF(Start!$C$9=\"\",\"\",Start!$C$9)","v":"Skuteč"},{"$f":"IF(E65=\"\",\"\",'4x100m'!$G$7)","v":"NP"},{"$f":"IF(E65=\"\",\"\",'4x100m'!$K$7)","v":72.06},{"$f":"IF(E65=\"\",\"\",'4x100m'!$L$7)","v":72.06},null,{"$f":"IF(E65=\"\",\"\",'4x100m'!N7)","v":2}]
[null,null,null,{"$f":"Start!$B$10","v":4},{"$f":"IF(Start!$C$10=\"\",\"\",Start!$C$10)","v":"Desná"},{"$f":"IF(E66=\"\",\"\",'4x100m'!$G$8)","v":75.040000000000006},{"$f":"IF(E66=\"\",\"\",'4x100m'!$K$8)","v":81.53},{"$f":"IF(E66=\"\",\"\",'4x100m'!$L$8)","v":75.040000000000006},null,{"$f":"IF(E66=\"\",\"\",'4x100m'!N8)","v":3}]
[null,null,null,{"$f":"Start!$B$11","v":5},{"$f":"IF(Start!$C$11=\"\",\"\",Start!$C$11)","v":""},{"$f":"IF(E67=\"\",\"\",'4x100m'!$G$9)","v":""},{"$f":"IF(E67=\"\",\"\",'4x100m'!$K$9)","v":""},{"$f":"IF(E67=\"\",\"\",'4x100m'!$L$9)","v":""},null,{"$f":"IF(E67=\"\",\"\",'4x100m'!N9)","v":""}]
[null,null,null,{"$f":"Start!$B$12","v":6},{"$f":"IF(Start!$C$12=\"\",\"\",Start!$C$12)","v":""},{"$f":"IF(E68=\"\",\"\",'4x100m'!$G$10)","v":""},{"$f":"IF(E68=\"\",\"\",'4x100m'!$K$10)","v":""},{"$f":"IF(E68=\"\",\"\",'4x100m'!$L$10)","v":""},null,{"$f":"IF(E68=\"\",\"\",'4x100m'!N10)","v":""}]
[null,null,null,{"$f":"Start!$B$13","v":7},{"$f":"IF(Start!$C$13=\"\",\"\",Start!$C$13)","v":""},{"$f":"IF(E69=\"\",\"\",'4x100m'!$G$11)","v":""},{"$f":"IF(E69=\"\",\"\",'4x100m'!$K$11)","v":""},{"$f":"IF(E69=\"\",\"\",'4x100m'!$L$11)","v":""},null,{"$f":"IF(E69=\"\",\"\",'4x100m'!N11)","v":""}]
[null,null,null,{"$f":"Start!$B$14","v":8},{"$f":"IF(Start!$C$14=\"\",\"\",Start!$C$14)","v":""},{"$f":"IF(E70=\"\",\"\",'4x100m'!$G$12)","v":""},{"$f":"IF(E70=\"\",\"\",'4x100m'!$K$12)","v":""},{"$f":"IF(E70=\"\",\"\",'4x100m'!$L$12)","v":""},null,{"$f":"IF(E70=\"\",\"\",'4x100m'!N12)","v":""}]
[null,null,null,{"$f":"Start!$B$15","v":9},{"$f":"IF(Start!$C$15=\"\",\"\",Start!$C$15)","v":""},{"$f":"IF(E71=\"\",\"\",'4x100m'!$G$13)","v":""},{"$f":"IF(E71=\"\",\"\",'4x100m'!$K$13)","v":""},{"$f":"IF(E71=\"\",\"\",'4x100m'!$L$13)","v":""},null,{"$f":"IF(E71=\"\",\"\",'4x100m'!N13)","v":""}]
[null,null,null,{"$f":"Start!$B$16","v":10},{"$f":"IF(Start!$C$16=\"\",\"\",Start!$C$16)","v":""},{"$f":"IF(E72=\"\",\"\",'4x100m'!$G$14)","v":""},{"$f":"IF(E72=\"\",\"\",'4x100m'!$K$14)","v":""},{"$f":"IF(E72=\"\",\"\",'4x100m'!$L$14)","v":""},null,{"$f":"IF(E72=\"\",\"\",'4x100m'!N14)","v":""}]
[null,null,null,{"$f":"Start!$B$17","v":11},{"$f":"IF(Start!$C$17=\"\",\"\",Start!$C$17)","v":""},{"$f":"IF(E73=\"\",\"\",'4x100m'!$G$15)","v":""},{"$f":"IF(E73=\"\",\"\",'4x100m'!$K$15)","v":""},{"$f":"IF(E73=\"\",\"\",'4x100m'!$L$15)","v":""},null,{"$f":"IF(E73=\"\",\"\",'4x100m'!N15)","v":""}]
[null,null,null,{"$f":"Start!$B$18","v":12},{"$f":"IF(Start!$C$18=\"\",\"\",Start!$C$18)","v":""},{"$f":"IF(E74=\"\",\"\",'4x100m'!$G$16)","v":""},{"$f":"IF(E74=\"\",\"\",'4x100m'!$K$16)","v":""},{"$f":"IF(E74=\"\",\"\",'4x100m'!$L$16)","v":""},null,{"$f":"IF(E74=\"\",\"\",'4x100m'!N16)","v":""}]
[null,null,null,{"$f":"Start!$B$19","v":13},{"$f":"IF(Start!$C$19=\"\",\"\",Start!$C$19)","v":""},{"$f":"IF(E75=\"\",\"\",'4x100m'!$G$17)","v":""},{"$f":"IF(E75=\"\",\"\",'4x100m'!$K$17)","v":""},{"$f":"IF(E75=\"\",\"\",'4x100m'!$L$17)","v":""},null,{"$f":"IF(E75=\"\",\"\",'4x100m'!N17)","v":""}]
[null,null,null,{"$f":"Start!$B$20","v":14},{"$f":"IF(Start!$C$20=\"\",\"\",Start!$C$20)","v":""},{"$f":"IF(E76=\"\",\"\",'4x100m'!$G$18)","v":""},{"$f":"IF(E76=\"\",\"\",'4x100m'!$K$18)","v":""},{"$f":"IF(E76=\"\",\"\",'4x100m'!$L$18)","v":""},null,{"$f":"IF(E76=\"\",\"\",'4x100m'!N18)","v":""}]
[null,null,null,{"$f":"Start!$B$21","v":15},{"$f":"IF(Start!$C$21=\"\",\"\",Start!$C$21)","v":""},{"$f":"IF(E77=\"\",\"\",'4x100m'!$G$19)","v":""},{"$f":"IF(E77=\"\",\"\",'4x100m'!$K$19)","v":""},{"$f":"IF(E77=\"\",\"\",'4x100m'!$L$19)","v":""},null,{"$f":"IF(E77=\"\",\"\",'4x100m'!N19)","v":""}]
[null,null,null,{"$f":"Start!$B$22","v":16},{"$f":"IF(Start!$C$22=\"\",\"\",Start!$C$22)","v":""},{"$f":"IF(E78=\"\",\"\",'4x100m'!$G$20)","v":""},{"$f":"IF(E78=\"\",\"\",'4x100m'!$K$20)","v":""},{"$f":"IF(E78=\"\",\"\",'4x100m'!$L$20)","v":""},null,{"$f":"IF(E78=\"\",\"\",'4x100m'!N20)","v":""}]
[null,null,null,{"$f":"Start!$B$23","v":17},{"$f":"IF(Start!$C$23=\"\",\"\",Start!$C$23)","v":""},{"$f":"IF(E79=\"\",\"\",'4x100m'!$G$21)","v":""},{"$f":"IF(E79=\"\",\"\",'4x100m'!$K$21)","v":""},{"$f":"IF(E79=\"\",\"\",'4x100m'!$L$21)","v":""},null,{"$f":"IF(E79=\"\",\"\",'4x100m'!N21)","v":""}]
[null,null,null,{"$f":"Start!$B$24","v":18},{"$f":"IF(Start!$C$24=\"\",\"\",Start!$C$24)","v":""},{"$f":"IF(E80=\"\",\"\",'4x100m'!$G$22)","v":""},{"$f":"IF(E80=\"\",\"\",'4x100m'!$K$22)","v":""},{"$f":"IF(E80=\"\",\"\",'4x100m'!$L$22)","v":""},null,{"$f":"IF(E80=\"\",\"\",'4x100m'!N22)","v":""}]
[null,null,null,{"$f":"Start!$B$25","v":19},{"$f":"IF(Start!$C$25=\"\",\"\",Start!$C$25)","v":""},{"$f":"IF(E81=\"\",\"\",'4x100m'!$G$23)","v":""},{"$f":"IF(E81=\"\",\"\",'4x100m'!$K$23)","v":""},{"$f":"IF(E81=\"\",\"\",'4x100m'!$L$23)","v":""},null,{"$f":"IF(E81=\"\",\"\",'4x100m'!N23)","v":""}]
[null,null,null,{"$f":"Start!$B$26","v":20},{"$f":"IF(Start!$C$26=\"\",\"\",Start!$C$26)","v":""},{"$f":"IF(E82=\"\",\"\",'4x100m'!$G$24)","v":""},{"$f":"IF(E82=\"\",\"\",'4x100m'!$K$24)","v":""},{"$f":"IF(E82=\"\",\"\",'4x100m'!$L$24)","v":""},null,{"$f":"IF(E82=\"\",\"\",'4x100m'!N24)","v":""}]
[null,null,null,{"$f":"Start!$B$27","v":21},{"$f":"IF(Start!$C$27=\"\",\"\",Start!$C$27)","v":""},{"$f":"IF(E83=\"\",\"\",'4x100m'!$G$25)","v":""},{"$f":"IF(E83=\"\",\"\",'4x100m'!$K$25)","v":""},{"$f":"IF(E83=\"\",\"\",'4x100m'!$L$25)","v":""},null,{"$f":"IF(E83=\"\",\"\",'4x100m'!N25)","v":""}]
[null,null,null,{"$f":"Start!$B$28","v":22},{"$f":"IF(Start!$C$28=\"\",\"\",Start!$C$28)","v":""},{"$f":"IF(E84=\"\",\"\",'4x100m'!$G$26)","v":""},{"$f":"IF(E84=\"\",\"\",'4x100m'!$K$26)","v":""},{"$f":"IF(E84=\"\",\"\",'4x100m'!$L$26)","v":""},null,{"$f":"IF(E84=\"\",\"\",'4x100m'!N26)","v":""}]
[null,null,null,{"$f":"Start!$B$29","v":23},{"$f":"IF(Start!$C$29=\"\",\"\",Start!$C$29)","v":""},{"$f":"IF(E85=\"\",\"\",'4x100m'!$G$27)","v":""},{"$f":"IF(E85=\"\",\"\",'4x100m'!$K$27)","v":""},{"$f":"IF(E85=\"\",\"\",'4x100m'!$L$27)","v":""},null,{"$f":"IF(E85=\"\",\"\",'4x100m'!N27)","v":""}]
[null,null,null,{"$f":"Start!$B$30","v":24},{"$f":"IF(Start!$C$30=\"\",\"\",Start!$C$30)","v":""},{"$f":"IF(E86=\"\",\"\",'4x100m'!$G$28)","v":""},{"$f":"IF(E86=\"\",\"\",'4x100m'!$K$28)","v":""},{"$f":"IF(E86=\"\",\"\",'4x100m'!$L$28)","v":""},null,{"$f":"IF(E86=\"\",\"\",'4x100m'!N28)","v":""}]
[null,null,null,{"$f":"Start!$B$31","v":25},{"$f":"IF(Start!$C$31=\"\",\"\",Start!$C$31)","v":""},{"$f":"IF(E87=\"\",\"\",'4x100m'!$G$29)","v":""},{"$f":"IF(E87=\"\",\"\",'4x100m'!$K$29)","v":""},{"$f":"IF(E87=\"\",\"\",'4x100m'!$L$29)","v":""},null,{"$f":"IF(E87=\"\",\"\",'4x100m'!N29)","v":""}]
[null,null,null,{"$f":"Start!$F$7","v":26},{"$f":"IF(Start!$CF64=\"\",\"\",Start!$G$7)","v":""},{"$f":"IF(E88=\"\",\"\",'4x100m'!$G$30)","v":""},{"$f":"IF(E88=\"\",\"\",'4x100m'!$K$30)","v":""},{"$f":"IF(E88=\"\",\"\",'4x100m'!$L$30)","v":""},null,{"$f":"IF(E88=\"\",\"\",'4x100m'!N30)","v":""}]
[null,null,null,{"$f":"Start!$F$8","v":27},{"$f":"IF(Start!$CF65=\"\",\"\",Start!$G$8)","v":""},{"$f":"IF(E89=\"\",\"\",'4x100m'!$G$31)","v":""},{"$f":"IF(E89=\"\",\"\",'4x100m'!$K$31)","v":""},{"$f":"IF(E89=\"\",\"\",'4x100m'!$L$31)","v":""},null,{"$f":"IF(E89=\"\",\"\",'4x100m'!N31)","v":""}]
[null,null,null,{"$f":"Start!$F$9","v":28},{"$f":"IF(Start!$CF66=\"\",\"\",Start!$G$9)","v":""},{"$f":"IF(E90=\"\",\"\",'4x100m'!$G$32)","v":""},{"$f":"IF(E90=\"\",\"\",'4x100m'!$K$32)","v":""},{"$f":"IF(E90=\"\",\"\",'4x100m'!$L$32)","v":""},null,{"$f":"IF(E90=\"\",\"\",'4x100m'!N32)","v":""}]
[null,null,null,{"$f":"Start!$F$10","v":29},{"$f":"IF(Start!$CF67=\"\",\"\",Start!$G$10)","v":""},{"$f":"IF(E91=\"\",\"\",'4x100m'!$G$33)","v":""},{"$f":"IF(E91=\"\",\"\",'4x100m'!$K$33)","v":""},{"$f":"IF(E91=\"\",\"\",'4x100m'!$L$33)","v":""},null,{"$f":"IF(E91=\"\",\"\",'4x100m'!N33)","v":""}]
[null,null,null,{"$f":"Start!$F$11","v":30},{"$f":"IF(Start!$CF68=\"\",\"\",Start!$G$11)","v":""},{"$f":"IF(E92=\"\",\"\",'4x100m'!$G$34)","v":""},{"$f":"IF(E92=\"\",\"\",'4x100m'!$K$34)","v":""},{"$f":"IF(E92=\"\",\"\",'4x100m'!$L$34)","v":""},null,{"$f":"IF(E92=\"\",\"\",'4x100m'!N34)","v":""}]
[null,null,null,{"$f":"Start!$F$12","v":31},{"$f":"IF(Start!$CF69=\"\",\"\",Start!$G$12)","v":""},{"$f":"IF(E93=\"\",\"\",'4x100m'!$G$35)","v":""},{"$f":"IF(E93=\"\",\"\",'4x100m'!$K$35)","v":""},{"$f":"IF(E93=\"\",\"\",'4x100m'!$L$35)","v":""},null,{"$f":"IF(E93=\"\",\"\",'4x100m'!N35)","v":""}]
[null,null,null,{"$f":"Start!$F$13","v":32},{"$f":"IF(Start!$CF70=\"\",\"\",Start!$G$13)","v":""},{"$f":"IF(E94=\"\",\"\",'4x100m'!$G$36)","v":""},{"$f":"IF(E94=\"\",\"\",'4x100m'!$K$36)","v":""},{"$f":"IF(E94=\"\",\"\",'4x100m'!$L$36)","v":""},null,{"$f":"IF(E94=\"\",\"\",'4x100m'!N36)","v":""}]
[null,null,null,{"$f":"Start!$F$14","v":33},{"$f":"IF(Start!$CF71=\"\",\"\",Start!$G$14)","v":""},{"$f":"IF(E95=\"\",\"\",'4x100m'!$G$37)","v":""},{"$f":"IF(E95=\"\",\"\",'4x100m'!$K$37)","v":""},{"$f":"IF(E95=\"\",\"\",'4x100m'!$L$37)","v":""},null,{"$f":"IF(E95=\"\",\"\",'4x100m'!N37)","v":""}]
[null,null,null,{"$f":"Start!$F$15","v":34},{"$f":"IF(Start!$CF72=\"\",\"\",Start!$G$15)","v":""},{"$f":"IF(E96=\"\",\"\",'4x100m'!$G$38)","v":""},{"$f":"IF(E96=\"\",\"\",'4x100m'!$K$38)","v":""},{"$f":"IF(E96=\"\",\"\",'4x100m'!$L$38)","v":""},null,{"$f":"IF(E96=\"\",\"\",'4x100m'!N38)","v":""}]
[null,null,null,{"$f":"Start!$F$16","v":35},{"$f":"IF(Start!$CF73=\"\",\"\",Start!$G$16)","v":""},{"$f":"IF(E97=\"\",\"\",'4x100m'!$G$39)","v":""},{"$f":"IF(E97=\"\",\"\",'4x100m'!$K$39)","v":""},{"$f":"IF(E97=\"\",\"\",'4x100m'!$L$39)","v":""},null,{"$f":"IF(E97=\"\",\"\",'4x100m'!N39)","v":""}]
[null,null,null,{"$f":"Start!$F$17","v":36},{"$f":"IF(Start!$CF74=\"\",\"\",Start!$G$17)","v":""},{"$f":"IF(E98=\"\",\"\",'4x100m'!$G$40)","v":""},{"$f":"IF(E98=\"\",\"\",'4x100m'!$K$40)","v":""},{"$f":"IF(E98=\"\",\"\",'4x100m'!$L$40)","v":""},null,{"$f":"IF(E98=\"\",\"\",'4x100m'!N40)","v":""}]
[null,null,null,{"$f":"Start!$F$18","v":37},{"$f":"IF(Start!$CF75=\"\",\"\",Start!$G$18)","v":""},{"$f":"IF(E99=\"\",\"\",'4x100m'!$G$41)","v":""},{"$f":"IF(E99=\"\",\"\",'4x100m'!$K$41)","v":""},{"$f":"IF(E99=\"\",\"\",'4x100m'!$L$41)","v":""},null,{"$f":"IF(E99=\"\",\"\",'4x100m'!N41)","v":""}]
[null,null,null,{"$f":"Start!$F$19","v":38},{"$f":"IF(Start!$CF76=\"\",\"\",Start!$G$19)","v":""},{"$f":"IF(E100=\"\",\"\",'4x100m'!$G$42)","v":""},{"$f":"IF(E100=\"\",\"\",'4x100m'!$K$42)","v":""},{"$f":"IF(E100=\"\",\"\",'4x100m'!$L$42)","v":""},null,{"$f":"IF(E100=\"\",\"\",'4x100m'!N42)","v":""}]
[null,null,null,{"$f":"Start!$F$20","v":39},{"$f":"IF(Start!$CF77=\"\",\"\",Start!$G$20)","v":""},{"$f":"IF(E101=\"\",\"\",'4x100m'!$G$43)","v":""},{"$f":"IF(E101=\"\",\"\",'4x100m'!$K$43)","v":""},{"$f":"IF(E101=\"\",\"\",'4x100m'!$L$43)","v":""},null,{"$f":"IF(E101=\"\",\"\",'4x100m'!N43)","v":""}]
[null,null,null,{"$f":"Start!$F$21","v":40},{"$f":"IF(Start!$CF78=\"\",\"\",Start!$G$21)","v":""},{"$f":"IF(E102=\"\",\"\",'4x100m'!$G$44)","v":""},{"$f":"IF(E102=\"\",\"\",'4x100m'!$K$44)","v":""},{"$f":"IF(E102=\"\",\"\",'4x100m'!$L$44)","v":""},null,{"$f":"IF(E102=\"\",\"\",'4x100m'!N44)","v":""}]
[null,null,null,{"$f":"Start!$F$22","v":41},{"$f":"IF(Start!$CF79=\"\",\"\",Start!$G$22)","v":""},{"$f":"IF(E103=\"\",\"\",'4x100m'!$G$45)","v":""},{"$f":"IF(E103=\"\",\"\",'4x100m'!$K$45)","v":""},{"$f":"IF(E103=\"\",\"\",'4x100m'!$L$45)","v":""},null,{"$f":"IF(E103=\"\",\"\",'4x100m'!N45)","v":""}]
[null,null,null,{"$f":"Start!$F$23","v":42},{"$f":"IF(Start!$CF80=\"\",\"\",Start!$G$23)","v":""},{"$f":"IF(E104=\"\",\"\",'4x100m'!$G$46)","v":""},{"$f":"IF(E104=\"\",\"\",'4x100m'!$K$46)","v":""},{"$f":"IF(E104=\"\",\"\",'4x100m'!$L$46)","v":""},null,{"$f":"IF(E104=\"\",\"\",'4x100m'!N46)","v":""}]
[null,null,null,{"$f":"Start!$F$24","v":43},{"$f":"IF(Start!$CF81=\"\",\"\",Start!$G$24)","v":""},{"$f":"IF(E105=\"\",\"\",'4x100m'!$G$47)","v":""},{"$f":"IF(E105=\"\",\"\",'4x100m'!$K$47)","v":""},{"$f":"IF(E105=\"\",\"\",'4x100m'!$L$47)","v":""},null,{"$f":"IF(E105=\"\",\"\",'4x100m'!N47)","v":""}]
[null,null,null,{"$f":"Start!$F$25","v":44},{"$f":"IF(Start!$CF82=\"\",\"\",Start!$G$25)","v":""},{"$f":"IF(E106=\"\",\"\",'4x100m'!$G$48)","v":""},{"$f":"IF(E106=\"\",\"\",'4x100m'!$K$48)","v":""},{"$f":"IF(E106=\"\",\"\",'4x100m'!$L$48)","v":""},null,{"$f":"IF(E106=\"\",\"\",'4x100m'!N48)","v":""}]
[null,null,null,{"$f":"Start!$F$26","v":45},{"$f":"IF(Start!$CF83=\"\",\"\",Start!$G$26)","v":""},{"$f":"IF(E107=\"\",\"\",'4x100m'!$G$49)","v":""},{"$f":"IF(E107=\"\",\"\",'4x100m'!$K$49)","v":""},{"$f":"IF(E107=\"\",\"\",'4x100m'!$L$49)","v":""},null,{"$f":"IF(E107=\"\",\"\",'4x100m'!N49)","v":""}]
[null,null,null,{"$f":"Start!$F$27","v":46},{"$f":"IF(Start!$CF84=\"\",\"\",Start!$G$27)","v":""},{"$f":"IF(E108=\"\",\"\",'4x100m'!$G$50)","v":""},{"$f":"IF(E108=\"\",\"\",'4x100m'!$K$50)","v":""},{"$f":"IF(E108=\"\",\"\",'4x100m'!$L$50)","v":""},null,{"$f":"IF(E108=\"\",\"\",'4x100m'!N50)","v":""}]
[null,null,null,{"$f":"Start!$F$28","v":47},{"$f":"IF(Start!$CF85=\"\",\"\",Start!$G$28)","v":""},{"$f":"IF(E109=\"\",\"\",'4x100m'!$G$51)","v":""},{"$f":"IF(E109=\"\",\"\",'4x100m'!$K$51)","v":""},{"$f":"IF(E109=\"\",\"\",'4x100m'!$L$51)","v":""},null,{"$f":"IF(E109=\"\",\"\",'4x100m'!N51)","v":""}]
[null,null,null,{"$f":"Start!$F$29","v":48},{"$f":"IF(Start!$CF86=\"\",\"\",Start!$G$29)","v":""},{"$f":"IF(E110=\"\",\"\",'4x100m'!$G$52)","v":""},{"$f":"IF(E110=\"\",\"\",'4x100m'!$K$52)","v":""},{"$f":"IF(E110=\"\",\"\",'4x100m'!$L$52)","v":""},null,{"$f":"IF(E110=\"\",\"\",'4x100m'!N52)","v":""}]
[null,null,null,{"$f":"Start!$F$30","v":49},{"$f":"IF(Start!$CF87=\"\",\"\",Start!$G$30)","v":""},{"$f":"IF(E111=\"\",\"\",'4x100m'!$G$53)","v":""},{"$f":"IF(E111=\"\",\"\",'4x100m'!$K$53)","v":""},{"$f":"IF(E111=\"\",\"\",'4x100m'!$L$53)","v":""},null,{"$f":"IF(E111=\"\",\"\",'4x100m'!N53)","v":""}]
[null,null,null,{"$f":"Start!$F$31","v":50},{"$f":"IF(Start!$CF88=\"\",\"\",Start!$G$31)","v":""},{"$f":"IF(E112=\"\",\"\",'4x100m'!$G$54)","v":""},{"$f":"IF(E112=\"\",\"\",'4x100m'!$K$54)","v":""},{"$f":"IF(E112=\"\",\"\",'4x100m'!$L$54)","v":""},null,{"$f":"IF(E112=\"\",\"\",'4x100m'!N54)","v":""}]
[null,"Tisková sestava"]
[]
[null,null,{"$f":"Start!$B$2","v":"Kraj "}]
[null,{"$f":"\"Kategorie: \"&Start!$C$5","v":"Kategorie: Dorky"},null,null,null,{"$f":"F$4","v":"Chrast 16.6.2024"}]
[]
[null,null,"Běh na 100 m s překážkami - Družstva","st.č.","SDH",null,null,"čas",null,"Poř."]
[null,null,null,{"$f":"Start!$B$7","v":1},{"$f":"IF(Start!$C$7=\"\",\"\",Start!$C$7)","v":"Stéblová"},null,null,{"$f":"IF($E119=\"\",\"\",'PJ-C'!$N5)","v":100.9},null,{"$f":"IF($E119=\"\",\"\",'PJ-C'!$P5)","v":2}]
[null,null,null,{"$f":"Start!$B$8","v":2},{"$f":"IF(Start!$C$8=\"\",\"\",Start!$C$8)","v":"Lukavice"},null,null,{"$f":"IF($E120=\"\",\"\",'PJ-C'!$N8)","v":103.97},null,{"$f":"IF($E120=\"\",\"\",'PJ-C'!$P8)","v":3}]
[null,null,null,{"$f":"Start!$B$9","v":3},{"$f":"IF(Start!$C$9=\"\",\"\",Start!$C$9)","v":"Skuteč"},null,null,{"$f":"IF($E121=\"\",\"\",'PJ-C'!$N11)","v":97.94},null,{"$f":"IF($E121=\"\",\"\",'PJ-C'!$P11)","v":1}]
[null,null,null,{"$f":"Start!$B$10","v":4},{"$f":"IF(Start!$C$10=\"\",\"\",Start!$C$10)","v":"Desná"},null,null,{"$f":"IF($E122=\"\",\"\",'PJ-C'!$N14)","v":105.37000000000002},null,{"$f":"IF($E122=\"\",\"\",'PJ-C'!$P14)","v":4}]
[null,null,null,{"$f":"Start!$B$11","v":5},{"$f":"IF(Start!$C$11=\"\",\"\",Start!$C$11)","v":""},null,null,{"$f":"IF($E123=\"\",\"\",'PJ-C'!$N17)","v":""},null,{"$f":"IF($E123=\"\",\"\",'PJ-C'!$P17)","v":""}]
[null,null,null,{"$f":"Start!$B$12","v":6},{"$f":"IF(Start!$C$12=\"\",\"\",Start!$C$12)","v":""},null,null,{"$f":"IF($E124=\"\",\"\",'PJ-C'!$N20)","v":""},null,{"$f":"IF($E124=\"\",\"\",'PJ-C'!$P20)","v":""}]
[null,null,null,{"$f":"Start!$B$13","v":7},{"$f":"IF(Start!$C$13=\"\",\"\",Start!$C$13)","v":""},null,null,{"$f":"IF($E125=\"\",\"\",'PJ-C'!$N23)","v":""},null,{"$f":"IF($E125=\"\",\"\",'PJ-C'!$P23)","v":""}]
[null,null,null,{"$f":"Start!$B$14","v":8},{"$f":"IF(Start!$C$14=\"\",\"\",Start!$C$14)","v":""},null,null,{"$f":"IF($E126=\"\",\"\",'PJ-C'!$N26)","v":""},null,{"$f":"IF($E126=\"\",\"\",'PJ-C'!$P26)","v":""}]
[null,null,null,{"$f":"Start!$B$15","v":9},{"$f":"IF(Start!$C$15=\"\",\"\",Start!$C$15)","v":""},null,null,{"$f":"IF($E127=\"\",\"\",'PJ-C'!$N29)","v":""},null,{"$f":"IF($E127=\"\",\"\",'PJ-C'!$P29)","v":""}]
[null,null,null,{"$f":"Start!$B$16","v":10},{"$f":"IF(Start!$C$16=\"\",\"\",Start!$C$16)","v":""},null,null,{"$f":"IF($E128=\"\",\"\",'PJ-C'!$N32)","v":""},null,{"$f":"IF($E128=\"\",\"\",'PJ-C'!$P32)","v":""}]
[null,null,null,{"$f":"Start!$B$17","v":11},{"$f":"IF(Start!$C$17=\"\",\"\",Start!$C$17)","v":""},null,null,{"$f":"IF($E129=\"\",\"\",'PJ-C'!$N39)","v":""},null,{"$f":"IF($E129=\"\",\"\",'PJ-C'!$P39)","v":""}]
[null,null,null,{"$f":"Start!$B$18","v":12},{"$f":"IF(Start!$C$18=\"\",\"\",Start!$C$18)","v":""},null,null,{"$f":"IF($E130=\"\",\"\",'PJ-C'!$N42)","v":""},null,{"$f":"IF($E130=\"\",\"\",'PJ-C'!$P42)","v":""}]
[null,null,null,{"$f":"Start!$B$19","v":13},{"$f":"IF(Start!$C$19=\"\",\"\",Start!$C$19)","v":""},null,null,{"$f":"IF($E131=\"\",\"\",'PJ-C'!$N45)","v":""},null,{"$f":"IF($E131=\"\",\"\",'PJ-C'!$P45)","v":""}]
[null,null,null,{"$f":"Start!$B$20","v":14},{"$f":"IF(Start!$C$20=\"\",\"\",Start!$C$20)","v":""},null,null,{"$f":"IF($E132=\"\",\"\",'PJ-C'!$N48)","v":""},null,{"$f":"IF($E132=\"\",\"\",'PJ-C'!$P48)","v":""}]
[null,null,null,{"$f":"Start!$B$21","v":15},{"$f":"IF(Start!$C$21=\"\",\"\",Start!$C$21)","v":""},null,null,{"$f":"IF($E133=\"\",\"\",'PJ-C'!$N51)","v":""},null,{"$f":"IF($E133=\"\",\"\",'PJ-C'!$P51)","v":""}]
[null,null,null,{"$f":"Start!$B$22","v":16},{"$f":"IF(Start!$C$22=\"\",\"\",Start!$C$22)","v":""},null,null,{"$f":"IF($E134=\"\",\"\",'PJ-C'!$N54)","v":""},null,{"$f":"IF($E134=\"\",\"\",'PJ-C'!$P54)","v":""}]
[null,null,null,{"$f":"Start!$B$23","v":17},{"$f":"IF(Start!$C$23=\"\",\"\",Start!$C$23)","v":""},null,null,{"$f":"IF($E135=\"\",\"\",'PJ-C'!$N57)","v":""},null,{"$f":"IF($E135=\"\",\"\",'PJ-C'!$P57)","v":""}]
[null,null,null,{"$f":"Start!$B$24","v":18},{"$f":"IF(Start!$C$24=\"\",\"\",Start!$C$24)","v":""},null,null,{"$f":"IF($E136=\"\",\"\",'PJ-C'!$N60)","v":""},null,{"$f":"IF($E136=\"\",\"\",'PJ-C'!$P60)","v":""}]
[null,null,null,{"$f":"Start!$B$25","v":19},{"$f":"IF(Start!$C$25=\"\",\"\",Start!$C$25)","v":""},null,null,{"$f":"IF($E137=\"\",\"\",'PJ-C'!$N63)","v":""},null,{"$f":"IF($E137=\"\",\"\",'PJ-C'!$P63)","v":""}]
[null,null,null,{"$f":"Start!$B$26","v":20},{"$f":"IF(Start!$C$26=\"\",\"\",Start!$C$26)","v":""},null,null,{"$f":"IF($E138=\"\",\"\",'PJ-C'!$N66)","v":""},null,{"$f":"IF($E138=\"\",\"\",'PJ-C'!$P66)","v":""}]
[null,null,null,{"$f":"Start!$B$27","v":21},{"$f":"IF(Start!$C$27=\"\",\"\",Start!$C$27)","v":""},null,null,{"$f":"IF($E139=\"\",\"\",'PJ-C'!$N73)","v":""},null,{"$f":"IF($E139=\"\",\"\",'PJ-C'!$P73)","v":""}]
[null,null,null,{"$f":"Start!$B$28","v":22},{"$f":"IF(Start!$C$28=\"\",\"\",Start!$C$28)","v":""},null,null,{"$f":"IF($E140=\"\",\"\",'PJ-C'!$N76)","v":""},null,{"$f":"IF($E140=\"\",\"\",'PJ-C'!$P76)","v":""}]
[null,null,null,{"$f":"Start!$B$29","v":23},{"$f":"IF(Start!$C$29=\"\",\"\",Start!$C$29)","v":""},null,null,{"$f":"IF($E141=\"\",\"\",'PJ-C'!$N79)","v":""},null,{"$f":"IF($E141=\"\",\"\",'PJ-C'!$P79)","v":""}]
[null,null,null,{"$f":"Start!$B$30","v":24},{"$f":"IF(Start!$C$30=\"\",\"\",Start!$C$30)","v":""},null,null,{"$f":"IF($E142=\"\",\"\",'PJ-C'!$N82)","v":""},null,{"$f":"IF($E142=\"\",\"\",'PJ-C'!$P82)","v":""}]
[null,null,null,{"$f":"Start!$B$31","v":25},{"$f":"IF(Start!$C$31=\"\",\"\",Start!$C$31)","v":""},null,null,{"$f":"IF($E143=\"\",\"\",'PJ-C'!$N85)","v":""},null,{"$f":"IF($E143=\"\",\"\",'PJ-C'!$P85)","v":""}]
[null,null,null,{"$f":"Start!$F$7","v":26},{"$f":"IF(Start!$G$7=\"\",\"\",Start!$G$7)","v":""},null,null,{"$f":"IF($E144=\"\",\"\",'PJ-C'!$N88)","v":""},null,{"$f":"IF($E144=\"\",\"\",'PJ-C'!$P88)","v":""}]
[null,null,null,{"$f":"Start!$F$8","v":27},{"$f":"IF(Start!$G$8=\"\",\"\",Start!$G$8)","v":""},null,null,{"$f":"IF($E145=\"\",\"\",'PJ-C'!$N91)","v":""},null,{"$f":"IF($E145=\"\",\"\",'PJ-C'!$P91)","v":""}]
[null,null,null,{"$f":"Start!$F$9","v":28},{"$f":"IF(Start!$G$9=\"\",\"\",Start!$G$9)","v":""},null,null,{"$f":"IF($E146=\"\",\"\",'PJ-C'!$N94)","v":""},null,{"$f":"IF($E146=\"\",\"\",'PJ-C'!$P94)","v":""}]
[null,null,null,{"$f":"Start!$F$10","v":29},{"$f":"IF(Start!$G$10=\"\",\"\",Start!$G$10)","v":""},null,null,{"$f":"IF($E147=\"\",\"\",'PJ-C'!$N97)","v":""},null,{"$f":"IF($E147=\"\",\"\",'PJ-C'!$P97)","v":""}]
[null,null,null,{"$f":"Start!$F$11","v":30},{"$f":"IF(Start!$G$11=\"\",\"\",Start!$G$11)","v":""},null,null,{"$f":"IF($E148=\"\",\"\",'PJ-C'!$N100)","v":""},null,{"$f":"IF($E148=\"\",\"\",'PJ-C'!$P100)","v":""}]
[null,null,null,{"$f":"Start!$F$12","v":31},{"$f":"IF(Start!$G$12=\"\",\"\",Start!$G$12)","v":""},null,null,{"$f":"IF($E149=\"\",\"\",'PJ-C'!$N107)","v":""},null,{"$f":"IF($E149=\"\",\"\",'PJ-C'!$P107)","v":""}]
[null,null,null,{"$f":"Start!$F$13","v":32},{"$f":"IF(Start!$G$13=\"\",\"\",Start!$G$13)","v":""},null,null,{"$f":"IF($E150=\"\",\"\",'PJ-C'!$N110)","v":""},null,{"$f":"IF($E150=\"\",\"\",'PJ-C'!$P110)","v":""}]
[null,null,null,{"$f":"Start!$F$14","v":33},{"$f":"IF(Start!$G$14=\"\",\"\",Start!$G$14)","v":""},null,null,{"$f":"IF($E151=\"\",\"\",'PJ-C'!$N113)","v":""},null,{"$f":"IF($E151=\"\",\"\",'PJ-C'!$P113)","v":""}]
[null,null,null,{"$f":"Start!$F$15","v":34},{"$f":"IF(Start!$G$15=\"\",\"\",Start!$G$15)","v":""},null,null,{"$f":"IF($E152=\"\",\"\",'PJ-C'!$N116)","v":""},null,{"$f":"IF($E152=\"\",\"\",'PJ-C'!$P116)","v":""}]
[null,null,null,{"$f":"Start!$F$16","v":35},{"$f":"IF(Start!$G$16=\"\",\"\",Start!$G$16)","v":""},null,null,{"$f":"IF($E153=\"\",\"\",'PJ-C'!$N119)","v":""},null,{"$f":"IF($E153=\"\",\"\",'PJ-C'!$P119)","v":""}]
[null,null,null,{"$f":"Start!$F$17","v":36},{"$f":"IF(Start!$G$17=\"\",\"\",Start!$G$17)","v":""},null,null,{"$f":"IF($E154=\"\",\"\",'PJ-C'!$N122)","v":""},null,{"$f":"IF($E154=\"\",\"\",'PJ-C'!$P122)","v":""}]
[null,null,null,{"$f":"Start!$F$18","v":37},{"$f":"IF(Start!$G$18=\"\",\"\",Start!$G$18)","v":""},null,null,{"$f":"IF($E155=\"\",\"\",'PJ-C'!$N125)","v":""},null,{"$f":"IF($E155=\"\",\"\",'PJ-C'!$P125)","v":""}]
[null,null,null,{"$f":"Start!$F$19","v":38},{"$f":"IF(Start!$G$19=\"\",\"\",Start!$G$19)","v":""},null,null,{"$f":"IF($E156=\"\",\"\",'PJ-C'!$N128)","v":""},null,{"$f":"IF($E156=\"\",\"\",'PJ-C'!$P128)","v":""}]
[null,null,null,{"$f":"Start!$F$20","v":39},{"$f":"IF(Start!$G$20=\"\",\"\",Start!$G$20)","v":""},null,null,{"$f":"IF($E157=\"\",\"\",'PJ-C'!$N131)","v":""},null,{"$f":"IF($E157=\"\",\"\",'PJ-C'!$P131)","v":""}]
[null,null,null,{"$f":"Start!$F$21","v":40},{"$f":"IF(Start!$G$21=\"\",\"\",Start!$G$21)","v":""},null,null,{"$f":"IF($E158=\"\",\"\",'PJ-C'!$N134)","v":""},null,{"$f":"IF($E158=\"\",\"\",'PJ-C'!$P134)","v":""}]
[null,null,null,{"$f":"Start!$F$22","v":41},{"$f":"IF(Start!$G$22=\"\",\"\",Start!$G$22)","v":""},null,null,{"$f":"IF($E159=\"\",\"\",'PJ-C'!$N141)","v":""},null,{"$f":"IF($E159=\"\",\"\",'PJ-C'!$P141)","v":""}]
[null,null,null,{"$f":"Start!$F$23","v":42},{"$f":"IF(Start!$G$23=\"\",\"\",Start!$G$23)","v":""},null,null,{"$f":"IF($E160=\"\",\"\",'PJ-C'!$N144)","v":""},null,{"$f":"IF($E160=\"\",\"\",'PJ-C'!$P144)","v":""}]
[null,null,null,{"$f":"Start!$F$24","v":43},{"$f":"IF(Start!$G$24=\"\",\"\",Start!$G$24)","v":""},null,null,{"$f":"IF($E161=\"\",\"\",'PJ-C'!$N147)","v":""},null,{"$f":"IF($E161=\"\",\"\",'PJ-C'!$P147)","v":""}]
[null,null,null,{"$f":"Start!$F$25","v":44},{"$f":"IF(Start!$G$25=\"\",\"\",Start!$G$25)","v":""},null,null,{"$f":"IF($E162=\"\",\"\",'PJ-C'!$N150)","v":""},null,{"$f":"IF($E162=\"\",\"\",'PJ-C'!$P150)","v":""}]
[null,null,null,{"$f":"Start!$F$26","v":45},{"$f":"IF(Start!$G$26=\"\",\"\",Start!$G$26)","v":""},null,null,{"$f":"IF($E163=\"\",\"\",'PJ-C'!$N153)","v":""},null,{"$f":"IF($E163=\"\",\"\",'PJ-C'!$P153)","v":""}]
[null,null,null,{"$f":"Start!$F$27","v":46},{"$f":"IF(Start!$G$27=\"\",\"\",Start!$G$27)","v":""},null,null,{"$f":"IF($E164=\"\",\"\",'PJ-C'!$N156)","v":""},null,{"$f":"IF($E164=\"\",\"\",'PJ-C'!$P156)","v":""}]
[null,null,null,{"$f":"Start!$F$28","v":47},{"$f":"IF(Start!$G$28=\"\",\"\",Start!$G$28)","v":""},null,null,{"$f":"IF($E165=\"\",\"\",'PJ-C'!$N159)","v":""},null,{"$f":"IF($E165=\"\",\"\",'PJ-C'!$P159)","v":""}]
[null,null,null,{"$f":"Start!$F$29","v":48},{"$f":"IF(Start!$G$29=\"\",\"\",Start!$G$29)","v":""},null,null,{"$f":"IF($E166=\"\",\"\",'PJ-C'!$N162)","v":""},null,{"$f":"IF($E166=\"\",\"\",'PJ-C'!$P162)","v":""}]
[null,null,null,{"$f":"Start!$F$30","v":49},{"$f":"IF(Start!$G$30=\"\",\"\",Start!$G$30)","v":""},null,null,{"$f":"IF($E167=\"\",\"\",'PJ-C'!$N165)","v":""},null,{"$f":"IF($E167=\"\",\"\",'PJ-C'!$P165)","v":""}]
[null,null,null,{"$f":"Start!$F$31","v":50},{"$f":"IF(Start!$G$31=\"\",\"\",Start!$G$31)","v":""},null,null,{"$f":"IF($E168=\"\",\"\",'PJ-C'!$N168)","v":""},null,{"$f":"IF($E168=\"\",\"\",'PJ-C'!$P168)","v":""}]

{"sheet":"Tisk-v3","index":16,"n_rows":124,"n_cols":15,"rows_kept":124,"cut":false,"hidden":false,"merged":[[10,9,11,9],[10,10,11,10],[5,14,7,14],[6,7,7,7],[0,1,0,14],[2,2,2,5],[2,6,2,14],[4,4,4,5],[4,6,4,7],[4,8,4,9],[5,1,7,1],[5,2,7,2],[5,6,5,7],[5,8,5,9],[6,13,7,13],[5,11,7,12],[5,3,7,3],[5,4,5,5],[6,9,7,9],[6,10,7,10],[6,5,7,5],[10,14,11,14],[8,14,9,14],[10,0,11,0],[10,1,11,1],[10,2,11,2],[10,3,11,3],[10,5,11,5],[10,7,11,7],[10,8,11,8],[8,13,9,13],[10,13,11,13],[8,0,9,0],[8,1,9,1],[8,2,9,2],[8,12,9,12],[8,5,9,5],[8,7,9,7],[8,8,9,8],[8,9,9,9],[8,3,9,3],[8,10,9,10],[8,11,9,11],[10,11,11,11],[10,12,11,12],[14,0,15,0],[14,1,15,1],[14,2,15,2],[14,3,15,3],[14,5,15,5],[14,7,15,7],[14,8,15,8],[12,12,13,12],[12,13,13,13],[12,5,13,5],[12,7,13,7],[12,8,13,8],[12,9,13,9],[12,0,13,0],[12,1,13,1],[12,2,13,2],[12,3,13,3],[14,11,15,11],[14,12,15,12],[14,9,15,9],[14,10,15,10],[12,10,13,10],[12,11,13,11],[16,10,17,10],[16,11,17,11],[14,13,15,13],[14,14,15,14],[12,14,13,14],[18,0,19,0],[18,1,19,1],[18,2,19,2],[18,3,19,3],[18,5,19,5],[18,7,19,7],[18,8,19,8],[16,12,17,12],[16,13,17,13],[16,5,17,5],[16,7,17,7],[16,8,17,8],[16,9,17,9],[16,0,17,0],[16,1,17,1],[16,2,17,2],[16,3,17,3],[18,11,19,11],[18,12,19,12],[18,9,19,9],[18,10,19,10],[20,10,21,10],[20,11,21,11],[18,13,19,13],[18,14,19,14],[16,14,17,14],[22,0,23,0],[22,1,23,1],[22,2,23,2],[22,3,23,3],[22,5,23,5],[22,7,23,7],[22,8,23,8],[20,12,21,12],[20,13,21,13],[20,5,21,5],[20,7,21,7],[20,8,21,8],[20,9,21,9],[20,0,21,0],[20,1,21,1],[20,2,21,2],[20,3,21,3],[22,11,23,11],[22,12,23,12],[22,9,23,9],[22,10,23,10],[24,10,25,10],[24,11,25,11],[22,13,23,13],[22,14,23,14],[20,14,21,14],[26,0,27,0],[26,1,27,1],[26,2,27,2],[26,3,27,3],[26,5,27,5],[26,7,27,7],[26,8,27,8],[24,12,25,12],[24,13,25,13],[24,5,25,5],[24,7,25,7],[24,8,25,8],[24,9,25,9],[24,0,25,0],[24,1,25,1],[24,2,25,2],[24,3,25,3],[26,11,27,11],[26,12,27,12],[26,9,27,9],[26,10,27,10],[28,10,29,10],[28,11,29,11],[26,13,27,13],[26,14,27,14],[24,14,25,14],[30,0,31,0],[30,1,31,1],[30,2,31,2],[30,3,31,3],[30,5,31,5],[30,7,31,7],[30,8,31,8],[28,12,29,12],[28,13,29,13],[28,5,29,5],[28,7,29,7],[28,8,29,8],[28,9,29,9],[28,0,29,0],[28,1,29,1],[28,2,29,2],[28,3,29,3],[30,11,31,11],[30,12,31,12],[30,9,31,9],[30,10,31,10],[32,10,33,10],[32,11,33,11],[30,13,31,13],[30,14,31,14],[28,14,29,14],[34,0,35,0],[34,1,35,1],[34,2,35,2],[34,3,35,3],[34,5,35,5],[34,7,35,7],[34,8,35,8],[32,12,33,12],[32,13,33,13],[32,5,33,5],[32,7,33,7],[32,8,33,8],[32,9,33,9],[32,0,33,0],[32,1,33,1],[32,2,33,2],[32,3,33,3],[34,11,35,11],[34,12,35,12],[34,9,35,9],[34,10,35,10],[36,10,37,10],[36,11,37,11],[34,13,35,13],[34,14,35,14],[32,14,33,14],[38,0,39,0],[38,1,39,1],[38,2,39,2],[38,3,39,3],[38,5,39,5],[38,7,39,7],[38,8,39,8],[36,12,37,12],[36,13,37,13],[36,5,37,5],[36,7,37,7],[36,8,37,8],[36,9,37,9],[36,0,37,0],[36,1,37,1],[36,2,37,2],[36,3,37,3],[38,11,39,11],[38,12,39,12],[38,9,39,9],[38,10,39,10],[40,10,41,10],[40,11,41,11],[38,13,39,13],[38,14,39,14],[36,14,37,14],[42,0,43,0],[42,1,43,1],[42,2,43,2],[42,3,43,3],[42,5,43,5],[42,7,43,7],[42,8,43,8],[40,12,41,12],[40,13,41,13],[40,5,41,5],[40,7,41,7],[40,8,41,8],[40,9,41,9],[40,0,41,0],[40,1,41,1],[40,2,41,2],[40,3,41,3],[42,11,43,11],[42,12,43,12],[42,9,43,9],[42,10,43,10],[44,12,45,12],[44,11,45,11],[42,13,43,13],[42,14,43,14],[40,14,41,14],[44,14,45,14],[46,0,47,0],[46,1,47,1],[46,2,47,2],[46,3,47,3],[46,5,47,5],[44,13,45,13],[44,5,45,5],[44,7,45,7],[44,8,45,8],[44,9,45,9],[46,7,47,7],[46,8,47,8],[46,9,47,9],[46,10,47,10],[44,10,45,10],[44,0,45,0],[44,1,45,1],[44,2,45,2],[44,3,45,3],[53,14,55,14],[54,7,55,7],[46,11,47,11],[46,12,47,12],[46,13,47,13],[46,14,47,14],[48,1,48,14],[50,2,50,5],[50,6,50,14],[52,4,52,5],[52,6,52,7],[52,8,52,9],[54,13,55,13],[53,11,55,12],[53,1,55,1],[53,2,55,2],[53,3,55,3],[53,4,53,5],[54,9,55,9],[54,10,55,10],[54,5,55,5],[56,5,57,5],[56,1,57,1],[56,2,57,2],[56,3,57,3],[56,7,57,7],[56,8,57,8],[56,9,57,9],[53,6,53,7],[53,8,53,9],[58,11,59,11],[58,12,59,12],[58,9,59,9],[58,10,59,10],[60,10,61,10],[60,11,61,11],[58,14,59,14],[56,14,57,14],[58,0,59,0],[58,1,59,1],[58,2,59,2],[58,3,59,3],[58,5,59,5],[58,7,59,7],[58,8,59,8],[56,13,57,13],[58,13,59,13],[56,12,57,12],[56,0,57,0],[56,10,57,10],[56,11,57,11],[62,0,63,0],[62,1,63,1],[62,2,63,2],[62,3,63,3],[62,5,63,5],[62,7,63,7],[62,8,63,8],[60,12,61,12],[60,13,61,13],[60,5,61,5],[60,7,61,7],[60,8,61,8],[60,9,61,9],[60,0,61,0],[60,1,61,1],[60,2,61,2],[60,3,61,3],[62,11,63,11],[62,12,63,12],[62,9,63,9],[62,10,63,10],[64,10,65,10],[64,11,65,11],[62,13,63,13],[62,14,63,14],[60,14,61,14],[66,0,67,0],[66,1,67,1],[66,2,67,2],[66,3,67,3],[66,5,67,5],[66,7,67,7],[66,8,67,8],[64,12,65,12],[64,13,65,13],[64,5,65,5],[64,7,65,7],[64,8,65,8],[64,9,65,9],[64,0,65,0],[64,1,65,1],[64,2,65,2],[64,3,65,3],[66,11,67,11],[66,12,67,12],[66,9,67,9],[66,10,67,10],[68,10,69,10],[68,11,69,11],[66,13,67,13],[66,14,67,14],[64,14,65,14],[70,0,71,0],[70,1,71,1],[70,2,71,2],[70,3,71,3],[70,5,71,5],[70,7,71,7],[70,8,71,8],[68,12,69,12],[68,13,69,13],[68,5,69,5],[68,7,69,7],[68,8,69,8],[68,9,69,9],[68,0,69,0],[68,1,69,1],[68,2,69,2],[68,3,69,3],[70,11,71,11],[70,12,71,12],[70,9,71,9],[70,10,71,10],[72,10,73,10],[72,11,73,11],[70,13,71,13],[70,14,71,14],[68,14,69,14],[74,0,75,0],[74,1,75,1],[74,2,75,2],[74,3,75,3],[74,5,75,5],[74,7,75,7],[74,8,75,8],[72,12,73,12],[72,13,73,13],[72,5,73,5],[72,7,73,7],[72,8,73,8],[72,9,73,9],[72,0,73,0],[72,1,73,1],[72,2,73,2],[72,3,73,3],[74,11,75,11],[74,12,75,12],[74,9,75,9],[74,10,75,10],[76,10,77,10],[76,11,77,11],[74,13,75,13],[74,14,75,14],[72,14,73,14],[78,0,79,0],[78,1,79,1],[78,2,79,2],[78,3,79,3],[78,5,79,5],[78,7,79,7],[78,8,79,8],[76,12,77,12],[76,13,77,13],[76,5,77,5],[76,7,77,7],[76,8,77,8],[76,9,77,9],[76,0,77,0],[76,1,77,1],[76,2,77,2],[76,3,77,3],[78,11,79,11],[78,12,79,12],[78,9,79,9],[78,10,79,10],[80,10,81,10],[80,11,81,11],[78,13,79,13],[78,14,79,14],[76,14,77,14],[82,0,83,0],[82,1,83,1],[82,2,83,2],[82,3,83,3],[82,5,83,5],[82,7,83,7],[82,8,83,8],[80,12,81,12],[80,13,81,13],[80,5,81,5],[80,7,81,7],[80,8,81,8],[80,9,81,9],[80,0,81,0],[80,1,81,1],[80,2,81,2],[80,3,81,3],[82,11,83,11],[82,12,83,12],[82,9,83,9],[82,10,83,10],[84,10,85,10],[84,11,85,11],[82,13,83,13],[82,14,83,14],[80,14,81,14],[86,0,87,0],[86,1,87,1],[86,2,87,2],[86,3,87,3],[86,5,87,5],[86,7,87,7],[86,8,87,8],[84,12,85,12],[84,13,85,13],[84,5,85,5],[84,7,85,7],[84,8,85,8],[84,9,85,9],[84,0,85,0],[84,1,85,1],[84,2,85,2],[84,3,85,3],[86,11,87,11],[86,12,87,12],[86,9,87,9],[86,10,87,10],[88,10,89,10],[88,11,89,11],[86,13,87,13],[86,14,87,14],[84,14,85,14],[90,0,91,0],[90,1,91,1],[90,2,91,2],[90,3,91,3],[90,5,91,5],[90,7,91,7],[90,8,91,8],[88,12,89,12],[88,13,89,13],[88,5,89,5],[88,7,89,7],[88,8,89,8],[88,9,89,9],[88,0,89,0],[88,1,89,1],[88,2,89,2],[88,3,89,3],[90,11,91,11],[90,12,91,12],[90,9,91,9],[90,10,91,10],[92,12,93,12],[92,11,93,11],[90,13,91,13],[90,14,91,14],[88,14,89,14],[92,14,93,14],[94,0,95,0],[94,1,95,1],[94,2,95,2],[94,3,95,3],[94,5,95,5],[92,13,93,13],[92,5,93,5],[92,7,93,7],[92,8,93,8],[92,9,93,9],[94,7,95,7],[94,8,95,8],[94,9,95,9],[94,10,95,10],[92,10,93,10],[92,0,93,0],[92,1,93,1],[92,2,93,2],[92,3,93,3],[101,14,103,14],[102,7,103,7],[94,11,95,11],[94,12,95,12],[94,13,95,13],[94,14,95,14],[96,1,96,14],[98,2,98,5],[98,6,98,14],[100,4,100,5],[100,6,100,7],[100,8,100,9],[102,13,103,13],[101,11,103,12],[101,1,103,1],[101,2,103,2],[101,3,103,3],[101,4,101,5],[102,9,103,9],[102,10,103,10],[102,5,103,5],[104,5,105,5],[104,1,105,1],[104,2,105,2],[104,3,105,3],[104,7,105,7],[104,8,105,8],[104,9,105,9],[101,6,101,7],[101,8,101,9],[106,14,107,14],[104,14,105,14],[106,0,107,0],[106,1,107,1],[106,2,107,2],[106,3,107,3],[106,5,107,5],[106,7,107,7],[106,8,107,8],[104,13,105,13],[106,13,107,13],[104,12,105,12],[104,0,105,0],[104,10,105,10],[104,11,105,11],[108,0,109,0],[108,1,109,1],[108,2,109,2],[108,3,109,3],[110,11,111,11],[110,12,111,12],[110,9,111,9],[110,10,111,10],[106,11,107,11],[106,12,107,12],[106,9,107,9],[106,10,107,10],[108,10,109,10],[108,11,109,11],[110,2,111,2],[110,3,111,3],[110,5,111,5],[110,7,111,7],[110,8,111,8],[108,12,109,12],[108,13,109,13],[108,5,109,5],[108,7,109,7],[108,8,109,8],[108,9,109,9],[110,13,111,13],[110,14,111,14],[108,14,109,14],[114,0,115,0],[114,1,115,1],[114,2,115,2],[114,3,115,3],[114,5,115,5],[114,7,115,7],[114,8,115,8],[112,12,113,12],[112,13,113,13],[112,5,113,5],[112,7,113,7],[112,8,113,8],[112,9,113,9],[112,0,113,0],[112,1,113,1],[112,2,113,2],[112,3,113,3],[114,11,115,11],[114,12,115,12],[110,0,111,0],[110,1,111,1],[112,14,113,14],[118,0,119,0],[118,1,119,1],[118,2,119,2],[118,3,119,3],[118,5,119,5],[118,7,119,7],[118,8,119,8],[116,12,117,12],[116,13,117,13],[116,5,117,5],[116,7,117,7],[116,8,117,8],[116,9,117,9],[116,0,117,0],[116,1,117,1],[116,2,117,2],[116,3,117,3],[112,10,113,10],[112,11,113,11],[118,13,119,13],[118,14,119,14],[116,14,117,14],[114,9,115,9],[114,10,115,10],[116,10,117,10],[116,11,117,11],[114,13,115,13],[114,14,115,14],[120,0,121,0],[120,1,121,1],[120,2,121,2],[120,3,121,3],[122,11,123,11],[122,12,123,12],[122,9,123,9],[122,10,123,10],[118,11,119,11],[118,12,119,12],[118,9,119,9],[118,10,119,10],[120,10,121,10],[120,11,121,11],[122,2,123,2],[122,3,123,3],[122,5,123,5],[122,7,123,7],[122,8,123,8],[120,12,121,12],[120,13,121,13],[120,5,121,5],[120,7,121,7],[120,8,121,8],[120,9,121,9],[122,13,123,13],[122,14,123,14],[120,14,121,14],[126,0,127,0],[126,1,127,1],[126,2,127,2],[126,3,127,3],[126,5,127,5],[126,7,127,7],[126,8,127,8],[124,12,125,12],[124,13,125,13],[124,5,125,5],[124,7,125,7],[124,8,125,8],[124,9,125,9],[124,0,125,0],[124,1,125,1],[124,2,125,2],[124,3,125,3],[126,11,127,11],[126,12,127,12],[122,0,123,0],[122,1,123,1],[124,14,125,14],[130,0,131,0],[130,1,131,1],[130,2,131,2],[130,3,131,3],[130,5,131,5],[130,7,131,7],[130,8,131,8],[128,12,129,12],[128,13,129,13],[128,5,129,5],[128,7,129,7],[128,8,129,8],[128,9,129,9],[128,0,129,0],[128,1,129,1],[128,2,129,2],[128,3,129,3],[124,10,125,10],[124,11,125,11],[130,13,131,13],[130,14,131,14],[128,14,129,14],[126,9,127,9],[126,10,127,10],[128,10,129,10],[128,11,129,11],[126,13,127,13],[126,14,127,14],[132,0,133,0],[132,1,133,1],[132,2,133,2],[132,3,133,3],[134,11,135,11],[134,12,135,12],[134,9,135,9],[134,10,135,10],[130,11,131,11],[130,12,131,12],[130,9,131,9],[130,10,131,10],[132,10,133,10],[132,11,133,11],[134,2,135,2],[134,3,135,3],[134,5,135,5],[134,7,135,7],[134,8,135,8],[132,12,133,12],[132,13,133,13],[132,5,133,5],[132,7,133,7],[132,8,133,8],[132,9,133,9],[134,13,135,13],[134,14,135,14],[132,14,133,14],[138,0,139,0],[138,1,139,1],[138,2,139,2],[138,3,139,3],[138,5,139,5],[138,7,139,7],[138,8,139,8],[136,12,137,12],[136,13,137,13],[136,5,137,5],[136,7,137,7],[136,8,137,8],[136,9,137,9],[136,0,137,0],[136,1,137,1],[136,2,137,2],[136,3,137,3],[138,11,139,11],[138,12,139,12],[134,0,135,0],[134,1,135,1],[138,9,139,9],[138,10,139,10],[140,12,141,12],[140,11,141,11],[138,13,139,13],[138,14,139,14],[136,14,137,14],[142,11,143,11],[142,12,143,12],[142,13,143,13],[142,14,143,14],[140,14,141,14],[136,10,137,10],[136,11,137,11],[142,0,143,0],[142,1,143,1],[142,2,143,2],[142,3,143,3],[142,5,143,5],[140,13,141,13],[140,5,141,5],[140,7,141,7],[140,8,141,8],[140,9,141,9],[142,7,143,7],[142,8,143,8],[142,9,143,9],[142,10,143,10],[140,10,141,10],[140,0,141,0],[140,1,141,1],[140,2,141,2],[140,3,141,3]]}
[null,"Celkové Výsledky"]
[]
[null,null,{"$f":"Start!B2","v":"Kraj "},null,null,null,{"$f":"Start!B3","v":"Chrast 16.6.2024"}]
[]
[null,null,{"$f":"Start!$C$5","v":"Dorky"}]
[null," startovní číslo"," SDH",{"$f":"Start!$D$6","v":"Okres"}," PÚ",null," Štafeta 4 x 100 m",null,"Běh na 100 m        s překážkami",null,null,"Celkový součet pořadí",null,null,"Celkové pořadí"]
[null,null,null,null,"1.pokus","P.","1.pokus","P.","Součet","P."]
[null,null,null,null,"2.pokus",null,"2.pokus",null,"Družstva"]
[null,{"$f":"Start!$B7","v":1},{"$f":"IF(Start!$C7=\"\",\"\",Start!$C7)","v":"Stéblová"},{"$f":"IF(Start!$D7=\"\",\"\",Start!$D7)","v":"PA"},{"$f":"IF($C$9=\"\",\"\",PÚ!$G$5)","v":27.67},{"$f":"IF($C9=\"\",\"\",PÚ!$N$5)","v":1},{"$f":"IF($C$9=\"\",\"\",'4x100m'!$G$5)","v":"NP"},{"$f":"IF($C9=\"\",\"\",'4x100m'!$N$5)","v":1},{"$f":"IF($C9=\"\",\"\",'PJ-C'!$N$5)","v":100.9},{"$f":"IF($C9=\"\",\"\",'PJ-C'!$P$5)","v":2},null,{"$f":"IF($C9=\"\",\"\",Výsledky3!H7)","v":4},{"$f":"IF($C9=\"\",\"\",Výsledky3!I7)","v":""},null,{"$f":"IF($C9=\"\",\"\",VLOOKUP($B9,POM!$A$1:$H$50,8))","v":1}]
[null,null,null,null,{"$f":"IF($C$9=\"\",\"\",PÚ!$K$5)","v":32.32},null,{"$f":"IF($C$9=\"\",\"\",'4x100m'!$K$5)","v":71.88}]
[null,{"$f":"Start!$B8","v":2},{"$f":"IF(Start!$C8=\"\",\"\",Start!$C8)","v":"Lukavice"},{"$f":"IF(Start!$D8=\"\",\"\",Start!$D8)","v":"UO"},{"$f":"IF($C$11=\"\",\"\",PÚ!$G$6)","v":"NP"},{"$f":"IF($C11=\"\",\"\",PÚ!$N$6)","v":3},{"$f":"IF($C$11=\"\",\"\",'4x100m'!$G$6)","v":76.09},{"$f":"IF($C11=\"\",\"\",'4x100m'!$N$6)","v":4},{"$f":"IF($C11=\"\",\"\",'PJ-C'!$N$8)","v":103.97},{"$f":"IF($C11=\"\",\"\",'PJ-C'!$P$8)","v":3},null,{"$f":"IF($C11=\"\",\"\",Výsledky3!H8)","v":10},{"$f":"IF($C11=\"\",\"\",Výsledky3!I8)","v":""},null,{"$f":"IF($C11=\"\",\"\",VLOOKUP($B11,POM!$A$1:$H$50,8))","v":3}]
[null,null,null,null,{"$f":"IF($C$11=\"\",\"\",PÚ!$K$6)","v":33.35},null,{"$f":"IF($C$11=\"\",\"\",'4x100m'!$K$6)","v":75.930000000000007}]
[null,{"$f":"Start!$B9","v":3},{"$f":"IF(Start!$C9=\"\",\"\",Start!$C9)","v":"Skuteč"},{"$f":"IF(Start!$D9=\"\",\"\",Start!$D9)","v":"CR"},{"$f":"IF($C$13=\"\",\"\",PÚ!$G$7)","v":27.73},{"$f":"IF($C13=\"\",\"\",PÚ!$N$7)","v":2},{"$f":"IF($C$13=\"\",\"\",'4x100m'!$G$7)","v":"NP"},{"$f":"IF($C13=\"\",\"\",'4x100m'!$N$7)","v":2},{"$f":"IF($C13=\"\",\"\",'PJ-C'!$N$11)","v":97.94},{"$f":"IF($C13=\"\",\"\",'PJ-C'!$P$11)","v":1},null,{"$f":"IF($C13=\"\",\"\",Výsledky3!H9)","v":5},{"$f":"IF($C13=\"\",\"\",Výsledky3!I9)","v":""},null,{"$f":"IF($C13=\"\",\"\",VLOOKUP($B13,POM!$A$1:$H$50,8))","v":2}]
[null,null,null,null,{"$f":"IF($C$13=\"\",\"\",PÚ!$K$7)","v":31.06},null,{"$f":"IF($C$13=\"\",\"\",'4x100m'!$K$7)","v":72.06}]
[null,{"$f":"Start!$B10","v":4},{"$f":"IF(Start!$C10=\"\",\"\",Start!$C10)","v":"Desná"},{"$f":"IF(Start!$D10=\"\",\"\",Start!$D10)","v":"SY"},{"$f":"IF($C$15=\"\",\"\",PÚ!$G$8)","v":34.33},{"$f":"IF($C15=\"\",\"\",PÚ!$N$8)","v":4},{"$f":"IF($C$15=\"\",\"\",'4x100m'!$G$8)","v":75.040000000000006},{"$f":"IF($C15=\"\",\"\",'4x100m'!$N$8)","v":3},{"$f":"IF($C15=\"\",\"\",'PJ-C'!$N$14)","v":105.37000000000002},{"$f":"IF($C15=\"\",\"\",'PJ-C'!$P$14)","v":4},null,{"$f":"IF($C15=\"\",\"\",Výsledky3!H10)","v":11},{"$f":"IF($C15=\"\",\"\",Výsledky3!I10)","v":""},null,{"$f":"IF($C15=\"\",\"\",VLOOKUP($B15,POM!$A$1:$H$50,8))","v":4}]
[null,null,null,null,{"$f":"IF($C$15=\"\",\"\",PÚ!$K$8)","v":33.44},null,{"$f":"IF($C$15=\"\",\"\",'4x100m'!$K$8)","v":81.53}]
[null,{"$f":"Start!$B11","v":5},{"$f":"IF(Start!$C11=\"\",\"\",Start!$C11)","v":""},{"$f":"IF(Start!$D11=\"\",\"\",Start!$D11)","v":""},{"$f":"IF($C$17=\"\",\"\",PÚ!$G$9)","v":""},{"$f":"IF($C17=\"\",\"\",PÚ!$N$9)","v":""},{"$f":"IF($C$17=\"\",\"\",'4x100m'!$G$9)","v":""},{"$f":"IF($C17=\"\",\"\",'4x100m'!$N$9)","v":""},{"$f":"IF($C17=\"\",\"\",'PJ-C'!$N$17)","v":""},{"$f":"IF($C17=\"\",\"\",'PJ-C'!$P$17)","v":""},null,{"$f":"IF($C17=\"\",\"\",Výsledky3!H11)","v":""},{"$f":"IF($C17=\"\",\"\",Výsledky3!I11)","v":""},null,{"$f":"IF($C17=\"\",\"\",VLOOKUP($B17,POM!$A$1:$H$50,8))","v":""}]
[null,null,null,null,{"$f":"IF($C$17=\"\",\"\",PÚ!$K$9)","v":""},null,{"$f":"IF($C$17=\"\",\"\",'4x100m'!$K$9)","v":""}]
[null,{"$f":"Start!$B12","v":6},{"$f":"IF(Start!$C12=\"\",\"\",Start!$C12)","v":""},{"$f":"IF(Start!$D12=\"\",\"\",Start!$D12)","v":""},{"$f":"IF($C$19=\"\",\"\",PÚ!$G$10)","v":""},{"$f":"IF($C19=\"\",\"\",PÚ!$N$10)","v":""},{"$f":"IF($C$19=\"\",\"\",'4x100m'!$G$10)","v":""},{"$f":"IF($C19=\"\",\"\",'4x100m'!$N$10)","v":""},{"$f":"IF($C19=\"\",\"\",'PJ-C'!$N$20)","v":""},{"$f":"IF($C19=\"\",\"\",'PJ-C'!$P$20)","v":""},null,{"$f":"IF($C19=\"\",\"\",Výsledky3!H12)","v":""},{"$f":"IF($C19=\"\",\"\",Výsledky3!I12)","v":""},null,{"$f":"IF($C19=\"\",\"\",VLOOKUP($B19,POM!$A$1:$H$50,8))","v":""}]
[null,null,null,null,{"$f":"IF($C$19=\"\",\"\",PÚ!$K$10)","v":""},null,{"$f":"IF($C$19=\"\",\"\",'4x100m'!$K$10)","v":""}]
[null,{"$f":"Start!$B13","v":7},{"$f":"IF(Start!$C13=\"\",\"\",Start!$C13)","v":""},{"$f":"IF(Start!$D13=\"\",\"\",Start!$D13)","v":""},{"$f":"IF($C$21=\"\",\"\",PÚ!$G$11)","v":""},{"$f":"IF($C21=\"\",\"\",PÚ!$N$11)","v":""},{"$f":"IF($C$21=\"\",\"\",'4x100m'!$G$11)","v":""},{"$f":"IF($C21=\"\",\"\",'4x100m'!$N$11)","v":""},{"$f":"IF($C21=\"\",\"\",'PJ-C'!$N$23)","v":""},{"$f":"IF($C21=\"\",\"\",'PJ-C'!$P$23)","v":""},null,{"$f":"IF($C21=\"\",\"\",Výsledky3!H13)","v":""},{"$f":"IF($C21=\"\",\"\",Výsledky3!I13)","v":""},null,{"$f":"IF($C21=\"\",\"\",VLOOKUP($B21,POM!$A$1:$H$50,8))","v":""}]
[null,null,null,null,{"$f":"IF($C$21=\"\",\"\",PÚ!$K$11)","v":""},null,{"$f":"IF($C$21=\"\",\"\",'4x100m'!$K$11)","v":""}]
[null,{"$f":"Start!$B14","v":8},{"$f":"IF(Start!$C14=\"\",\"\",Start!$C14)","v":""},{"$f":"IF(Start!$D14=\"\",\"\",Start!$D14)","v":""},{"$f":"IF($C$23=\"\",\"\",PÚ!$G$12)","v":""},{"$f":"IF($C23=\"\",\"\",PÚ!$N$12)","v":""},{"$f":"IF($C$23=\"\",\"\",'4x100m'!$G$12)","v":""},{"$f":"IF($C23=\"\",\"\",'4x100m'!$N$12)","v":""},{"$f":"IF($C23=\"\",\"\",'PJ-C'!$N$26)","v":""},{"$f":"IF($C23=\"\",\"\",'PJ-C'!$P$26)","v":""},null,{"$f":"IF($C23=\"\",\"\",Výsledky3!H14)","v":""},{"$f":"IF($C23=\"\",\"\",Výsledky3!I14)","v":""},null,{"$f":"IF($C23=\"\",\"\",VLOOKUP($B23,POM!$A$1:$H$50,8))","v":""}]
[null,null,null,null,{"$f":"IF($C$23=\"\",\"\",PÚ!$K$12)","v":""},null,{"$f":"IF($C$23=\"\",\"\",'4x100m'!$K$12)","v":""}]
[null,{"$f":"Start!$B15","v":9},{"$f":"IF(Start!$C15=\"\",\"\",Start!$C15)","v":""},{"$f":"IF(Start!$D15=\"\",\"\",Start!$D15)","v":""},{"$f":"IF($C$25=\"\",\"\",PÚ!$G$13)","v":""},{"$f":"IF($C25=\"\",\"\",PÚ!$N$13)","v":""},{"$f":"IF($C$25=\"\",\"\",'4x100m'!$G$13)","v":""},{"$f":"IF($C25=\"\",\"\",'4x100m'!$N$13)","v":""},{"$f":"IF($C25=\"\",\"\",'PJ-C'!$N$29)","v":""},{"$f":"IF($C25=\"\",\"\",'PJ-C'!$P$29)","v":""},null,{"$f":"IF($C25=\"\",\"\",Výsledky3!H15)","v":""},{"$f":"IF($C25=\"\",\"\",Výsledky3!I15)","v":""},null,{"$f":"IF($C25=\"\",\"\",VLOOKUP($B25,POM!$A$1:$H$50,8))","v":""}]
[null,null,null,null,{"$f":"IF($C$25=\"\",\"\",PÚ!$K$13)","v":""},null,{"$f":"IF($C$25=\"\",\"\",'4x100m'!$K$13)","v":""}]
[null,{"$f":"Start!$B16","v":10},{"$f":"IF(Start!$C16=\"\",\"\",Start!$C16)","v":""},{"$f":"IF(Start!$D16=\"\",\"\",Start!$D16)","v":""},{"$f":"IF($C$27=\"\",\"\",PÚ!$G$14)","v":""},{"$f":"IF($C27=\"\",\"\",PÚ!$N$14)","v":""},{"$f":"IF($C$27=\"\",\"\",'4x100m'!$G$14)","v":""},{"$f":"IF($C27=\"\",\"\",'4x100m'!$N$14)","v":""},{"$f":"IF($C27=\"\",\"\",'PJ-C'!$N$32)","v":""},{"$f":"IF($C27=\"\",\"\",'PJ-C'!$P$32)","v":""},null,{"$f":"IF($C27=\"\",\"\",Výsledky3!H16)","v":""},{"$f":"IF($C27=\"\",\"\",Výsledky3!I16)","v":""},null,{"$f":"IF($C27=\"\",\"\",VLOOKUP($B27,POM!$A$1:$H$50,8))","v":""}]
[null,null,null,null,{"$f":"IF($C$27=\"\",\"\",PÚ!$K$14)","v":""},null,{"$f":"IF($C$27=\"\",\"\",'4x100m'!$K$14)","v":""}]
[null,{"$f":"Start!$B17","v":11},{"$f":"IF(Start!$C17=\"\",\"\",Start!$C17)","v":""},{"$f":"IF(Start!$D17=\"\",\"\",Start!$D17)","v":""},{"$f":"IF($C$29=\"\",\"\",PÚ!$G$15)","v":""},{"$f":"IF($C29=\"\",\"\",PÚ!$N$15)","v":""},{"$f":"IF($C$29=\"\",\"\",'4x100m'!$G$15)","v":""},{"$f":"IF($C29=\"\",\"\",'4x100m'!$N$15)","v":""},{"$f":"IF($C29=\"\",\"\",'PJ-C'!$N$39)","v":""},{"$f":"IF($C29=\"\",\"\",'PJ-C'!$P$39)","v":""},null,{"$f":"IF($C29=\"\",\"\",Výsledky3!H17)","v":""},{"$f":"IF($C29=\"\",\"\",Výsledky3!I17)","v":""},null,{"$f":"IF($C29=\"\",\"\",VLOOKUP($B29,POM!$A$1:$H$50,8))","v":""}]
[null,null,null,null,{"$f":"IF($C$29=\"\",\"\",PÚ!$K$15)","v":""},null,{"$f":"IF($C$29=\"\",\"\",'4x100m'!$K$15)","v":""}]
[null,{"$f":"Start!$B18","v":12},{"$f":"IF(Start!$C18=\"\",\"\",Start!$C18)","v":""},{"$f":"IF(Start!$D18=\"\",\"\",Start!$D18)","v":""},{"$f":"IF($C$31=\"\",\"\",PÚ!$G$16)","v":""},{"$f":"IF($C31=\"\",\"\",PÚ!$N$16)","v":""},{"$f":"IF($C$31=\"\",\"\",'4x100m'!$G$16)","v":""},{"$f":"IF($C31=\"\",\"\",'4x100m'!$N$16)","v":""},{"$f":"IF($C31=\"\",\"\",'PJ-C'!$N$42)","v":""},{"$f":"IF($C31=\"\",\"\",'PJ-C'!$P$42)","v":""},null,{"$f":"IF($C31=\"\",\"\",Výsledky3!H18)","v":""},{"$f":"IF($C31=\"\",\"\",Výsledky3!I18)","v":""},null,{"$f":"IF($C31=\"\",\"\",VLOOKUP($B31,POM!$A$1:$H$50,8))","v":""}]
[null,null,null,null,{"$f":"IF($C$31=\"\",\"\",PÚ!$K$16)","v":""},null,{"$f":"IF($C$31=\"\",\"\",'4x100m'!$K$16)","v":""}]
[null,{"$f":"Start!$B19","v":13},{"$f":"IF(Start!$C19=\"\",\"\",Start!$C19)","v":""},{"$f":"IF(Start!$D19=\"\",\"\",Start!$D19)","v":""},{"$f":"IF($C$33=\"\",\"\",PÚ!$G$17)","v":""},{"$f":"IF($C33=\"\",\"\",PÚ!$N$17)","v":""},{"$f":"IF($C$33=\"\",\"\",'4x100m'!$G$17)","v":""},{"$f":"IF($C33=\"\",\"\",'4x100m'!$N$17)","v":""},{"$f":"IF($C33=\"\",\"\",'PJ-C'!$N$45)","v":""},{"$f":"IF($C33=\"\",\"\",'PJ-C'!$P$45)","v":""},null,{"$f":"IF($C33=\"\",\"\",Výsledky3!H19)","v":""},{"$f":"IF($C33=\"\",\"\",Výsledky3!I19)","v":""},null,{"$f":"IF($C33=\"\",\"\",VLOOKUP($B33,POM!$A$1:$H$50,8))","v":""}]
[null,null,null,null,{"$f":"IF($C$33=\"\",\"\",PÚ!$K$17)","v":""},null,{"$f":"IF($C$33=\"\",\"\",'4x100m'!$K$17)","v":""}]
[null,{"$f":"Start!$B20","v":14},{"$f":"IF(Start!$C20=\"\",\"\",Start!$C20)","v":""},{"$f":"IF(Start!$D20=\"\",\"\",Start!$D20)","v":""},{"$f":"IF($C$35=\"\",\"\",PÚ!$G$18)","v":""},{"$f":"IF($C35=\"\",\"\",PÚ!$N$18)","v":""},{"$f":"IF($C$35=\"\",\"\",'4x100m'!$G$18)","v":""},{"$f":"IF($C35=\"\",\"\",'4x100m'!$N$18)","v":""},{"$f":"IF($C35=\"\",\"\",'PJ-C'!$N$48)","v":""},{"$f":"IF($C35=\"\",\"\",'PJ-C'!$P$48)","v":""},null,{"$f":"IF($C35=\"\",\"\",Výsledky3!H20)","v":""},{"$f":"IF($C35=\"\",\"\",Výsledky3!I20)","v":""},null,{"$f":"IF($C35=\"\",\"\",VLOOKUP($B35,POM!$A$1:$H$50,8))","v":""}]
[null,null,null,null,{"$f":"IF($C$35=\"\",\"\",PÚ!$K$18)","v":""},null,{"$f":"IF($C$35=\"\",\"\",'4x100m'!$K$18)","v":""}]
[null,{"$f":"Start!$B21","v":15},{"$f":"IF(Start!$C21=\"\",\"\",Start!$C21)","v":""},{"$f":"IF(Start!$D21=\"\",\"\",Start!$D21)","v":""},{"$f":"IF($C$37=\"\",\"\",PÚ!$G$19)","v":""},{"$f":"IF($C37=\"\",\"\",PÚ!$N$19)","v":""},{"$f":"IF($C$37=\"\",\"\",'4x100m'!$G$19)","v":""},{"$f":"IF($C37=\"\",\"\",'4x100m'!$N$19)","v":""},{"$f":"IF($C37=\"\",\"\",'PJ-C'!$N$51)","v":""},{"$f":"IF($C37=\"\",\"\",'PJ-C'!$P$51)","v":""},null,{"$f":"IF($C37=\"\",\"\",Výsledky3!H21)","v":""},{"$f":"IF($C37=\"\",\"\",Výsledky3!I21)","v":""},null,{"$f":"IF($C37=\"\",\"\",VLOOKUP($B37,POM!$A$1:$H$50,8))","v":""}]
[null,null,null,null,{"$f":"IF($C$37=\"\",\"\",PÚ!$K$19)","v":""},null,{"$f":"IF($C$37=\"\",\"\",'4x100m'!$K$19)","v":""}]
[null,{"$f":"Start!$B22","v":16},{"$f":"IF(Start!$C22=\"\",\"\",Start!$C22)","v":""},{"$f":"IF(Start!$D22=\"\",\"\",Start!$D22)","v":""},{"$f":"IF($C$39=\"\",\"\",PÚ!$G$20)","v":""},{"$f":"IF($C39=\"\",\"\",PÚ!$N$20)","v":""},{"$f":"IF($C$39=\"\",\"\",'4x100m'!$G$20)","v":""},{"$f":"IF($C39=\"\",\"\",'4x100m'!$N$20)","v":""},{"$f":"IF($C39=\"\",\"\",'PJ-C'!$N$54)","v":""},{"$f":"IF($C39=\"\",\"\",'PJ-C'!$P$54)","v":""},null,{"$f":"IF($C39=\"\",\"\",Výsledky3!H22)","v":""},{"$f":"IF($C39=\"\",\"\",Výsledky3!I22)","v":""},null,{"$f":"IF($C39=\"\",\"\",VLOOKUP($B39,POM!$A$1:$H$50,8))","v":""}]
[null,null,null,null,{"$f":"IF($C$39=\"\",\"\",PÚ!$K$20)","v":""},null,{"$f":"IF($C$39=\"\",\"\",'4x100m'!$K$20)","v":""}]
[null,{"$f":"Start!$B23","v":17},{"$f":"IF(Start!$C23=\"\",\"\",Start!$C23)","v":""},{"$f":"IF(Start!$D23=\"\",\"\",Start!$D23)","v":""},{"$f":"IF($C$41=\"\",\"\",PÚ!$G$21)","v":""},{"$f":"IF($C41=\"\",\"\",PÚ!$N$21)","v":""},{"$f":"IF($C$41=\"\",\"\",'4x100m'!$G$21)","v":""},{"$f":"IF($C41=\"\",\"\",'4x100m'!$N$21)","v":""},{"$f":"IF($C41=\"\",\"\",'PJ-C'!$N$57)","v":""},{"$f":"IF($C41=\"\",\"\",'PJ-C'!$P$57)","v":""},null,{"$f":"IF($C41=\"\",\"\",Výsledky3!H23)","v":""},{"$f":"IF($C41=\"\",\"\",Výsledky3!I23)","v":""},null,{"$f":"IF($C41=\"\",\"\",VLOOKUP($B41,POM!$A$1:$H$50,8))","v":""}]
[null,null,null,null,{"$f":"IF($C$41=\"\",\"\",PÚ!$K$21)","v":""},null,{"$f":"IF($C$41=\"\",\"\",'4x100m'!$K$21)","v":""}]
[null,{"$f":"Start!$B24","v":18},{"$f":"IF(Start!$C24=\"\",\"\",Start!$C24)","v":""},{"$f":"IF(Start!$D24=\"\",\"\",Start!$D24)","v":""},{"$f":"IF($C$43=\"\",\"\",PÚ!$G$22)","v":""},{"$f":"IF($C43=\"\",\"\",PÚ!$N$22)","v":""},{"$f":"IF($C$43=\"\",\"\",'4x100m'!$G$22)","v":""},{"$f":"IF($C43=\"\",\"\",'4x100m'!$N$22)","v":""},{"$f":"IF($C43=\"\",\"\",'PJ-C'!$N$60)","v":""},{"$f":"IF($C43=\"\",\"\",'PJ-C'!$P$60)","v":""},null,{"$f":"IF($C43=\"\",\"\",Výsledky3!H24)","v":""},{"$f":"IF($C43=\"\",\"\",Výsledky3!I24)","v":""},null,{"$f":"IF($C43=\"\",\"\",VLOOKUP($B43,POM!$A$1:$H$50,8))","v":""}]
[null,null,null,null,{"$f":"IF($C$43=\"\",\"\",PÚ!$K$22)","v":""},null,{"$f":"IF($C$43=\"\",\"\",'4x100m'!$K$22)","v":""}]
[null,{"$f":"Start!$B25","v":19},{"$f":"IF(Start!$C25=\"\",\"\",Start!$C25)","v":""},{"$f":"IF(Start!$D25=\"\",\"\",Start!$D25)","v":""},{"$f":"IF($C$45=\"\",\"\",PÚ!$G$23)","v":""},{"$f":"IF($C45=\"\",\"\",PÚ!$N$23)","v":""},{"$f":"IF($C$45=\"\",\"\",'4x100m'!$G$23)","v":""},{"$f":"IF($C45=\"\",\"\",'4x100m'!$N$23)","v":""},{"$f":"IF($C45=\"\",\"\",'PJ-C'!$N$63)","v":""},{"$f":"IF($C45=\"\",\"\",'PJ-C'!$P$63)","v":""},null,{"$f":"IF($C45=\"\",\"\",Výsledky3!H25)","v":""},{"$f":"IF($C45=\"\",\"\",Výsledky3!I25)","v":""},null,{"$f":"IF($C45=\"\",\"\",VLOOKUP($B45,POM!$A$1:$H$50,8))","v":""}]
[null,null,null,null,{"$f":"IF($C$45=\"\",\"\",PÚ!$K$23)","v":""},null,{"$f":"IF($C$45=\"\",\"\",'4x100m'!$K$23)","v":""}]
[null,{"$f":"Start!$B26","v":20},{"$f":"IF(Start!$C26=\"\",\"\",Start!$C26)","v":""},{"$f":"IF(Start!$D26=\"\",\"\",Start!$D26)","v":""},{"$f":"IF($C$47=\"\",\"\",PÚ!$G$24)","v":""},{"$f":"IF($C47=\"\",\"\",PÚ!$N$24)","v":""},{"$f":"IF($C$47=\"\",\"\",'4x100m'!$G$24)","v":""},{"$f":"IF($C47=\"\",\"\",'4x100m'!$N$24)","v":""},{"$f":"IF($C47=\"\",\"\",'PJ-C'!$N$66)","v":""},{"$f":"IF($C47=\"\",\"\",'PJ-C'!$P$66)","v":""},null,{"$f":"IF($C47=\"\",\"\",Výsledky3!H26)","v":""},{"$f":"IF($C47=\"\",\"\",Výsledky3!I26)","v":""},null,{"$f":"IF($C47=\"\",\"\",VLOOKUP($B47,POM!$A$1:$H$50,8))","v":""}]
[null,null,null,null,{"$f":"IF($C$47=\"\",\"\",PÚ!$K$24)","v":""},null,{"$f":"IF($C$47=\"\",\"\",'4x100m'!$K$24)","v":""}]
[null,"Celkové Výsledky"]
[]
[null,null,{"$f":"C3","v":"Kraj "},null,null,null,{"$f":"G3","v":"Chrast 16.6.2024"}]
[]
[null,null,{"$f":"Start!$C$5","v":"Dorky"}]
[null," startovní číslo"," SDH",{"$f":"Start!$D$6","v":"Okres"}," PÚ",null," Štafeta 4 x 100 m",null,"Běh na 100 m        s překážkami",null,null,"Celkový součet pořadí",null,null,"Celkové pořadí"]
[null,null,null,null,"1.pokus","P.","1.pokus","P.","Součet","P."]
[null,null,null,null,"2.pokus",null,"2.pokus",null,"Družstva"]
[null,{"$f":"Start!$B27","v":21},{"$f":"IF(Start!$C27=\"\",\"\",Start!$C27)","v":""},{"$f":"IF(Start!$D27=\"\",\"\",Start!$D27)","v":""},{"$f":"IF($C57=\"\",\"\",PÚ!$G$25)","v":""},{"$f":"IF($C57=\"\",\"\",PÚ!$N$25)","v":""},{"$f":"IF($C57=\"\",\"\",'4x100m'!$G$25)","v":""},{"$f":"IF($C57=\"\",\"\",'4x100m'!$N$25)","v":""},{"$f":"IF($C57=\"\",\"\",'PJ-C'!$N$73)","v":""},{"$f":"IF($C57=\"\",\"\",'PJ-C'!$P$73)","v":""},null,{"$f":"IF($C57=\"\",\"\",Výsledky3!H27)","v":""},{"$f":"IF($C57=\"\",\"\",Výsledky3!I27)","v":""},null,{"$f":"IF($C57=\"\",\"\",VLOOKUP($B57,POM!$A$1:$H$50,8))","v":""}]
[null,null,null,null,{"$f":"IF($C57=\"\",\"\",PÚ!$K$25)","v":""},null,{"$f":"IF($C57=\"\",\"\",'4x100m'!$K$25)","v":""}]
[null,{"$f":"Start!$B28","v":22},{"$f":"IF(Start!$C28=\"\",\"\",Start!$C28)","v":""},{"$f":"IF(Start!$D28=\"\",\"\",Start!$D28)","v":""},{"$f":"IF($C59=\"\",\"\",PÚ!$G$26)","v":""},{"$f":"IF($C59=\"\",\"\",PÚ!$N$26)","v":""},{"$f":"IF($C59=\"\",\"\",'4x100m'!$G$26)","v":""},{"$f":"IF($C59=\"\",\"\",'4x100m'!$N$26)","v":""},{"$f":"IF($C59=\"\",\"\",'PJ-C'!$N$76)","v":""},{"$f":"IF($C59=\"\",\"\",'PJ-C'!$P$76)","v":""},null,{"$f":"IF($C59=\"\",\"\",Výsledky3!H28)","v":""},{"$f":"IF($C59=\"\",\"\",Výsledky3!I28)","v":""},null,{"$f":"IF($C59=\"\",\"\",VLOOKUP($B59,POM!$A$1:$H$50,8))","v":""}]
[null,null,null,null,{"$f":"IF($C59=\"\",\"\",PÚ!$K$26)","v":""},null,{"$f":"IF($C59=\"\",\"\",'4x100m'!$K$26)","v":""}]
[null,{"$f":"Start!$B29","v":23},{"$f":"IF(Start!$C29=\"\",\"\",Start!$C29)","v":""},{"$f":"IF(Start!$D29=\"\",\"\",Start!$D29)","v":""},{"$f":"IF($C61=\"\",\"\",PÚ!$G$27)","v":""},{"$f":"IF($C61=\"\",\"\",PÚ!$N$27)","v":""},{"$f":"IF($C61=\"\",\"\",'4x100m'!$G$27)","v":""},{"$f":"IF($C61=\"\",\"\",'4x100m'!$N$27)","v":""},{"$f":"IF($C61=\"\",\"\",'PJ-C'!$N$79)","v":""},{"$f":"IF($C61=\"\",\"\",'PJ-C'!$P$79)","v":""},null,{"$f":"IF($C61=\"\",\"\",Výsledky3!H29)","v":""},{"$f":"IF($C61=\"\",\"\",Výsledky3!I29)","v":""},null,{"$f":"IF($C61=\"\",\"\",VLOOKUP($B61,POM!$A$1:$H$50,8))","v":""}]
[null,null,null,null,{"$f":"IF($C61=\"\",\"\",PÚ!$K$27)","v":""},null,{"$f":"IF($C61=\"\",\"\",'4x100m'!$K$27)","v":""}]
[null,{"$f":"Start!$B30","v":24},{"$f":"IF(Start!$C30=\"\",\"\",Start!$C30)","v":""},{"$f":"IF(Start!$D30=\"\",\"\",Start!$D30)","v":""},{"$f":"IF($C63=\"\",\"\",PÚ!$G$28)","v":""},{"$f":"IF($C63=\"\",\"\",PÚ!$N$28)","v":""},{"$f":"IF($C63=\"\",\"\",'4x100m'!$G$28)","v":""},{"$f":"IF($C63=\"\",\"\",'4x100m'!$N$28)","v":""},{"$f":"IF($C63=\"\",\"\",'PJ-C'!$N$82)","v":""},{"$f":"IF($C63=\"\",\"\",'PJ-C'!$P$82)","v":""},null,{"$f":"IF($C63=\"\",\"\",Výsledky3!H30)","v":""},{"$f":"IF($C63=\"\",\"\",Výsledky3!I30)","v":""},null,{"$f":"IF($C63=\"\",\"\",VLOOKUP($B63,POM!$A$1:$H$50,8))","v":""}]
[null,null,null,null,{"$f":"IF($C63=\"\",\"\",PÚ!$K$28)","v":""},null,{"$f":"IF($C63=\"\",\"\",'4x100m'!$K$28)","v":""}]
[null,{"$f":"Start!$B31","v":25},{"$f":"IF(Start!$C31=\"\",\"\",Start!$C31)","v":""},{"$f":"IF(Start!$D31=\"\",\"\",Start!$D31)","v":""},{"$f":"IF($C65=\"\",\"\",PÚ!$G$29)","v":""},{"$f":"IF($C65=\"\",\"\",PÚ!$N$29)","v":""},{"$f":"IF($C65=\"\",\"\",'4x100m'!$G$29)","v":""},{"$f":"IF($C65=\"\",\"\",'4x100m'!$N$29)","v":""},{"$f":"IF($C65=\"\",\"\",'PJ-C'!$N$85)","v":""},{"$f":"IF($C65=\"\",\"\",'PJ-C'!$P$85)","v":""},null,{"$f":"IF($C65=\"\",\"\",Výsledky3!H31)","v":""},{"$f":"IF($C65=\"\",\"\",Výsledky3!I31)","v":""},null,{"$f":"IF($C65=\"\",\"\",VLOOKUP($B65,POM!$A$1:$H$50,8))","v":""}]
[null,null,null,null,{"$f":"IF($C65=\"\",\"\",PÚ!$K$29)","v":""},null,{"$f":"IF($C65=\"\",\"\",'4x100m'!$K$29)","v":""}]
[null,{"$f":"Start!$F7","v":26},{"$f":"IF(Start!$G7=\"\",\"\",Start!$G7)","v":""},{"$f":"IF(Start!$H7=\"\",\"\",Start!$H7)","v":""},{"$f":"IF($C67=\"\",\"\",PÚ!$G$30)","v":""},{"$f":"IF($C67=\"\",\"\",PÚ!$N$30)","v":""},{"$f":"IF($C67=\"\",\"\",'4x100m'!$G$30)","v":""},{"$f":"IF($C67=\"\",\"\",'4x100m'!$N$30)","v":""},{"$f":"IF($C67=\"\",\"\",'PJ-C'!$N$88)","v":""},{"$f":"IF($C67=\"\",\"\",'PJ-C'!$P$88)","v":""},null,{"$f":"IF($C67=\"\",\"\",Výsledky3!H32)","v":""},{"$f":"IF($C67=\"\",\"\",Výsledky3!I32)","v":""},null,{"$f":"IF($C67=\"\",\"\",VLOOKUP($B67,POM!$A$1:$H$50,8))","v":""}]
[null,null,null,null,{"$f":"IF($C67=\"\",\"\",PÚ!$K$30)","v":""},null,{"$f":"IF($C67=\"\",\"\",'4x100m'!$K$30)","v":""}]
[null,{"$f":"Start!$F8","v":27},{"$f":"IF(Start!$G8=\"\",\"\",Start!$G8)","v":""},{"$f":"IF(Start!$H8=\"\",\"\",Start!$H8)","v":""},{"$f":"IF($C69=\"\",\"\",PÚ!$G$31)","v":""},{"$f":"IF($C69=\"\",\"\",PÚ!$N$31)","v":""},{"$f":"IF($C69=\"\",\"\",'4x100m'!$G$31)","v":""},{"$f":"IF($C69=\"\",\"\",'4x100m'!$N$31)","v":""},{"$f":"IF($C69=\"\",\"\",'PJ-C'!$N$91)","v":""},{"$f":"IF($C69=\"\",\"\",'PJ-C'!$P$91)","v":""},null,{"$f":"IF($C69=\"\",\"\",Výsledky3!H33)","v":""},{"$f":"IF($C69=\"\",\"\",Výsledky3!I33)","v":""},null,{"$f":"IF($C69=\"\",\"\",VLOOKUP($B69,POM!$A$1:$H$50,8))","v":""}]
[null,null,null,null,{"$f":"IF($C69=\"\",\"\",PÚ!$K$31)","v":""},null,{"$f":"IF($C69=\"\",\"\",'4x100m'!$K$31)","v":""}]
[null,{"$f":"Start!$F9","v":28},{"$f":"IF(Start!$G9=\"\",\"\",Start!$G9)","v":""},{"$f":"IF(Start!$H9=\"\",\"\",Start!$H9)","v":""},{"$f":"IF($C71=\"\",\"\",PÚ!$G$32)","v":""},{"$f":"IF($C71=\"\",\"\",PÚ!$N$32)","v":""},{"$f":"IF($C71=\"\",\"\",'4x100m'!$G$32)","v":""},{"$f":"IF($C71=\"\",\"\",'4x100m'!$N$32)","v":""},{"$f":"IF($C71=\"\",\"\",'PJ-C'!$N$94)","v":""},{"$f":"IF($C71=\"\",\"\",'PJ-C'!$P$94)","v":""},null,{"$f":"IF($C71=\"\",\"\",Výsledky3!H34)","v":""},{"$f":"IF($C71=\"\",\"\",Výsledky3!I34)","v":""},null,{"$f":"IF($C71=\"\",\"\",VLOOKUP($B71,POM!$A$1:$H$50,8))","v":""}]
[null,null,null,null,{"$f":"IF($C71=\"\",\"\",PÚ!$K$32)","v":""},null,{"$f":"IF($C71=\"\",\"\",'4x100m'!$K$32)","v":""}]
[null,{"$f":"Start!$F10","v":29},{"$f":"IF(Start!$G10=\"\",\"\",Start!$G10)","v":""},{"$f":"IF(Start!$H10=\"\",\"\",Start!$H10)","v":""},{"$f":"IF($C73=\"\",\"\",PÚ!$G$33)","v":""},{"$f":"IF($C73=\"\",\"\",PÚ!$N$33)","v":""},{"$f":"IF($C73=\"\",\"\",'4x100m'!$G$33)","v":""},{"$f":"IF($C73=\"\",\"\",'4x100m'!$N$33)","v":""},{"$f":"IF($C73=\"\",\"\",'PJ-C'!$N$97)","v":""},{"$f":"IF($C73=\"\",\"\",'PJ-C'!$P$97)","v":""},null,{"$f":"IF($C73=\"\",\"\",Výsledky3!H35)","v":""},{"$f":"IF($C73=\"\",\"\",Výsledky3!I35)","v":""},null,{"$f":"IF($C73=\"\",\"\",VLOOKUP($B73,POM!$A$1:$H$50,8))","v":""}]
[null,null,null,null,{"$f":"IF($C73=\"\",\"\",PÚ!$K$33)","v":""},null,{"$f":"IF($C73=\"\",\"\",'4x100m'!$K$33)","v":""}]
[null,{"$f":"Start!$F11","v":30},{"$f":"IF(Start!$G11=\"\",\"\",Start!$G11)","v":""},{"$f":"IF(Start!$H11=\"\",\"\",Start!$H11)","v":""},{"$f":"IF($C75=\"\",\"\",PÚ!$G$34)","v":""},{"$f":"IF($C75=\"\",\"\",PÚ!$N$34)","v":""},{"$f":"IF($C75=\"\",\"\",'4x100m'!$G$34)","v":""},{"$f":"IF($C75=\"\",\"\",'4x100m'!$N$34)","v":""},{"$f":"IF($C75=\"\",\"\",'PJ-C'!$N$100)","v":""},{"$f":"IF($C75=\"\",\"\",'PJ-C'!$P$100)","v":""},null,{"$f":"IF($C75=\"\",\"\",Výsledky3!H36)","v":""},{"$f":"IF($C75=\"\",\"\",Výsledky3!I36)","v":""},null,{"$f":"IF($C75=\"\",\"\",VLOOKUP($B75,POM!$A$1:$H$50,8))","v":""}]
[null,null,null,null,{"$f":"IF($C75=\"\",\"\",PÚ!$K$34)","v":""},null,{"$f":"IF($C75=\"\",\"\",'4x100m'!$K$34)","v":""}]
[null,{"$f":"Start!$F12","v":31},{"$f":"IF(Start!$G12=\"\",\"\",Start!$G12)","v":""},{"$f":"IF(Start!$H12=\"\",\"\",Start!$H12)","v":""},{"$f":"IF($C77=\"\",\"\",PÚ!$G$35)","v":""},{"$f":"IF($C77=\"\",\"\",PÚ!$N$35)","v":""},{"$f":"IF($C77=\"\",\"\",'4x100m'!$G$35)","v":""},{"$f":"IF($C77=\"\",\"\",'4x100m'!$N$35)","v":""},{"$f":"IF($C77=\"\",\"\",'PJ-C'!$N$107)","v":""},{"$f":"IF($C77=\"\",\"\",'PJ-C'!$P$107)","v":""},null,{"$f":"IF($C77=\"\",\"\",Výsledky3!H37)","v":""},{"$f":"IF($C77=\"\",\"\",Výsledky3!I37)","v":""},null,{"$f":"IF($C77=\"\",\"\",VLOOKUP($B77,POM!$A$1:$H$50,8))","v":""}]
[null,null,null,null,{"$f":"IF($C77=\"\",\"\",PÚ!$K$35)","v":""},null,{"$f":"IF($C77=\"\",\"\",'4x100m'!$K$35)","v":""}]
[null,{"$f":"Start!$F13","v":32},{"$f":"IF(Start!$G13=\"\",\"\",Start!$G13)","v":""},{"$f":"IF(Start!$H13=\"\",\"\",Start!$H13)","v":""},{"$f":"IF($C79=\"\",\"\",PÚ!$G$36)","v":""},{"$f":"IF($C79=\"\",\"\",PÚ!$N$36)","v":""},{"$f":"IF($C79=\"\",\"\",'4x100m'!$G$36)","v":""},{"$f":"IF($C79=\"\",\"\",'4x100m'!$N$36)","v":""},{"$f":"IF($C79=\"\",\"\",'PJ-C'!$N$110)","v":""},{"$f":"IF($C79=\"\",\"\",'PJ-C'!$P$110)","v":""},null,{"$f":"IF($C79=\"\",\"\",Výsledky3!H38)","v":""},{"$f":"IF($C79=\"\",\"\",Výsledky3!I38)","v":""},null,{"$f":"IF($C79=\"\",\"\",VLOOKUP($B79,POM!$A$1:$H$50,8))","v":""}]
[null,null,null,null,{"$f":"IF($C79=\"\",\"\",PÚ!$K$36)","v":""},null,{"$f":"IF($C79=\"\",\"\",'4x100m'!$K$36)","v":""}]
[null,{"$f":"Start!$F14","v":33},{"$f":"IF(Start!$G14=\"\",\"\",Start!$G14)","v":""},{"$f":"IF(Start!$H14=\"\",\"\",Start!$H14)","v":""},{"$f":"IF($C81=\"\",\"\",PÚ!$G$37)","v":""},{"$f":"IF($C81=\"\",\"\",PÚ!$N$37)","v":""},{"$f":"IF($C81=\"\",\"\",'4x100m'!$G$37)","v":""},{"$f":"IF($C81=\"\",\"\",'4x100m'!$N$37)","v":""},{"$f":"IF($C81=\"\",\"\",'PJ-C'!$N$113)","v":""},{"$f":"IF($C81=\"\",\"\",'PJ-C'!$P$113)","v":""},null,{"$f":"IF($C81=\"\",\"\",Výsledky3!H39)","v":""},{"$f":"IF($C81=\"\",\"\",Výsledky3!I39)","v":""},null,{"$f":"IF($C81=\"\",\"\",VLOOKUP($B81,POM!$A$1:$H$50,8))","v":""}]
[null,null,null,null,{"$f":"IF($C81=\"\",\"\",PÚ!$K$37)","v":""},null,{"$f":"IF($C81=\"\",\"\",'4x100m'!$K$37)","v":""}]
[null,{"$f":"Start!$F15","v":34},{"$f":"IF(Start!$G15=\"\",\"\",Start!$G15)","v":""},{"$f":"IF(Start!$H15=\"\",\"\",Start!$H15)","v":""},{"$f":"IF($C83=\"\",\"\",PÚ!$G$38)","v":""},{"$f":"IF($C83=\"\",\"\",PÚ!$N$38)","v":""},{"$f":"IF($C83=\"\",\"\",'4x100m'!$G$38)","v":""},{"$f":"IF($C83=\"\",\"\",'4x100m'!$N$38)","v":""},{"$f":"IF($C83=\"\",\"\",'PJ-C'!$N$116)","v":""},{"$f":"IF($C83=\"\",\"\",'PJ-C'!$P$116)","v":""},null,{"$f":"IF($C83=\"\",\"\",Výsledky3!H40)","v":""},{"$f":"IF($C83=\"\",\"\",Výsledky3!I40)","v":""},null,{"$f":"IF($C83=\"\",\"\",VLOOKUP($B83,POM!$A$1:$H$50,8))","v":""}]
[null,null,null,null,{"$f":"IF($C83=\"\",\"\",PÚ!$K$38)","v":""},null,{"$f":"IF($C83=\"\",\"\",'4x100m'!$K$38)","v":""}]
[null,{"$f":"Start!$F16","v":35},{"$f":"IF(Start!$G16=\"\",\"\",Start!$G16)","v":""},{"$f":"IF(Start!$H16=\"\",\"\",Start!$H16)","v":""},{"$f":"IF($C85=\"\",\"\",PÚ!$G$39)","v":""},{"$f":"IF($C85=\"\",\"\",PÚ!$N$39)","v":""},{"$f":"IF($C85=\"\",\"\",'4x100m'!$G$39)","v":""},{"$f":"IF($C85=\"\",\"\",'4x100m'!$N$39)","v":""},{"$f":"IF($C85=\"\",\"\",'PJ-C'!$N$119)","v":""},{"$f":"IF($C85=\"\",\"\",'PJ-C'!$P$119)","v":""},null,{"$f":"IF($C85=\"\",\"\",Výsledky3!H41)","v":""},{"$f":"IF($C85=\"\",\"\",Výsledky3!I41)","v":""},null,{"$f":"IF($C85=\"\",\"\",VLOOKUP($B85,POM!$A$1:$H$50,8))","v":""}]
[null,null,null,null,{"$f":"IF($C85=\"\",\"\",PÚ!$K$39)","v":""},null,{"$f":"IF($C85=\"\",\"\",'4x100m'!$K$39)","v":""}]
[null,{"$f":"Start!$F17","v":36},{"$f":"IF(Start!$G17=\"\",\"\",Start!$G17)","v":""},{"$f":"IF(Start!$H17=\"\",\"\",Start!$H17)","v":""},{"$f":"IF($C87=\"\",\"\",PÚ!$G$40)","v":""},{"$f":"IF($C87=\"\",\"\",PÚ!$N$40)","v":""},{"$f":"IF($C87=\"\",\"\",'4x100m'!$G$40)","v":""},{"$f":"IF($C87=\"\",\"\",'4x100m'!$N$40)","v":""},{"$f":"IF($C87=\"\",\"\",'PJ-C'!$N$122)","v":""},{"$f":"IF($C87=\"\",\"\",'PJ-C'!$P$122)","v":""},null,{"$f":"IF($C87=\"\",\"\",Výsledky3!H42)","v":""},{"$f":"IF($C87=\"\",\"\",Výsledky3!I42)","v":""},null,{"$f":"IF($C87=\"\",\"\",VLOOKUP($B87,POM!$A$1:$H$50,8))","v":""}]
[null,null,null,null,{"$f":"IF($C87=\"\",\"\",PÚ!$K$40)","v":""},null,{"$f":"IF($C87=\"\",\"\",'4x100m'!$K$40)","v":""}]
[null,{"$f":"Start!$F18","v":37},{"$f":"IF(Start!$G18=\"\",\"\",Start!$G18)","v":""},{"$f":"IF(Start!$H18=\"\",\"\",Start!$H18)","v":""},{"$f":"IF($C89=\"\",\"\",PÚ!$G$41)","v":""},{"$f":"IF($C89=\"\",\"\",PÚ!$N$41)","v":""},{"$f":"IF($C89=\"\",\"\",'4x100m'!$G$41)","v":""},{"$f":"IF($C89=\"\",\"\",'4x100m'!$N$41)","v":""},{"$f":"IF($C89=\"\",\"\",'PJ-C'!$N$125)","v":""},{"$f":"IF($C89=\"\",\"\",'PJ-C'!$P$125)","v":""},null,{"$f":"IF($C89=\"\",\"\",Výsledky3!H43)","v":""},{"$f":"IF($C89=\"\",\"\",Výsledky3!I43)","v":""},null,{"$f":"IF($C89=\"\",\"\",VLOOKUP($B89,POM!$A$1:$H$50,8))","v":""}]
[null,null,null,null,{"$f":"IF($C89=\"\",\"\",PÚ!$K$41)","v":""},null,{"$f":"IF($C89=\"\",\"\",'4x100m'!$K$41)","v":""}]
[null,{"$f":"Start!$F19","v":38},{"$f":"IF(Start!$G19=\"\",\"\",Start!$G19)","v":""},{"$f":"IF(Start!$H19=\"\",\"\",Start!$H19)","v":""},{"$f":"IF($C91=\"\",\"\",PÚ!$G$42)","v":""},{"$f":"IF($C91=\"\",\"\",PÚ!$N$42)","v":""},{"$f":"IF($C91=\"\",\"\",'4x100m'!$G$42)","v":""},{"$f":"IF($C91=\"\",\"\",'4x100m'!$N$42)","v":""},{"$f":"IF($C91=\"\",\"\",'PJ-C'!$N$128)","v":""},{"$f":"IF($C91=\"\",\"\",'PJ-C'!$P$128)","v":""},null,{"$f":"IF($C91=\"\",\"\",Výsledky3!H44)","v":""},{"$f":"IF($C91=\"\",\"\",Výsledky3!I44)","v":""},null,{"$f":"IF($C91=\"\",\"\",VLOOKUP($B91,POM!$A$1:$H$50,8))","v":""}]
[null,null,null,null,{"$f":"IF($C91=\"\",\"\",PÚ!$K$42)","v":""},null,{"$f":"IF($C91=\"\",\"\",'4x100m'!$K$42)","v":""}]
[null,{"$f":"Start!$F20","v":39},{"$f":"IF(Start!$G20=\"\",\"\",Start!$G20)","v":""},{"$f":"IF(Start!$H20=\"\",\"\",Start!$H20)","v":""},{"$f":"IF($C93=\"\",\"\",PÚ!$G$43)","v":""},{"$f":"IF($C93=\"\",\"\",PÚ!$N$43)","v":""},{"$f":"IF($C93=\"\",\"\",'4x100m'!$G$43)","v":""},{"$f":"IF($C93=\"\",\"\",'4x100m'!$N$43)","v":""},{"$f":"IF($C93=\"\",\"\",'PJ-C'!$N$131)","v":""},{"$f":"IF($C93=\"\",\"\",'PJ-C'!$P$131)","v":""},null,{"$f":"IF($C93=\"\",\"\",Výsledky3!H45)","v":""},{"$f":"IF($C93=\"\",\"\",Výsledky3!I45)","v":""},null,{"$f":"IF($C93=\"\",\"\",VLOOKUP($B93,POM!$A$1:$H$50,8))","v":""}]
[null,null,null,null,{"$f":"IF($C93=\"\",\"\",PÚ!$K$43)","v":""},null,{"$f":"IF($C93=\"\",\"\",'4x100m'!$K$43)","v":""}]
[null,{"$f":"Start!$F21","v":40},{"$f":"IF(Start!$G21=\"\",\"\",Start!$G21)","v":""},{"$f":"IF(Start!$H21=\"\",\"\",Start!$H21)","v":""},{"$f":"IF($C95=\"\",\"\",PÚ!$G$44)","v":""},{"$f":"IF($C95=\"\",\"\",PÚ!$N$44)","v":""},{"$f":"IF($C95=\"\",\"\",'4x100m'!$G$44)","v":""},{"$f":"IF($C95=\"\",\"\",'4x100m'!$N$44)","v":""},{"$f":"IF($C95=\"\",\"\",'PJ-C'!$N$134)","v":""},{"$f":"IF($C95=\"\",\"\",'PJ-C'!$P$134)","v":""},null,{"$f":"IF($C95=\"\",\"\",Výsledky3!H46)","v":""},{"$f":"IF($C95=\"\",\"\",Výsledky3!I46)","v":""},null,{"$f":"IF($C95=\"\",\"\",VLOOKUP($B95,POM!$A$1:$H$50,8))","v":""}]
[null,null,null,null,{"$f":"IF($C95=\"\",\"\",PÚ!$K$44)","v":""},null,{"$f":"IF($C95=\"\",\"\",'4x100m'!$K$44)","v":""}]
[null,"Celkové Výsledky"]
[]
[null,null,{"$f":"C51","v":"Kraj "},null,null,null,{"$f":"G51","v":"Chrast 16.6.2024"}]
[]
[null,null,{"$f":"Start!$C$5","v":"Dorky"}]
[null," startovní číslo"," SDH",{"$f":"Start!$D$6","v":"Okres"}," PÚ",null," Štafeta 4 x 100 m",null,"Běh na 100 m        s překážkami",null,null,"Celkový součet pořadí",null,null,"Celkové pořadí"]
[null,null,null,null,"1.pokus","P.","1.pokus","P.","Součet","P."]
[null,null,null,null,"2.pokus",null,"2.pokus",null,"Družstva"]
[null,{"$f":"Start!$F22","v":41},{"$f":"IF(Start!$G22=\"\",\"\",Start!$G22)","v":""},{"$f":"IF(Start!$H22=\"\",\"\",Start!$H22)","v":""},{"$f":"IF($C105=\"\",\"\",PÚ!$G$45)","v":""},{"$f":"IF($C105=\"\",\"\",PÚ!$N$45)","v":""},{"$f":"IF($C105=\"\",\"\",'4x100m'!$G$45)","v":""},{"$f":"IF($C105=\"\",\"\",'4x100m'!$N$45)","v":""},{"$f":"IF($C105=\"\",\"\",'PJ-C'!$N$141)","v":""},{"$f":"IF($C105=\"\",\"\",'PJ-C'!$P$141)","v":""},null,{"$f":"IF($C105=\"\",\"\",Výsledky3!H47)","v":""},{"$f":"IF($C105=\"\",\"\",Výsledky3!I47)","v":""},null,{"$f":"IF($C105=\"\",\"\",VLOOKUP($B105,POM!$A$1:$H$50,8))","v":""}]
[null,null,null,null,{"$f":"IF($C105=\"\",\"\",PÚ!$K$45)","v":""},null,{"$f":"IF($C105=\"\",\"\",'4x100m'!$K$45)","v":""}]
[null,{"$f":"Start!$F23","v":42},{"$f":"IF(Start!$G23=\"\",\"\",Start!$G23)","v":""},{"$f":"IF(Start!$H23=\"\",\"\",Start!$H23)","v":""},{"$f":"IF($C107=\"\",\"\",PÚ!$G$46)","v":""},{"$f":"IF($C107=\"\",\"\",PÚ!$N$46)","v":""},{"$f":"IF($C107=\"\",\"\",'4x100m'!$G$46)","v":""},{"$f":"IF($C107=\"\",\"\",'4x100m'!$N$46)","v":""},{"$f":"IF($C107=\"\",\"\",'PJ-C'!$N$144)","v":""},{"$f":"IF($C107=\"\",\"\",'PJ-C'!$P$144)","v":""},null,{"$f":"IF($C107=\"\",\"\",Výsledky3!H48)","v":""},{"$f":"IF($C107=\"\",\"\",Výsledky3!I48)","v":""},null,{"$f":"IF($C107=\"\",\"\",VLOOKUP($B107,POM!$A$1:$H$50,8))","v":""}]
[null,null,null,null,{"$f":"IF($C107=\"\",\"\",PÚ!$K$46)","v":""},null,{"$f":"IF($C107=\"\",\"\",'4x100m'!$K$46)","v":""}]
[null,{"$f":"Start!$F24","v":43},{"$f":"IF(Start!$G24=\"\",\"\",Start!$G24)","v":""},{"$f":"IF(Start!$H24=\"\",\"\",Start!$H24)","v":""},{"$f":"IF($C109=\"\",\"\",PÚ!$G$47)","v":""},{"$f":"IF($C109=\"\",\"\",PÚ!$N$47)","v":""},{"$f":"IF($C109=\"\",\"\",'4x100m'!$G$47)","v":""},{"$f":"IF($C109=\"\",\"\",'4x100m'!$N$47)","v":""},{"$f":"IF($C109=\"\",\"\",'PJ-C'!$N$147)","v":""},{"$f":"IF($C109=\"\",\"\",'PJ-C'!$P$147)","v":""},null,{"$f":"IF($C109=\"\",\"\",Výsledky3!H49)","v":""},{"$f":"IF($C109=\"\",\"\",Výsledky3!I49)","v":""},null,{"$f":"IF($C109=\"\",\"\",VLOOKUP($B109,POM!$A$1:$H$50,8))","v":""}]
[null,null,null,null,{"$f":"IF($C109=\"\",\"\",PÚ!$K$47)","v":""},null,{"$f":"IF($C109=\"\",\"\",'4x100m'!$K$47)","v":""}]
[null,{"$f":"Start!$F25","v":44},{"$f":"IF(Start!$G25=\"\",\"\",Start!$G25)","v":""},{"$f":"IF(Start!$H25=\"\",\"\",Start!$H25)","v":""},{"$f":"IF($C111=\"\",\"\",PÚ!$G$48)","v":""},{"$f":"IF($C111=\"\",\"\",PÚ!$N$48)","v":""},{"$f":"IF($C111=\"\",\"\",'4x100m'!$G$48)","v":""},{"$f":"IF($C111=\"\",\"\",'4x100m'!$N$48)","v":""},{"$f":"IF($C111=\"\",\"\",'PJ-C'!$N$150)","v":""},{"$f":"IF($C111=\"\",\"\",'PJ-C'!$P$150)","v":""},null,{"$f":"IF($C111=\"\",\"\",Výsledky3!H50)","v":""},{"$f":"IF($C111=\"\",\"\",Výsledky3!I50)","v":""},null,{"$f":"IF($C111=\"\",\"\",VLOOKUP($B111,POM!$A$1:$H$50,8))","v":""}]
[null,null,null,null,{"$f":"IF($C111=\"\",\"\",PÚ!$K$48)","v":""},null,{"$f":"IF($C111=\"\",\"\",'4x100m'!$K$48)","v":""}]
[null,{"$f":"Start!$F26","v":45},{"$f":"IF(Start!$G26=\"\",\"\",Start!$G26)","v":""},{"$f":"IF(Start!$H26=\"\",\"\",Start!$H26)","v":""},{"$f":"IF($C113=\"\",\"\",PÚ!$G$49)","v":""},{"$f":"IF($C113=\"\",\"\",PÚ!$N$49)","v":""},{"$f":"IF($C113=\"\",\"\",'4x100m'!$G$49)","v":""},{"$f":"IF($C113=\"\",\"\",'4x100m'!$N$49)","v":""},{"$f":"IF($C113=\"\",\"\",'PJ-C'!$N$153)","v":""},{"$f":"IF($C113=\"\",\"\",'PJ-C'!$P$153)","v":""},null,{"$f":"IF($C113=\"\",\"\",Výsledky3!H51)","v":""},{"$f":"IF($C113=\"\",\"\",Výsledky3!I51)","v":""},null,{"$f":"IF($C113=\"\",\"\",VLOOKUP($B113,POM!$A$1:$H$50,8))","v":""}]
[null,null,null,null,{"$f":"IF($C113=\"\",\"\",PÚ!$K$49)","v":""},null,{"$f":"IF($C113=\"\",\"\",'4x100m'!$K$49)","v":""}]
[null,{"$f":"Start!$F27","v":46},{"$f":"IF(Start!$G27=\"\",\"\",Start!$G27)","v":""},{"$f":"IF(Start!$H27=\"\",\"\",Start!$H27)","v":""},{"$f":"IF($C115=\"\",\"\",PÚ!$G$50)","v":""},{"$f":"IF($C115=\"\",\"\",PÚ!$N$50)","v":""},{"$f":"IF($C115=\"\",\"\",'4x100m'!$G$50)","v":""},{"$f":"IF($C115=\"\",\"\",'4x100m'!$N$50)","v":""},{"$f":"IF($C115=\"\",\"\",'PJ-C'!$N$156)","v":""},{"$f":"IF($C115=\"\",\"\",'PJ-C'!$P$156)","v":""},null,{"$f":"IF($C115=\"\",\"\",Výsledky3!H52)","v":""},{"$f":"IF($C115=\"\",\"\",Výsledky3!I52)","v":""},null,{"$f":"IF($C115=\"\",\"\",VLOOKUP($B115,POM!$A$1:$H$50,8))","v":""}]
[null,null,null,null,{"$f":"IF($C115=\"\",\"\",PÚ!$K$50)","v":""},null,{"$f":"IF($C115=\"\",\"\",'4x100m'!$K$50)","v":""}]
[null,{"$f":"Start!$F28","v":47},{"$f":"IF(Start!$G28=\"\",\"\",Start!$G28)","v":""},{"$f":"IF(Start!$H28=\"\",\"\",Start!$H28)","v":""},{"$f":"IF($C117=\"\",\"\",PÚ!$G$51)","v":""},{"$f":"IF($C117=\"\",\"\",PÚ!$N$51)","v":""},{"$f":"IF($C117=\"\",\"\",'4x100m'!$G$51)","v":""},{"$f":"IF($C117=\"\",\"\",'4x100m'!$N$51)","v":""},{"$f":"IF($C117=\"\",\"\",'PJ-C'!$N$159)","v":""},{"$f":"IF($C117=\"\",\"\",'PJ-C'!$P$159)","v":""},null,{"$f":"IF($C117=\"\",\"\",Výsledky3!H53)","v":""},{"$f":"IF($C117=\"\",\"\",Výsledky3!I53)","v":""},null,{"$f":"IF($C117=\"\",\"\",VLOOKUP($B117,POM!$A$1:$H$50,8))","v":""}]
[null,null,null,null,{"$f":"IF($C117=\"\",\"\",PÚ!$K$51)","v":""},null,{"$f":"IF($C117=\"\",\"\",'4x100m'!$K$51)","v":""}]
[null,{"$f":"Start!$F29","v":48},{"$f":"IF(Start!$G29=\"\",\"\",Start!$G29)","v":""},{"$f":"IF(Start!$H29=\"\",\"\",Start!$H29)","v":""},{"$f":"IF($C119=\"\",\"\",PÚ!$G$52)","v":""},{"$f":"IF($C119=\"\",\"\",PÚ!$N$52)","v":""},{"$f":"IF($C119=\"\",\"\",'4x100m'!$G$52)","v":""},{"$f":"IF($C119=\"\",\"\",'4x100m'!$N$52)","v":""},{"$f":"IF($C119=\"\",\"\",'PJ-C'!$N$162)","v":""},{"$f":"IF($C119=\"\",\"\",'PJ-C'!$P$162)","v":""},null,{"$f":"IF($C119=\"\",\"\",Výsledky3!H54)","v":""},{"$f":"IF($C119=\"\",\"\",Výsledky3!I54)","v":""},null,{"$f":"IF($C119=\"\",\"\",VLOOKUP($B119,POM!$A$1:$H$50,8))","v":""}]
[null,null,null,null,{"$f":"IF($C119=\"\",\"\",PÚ!$K$52)","v":""},null,{"$f":"IF($C119=\"\",\"\",'4x100m'!$K$52)","v":""}]
[null,{"$f":"Start!$F30","v":49},{"$f":"IF(Start!$G30=\"\",\"\",Start!$G30)","v":""},{"$f":"IF(Start!$H30=\"\",\"\",Start!$H30)","v":""},{"$f":"IF($C121=\"\",\"\",PÚ!$G$53)","v":""},{"$f":"IF($C121=\"\",\"\",PÚ!$N$53)","v":""},{"$f":"IF($C121=\"\",\"\",'4x100m'!$G$53)","v":""},{"$f":"IF($C121=\"\",\"\",'4x100m'!$N$53)","v":""},{"$f":"IF($C121=\"\",\"\",'PJ-C'!$N$165)","v":""},{"$f":"IF($C121=\"\",\"\",'PJ-C'!$P$165)","v":""},null,{"$f":"IF($C121=\"\",\"\",Výsledky3!H55)","v":""},{"$f":"IF($C121=\"\",\"\",Výsledky3!I55)","v":""},null,{"$f":"IF($C121=\"\",\"\",VLOOKUP($B121,POM!$A$1:$H$50,8))","v":""}]
[null,null,null,null,{"$f":"IF($C121=\"\",\"\",PÚ!$K$53)","v":""},null,{"$f":"IF($C121=\"\",\"\",'4x100m'!$K$53)","v":""}]
[null,{"$f":"Start!$F31","v":50},{"$f":"IF(Start!$G31=\"\",\"\",Start!$G31)","v":""},{"$f":"IF(Start!$H31=\"\",\"\",Start!$H31)","v":""},{"$f":"IF($C123=\"\",\"\",PÚ!$G$54)","v":""},{"$f":"IF($C123=\"\",\"\",PÚ!$N$54)","v":""},{"$f":"IF($C123=\"\",\"\",'4x100m'!$G$54)","v":""},{"$f":"IF($C123=\"\",\"\",'4x100m'!$N$54)","v":""},{"$f":"IF($C123=\"\",\"\",'PJ-C'!$N$168)","v":""},{"$f":"IF($C123=\"\",\"\",'PJ-C'!$P$168)","v":""},null,{"$f":"IF($C123=\"\",\"\",Výsledky3!H56)","v":""},{"$f":"IF($C123=\"\",\"\",Výsledky3!I56)","v":""},null,{"$f":"IF($C123=\"\",\"\",VLOOKUP($B123,POM!$A$1:$H$50,8))","v":""}]
[null,null,null,null,{"$f":"IF($C123=\"\",\"\",PÚ!$K$54)","v":""},null,{"$f":"IF($C123=\"\",\"\",'4x100m'!$K$54)","v":""}]

{"sheet":"Pozn.","index":17,"n_rows":1,"n_cols":2,"rows_kept":1,"cut":false,"hidden":false,"merged":[[0,1,0,9]]}
[null,"Poznámky:"]

{"sheet":"J","index":18,"n_rows":450,"n_cols":5,"rows_kept":450,"cut":false,"hidden":false,"merged":[]}
["Bandžuchová Simona","Stéblová",null,null,1]
["Simona Škopová","Lukavice",null,null,2]
["Bubeníčková Denisa","Skuteč",null,null,3]
["Faltysová Tereza","Desná",null,null,4]
["Janáčková Michaela","Stéblová",null,null,5]
["Veronika Macháčková","Lukavice",null,null,6]
["Pohnerová Nikol","Skuteč",null,null,7]
["Mičíková Nikola","Desná",null,null,8]
["Nemcová Denisa Ella","Stéblová",null,null,9]
["Nela Hrušová","Lukavice",null,null,10]
["Slezáková Nela","Skuteč",null,null,11]
["Ševčíková Veronika","Desná",null,null,12]
["Bandžuchová Zuzana","Stéblová",null,null,13]
["Adéla Hrušová","Lukavice",null,null,14]
["Nováková Denisa","Skuteč",null,null,15]
["Doležalová Klára","Desná",null,null,16]
["Baťová Adéla","Stéblová",null,null,17]
["Kamila Halbrštátová","Lukavice",null,null,18]
["Zavoralová Aneta","Skuteč",null,null,19]
["Prokopová Magdaléna","Desná",null,null,20]
["Černohubá Tereza","Stéblová",null,null,21]
["Denisa Boháčová","Lukavice",null,null,22]
["Valíková Veronika","Skuteč",null,null,23]
["Jůzová Nela","Desná",null,null,24]
["Zelingerová Aneta","Stéblová",null,null,25]
["Lucie Hotmarová","Lukavice",null,null,26]
["Marboe Anita","Skuteč",null,null,27]
["Andrlová Eliška","Desná",null,null,28]
[null,null,null,null,29]
[null,null,null,null,30]
[null,null,null,null,31]
[null,null,null,null,32]
[null,null,null,null,33]
[null,null,null,null,34]
[null,null,null,null,35]
[null,null,null,null,36]
[null,null,null,null,37]
[null,null,null,null,38]
[null,null,null,null,39]
[null,null,null,null,40]
[null,null,null,null,41]
[null,null,null,null,42]
[null,null,null,null,43]
[null,null,null,null,44]
[null,null,null,null,45]
[null,null,null,null,46]
[null,null,null,null,47]
[null,null,null,null,48]
[null,null,null,null,49]
[null,null,null,null,50]
[null,null,null,null,51]
[null,null,null,null,52]
[null,null,null,null,53]
[null,null,null,null,54]
[null,null,null,null,55]
[null,null,null,null,56]
[null,null,null,null,57]
[null,null,null,null,58]
[null,null,null,null,59]
[null,null,null,null,60]
[null,null,null,null,61]
[null,null,null,null,62]
[null,null,null,null,63]
[null,null,null,null,64]
[null,null,null,null,65]
[null,null,null,null,66]
[null,null,null,null,67]
[null,null,null,null,68]
[null,null,null,null,69]
[null,null,null,null,70]
[null,null,null,null,71]
[null,null,null,null,72]
[null,null,null,null,73]
[null,null,null,null,74]
[null,null,null,null,75]
[null,null,null,null,76]
[null,null,null,null,77]
[null,null,null,null,78]
[null,null,null,null,79]
[null,null,null,null,80]
[null,null,null,null,81]
[null,null,null,null,82]
[null,null,null,null,83]
[null,null,null,null,84]
[null,null,null,null,85]
[null,null,null,null,86]
[null,null,null,null,87]
[null,null,null,null,88]
[null,null,null,null,89]
[null,null,null,null,90]
[null,null,null,null,91]
[null,null,null,null,92]
[null,null,null,null,93]
[null,null,null,null,94]
[null,null,null,null,95]
[null,null,null,null,96]
[null,null,null,null,97]
[null,null,null,null,98]
[null,null,null,null,99]
[null,null,null,null,100]
[null,null,null,null,101]
[null,null,null,null,102]
[null,null,null,null,103]
[null,null,null,null,104]
[null,null,null,null,105]
[null,null,null,null,106]
[null,null,null,null,107]
[null,null,null,null,108]
[null,null,null,null,109]
[null,null,null,null,110]
[null,null,null,null,111]
[null,null,null,null,112]
[null,null,null,null,113]
[null,null,null,null,114]
[null,null,null,null,115]
[null,null,null,null,116]
[null,null,null,null,117]
[null,null,null,null,118]
[null,null,null,null,119]
[null,null,null,null,120]
[null,null,null,null,121]
[null,null,null,null,122]
[null,null,null,null,123]
[null,null,null,null,124]
[null,null,null,null,125]
[null,null,null,null,126]
[null,null,null,null,127]
[null,null,null,null,128]
[null,null,null,null,129]
[null,null,null,null,130]
[null,null,null,null,131]
[null,null,null,null,132]
[null,null,null,null,133]
[null,null,null,null,134]
[null,null,null,null,135]
[null,null,null,null,136]
[null,null,null,null,137]
[null,null,null,null,138]
[null,null,null,null,139]
[null,null,null,null,140]
[null,null,null,null,141]
[null,null,null,null,142]
[null,null,null,null,143]
[null,null,null,null,144]
[null,null,null,null,145]
[null,null,null,null,146]
[null,null,null,null,147]
[null,null,null,null,148]
[null,null,null,null,149]
[null,null,null,null,150]
[null,null,null,null,151]
[null,null,null,null,152]
[null,null,null,null,153]
[null,null,null,null,154]
[null,null,null,null,155]
[null,null,null,null,156]
[null,null,null,null,157]
[null,null,null,null,158]
[null,null,null,null,159]
[null,null,null,null,160]
[null,null,null,null,161]
[null,null,null,null,162]
[null,null,null,null,163]
[null,null,null,null,164]
[null,null,null,null,165]
[null,null,null,null,166]
[null,null,null,null,167]
[null,null,null,null,168]
[null,null,null,null,169]
[null,null,null,null,170]
[null,null,null,null,171]
[null,null,null,null,172]
[null,null,null,null,173]
[null,null,null,null,174]
[null,null,null,null,175]
[null,null,null,null,176]
[null,null,null,null,177]
[null,null,null,null,178]
[null,null,null,null,179]
[null,null,null,null,180]
[null,null,null,null,181]
[null,null,null,null,182]
[null,null,null,null,183]
[null,null,null,null,184]
[null,null,null,null,185]
[null,null,null,null,186]
[null,null,null,null,187]
[null,null,null,null,188]
[null,null,null,null,189]
[null,null,null,null,190]
[null,null,null,null,191]
[null,null,null,null,192]
[null,null,null,null,193]
[null,null,null,null,194]
[null,null,null,null,195]
[null,null,null,null,196]
[null,null,null,null,197]
[null,null,null,null,198]
[null,null,null,null,199]
[null,null,null,null,200]
[null,null,null,null,201]
[null,null,null,null,202]
[null,null,null,null,203]
[null,null,null,null,204]
[null,null,null,null,205]
[null,null,null,null,206]
[null,null,null,null,207]
[null,null,null,null,208]
[null,null,null,null,209]
[null,null,null,null,210]
[null,null,null,null,211]
[null,null,null,null,212]
[null,null,null,null,213]
[null,null,null,null,214]
[null,null,null,null,215]
[null,null,null,null,216]
[null,null,null,null,217]
[null,null,null,null,218]
[null,null,null,null,219]
[null,null,null,null,220]
[null,null,null,null,221]
[null,null,null,null,222]
[null,null,null,null,223]
[null,null,null,null,224]
[null,null,null,null,225]
[null,null,null,null,226]
[null,null,null,null,227]
[null,null,null,null,228]
[null,null,null,null,229]
[null,null,null,null,230]
[null,null,null,null,231]
[null,null,null,null,232]
[null,null,null,null,233]
[null,null,null,null,234]
[null,null,null,null,235]
[null,null,null,null,236]
[null,null,null,null,237]
[null,null,null,null,238]
[null,null,null,null,239]
[null,null,null,null,240]
[null,null,null,null,241]
[null,null,null,null,242]
[null,null,null,null,243]
[null,null,null,null,244]
[null,null,null,null,245]
[null,null,null,null,246]
[null,null,null,null,247]
[null,null,null,null,248]
[null,null,null,null,249]
[null,null,null,null,250]
[null,null,null,null,251]
[null,null,null,null,252]
[null,null,null,null,253]
[null,null,null,null,254]
[null,null,null,null,255]
[null,null,null,null,256]
[null,null,null,null,257]
[null,null,null,null,258]
[null,null,null,null,259]
[null,null,null,null,260]
[null,null,null,null,261]
[null,null,null,null,262]
[null,null,null,null,263]
[null,null,null,null,264]
[null,null,null,null,265]
[null,null,null,null,266]
[null,null,null,null,267]
[null,null,null,null,268]
[null,null,null,null,269]
[null,null,null,null,270]
[null,null,null,null,271]
[null,null,null,null,272]
[null,null,null,null,273]
[null,null,null,null,274]
[null,null,null,null,275]
[null,null,null,null,276]
[null,null,null,null,277]
[null,null,null,null,278]
[null,null,null,null,279]
[null,null,null,null,280]
[null,null,null,null,281]
[null,null,null,null,282]
[null,null,null,null,283]
[null,null,null,null,284]
[null,null,null,null,285]
[null,null,null,null,286]
[null,null,null,null,287]
[null,null,null,null,288]
[null,null,null,null,289]
[null,null,null,null,290]
[null,null,null,null,291]
[null,null,null,null,292]
[null,null,null,null,293]
[null,null,null,null,294]
[null,null,null,null,295]
[null,null,null,null,296]
[null,null,null,null,297]
[null,null,null,null,298]
[null,null,null,null,299]
[null,null,null,null,300]
[null,null,null,null,301]
[null,null,null,null,302]
[null,null,null,null,303]
[null,null,null,null,304]
[null,null,null,null,305]
[null,null,null,null,306]
[null,null,null,null,307]
[null,null,null,null,308]
[null,null,null,null,309]
[null,null,null,null,310]
[null,null,null,null,311]
[null,null,null,null,312]
[null,null,null,null,313]
[null,null,null,null,314]
[null,null,null,null,315]
[null,null,null,null,316]
[null,null,null,null,317]
[null,null,null,null,318]
[null,null,null,null,319]
[null,null,null,null,320]
[null,null,null,null,321]
[null,null,null,null,322]
[null,null,null,null,323]
[null,null,null,null,324]
[null,null,null,null,325]
[null,null,null,null,326]
[null,null,null,null,327]
[null,null,null,null,328]
[null,null,null,null,329]
[null,null,null,null,330]
[null,null,null,null,331]
[null,null,null,null,332]
[null,null,null,null,333]
[null,null,null,null,334]
[null,null,null,null,335]
[null,null,null,null,336]
[null,null,null,null,337]
[null,null,null,null,338]
[null,null,null,null,339]
[null,null,null,null,340]
[null,null,null,null,341]
[null,null,null,null,342]
[null,null,null,null,343]
[null,null,null,null,344]
[null,null,null,null,345]
[null,null,null,null,346]
[null,null,null,null,347]
[null,null,null,null,348]
[null,null,null,null,349]
[null,null,null,null,350]
[null,null,null,null,351]
[null,null,null,null,352]
[null,null,null,null,353]
[null,null,null,null,354]
[null,null,null,null,355]
[null,null,null,null,356]
[null,null,null,null,357]
[null,null,null,null,358]
[null,null,null,null,359]
[null,null,null,null,360]
[null,null,null,null,361]
[null,null,null,null,362]
[null,null,null,null,363]
[null,null,null,null,364]
[null,null,null,null,365]
[null,null,null,null,366]
[null,null,null,null,367]
[null,null,null,null,368]
[null,null,null,null,369]
[null,null,null,null,370]
[null,null,null,null,371]
[null,null,null,null,372]
[null,null,null,null,373]
[null,null,null,null,374]
[null,null,null,null,375]
[null,null,null,null,376]
[null,null,null,null,377]
[null,null,null,null,378]
[null,null,null,null,379]
[null,null,null,null,380]
[null,null,null,null,381]
[null,null,null,null,382]
[null,null,null,null,383]
[null,null,null,null,384]
[null,null,null,null,385]
[null,null,null,null,386]
[null,null,null,null,387]
[null,null,null,null,388]
[null,null,null,null,389]
[null,null,null,null,390]
[null,null,null,null,391]
[null,null,null,null,392]
[null,null,null,null,393]
[null,null,null,null,394]
[null,null,null,null,395]
[null,null,null,null,396]
[null,null,null,null,397]
[null,null,null,null,398]
[null,null,null,null,399]
[null,null,null,null,400]
[null,null,null,null,401]
[null,null,null,null,402]
[null,null,null,null,403]
[null,null,null,null,404]
[null,null,null,null,405]
[null,null,null,null,406]
[null,null,null,null,407]
[null,null,null,null,408]
[null,null,null,null,409]
[null,null,null,null,410]
[null,null,null,null,411]
[null,null,null,null,412]
[null,null,null,null,413]
[null,null,null,null,414]
[null,null,null,null,415]
[null,null,null,null,416]
[null,null,null,null,417]
[null,null,null,null,418]
[null,null,null,null,419]
[null,null,null,null,420]
[null,null,null,null,421]
[null,null,null,null,422]
[null,null,null,null,423]
[null,null,null,null,424]
[null,null,null,null,425]
[null,null,null,null,426]
[null,null,null,null,427]
[null,null,null,null,428]
[null,null,null,null,429]
[null,null,null,null,430]
[null,null,null,null,431]
[null,null,null,null,432]
[null,null,null,null,433]
[null,null,null,null,434]
[null,null,null,null,435]
[null,null,null,null,436]
[null,null,null,null,437]
[null,null,null,null,438]
[null,null,null,null,439]
[null,null,null,null,440]
[null,null,null,null,441]
[null,null,null,null,442]
[null,null,null,null,443]
[null,null,null,null,444]
[null,null,null,null,445]
[null,null,null,null,446]
[null,null,null,null,447]
[null,null,null,null,448]
[null,null,null,null,449]
[null,null,null,null,450]

{"sheet":"POM","index":19,"n_rows":50,"n_cols":25,"rows_kept":50,"cut":false,"hidden":false,"merged":[]}
[1,"Stéblová",1,1,2,null,4,1,null,1,"Stéblová",1,1,2,1,4,{"$f":"IF($K1=\"\",\"\",RANK($P1,$P$1:$P$50,1))","v":1},{"$f":"IF($K1=\"\",\"\",RANK($L1,$L$1:$L$50,1))","v":1},null,{"$f":"COUNT(P:P)","v":4},null,"Výsledky",{"$f":"COUNTA('PJ-V'!E5:G434,'PJ-V'!J5:L434)","v":58},null,"Dorci"]
[2,"Lukavice",3,4,3,null,10,3,null,3,"Skuteč",2,2,1,2,5,2,2,null,null,null,"St.listina",1,null,"Dorky"]
[3,"Skuteč",2,2,1,null,5,2,null,2,"Lukavice",3,4,3,3,10,3,3,null,null,null,"Družstva",1,null,"Muži"]
[4,"Desná",4,3,4,null,11,4,null,4,"Desná",4,3,4,4,11,4,4,null,null,null,"4x100m",1,null,"Ženy"]
[5,"","","","",null,"","",null,5,"","","","",null,"","","",null,null,null,"PÚ",1]
[6,"","","","",null,"","",null,6,"","","","",null,"","","",null,null,null,"Zobr.jmen",0]
[7,"","","","",null,"","",null,7,"","","","",null,"","","",null,null,null,"PopisDrah",0]
[8,"","","","",null,"","",null,8,"","","","",null,"","","",null,null,null,"Poprvé",0]
[9,"","","","",null,"","",null,9,"","","","",null,"","","",null,null,null,"Jednotlivci",0]
[10,"","","","",null,"","",null,10,"","","","",null,"","","",null,null,null,"Celk.Výsl.",0]
[11,"","","","",null,"","",null,11,"","","","",null,"","",""]
[12,"","","","",null,"","",null,12,"","","","",null,"","",""]
[13,"","","","",null,"","",null,13,"","","","",null,"","",""]
[14,"","","","",null,"","",null,14,"","","","",null,"","",""]
[15,"","","","",null,"","",null,15,"","","","",null,"","",""]
[16,"","","","",null,"","",null,16,"","","","",null,"","",""]
[17,"","","","",null,"","",null,17,"","","","",null,"","",""]
[18,"","","","",null,"","",null,18,"","","","",null,"","",""]
[19,"","","","",null,"","",null,19,"","","","",null,"","",""]
[20,"","","","",null,"","",null,20,"","","","",null,"","",""]
[21,"","","","",null,"","",null,21,"","","","",null,"","",""]
[22,"","","","",null,"","",null,22,"","","","",null,"","",""]
[23,"","","","",null,"","",null,23,"","","","",null,"","",""]
[24,"","","","",null,"","",null,24,"","","","",null,"","",""]
[25,"","","","",null,"","",null,25,"","","","",null,"","",""]
[26,"","","","",null,"","",null,26,"","","","",null,"","",""]
[27,"","","","",null,"","",null,27,"","","","",null,"","",""]
[28,"","","","",null,"","",null,28,"","","","",null,"","",""]
[29,"","","","",null,"","",null,29,"","","","",null,"","",""]
[30,"","","","",null,"","",null,30,"","","","",null,"","",""]
[31,"","","","",null,"","",null,31,"","","","",null,"","",""]
[32,"","","","",null,"","",null,32,"","","","",null,"","",""]
[33,"","","","",null,"","",null,33,"","","","",null,"","",""]
[34,"","","","",null,"","",null,34,"","","","",null,"","",""]
[35,"","","","",null,"","",null,35,"","","","",null,"","",""]
[36,"","","","",null,"","",null,36,"","","","",null,"","",""]
[37,"","","","",null,"","",null,37,"","","","",null,"","",""]
[38,"","","","",null,"","",null,38,"","","","",null,"","",""]
[39,"","","","",null,"","",null,39,"","","","",null,"","",""]
[40,"","","","",null,"","",null,40,"","","","",null,"","",""]
[41,"","","","",null,"","",null,41,"","","","",null,"","",""]
[42,"","","","",null,"","",null,42,"","","","",null,"","",""]
[43,"","","","",null,"","",null,43,"","","","",null,"","",""]
[44,"","","","",null,"","",null,44,"","","","",null,"","",""]
[45,"","","","",null,"","",null,45,"","","","",null,"","",""]
[46,"","","","",null,"","",null,46,"","","","",null,"","",""]
[47,"","","","",null,"","",null,47,"","","","",null,"","",""]
[48,"","","","",null,"","",null,48,"","","","",null,"","",""]
[49,"","","","",null,"","",null,49,"","","","",null,"","",""]
[50,"","","","",null,"","",null,50,"","","","",null,"","",""]